{"text_format":"1","workbook":"xlsx","n_sheets":10,"sheets":["Mink","Data","Præsentation","Diagrammer","Fraktilanalyse","Kredsudvælgelse","Tabel til hæfte","Landsgennemsnit","Statiske ejendomme","Diagrammer-orig"],"not_rendered":{"charts":11,"images":1,"macros":1,"external_links":1,"defined_names":15,"comments":0,"pivot_tables":0},"unopened":[],"bounds":{"document_bytes":16777216,"sheet_cells":100000,"rows_first":2000,"rows_last":500,"rows_between":2000,"halvings":0,"cell_chars":16384,"cell_head_chars":4096},"cells_cut":0,"cells_raw":0,"read":"whole","date_system":"1900"}

{"sheet":"Mink","index":0,"n_rows":133,"n_cols":39,"rows_kept":133,"cut":false,"hidden":true,"merged":[[0,0,0,13],[1,3,1,4],[1,5,1,6],[1,11,1,18]]}
["Mink (8400)",null,null,null,null,null,null,null,null,null,null,null,null,null,null,null,null,null,null,null,null,null,null,null,"Ident",3,null,null,null,null,null,null,null,"Til adresseformel"]
[null,null,null,"Landsplan",null,{"$f":"\"Kreds \"&Kredsudvælgelse!A11","v":"Kreds "},null,null,null,null,null,"Betingelser",null,null,null,null,null,null,null,null,null,null,null,null,null,null,null,null,null,null,null,null,null,{"$f":"ISTEXT(N4)","v":true},{"$f":"ISTEXT(O4)","v":false},false,false,false,false]
["Tegn (fra højre der skal væk så navnet passer med navnet i forespørgslen)","Divisor, til snit","Mink",{"$f":"Landsgennemsnit!B3","v":"Gns. Alle"},{"$f":"Landsgennemsnit!C3","v":"Gns. Top 10"},"Gennemsnit","Top 5",null,"Divisor 1","Divisor 2",null,"Ikke fundet i forespørgslen","Ikke fundet i forespørgslen",{"$f":"IF($Z$1=3,IF(N4=\"\",\"\",IF(ISERROR(HLOOKUP(N4,Forespørgsel1[#Headers],1,FALSE))=TRUE,\"Ikke fundet i forespørgslen\",\"\")),\"\")","v":""},{"$f":"IF($Z$1=3,IF(O4=\"\",\"\",IF(ISERROR(HLOOKUP(O4,Forespørgsel1[#Headers],1,FALSE))=TRUE,\"Ikke fundet i forespørgslen\",\"\")),\"\")","v":""},{"$f":"IF($Z$1=3,IF(P4=\"\",\"\",IF(ISERROR(HLOOKUP(P4,Forespørgsel1[#Headers],1,FALSE))=TRUE,\"Ikke fundet i forespørgslen\",\"\")),\"\")","v":""},{"$f":"IF($Z$1=3,IF(Q4=\"\",\"\",IF(ISERROR(HLOOKUP(Q4,Forespørgsel1[#Headers],1,FALSE))=TRUE,\"Ikke fundet i forespørgslen\",\"\")),\"\")","v":""},{"$f":"IF($Z$1=3,IF(R4=\"\",\"\",IF(ISERROR(HLOOKUP(R4,Forespørgsel1[#Headers],1,FALSE))=TRUE,\"Ikke fundet i forespørgslen\",\"\")),\"\")","v":""},{"$f":"IF($Z$1=3,IF(S4=\"\",\"\",IF(ISERROR(HLOOKUP(S4,Forespørgsel1[#Headers],1,FALSE))=TRUE,\"Ikke fundet i forespørgslen\",\"\")),\"\")","v":""},null,null,null,null,null,null,null,null,null,null,null,null,null,null,"Række",7]
[8,null,"Minktæver (Antal)",{"$f":"Landsgennemsnit!B4","v":2625.6626506024095},{"$f":"Landsgennemsnit!C4","v":2731.3},{"$f":"IFERROR(IF(ISTEXT($B4)=TRUE,DSUM(Forespørgsel1[#All],\"\"&LEFT($C4,LEN($C4)-$A4)&\"\",$M$4:INDIRECT(ADDRESS($AI$3,$AI$4)))/DSUM(Forespørgsel1[#All],\"\"&$B4&\"\",$M$4:INDIRECT(ADDRESS($AI$3,$AI$4))),IF($B4=0,DAVERAGE(Forespørgsel1[#All],\"\"&LEFT($C4,LEN($C4)-$A4)&\"\",$M$4:INDIRECT(ADDRESS($AI$3,$AI$4))),IF($B4=1,DSUM(Forespørgsel1[#All],\"\"&LEFT($C4,LEN($C4)-$A4)&\"\",$M$4:INDIRECT(ADDRESS($AI$3,$AI$4)))/DSUM(Forespørgsel1[#All],\"\"&$I$4&\"\",$M$4:INDIRECT(ADDRESS($AI$3,$AI$4))),DSUM(Forespørgsel1[#All],\"\"&LEFT($C4,LEN($C4)-$A4)&\"\",$M$4:INDIRECT(ADDRESS($AI$3,$AI$4)))/DSUM(Forespørgsel1[#All],\"\"&$J$4&\"\",$M$4:INDIRECT(ADDRESS($AI$3,$AI$4)))))),\"\")","v":""},{"$f":"IFERROR(IF(ISTEXT($B4)=TRUE,DSUM(Forespørgsel1[#All],\"\"&LEFT($C4,LEN($C4)-$A4)&\"\",$L$4:INDIRECT(ADDRESS($AI$3,$AI$4)))/DSUM(Forespørgsel1[#All],\"\"&$B4&\"\",$L$4:INDIRECT(ADDRESS($AI$3,$AI$4))),IF($B4=0,DAVERAGE(Forespørgsel1[#All],\"\"&LEFT($C4,LEN($C4)-$A4)&\"\",$L$4:INDIRECT(ADDRESS($AI$3,$AI$4))),IF($B4=1,DSUM(Forespørgsel1[#All],\"\"&LEFT($C4,LEN($C4)-$A4)&\"\",$L$4:INDIRECT(ADDRESS($AI$3,$AI$4)))/DSUM(Forespørgsel1[#All],\"\"&$I$4&\"\",$L$4:INDIRECT(ADDRESS($AI$3,$AI$4))),IF($B4=2,DSUM(Forespørgsel1[#All],\"\"&LEFT($C4,LEN($C4)-$A4)&\"\",$L$4:INDIRECT(ADDRESS($AI$3,$AI$4)))/DSUM(Forespørgsel1[#All],\"\"&$J$4&\"\",$L$4:INDIRECT(ADDRESS($AI$3,$AI$4))))))),\"\")","v":""},null,"Minktæver","Producerede skind",null,"Årets resultat pr. tæve","Prodgren","Godkendt",null,null,null,null,null,null,null,null,null,null,null,null,null,null,null,null,null,null,null,"Kolonne",{"$f":"13+COUNTIF(AH2:AM2,\"SAND\")","v":14}]
[null,null,"Pr. tæve",{"$f":"Landsgennemsnit!B5","v":""},{"$f":"Landsgennemsnit!C5","v":""},{"$f":"IFERROR(IF(ISTEXT($B5)=TRUE,DSUM(Forespørgsel1[#All],\"\"&LEFT($C5,LEN($C5)-$A5)&\"\",$M$4:INDIRECT(ADDRESS($AI$3,$AI$4)))/DSUM(Forespørgsel1[#All],\"\"&$B5&\"\",$M$4:INDIRECT(ADDRESS($AI$3,$AI$4))),IF($B5=0,DAVERAGE(Forespørgsel1[#All],\"\"&LEFT($C5,LEN($C5)-$A5)&\"\",$M$4:INDIRECT(ADDRESS($AI$3,$AI$4))),IF($B5=1,DSUM(Forespørgsel1[#All],\"\"&LEFT($C5,LEN($C5)-$A5)&\"\",$M$4:INDIRECT(ADDRESS($AI$3,$AI$4)))/DSUM(Forespørgsel1[#All],\"\"&$I$4&\"\",$M$4:INDIRECT(ADDRESS($AI$3,$AI$4))),DSUM(Forespørgsel1[#All],\"\"&LEFT($C5,LEN($C5)-$A5)&\"\",$M$4:INDIRECT(ADDRESS($AI$3,$AI$4)))/DSUM(Forespørgsel1[#All],\"\"&$J$4&\"\",$M$4:INDIRECT(ADDRESS($AI$3,$AI$4)))))),\"\")","v":""},{"$f":"IFERROR(IF(ISTEXT($B5)=TRUE,DSUM(Forespørgsel1[#All],\"\"&LEFT($C5,LEN($C5)-$A5)&\"\",$L$4:INDIRECT(ADDRESS($AI$3,$AI$4)))/DSUM(Forespørgsel1[#All],\"\"&$B5&\"\",$L$4:INDIRECT(ADDRESS($AI$3,$AI$4))),IF($B5=0,DAVERAGE(Forespørgsel1[#All],\"\"&LEFT($C5,LEN($C5)-$A5)&\"\",$L$4:INDIRECT(ADDRESS($AI$3,$AI$4))),IF($B5=1,DSUM(Forespørgsel1[#All],\"\"&LEFT($C5,LEN($C5)-$A5)&\"\",$L$4:INDIRECT(ADDRESS($AI$3,$AI$4)))/DSUM(Forespørgsel1[#All],\"\"&$I$4&\"\",$L$4:INDIRECT(ADDRESS($AI$3,$AI$4))),IF($B5=2,DSUM(Forespørgsel1[#All],\"\"&LEFT($C5,LEN($C5)-$A5)&\"\",$L$4:INDIRECT(ADDRESS($AI$3,$AI$4)))/DSUM(Forespørgsel1[#All],\"\"&$J$4&\"\",$L$4:INDIRECT(ADDRESS($AI$3,$AI$4))))))),\"\")","v":""},null,null,null,null,{"$f":"IF($Z$1=3,\">\"&IF(I8<=5,\"For få relevante observationer\",DMAX(Forespørgsel1[#All],\"\"&$K$14&\"\",$L$50:INDIRECT(ADDRESS($AI$55,$AI$4))))&\"\",\"\")","v":">For få relevante observationer"},{"$f":"\"=8400\"","v":"=8400"},true]
[9,"Minktæver","Bruttoudbytte i alt pr. tæve",{"$f":"Landsgennemsnit!B6","v":2033.6301312348003},{"$f":"Landsgennemsnit!C6","v":2416.3661626331782},{"$f":"IFERROR(IF(ISTEXT($B6)=TRUE,DSUM(Forespørgsel1[#All],\"\"&LEFT($C6,LEN($C6)-$A6)&\"\",$M$4:INDIRECT(ADDRESS($AI$3,$AI$4)))/DSUM(Forespørgsel1[#All],\"\"&$B6&\"\",$M$4:INDIRECT(ADDRESS($AI$3,$AI$4))),IF($B6=0,DAVERAGE(Forespørgsel1[#All],\"\"&LEFT($C6,LEN($C6)-$A6)&\"\",$M$4:INDIRECT(ADDRESS($AI$3,$AI$4))),IF($B6=1,DSUM(Forespørgsel1[#All],\"\"&LEFT($C6,LEN($C6)-$A6)&\"\",$M$4:INDIRECT(ADDRESS($AI$3,$AI$4)))/DSUM(Forespørgsel1[#All],\"\"&$I$4&\"\",$M$4:INDIRECT(ADDRESS($AI$3,$AI$4))),DSUM(Forespørgsel1[#All],\"\"&LEFT($C6,LEN($C6)-$A6)&\"\",$M$4:INDIRECT(ADDRESS($AI$3,$AI$4)))/DSUM(Forespørgsel1[#All],\"\"&$J$4&\"\",$M$4:INDIRECT(ADDRESS($AI$3,$AI$4)))))),\"\")","v":""},{"$f":"IFERROR(IF(ISTEXT($B6)=TRUE,DSUM(Forespørgsel1[#All],\"\"&LEFT($C6,LEN($C6)-$A6)&\"\",$L$4:INDIRECT(ADDRESS($AI$3,$AI$4)))/DSUM(Forespørgsel1[#All],\"\"&$B6&\"\",$L$4:INDIRECT(ADDRESS($AI$3,$AI$4))),IF($B6=0,DAVERAGE(Forespørgsel1[#All],\"\"&LEFT($C6,LEN($C6)-$A6)&\"\",$L$4:INDIRECT(ADDRESS($AI$3,$AI$4))),IF($B6=1,DSUM(Forespørgsel1[#All],\"\"&LEFT($C6,LEN($C6)-$A6)&\"\",$L$4:INDIRECT(ADDRESS($AI$3,$AI$4)))/DSUM(Forespørgsel1[#All],\"\"&$I$4&\"\",$L$4:INDIRECT(ADDRESS($AI$3,$AI$4))),IF($B6=2,DSUM(Forespørgsel1[#All],\"\"&LEFT($C6,LEN($C6)-$A6)&\"\",$L$4:INDIRECT(ADDRESS($AI$3,$AI$4)))/DSUM(Forespørgsel1[#All],\"\"&$J$4&\"\",$L$4:INDIRECT(ADDRESS($AI$3,$AI$4))))))),\"\")","v":""},null,null,null,null,{"$f":"$L$5","v":">For få relevante observationer"},{"$f":"$M$5","v":"=8400"},true]
[9,"Minktæver","Stykomkostninger i alt pr. tæve",{"$f":"Landsgennemsnit!B7","v":-807.64058183820498},{"$f":"Landsgennemsnit!C7","v":-859.92600593124155},{"$f":"IFERROR(IF(ISTEXT($B7)=TRUE,DSUM(Forespørgsel1[#All],\"\"&LEFT($C7,LEN($C7)-$A7)&\"\",$M$4:INDIRECT(ADDRESS($AI$3,$AI$4)))/DSUM(Forespørgsel1[#All],\"\"&$B7&\"\",$M$4:INDIRECT(ADDRESS($AI$3,$AI$4))),IF($B7=0,DAVERAGE(Forespørgsel1[#All],\"\"&LEFT($C7,LEN($C7)-$A7)&\"\",$M$4:INDIRECT(ADDRESS($AI$3,$AI$4))),IF($B7=1,DSUM(Forespørgsel1[#All],\"\"&LEFT($C7,LEN($C7)-$A7)&\"\",$M$4:INDIRECT(ADDRESS($AI$3,$AI$4)))/DSUM(Forespørgsel1[#All],\"\"&$I$4&\"\",$M$4:INDIRECT(ADDRESS($AI$3,$AI$4))),DSUM(Forespørgsel1[#All],\"\"&LEFT($C7,LEN($C7)-$A7)&\"\",$M$4:INDIRECT(ADDRESS($AI$3,$AI$4)))/DSUM(Forespørgsel1[#All],\"\"&$J$4&\"\",$M$4:INDIRECT(ADDRESS($AI$3,$AI$4)))))),\"\")","v":""},{"$f":"IFERROR(IF(ISTEXT($B7)=TRUE,DSUM(Forespørgsel1[#All],\"\"&LEFT($C7,LEN($C7)-$A7)&\"\",$L$4:INDIRECT(ADDRESS($AI$3,$AI$4)))/DSUM(Forespørgsel1[#All],\"\"&$B7&\"\",$L$4:INDIRECT(ADDRESS($AI$3,$AI$4))),IF($B7=0,DAVERAGE(Forespørgsel1[#All],\"\"&LEFT($C7,LEN($C7)-$A7)&\"\",$L$4:INDIRECT(ADDRESS($AI$3,$AI$4))),IF($B7=1,DSUM(Forespørgsel1[#All],\"\"&LEFT($C7,LEN($C7)-$A7)&\"\",$L$4:INDIRECT(ADDRESS($AI$3,$AI$4)))/DSUM(Forespørgsel1[#All],\"\"&$I$4&\"\",$L$4:INDIRECT(ADDRESS($AI$3,$AI$4))),IF($B7=2,DSUM(Forespørgsel1[#All],\"\"&LEFT($C7,LEN($C7)-$A7)&\"\",$L$4:INDIRECT(ADDRESS($AI$3,$AI$4)))/DSUM(Forespørgsel1[#All],\"\"&$J$4&\"\",$L$4:INDIRECT(ADDRESS($AI$3,$AI$4))))))),\"\")","v":""},null,"Samlet antal inkluderet under betingelserne",null,null,{"$f":"$L$5","v":">For få relevante observationer"},{"$f":"$M$5","v":"=8400"},true]
[9,"Minktæver","Dækningsbidrag pr. tæve",{"$f":"Landsgennemsnit!B8","v":1225.9895493965953},{"$f":"Landsgennemsnit!C8","v":1556.4401567019368},{"$f":"IFERROR(IF(ISTEXT($B8)=TRUE,DSUM(Forespørgsel1[#All],\"\"&LEFT($C8,LEN($C8)-$A8)&\"\",$M$4:INDIRECT(ADDRESS($AI$3,$AI$4)))/DSUM(Forespørgsel1[#All],\"\"&$B8&\"\",$M$4:INDIRECT(ADDRESS($AI$3,$AI$4))),IF($B8=0,DAVERAGE(Forespørgsel1[#All],\"\"&LEFT($C8,LEN($C8)-$A8)&\"\",$M$4:INDIRECT(ADDRESS($AI$3,$AI$4))),IF($B8=1,DSUM(Forespørgsel1[#All],\"\"&LEFT($C8,LEN($C8)-$A8)&\"\",$M$4:INDIRECT(ADDRESS($AI$3,$AI$4)))/DSUM(Forespørgsel1[#All],\"\"&$I$4&\"\",$M$4:INDIRECT(ADDRESS($AI$3,$AI$4))),DSUM(Forespørgsel1[#All],\"\"&LEFT($C8,LEN($C8)-$A8)&\"\",$M$4:INDIRECT(ADDRESS($AI$3,$AI$4)))/DSUM(Forespørgsel1[#All],\"\"&$J$4&\"\",$M$4:INDIRECT(ADDRESS($AI$3,$AI$4)))))),\"\")","v":""},{"$f":"IFERROR(IF(ISTEXT($B8)=TRUE,DSUM(Forespørgsel1[#All],\"\"&LEFT($C8,LEN($C8)-$A8)&\"\",$L$4:INDIRECT(ADDRESS($AI$3,$AI$4)))/DSUM(Forespørgsel1[#All],\"\"&$B8&\"\",$L$4:INDIRECT(ADDRESS($AI$3,$AI$4))),IF($B8=0,DAVERAGE(Forespørgsel1[#All],\"\"&LEFT($C8,LEN($C8)-$A8)&\"\",$L$4:INDIRECT(ADDRESS($AI$3,$AI$4))),IF($B8=1,DSUM(Forespørgsel1[#All],\"\"&LEFT($C8,LEN($C8)-$A8)&\"\",$L$4:INDIRECT(ADDRESS($AI$3,$AI$4)))/DSUM(Forespørgsel1[#All],\"\"&$I$4&\"\",$L$4:INDIRECT(ADDRESS($AI$3,$AI$4))),IF($B8=2,DSUM(Forespørgsel1[#All],\"\"&LEFT($C8,LEN($C8)-$A8)&\"\",$L$4:INDIRECT(ADDRESS($AI$3,$AI$4)))/DSUM(Forespørgsel1[#All],\"\"&$J$4&\"\",$L$4:INDIRECT(ADDRESS($AI$3,$AI$4))))))),\"\")","v":""},null,{"$f":"IF($Z$1=3,DCOUNT(Forespørgsel1[#All],\"\"&L4&\"\",IF(N4=0,M4:M7,IF(O4=0,M4:N7,IF(P4=0,M4:O7,IF(Q4=0,M4:P7,IF(R4=0,M4:Q7,IF(S4=0,M4:R7,\"\"))))))),\"\")","v":0}]
[9,"Minktæver","Kapacitetsomkostninger i alt pr. tæve",{"$f":"Landsgennemsnit!B9","v":-594.53812003854443},{"$f":"Landsgennemsnit!C9","v":-434.28437008018159},{"$f":"IFERROR(IF(ISTEXT($B9)=TRUE,DSUM(Forespørgsel1[#All],\"\"&LEFT($C9,LEN($C9)-$A9)&\"\",$M$4:INDIRECT(ADDRESS($AI$3,$AI$4)))/DSUM(Forespørgsel1[#All],\"\"&$B9&\"\",$M$4:INDIRECT(ADDRESS($AI$3,$AI$4))),IF($B9=0,DAVERAGE(Forespørgsel1[#All],\"\"&LEFT($C9,LEN($C9)-$A9)&\"\",$M$4:INDIRECT(ADDRESS($AI$3,$AI$4))),IF($B9=1,DSUM(Forespørgsel1[#All],\"\"&LEFT($C9,LEN($C9)-$A9)&\"\",$M$4:INDIRECT(ADDRESS($AI$3,$AI$4)))/DSUM(Forespørgsel1[#All],\"\"&$I$4&\"\",$M$4:INDIRECT(ADDRESS($AI$3,$AI$4))),DSUM(Forespørgsel1[#All],\"\"&LEFT($C9,LEN($C9)-$A9)&\"\",$M$4:INDIRECT(ADDRESS($AI$3,$AI$4)))/DSUM(Forespørgsel1[#All],\"\"&$J$4&\"\",$M$4:INDIRECT(ADDRESS($AI$3,$AI$4)))))),\"\")","v":""},{"$f":"IFERROR(IF(ISTEXT($B9)=TRUE,DSUM(Forespørgsel1[#All],\"\"&LEFT($C9,LEN($C9)-$A9)&\"\",$L$4:INDIRECT(ADDRESS($AI$3,$AI$4)))/DSUM(Forespørgsel1[#All],\"\"&$B9&\"\",$L$4:INDIRECT(ADDRESS($AI$3,$AI$4))),IF($B9=0,DAVERAGE(Forespørgsel1[#All],\"\"&LEFT($C9,LEN($C9)-$A9)&\"\",$L$4:INDIRECT(ADDRESS($AI$3,$AI$4))),IF($B9=1,DSUM(Forespørgsel1[#All],\"\"&LEFT($C9,LEN($C9)-$A9)&\"\",$L$4:INDIRECT(ADDRESS($AI$3,$AI$4)))/DSUM(Forespørgsel1[#All],\"\"&$I$4&\"\",$L$4:INDIRECT(ADDRESS($AI$3,$AI$4))),IF($B9=2,DSUM(Forespørgsel1[#All],\"\"&LEFT($C9,LEN($C9)-$A9)&\"\",$L$4:INDIRECT(ADDRESS($AI$3,$AI$4)))/DSUM(Forespørgsel1[#All],\"\"&$J$4&\"\",$L$4:INDIRECT(ADDRESS($AI$3,$AI$4))))))),\"\")","v":""},null,null,null,null,12,13,14]
[9,"Minktæver","Kapitalomkostninger i alt pr. tæve",{"$f":"Landsgennemsnit!B10","v":-287.95839337172475},{"$f":"Landsgennemsnit!C10","v":-250.75121572145133},{"$f":"IFERROR(IF(ISTEXT($B10)=TRUE,DSUM(Forespørgsel1[#All],\"\"&LEFT($C10,LEN($C10)-$A10)&\"\",$M$4:INDIRECT(ADDRESS($AI$3,$AI$4)))/DSUM(Forespørgsel1[#All],\"\"&$B10&\"\",$M$4:INDIRECT(ADDRESS($AI$3,$AI$4))),IF($B10=0,DAVERAGE(Forespørgsel1[#All],\"\"&LEFT($C10,LEN($C10)-$A10)&\"\",$M$4:INDIRECT(ADDRESS($AI$3,$AI$4))),IF($B10=1,DSUM(Forespørgsel1[#All],\"\"&LEFT($C10,LEN($C10)-$A10)&\"\",$M$4:INDIRECT(ADDRESS($AI$3,$AI$4)))/DSUM(Forespørgsel1[#All],\"\"&$I$4&\"\",$M$4:INDIRECT(ADDRESS($AI$3,$AI$4))),DSUM(Forespørgsel1[#All],\"\"&LEFT($C10,LEN($C10)-$A10)&\"\",$M$4:INDIRECT(ADDRESS($AI$3,$AI$4)))/DSUM(Forespørgsel1[#All],\"\"&$J$4&\"\",$M$4:INDIRECT(ADDRESS($AI$3,$AI$4)))))),\"\")","v":""},{"$f":"IFERROR(IF(ISTEXT($B10)=TRUE,DSUM(Forespørgsel1[#All],\"\"&LEFT($C10,LEN($C10)-$A10)&\"\",$L$4:INDIRECT(ADDRESS($AI$3,$AI$4)))/DSUM(Forespørgsel1[#All],\"\"&$B10&\"\",$L$4:INDIRECT(ADDRESS($AI$3,$AI$4))),IF($B10=0,DAVERAGE(Forespørgsel1[#All],\"\"&LEFT($C10,LEN($C10)-$A10)&\"\",$L$4:INDIRECT(ADDRESS($AI$3,$AI$4))),IF($B10=1,DSUM(Forespørgsel1[#All],\"\"&LEFT($C10,LEN($C10)-$A10)&\"\",$L$4:INDIRECT(ADDRESS($AI$3,$AI$4)))/DSUM(Forespørgsel1[#All],\"\"&$I$4&\"\",$L$4:INDIRECT(ADDRESS($AI$3,$AI$4))),IF($B10=2,DSUM(Forespørgsel1[#All],\"\"&LEFT($C10,LEN($C10)-$A10)&\"\",$L$4:INDIRECT(ADDRESS($AI$3,$AI$4)))/DSUM(Forespørgsel1[#All],\"\"&$J$4&\"\",$L$4:INDIRECT(ADDRESS($AI$3,$AI$4))))))),\"\")","v":""}]
[9,"Minktæver","Årets resultat pr. tæve",{"$f":"Landsgennemsnit!B11","v":343.49303598632605},{"$f":"Landsgennemsnit!C11","v":871.40457090030384},{"$f":"IFERROR(IF(ISTEXT($B11)=TRUE,DSUM(Forespørgsel1[#All],\"\"&LEFT($C11,LEN($C11)-$A11)&\"\",$M$4:INDIRECT(ADDRESS($AI$3,$AI$4)))/DSUM(Forespørgsel1[#All],\"\"&$B11&\"\",$M$4:INDIRECT(ADDRESS($AI$3,$AI$4))),IF($B11=0,DAVERAGE(Forespørgsel1[#All],\"\"&LEFT($C11,LEN($C11)-$A11)&\"\",$M$4:INDIRECT(ADDRESS($AI$3,$AI$4))),IF($B11=1,DSUM(Forespørgsel1[#All],\"\"&LEFT($C11,LEN($C11)-$A11)&\"\",$M$4:INDIRECT(ADDRESS($AI$3,$AI$4)))/DSUM(Forespørgsel1[#All],\"\"&$I$4&\"\",$M$4:INDIRECT(ADDRESS($AI$3,$AI$4))),DSUM(Forespørgsel1[#All],\"\"&LEFT($C11,LEN($C11)-$A11)&\"\",$M$4:INDIRECT(ADDRESS($AI$3,$AI$4)))/DSUM(Forespørgsel1[#All],\"\"&$J$4&\"\",$M$4:INDIRECT(ADDRESS($AI$3,$AI$4)))))),\"\")","v":""},{"$f":"IFERROR(IF(ISTEXT($B11)=TRUE,DSUM(Forespørgsel1[#All],\"\"&LEFT($C11,LEN($C11)-$A11)&\"\",$L$4:INDIRECT(ADDRESS($AI$3,$AI$4)))/DSUM(Forespørgsel1[#All],\"\"&$B11&\"\",$L$4:INDIRECT(ADDRESS($AI$3,$AI$4))),IF($B11=0,DAVERAGE(Forespørgsel1[#All],\"\"&LEFT($C11,LEN($C11)-$A11)&\"\",$L$4:INDIRECT(ADDRESS($AI$3,$AI$4))),IF($B11=1,DSUM(Forespørgsel1[#All],\"\"&LEFT($C11,LEN($C11)-$A11)&\"\",$L$4:INDIRECT(ADDRESS($AI$3,$AI$4)))/DSUM(Forespørgsel1[#All],\"\"&$I$4&\"\",$L$4:INDIRECT(ADDRESS($AI$3,$AI$4))),IF($B11=2,DSUM(Forespørgsel1[#All],\"\"&LEFT($C11,LEN($C11)-$A11)&\"\",$L$4:INDIRECT(ADDRESS($AI$3,$AI$4)))/DSUM(Forespørgsel1[#All],\"\"&$J$4&\"\",$L$4:INDIRECT(ADDRESS($AI$3,$AI$4))))))),\"\")","v":""}]
[null,null,"",{"$f":"Landsgennemsnit!B12","v":""},{"$f":"Landsgennemsnit!C12","v":""},{"$f":"IFERROR(IF(ISTEXT($B12)=TRUE,DSUM(Forespørgsel1[#All],\"\"&LEFT($C12,LEN($C12)-$A12)&\"\",$M$4:INDIRECT(ADDRESS($AI$3,$AI$4)))/DSUM(Forespørgsel1[#All],\"\"&$B12&\"\",$M$4:INDIRECT(ADDRESS($AI$3,$AI$4))),IF($B12=0,DAVERAGE(Forespørgsel1[#All],\"\"&LEFT($C12,LEN($C12)-$A12)&\"\",$M$4:INDIRECT(ADDRESS($AI$3,$AI$4))),IF($B12=1,DSUM(Forespørgsel1[#All],\"\"&LEFT($C12,LEN($C12)-$A12)&\"\",$M$4:INDIRECT(ADDRESS($AI$3,$AI$4)))/DSUM(Forespørgsel1[#All],\"\"&$I$4&\"\",$M$4:INDIRECT(ADDRESS($AI$3,$AI$4))),DSUM(Forespørgsel1[#All],\"\"&LEFT($C12,LEN($C12)-$A12)&\"\",$M$4:INDIRECT(ADDRESS($AI$3,$AI$4)))/DSUM(Forespørgsel1[#All],\"\"&$J$4&\"\",$M$4:INDIRECT(ADDRESS($AI$3,$AI$4)))))),\"\")","v":""},{"$f":"IFERROR(IF(ISTEXT($B12)=TRUE,DSUM(Forespørgsel1[#All],\"\"&LEFT($C12,LEN($C12)-$A12)&\"\",$L$4:INDIRECT(ADDRESS($AI$3,$AI$4)))/DSUM(Forespørgsel1[#All],\"\"&$B12&\"\",$L$4:INDIRECT(ADDRESS($AI$3,$AI$4))),IF($B12=0,DAVERAGE(Forespørgsel1[#All],\"\"&LEFT($C12,LEN($C12)-$A12)&\"\",$L$4:INDIRECT(ADDRESS($AI$3,$AI$4))),IF($B12=1,DSUM(Forespørgsel1[#All],\"\"&LEFT($C12,LEN($C12)-$A12)&\"\",$L$4:INDIRECT(ADDRESS($AI$3,$AI$4)))/DSUM(Forespørgsel1[#All],\"\"&$I$4&\"\",$L$4:INDIRECT(ADDRESS($AI$3,$AI$4))),IF($B12=2,DSUM(Forespørgsel1[#All],\"\"&LEFT($C12,LEN($C12)-$A12)&\"\",$L$4:INDIRECT(ADDRESS($AI$3,$AI$4)))/DSUM(Forespørgsel1[#All],\"\"&$J$4&\"\",$L$4:INDIRECT(ADDRESS($AI$3,$AI$4))))))),\"\")","v":""},null,null,null,null,"De største værdier"]
[null,null,"Pr. skind",{"$f":"Landsgennemsnit!B13","v":""},{"$f":"Landsgennemsnit!C13","v":""},{"$f":"IFERROR(IF(ISTEXT($B13)=TRUE,DSUM(Forespørgsel1[#All],\"\"&LEFT($C13,LEN($C13)-$A13)&\"\",$M$4:INDIRECT(ADDRESS($AI$3,$AI$4)))/DSUM(Forespørgsel1[#All],\"\"&$B13&\"\",$M$4:INDIRECT(ADDRESS($AI$3,$AI$4))),IF($B13=0,DAVERAGE(Forespørgsel1[#All],\"\"&LEFT($C13,LEN($C13)-$A13)&\"\",$M$4:INDIRECT(ADDRESS($AI$3,$AI$4))),IF($B13=1,DSUM(Forespørgsel1[#All],\"\"&LEFT($C13,LEN($C13)-$A13)&\"\",$M$4:INDIRECT(ADDRESS($AI$3,$AI$4)))/DSUM(Forespørgsel1[#All],\"\"&$I$4&\"\",$M$4:INDIRECT(ADDRESS($AI$3,$AI$4))),DSUM(Forespørgsel1[#All],\"\"&LEFT($C13,LEN($C13)-$A13)&\"\",$M$4:INDIRECT(ADDRESS($AI$3,$AI$4)))/DSUM(Forespørgsel1[#All],\"\"&$J$4&\"\",$M$4:INDIRECT(ADDRESS($AI$3,$AI$4)))))),\"\")","v":""},{"$f":"IFERROR(IF(ISTEXT($B13)=TRUE,DSUM(Forespørgsel1[#All],\"\"&LEFT($C13,LEN($C13)-$A13)&\"\",$L$4:INDIRECT(ADDRESS($AI$3,$AI$4)))/DSUM(Forespørgsel1[#All],\"\"&$B13&\"\",$L$4:INDIRECT(ADDRESS($AI$3,$AI$4))),IF($B13=0,DAVERAGE(Forespørgsel1[#All],\"\"&LEFT($C13,LEN($C13)-$A13)&\"\",$L$4:INDIRECT(ADDRESS($AI$3,$AI$4))),IF($B13=1,DSUM(Forespørgsel1[#All],\"\"&LEFT($C13,LEN($C13)-$A13)&\"\",$L$4:INDIRECT(ADDRESS($AI$3,$AI$4)))/DSUM(Forespørgsel1[#All],\"\"&$I$4&\"\",$L$4:INDIRECT(ADDRESS($AI$3,$AI$4))),IF($B13=2,DSUM(Forespørgsel1[#All],\"\"&LEFT($C13,LEN($C13)-$A13)&\"\",$L$4:INDIRECT(ADDRESS($AI$3,$AI$4)))/DSUM(Forespørgsel1[#All],\"\"&$J$4&\"\",$L$4:INDIRECT(ADDRESS($AI$3,$AI$4))))))),\"\")","v":""},null,null,null,"De 10 største værdier:"]
[null,"Producerede skind","Salg af skind og dyr",{"$f":"Landsgennemsnit!B14","v":373.18466987851946},{"$f":"Landsgennemsnit!C14","v":404.86667168136603},{"$f":"IFERROR(IF(ISTEXT($B14)=TRUE,DSUM(Forespørgsel1[#All],\"\"&LEFT($C14,LEN($C14)-$A14)&\"\",$M$4:INDIRECT(ADDRESS($AI$3,$AI$4)))/DSUM(Forespørgsel1[#All],\"\"&$B14&\"\",$M$4:INDIRECT(ADDRESS($AI$3,$AI$4))),IF($B14=0,DAVERAGE(Forespørgsel1[#All],\"\"&LEFT($C14,LEN($C14)-$A14)&\"\",$M$4:INDIRECT(ADDRESS($AI$3,$AI$4))),IF($B14=1,DSUM(Forespørgsel1[#All],\"\"&LEFT($C14,LEN($C14)-$A14)&\"\",$M$4:INDIRECT(ADDRESS($AI$3,$AI$4)))/DSUM(Forespørgsel1[#All],\"\"&$I$4&\"\",$M$4:INDIRECT(ADDRESS($AI$3,$AI$4))),DSUM(Forespørgsel1[#All],\"\"&LEFT($C14,LEN($C14)-$A14)&\"\",$M$4:INDIRECT(ADDRESS($AI$3,$AI$4)))/DSUM(Forespørgsel1[#All],\"\"&$J$4&\"\",$M$4:INDIRECT(ADDRESS($AI$3,$AI$4)))))),\"\")","v":""},{"$f":"IFERROR(IF(ISTEXT($B14)=TRUE,DSUM(Forespørgsel1[#All],\"\"&LEFT($C14,LEN($C14)-$A14)&\"\",$L$4:INDIRECT(ADDRESS($AI$3,$AI$4)))/DSUM(Forespørgsel1[#All],\"\"&$B14&\"\",$L$4:INDIRECT(ADDRESS($AI$3,$AI$4))),IF($B14=0,DAVERAGE(Forespørgsel1[#All],\"\"&LEFT($C14,LEN($C14)-$A14)&\"\",$L$4:INDIRECT(ADDRESS($AI$3,$AI$4))),IF($B14=1,DSUM(Forespørgsel1[#All],\"\"&LEFT($C14,LEN($C14)-$A14)&\"\",$L$4:INDIRECT(ADDRESS($AI$3,$AI$4)))/DSUM(Forespørgsel1[#All],\"\"&$I$4&\"\",$L$4:INDIRECT(ADDRESS($AI$3,$AI$4))),IF($B14=2,DSUM(Forespørgsel1[#All],\"\"&LEFT($C14,LEN($C14)-$A14)&\"\",$L$4:INDIRECT(ADDRESS($AI$3,$AI$4)))/DSUM(Forespørgsel1[#All],\"\"&$J$4&\"\",$L$4:INDIRECT(ADDRESS($AI$3,$AI$4))))))),\"\")","v":""},null,null,"Ejd i top 10",{"$f":"M14","v":"Årets resultat pr. tæve"},"Prodgren",{"$f":"$L$4","v":"Årets resultat pr. tæve"},{"$f":"IF(N$4=\"\",\"\",N$4)","v":"Godkendt"},"","","","",""]
[null,"Producerede skind","Køb mink",{"$f":"Landsgennemsnit!B15","v":-9.6250524516279423},{"$f":"Landsgennemsnit!C15","v":-5.195905497990986},{"$f":"IFERROR(IF(ISTEXT($B15)=TRUE,DSUM(Forespørgsel1[#All],\"\"&LEFT($C15,LEN($C15)-$A15)&\"\",$M$4:INDIRECT(ADDRESS($AI$3,$AI$4)))/DSUM(Forespørgsel1[#All],\"\"&$B15&\"\",$M$4:INDIRECT(ADDRESS($AI$3,$AI$4))),IF($B15=0,DAVERAGE(Forespørgsel1[#All],\"\"&LEFT($C15,LEN($C15)-$A15)&\"\",$M$4:INDIRECT(ADDRESS($AI$3,$AI$4))),IF($B15=1,DSUM(Forespørgsel1[#All],\"\"&LEFT($C15,LEN($C15)-$A15)&\"\",$M$4:INDIRECT(ADDRESS($AI$3,$AI$4)))/DSUM(Forespørgsel1[#All],\"\"&$I$4&\"\",$M$4:INDIRECT(ADDRESS($AI$3,$AI$4))),DSUM(Forespørgsel1[#All],\"\"&LEFT($C15,LEN($C15)-$A15)&\"\",$M$4:INDIRECT(ADDRESS($AI$3,$AI$4)))/DSUM(Forespørgsel1[#All],\"\"&$J$4&\"\",$M$4:INDIRECT(ADDRESS($AI$3,$AI$4)))))),\"\")","v":""},{"$f":"IFERROR(IF(ISTEXT($B15)=TRUE,DSUM(Forespørgsel1[#All],\"\"&LEFT($C15,LEN($C15)-$A15)&\"\",$L$4:INDIRECT(ADDRESS($AI$3,$AI$4)))/DSUM(Forespørgsel1[#All],\"\"&$B15&\"\",$L$4:INDIRECT(ADDRESS($AI$3,$AI$4))),IF($B15=0,DAVERAGE(Forespørgsel1[#All],\"\"&LEFT($C15,LEN($C15)-$A15)&\"\",$L$4:INDIRECT(ADDRESS($AI$3,$AI$4))),IF($B15=1,DSUM(Forespørgsel1[#All],\"\"&LEFT($C15,LEN($C15)-$A15)&\"\",$L$4:INDIRECT(ADDRESS($AI$3,$AI$4)))/DSUM(Forespørgsel1[#All],\"\"&$I$4&\"\",$L$4:INDIRECT(ADDRESS($AI$3,$AI$4))),IF($B15=2,DSUM(Forespørgsel1[#All],\"\"&LEFT($C15,LEN($C15)-$A15)&\"\",$L$4:INDIRECT(ADDRESS($AI$3,$AI$4)))/DSUM(Forespørgsel1[#All],\"\"&$J$4&\"\",$L$4:INDIRECT(ADDRESS($AI$3,$AI$4))))))),\"\")","v":""},null,null,{"$f":"IF($Z$1=3,SUMIFS(Forespørgsel1[[#All],[EjendomsIdent]],Forespørgsel1[[#All],[Årets resultat pr. tæve]],K15),\"\")","v":0},{"$f":"IF($Z$1=3,DMAX(Forespørgsel1[#All],\"\"&$K$14&\"\",$M$4:INDIRECT(ADDRESS($AI$3,$AI$4))),\"\")","v":0},{"$f":"$M$5","v":"=8400"},{"$f":"\"<\"&K15&\"\"","v":"<0"},{"$f":"IF(N$4>0,N5,\"\")","v":true},{"$f":"IF(O$4>0,O5,\"\")","v":""},"","","",""]
[null,"Producerede skind","Besætnings- og beholdningsforskydning",{"$f":"Landsgennemsnit!B16","v":13.058879650495161},{"$f":"Landsgennemsnit!C16","v":9.780544220245595},{"$f":"IFERROR(IF(ISTEXT($B16)=TRUE,DSUM(Forespørgsel1[#All],\"\"&LEFT($C16,LEN($C16)-$A16)&\"\",$M$4:INDIRECT(ADDRESS($AI$3,$AI$4)))/DSUM(Forespørgsel1[#All],\"\"&$B16&\"\",$M$4:INDIRECT(ADDRESS($AI$3,$AI$4))),IF($B16=0,DAVERAGE(Forespørgsel1[#All],\"\"&LEFT($C16,LEN($C16)-$A16)&\"\",$M$4:INDIRECT(ADDRESS($AI$3,$AI$4))),IF($B16=1,DSUM(Forespørgsel1[#All],\"\"&LEFT($C16,LEN($C16)-$A16)&\"\",$M$4:INDIRECT(ADDRESS($AI$3,$AI$4)))/DSUM(Forespørgsel1[#All],\"\"&$I$4&\"\",$M$4:INDIRECT(ADDRESS($AI$3,$AI$4))),DSUM(Forespørgsel1[#All],\"\"&LEFT($C16,LEN($C16)-$A16)&\"\",$M$4:INDIRECT(ADDRESS($AI$3,$AI$4)))/DSUM(Forespørgsel1[#All],\"\"&$J$4&\"\",$M$4:INDIRECT(ADDRESS($AI$3,$AI$4)))))),\"\")","v":""},{"$f":"IFERROR(IF(ISTEXT($B16)=TRUE,DSUM(Forespørgsel1[#All],\"\"&LEFT($C16,LEN($C16)-$A16)&\"\",$L$4:INDIRECT(ADDRESS($AI$3,$AI$4)))/DSUM(Forespørgsel1[#All],\"\"&$B16&\"\",$L$4:INDIRECT(ADDRESS($AI$3,$AI$4))),IF($B16=0,DAVERAGE(Forespørgsel1[#All],\"\"&LEFT($C16,LEN($C16)-$A16)&\"\",$L$4:INDIRECT(ADDRESS($AI$3,$AI$4))),IF($B16=1,DSUM(Forespørgsel1[#All],\"\"&LEFT($C16,LEN($C16)-$A16)&\"\",$L$4:INDIRECT(ADDRESS($AI$3,$AI$4)))/DSUM(Forespørgsel1[#All],\"\"&$I$4&\"\",$L$4:INDIRECT(ADDRESS($AI$3,$AI$4))),IF($B16=2,DSUM(Forespørgsel1[#All],\"\"&LEFT($C16,LEN($C16)-$A16)&\"\",$L$4:INDIRECT(ADDRESS($AI$3,$AI$4)))/DSUM(Forespørgsel1[#All],\"\"&$J$4&\"\",$L$4:INDIRECT(ADDRESS($AI$3,$AI$4))))))),\"\")","v":""},null,null,null,null,{"$f":"$M$5","v":"=8400"},{"$f":"M15","v":"<0"},{"$f":"IF(N$4>0,N6,\"\")","v":true},"",{"$f":"IF(P$4>0,P6,\"\")","v":""},"","",""]
[null,"Producerede skind","Andre indtægter (overskud)",{"$f":"Landsgennemsnit!B17","v":6.0314666597594568},{"$f":"Landsgennemsnit!C17","v":4.2501582764478378},{"$f":"IFERROR(IF(ISTEXT($B17)=TRUE,DSUM(Forespørgsel1[#All],\"\"&LEFT($C17,LEN($C17)-$A17)&\"\",$M$4:INDIRECT(ADDRESS($AI$3,$AI$4)))/DSUM(Forespørgsel1[#All],\"\"&$B17&\"\",$M$4:INDIRECT(ADDRESS($AI$3,$AI$4))),IF($B17=0,DAVERAGE(Forespørgsel1[#All],\"\"&LEFT($C17,LEN($C17)-$A17)&\"\",$M$4:INDIRECT(ADDRESS($AI$3,$AI$4))),IF($B17=1,DSUM(Forespørgsel1[#All],\"\"&LEFT($C17,LEN($C17)-$A17)&\"\",$M$4:INDIRECT(ADDRESS($AI$3,$AI$4)))/DSUM(Forespørgsel1[#All],\"\"&$I$4&\"\",$M$4:INDIRECT(ADDRESS($AI$3,$AI$4))),DSUM(Forespørgsel1[#All],\"\"&LEFT($C17,LEN($C17)-$A17)&\"\",$M$4:INDIRECT(ADDRESS($AI$3,$AI$4)))/DSUM(Forespørgsel1[#All],\"\"&$J$4&\"\",$M$4:INDIRECT(ADDRESS($AI$3,$AI$4)))))),\"\")","v":""},{"$f":"IFERROR(IF(ISTEXT($B17)=TRUE,DSUM(Forespørgsel1[#All],\"\"&LEFT($C17,LEN($C17)-$A17)&\"\",$L$4:INDIRECT(ADDRESS($AI$3,$AI$4)))/DSUM(Forespørgsel1[#All],\"\"&$B17&\"\",$L$4:INDIRECT(ADDRESS($AI$3,$AI$4))),IF($B17=0,DAVERAGE(Forespørgsel1[#All],\"\"&LEFT($C17,LEN($C17)-$A17)&\"\",$L$4:INDIRECT(ADDRESS($AI$3,$AI$4))),IF($B17=1,DSUM(Forespørgsel1[#All],\"\"&LEFT($C17,LEN($C17)-$A17)&\"\",$L$4:INDIRECT(ADDRESS($AI$3,$AI$4)))/DSUM(Forespørgsel1[#All],\"\"&$I$4&\"\",$L$4:INDIRECT(ADDRESS($AI$3,$AI$4))),IF($B17=2,DSUM(Forespørgsel1[#All],\"\"&LEFT($C17,LEN($C17)-$A17)&\"\",$L$4:INDIRECT(ADDRESS($AI$3,$AI$4)))/DSUM(Forespørgsel1[#All],\"\"&$J$4&\"\",$L$4:INDIRECT(ADDRESS($AI$3,$AI$4))))))),\"\")","v":""},null,null,null,null,"=8400",{"$f":"M15","v":"<0"},true,"","","","",""]
[null,"Producerede skind","Bruttoudbytte i alt",{"$f":"Landsgennemsnit!B18","v":382.64996373714609},{"$f":"Landsgennemsnit!C18","v":413.70146868006844},{"$f":"IFERROR(IF(ISTEXT($B18)=TRUE,DSUM(Forespørgsel1[#All],\"\"&LEFT($C18,LEN($C18)-$A18)&\"\",$M$4:INDIRECT(ADDRESS($AI$3,$AI$4)))/DSUM(Forespørgsel1[#All],\"\"&$B18&\"\",$M$4:INDIRECT(ADDRESS($AI$3,$AI$4))),IF($B18=0,DAVERAGE(Forespørgsel1[#All],\"\"&LEFT($C18,LEN($C18)-$A18)&\"\",$M$4:INDIRECT(ADDRESS($AI$3,$AI$4))),IF($B18=1,DSUM(Forespørgsel1[#All],\"\"&LEFT($C18,LEN($C18)-$A18)&\"\",$M$4:INDIRECT(ADDRESS($AI$3,$AI$4)))/DSUM(Forespørgsel1[#All],\"\"&$I$4&\"\",$M$4:INDIRECT(ADDRESS($AI$3,$AI$4))),DSUM(Forespørgsel1[#All],\"\"&LEFT($C18,LEN($C18)-$A18)&\"\",$M$4:INDIRECT(ADDRESS($AI$3,$AI$4)))/DSUM(Forespørgsel1[#All],\"\"&$J$4&\"\",$M$4:INDIRECT(ADDRESS($AI$3,$AI$4)))))),\"\")","v":""},{"$f":"IFERROR(IF(ISTEXT($B18)=TRUE,DSUM(Forespørgsel1[#All],\"\"&LEFT($C18,LEN($C18)-$A18)&\"\",$L$4:INDIRECT(ADDRESS($AI$3,$AI$4)))/DSUM(Forespørgsel1[#All],\"\"&$B18&\"\",$L$4:INDIRECT(ADDRESS($AI$3,$AI$4))),IF($B18=0,DAVERAGE(Forespørgsel1[#All],\"\"&LEFT($C18,LEN($C18)-$A18)&\"\",$L$4:INDIRECT(ADDRESS($AI$3,$AI$4))),IF($B18=1,DSUM(Forespørgsel1[#All],\"\"&LEFT($C18,LEN($C18)-$A18)&\"\",$L$4:INDIRECT(ADDRESS($AI$3,$AI$4)))/DSUM(Forespørgsel1[#All],\"\"&$I$4&\"\",$L$4:INDIRECT(ADDRESS($AI$3,$AI$4))),IF($B18=2,DSUM(Forespørgsel1[#All],\"\"&LEFT($C18,LEN($C18)-$A18)&\"\",$L$4:INDIRECT(ADDRESS($AI$3,$AI$4)))/DSUM(Forespørgsel1[#All],\"\"&$J$4&\"\",$L$4:INDIRECT(ADDRESS($AI$3,$AI$4))))))),\"\")","v":""},null,null,null,null,"Prodgren",{"$f":"$L$4","v":"Årets resultat pr. tæve"},{"$f":"IF(N$4=\"\",\"\",N$4)","v":"Godkendt"},"","","","",""]
[null,null,"",{"$f":"Landsgennemsnit!B19","v":""},{"$f":"Landsgennemsnit!C19","v":""},{"$f":"IFERROR(IF(ISTEXT($B19)=TRUE,DSUM(Forespørgsel1[#All],\"\"&LEFT($C19,LEN($C19)-$A19)&\"\",$M$4:INDIRECT(ADDRESS($AI$3,$AI$4)))/DSUM(Forespørgsel1[#All],\"\"&$B19&\"\",$M$4:INDIRECT(ADDRESS($AI$3,$AI$4))),IF($B19=0,DAVERAGE(Forespørgsel1[#All],\"\"&LEFT($C19,LEN($C19)-$A19)&\"\",$M$4:INDIRECT(ADDRESS($AI$3,$AI$4))),IF($B19=1,DSUM(Forespørgsel1[#All],\"\"&LEFT($C19,LEN($C19)-$A19)&\"\",$M$4:INDIRECT(ADDRESS($AI$3,$AI$4)))/DSUM(Forespørgsel1[#All],\"\"&$I$4&\"\",$M$4:INDIRECT(ADDRESS($AI$3,$AI$4))),DSUM(Forespørgsel1[#All],\"\"&LEFT($C19,LEN($C19)-$A19)&\"\",$M$4:INDIRECT(ADDRESS($AI$3,$AI$4)))/DSUM(Forespørgsel1[#All],\"\"&$J$4&\"\",$M$4:INDIRECT(ADDRESS($AI$3,$AI$4)))))),\"\")","v":""},{"$f":"IFERROR(IF(ISTEXT($B19)=TRUE,DSUM(Forespørgsel1[#All],\"\"&LEFT($C19,LEN($C19)-$A19)&\"\",$L$4:INDIRECT(ADDRESS($AI$3,$AI$4)))/DSUM(Forespørgsel1[#All],\"\"&$B19&\"\",$L$4:INDIRECT(ADDRESS($AI$3,$AI$4))),IF($B19=0,DAVERAGE(Forespørgsel1[#All],\"\"&LEFT($C19,LEN($C19)-$A19)&\"\",$L$4:INDIRECT(ADDRESS($AI$3,$AI$4))),IF($B19=1,DSUM(Forespørgsel1[#All],\"\"&LEFT($C19,LEN($C19)-$A19)&\"\",$L$4:INDIRECT(ADDRESS($AI$3,$AI$4)))/DSUM(Forespørgsel1[#All],\"\"&$I$4&\"\",$L$4:INDIRECT(ADDRESS($AI$3,$AI$4))),IF($B19=2,DSUM(Forespørgsel1[#All],\"\"&LEFT($C19,LEN($C19)-$A19)&\"\",$L$4:INDIRECT(ADDRESS($AI$3,$AI$4)))/DSUM(Forespørgsel1[#All],\"\"&$J$4&\"\",$L$4:INDIRECT(ADDRESS($AI$3,$AI$4))))))),\"\")","v":""},null,null,{"$f":"IF($Z$1=3,SUMIFS(Forespørgsel1[[#All],[EjendomsIdent]],Forespørgsel1[[#All],[Årets resultat pr. tæve]],K19),\"\")","v":0},{"$f":"IF($Z$1=3,DMAX(Forespørgsel1[#All],\"\"&$K$14&\"\",$L14:INDIRECT(ADDRESS($AI19,$AI$4))),\"\")","v":0},{"$f":"$M$5","v":"=8400"},{"$f":"\"<\"&K19&\"\"","v":"<0"},{"$f":"IF(N$4>0,N5,\"\")","v":true},{"$f":"IF(O$4>0,O5,\"\")","v":""},"","","","",null,null,null,null,null,null,null,null,null,null,null,null,null,null,"Række",{"$f":"ROW(AH19)-2","v":17}]
[null,"Producerede skind","Foder",{"$f":"Landsgennemsnit!B20","v":-130.45251292943422},{"$f":"Landsgennemsnit!C20","v":-128.43397834903561},{"$f":"IFERROR(IF(ISTEXT($B20)=TRUE,DSUM(Forespørgsel1[#All],\"\"&LEFT($C20,LEN($C20)-$A20)&\"\",$M$4:INDIRECT(ADDRESS($AI$3,$AI$4)))/DSUM(Forespørgsel1[#All],\"\"&$B20&\"\",$M$4:INDIRECT(ADDRESS($AI$3,$AI$4))),IF($B20=0,DAVERAGE(Forespørgsel1[#All],\"\"&LEFT($C20,LEN($C20)-$A20)&\"\",$M$4:INDIRECT(ADDRESS($AI$3,$AI$4))),IF($B20=1,DSUM(Forespørgsel1[#All],\"\"&LEFT($C20,LEN($C20)-$A20)&\"\",$M$4:INDIRECT(ADDRESS($AI$3,$AI$4)))/DSUM(Forespørgsel1[#All],\"\"&$I$4&\"\",$M$4:INDIRECT(ADDRESS($AI$3,$AI$4))),DSUM(Forespørgsel1[#All],\"\"&LEFT($C20,LEN($C20)-$A20)&\"\",$M$4:INDIRECT(ADDRESS($AI$3,$AI$4)))/DSUM(Forespørgsel1[#All],\"\"&$J$4&\"\",$M$4:INDIRECT(ADDRESS($AI$3,$AI$4)))))),\"\")","v":""},{"$f":"IFERROR(IF(ISTEXT($B20)=TRUE,DSUM(Forespørgsel1[#All],\"\"&LEFT($C20,LEN($C20)-$A20)&\"\",$L$4:INDIRECT(ADDRESS($AI$3,$AI$4)))/DSUM(Forespørgsel1[#All],\"\"&$B20&\"\",$L$4:INDIRECT(ADDRESS($AI$3,$AI$4))),IF($B20=0,DAVERAGE(Forespørgsel1[#All],\"\"&LEFT($C20,LEN($C20)-$A20)&\"\",$L$4:INDIRECT(ADDRESS($AI$3,$AI$4))),IF($B20=1,DSUM(Forespørgsel1[#All],\"\"&LEFT($C20,LEN($C20)-$A20)&\"\",$L$4:INDIRECT(ADDRESS($AI$3,$AI$4)))/DSUM(Forespørgsel1[#All],\"\"&$I$4&\"\",$L$4:INDIRECT(ADDRESS($AI$3,$AI$4))),IF($B20=2,DSUM(Forespørgsel1[#All],\"\"&LEFT($C20,LEN($C20)-$A20)&\"\",$L$4:INDIRECT(ADDRESS($AI$3,$AI$4)))/DSUM(Forespørgsel1[#All],\"\"&$J$4&\"\",$L$4:INDIRECT(ADDRESS($AI$3,$AI$4))))))),\"\")","v":""},null,null,null,null,{"$f":"$L$17","v":"=8400"},{"$f":"M19","v":"<0"},{"$f":"IF(N$4>0,N6,\"\")","v":true},"","","","",""]
[null,"Producerede skind","Dyrlæge og medicin",{"$f":"Landsgennemsnit!B21","v":-5.3251094361126219},{"$f":"Landsgennemsnit!C21","v":-4.146128338692793},{"$f":"IFERROR(IF(ISTEXT($B21)=TRUE,DSUM(Forespørgsel1[#All],\"\"&LEFT($C21,LEN($C21)-$A21)&\"\",$M$4:INDIRECT(ADDRESS($AI$3,$AI$4)))/DSUM(Forespørgsel1[#All],\"\"&$B21&\"\",$M$4:INDIRECT(ADDRESS($AI$3,$AI$4))),IF($B21=0,DAVERAGE(Forespørgsel1[#All],\"\"&LEFT($C21,LEN($C21)-$A21)&\"\",$M$4:INDIRECT(ADDRESS($AI$3,$AI$4))),IF($B21=1,DSUM(Forespørgsel1[#All],\"\"&LEFT($C21,LEN($C21)-$A21)&\"\",$M$4:INDIRECT(ADDRESS($AI$3,$AI$4)))/DSUM(Forespørgsel1[#All],\"\"&$I$4&\"\",$M$4:INDIRECT(ADDRESS($AI$3,$AI$4))),DSUM(Forespørgsel1[#All],\"\"&LEFT($C21,LEN($C21)-$A21)&\"\",$M$4:INDIRECT(ADDRESS($AI$3,$AI$4)))/DSUM(Forespørgsel1[#All],\"\"&$J$4&\"\",$M$4:INDIRECT(ADDRESS($AI$3,$AI$4)))))),\"\")","v":""},{"$f":"IFERROR(IF(ISTEXT($B21)=TRUE,DSUM(Forespørgsel1[#All],\"\"&LEFT($C21,LEN($C21)-$A21)&\"\",$L$4:INDIRECT(ADDRESS($AI$3,$AI$4)))/DSUM(Forespørgsel1[#All],\"\"&$B21&\"\",$L$4:INDIRECT(ADDRESS($AI$3,$AI$4))),IF($B21=0,DAVERAGE(Forespørgsel1[#All],\"\"&LEFT($C21,LEN($C21)-$A21)&\"\",$L$4:INDIRECT(ADDRESS($AI$3,$AI$4))),IF($B21=1,DSUM(Forespørgsel1[#All],\"\"&LEFT($C21,LEN($C21)-$A21)&\"\",$L$4:INDIRECT(ADDRESS($AI$3,$AI$4)))/DSUM(Forespørgsel1[#All],\"\"&$I$4&\"\",$L$4:INDIRECT(ADDRESS($AI$3,$AI$4))),IF($B21=2,DSUM(Forespørgsel1[#All],\"\"&LEFT($C21,LEN($C21)-$A21)&\"\",$L$4:INDIRECT(ADDRESS($AI$3,$AI$4)))/DSUM(Forespørgsel1[#All],\"\"&$J$4&\"\",$L$4:INDIRECT(ADDRESS($AI$3,$AI$4))))))),\"\")","v":""},null,null,null,null,{"$f":"$L$17","v":"=8400"},{"$f":"M19","v":"<0"},true,"","","","",""]
[null,"Producerede skind","Diverse vedr. husdyr",{"$f":"Landsgennemsnit!B22","v":-16.188870757461945},{"$f":"Landsgennemsnit!C22","v":-14.646194156621597},{"$f":"IFERROR(IF(ISTEXT($B22)=TRUE,DSUM(Forespørgsel1[#All],\"\"&LEFT($C22,LEN($C22)-$A22)&\"\",$M$4:INDIRECT(ADDRESS($AI$3,$AI$4)))/DSUM(Forespørgsel1[#All],\"\"&$B22&\"\",$M$4:INDIRECT(ADDRESS($AI$3,$AI$4))),IF($B22=0,DAVERAGE(Forespørgsel1[#All],\"\"&LEFT($C22,LEN($C22)-$A22)&\"\",$M$4:INDIRECT(ADDRESS($AI$3,$AI$4))),IF($B22=1,DSUM(Forespørgsel1[#All],\"\"&LEFT($C22,LEN($C22)-$A22)&\"\",$M$4:INDIRECT(ADDRESS($AI$3,$AI$4)))/DSUM(Forespørgsel1[#All],\"\"&$I$4&\"\",$M$4:INDIRECT(ADDRESS($AI$3,$AI$4))),DSUM(Forespørgsel1[#All],\"\"&LEFT($C22,LEN($C22)-$A22)&\"\",$M$4:INDIRECT(ADDRESS($AI$3,$AI$4)))/DSUM(Forespørgsel1[#All],\"\"&$J$4&\"\",$M$4:INDIRECT(ADDRESS($AI$3,$AI$4)))))),\"\")","v":""},{"$f":"IFERROR(IF(ISTEXT($B22)=TRUE,DSUM(Forespørgsel1[#All],\"\"&LEFT($C22,LEN($C22)-$A22)&\"\",$L$4:INDIRECT(ADDRESS($AI$3,$AI$4)))/DSUM(Forespørgsel1[#All],\"\"&$B22&\"\",$L$4:INDIRECT(ADDRESS($AI$3,$AI$4))),IF($B22=0,DAVERAGE(Forespørgsel1[#All],\"\"&LEFT($C22,LEN($C22)-$A22)&\"\",$L$4:INDIRECT(ADDRESS($AI$3,$AI$4))),IF($B22=1,DSUM(Forespørgsel1[#All],\"\"&LEFT($C22,LEN($C22)-$A22)&\"\",$L$4:INDIRECT(ADDRESS($AI$3,$AI$4)))/DSUM(Forespørgsel1[#All],\"\"&$I$4&\"\",$L$4:INDIRECT(ADDRESS($AI$3,$AI$4))),IF($B22=2,DSUM(Forespørgsel1[#All],\"\"&LEFT($C22,LEN($C22)-$A22)&\"\",$L$4:INDIRECT(ADDRESS($AI$3,$AI$4)))/DSUM(Forespørgsel1[#All],\"\"&$J$4&\"\",$L$4:INDIRECT(ADDRESS($AI$3,$AI$4))))))),\"\")","v":""},null,null,null,null,"Prodgren",{"$f":"$L$4","v":"Årets resultat pr. tæve"},"Godkendt","","","","",""]
[null,"Producerede skind","Stykomkostninger i alt",{"$f":"Landsgennemsnit!B23","v":-151.96649312300877},{"$f":"Landsgennemsnit!C23","v":-147.22630084434999},{"$f":"IFERROR(IF(ISTEXT($B23)=TRUE,DSUM(Forespørgsel1[#All],\"\"&LEFT($C23,LEN($C23)-$A23)&\"\",$M$4:INDIRECT(ADDRESS($AI$3,$AI$4)))/DSUM(Forespørgsel1[#All],\"\"&$B23&\"\",$M$4:INDIRECT(ADDRESS($AI$3,$AI$4))),IF($B23=0,DAVERAGE(Forespørgsel1[#All],\"\"&LEFT($C23,LEN($C23)-$A23)&\"\",$M$4:INDIRECT(ADDRESS($AI$3,$AI$4))),IF($B23=1,DSUM(Forespørgsel1[#All],\"\"&LEFT($C23,LEN($C23)-$A23)&\"\",$M$4:INDIRECT(ADDRESS($AI$3,$AI$4)))/DSUM(Forespørgsel1[#All],\"\"&$I$4&\"\",$M$4:INDIRECT(ADDRESS($AI$3,$AI$4))),DSUM(Forespørgsel1[#All],\"\"&LEFT($C23,LEN($C23)-$A23)&\"\",$M$4:INDIRECT(ADDRESS($AI$3,$AI$4)))/DSUM(Forespørgsel1[#All],\"\"&$J$4&\"\",$M$4:INDIRECT(ADDRESS($AI$3,$AI$4)))))),\"\")","v":""},{"$f":"IFERROR(IF(ISTEXT($B23)=TRUE,DSUM(Forespørgsel1[#All],\"\"&LEFT($C23,LEN($C23)-$A23)&\"\",$L$4:INDIRECT(ADDRESS($AI$3,$AI$4)))/DSUM(Forespørgsel1[#All],\"\"&$B23&\"\",$L$4:INDIRECT(ADDRESS($AI$3,$AI$4))),IF($B23=0,DAVERAGE(Forespørgsel1[#All],\"\"&LEFT($C23,LEN($C23)-$A23)&\"\",$L$4:INDIRECT(ADDRESS($AI$3,$AI$4))),IF($B23=1,DSUM(Forespørgsel1[#All],\"\"&LEFT($C23,LEN($C23)-$A23)&\"\",$L$4:INDIRECT(ADDRESS($AI$3,$AI$4)))/DSUM(Forespørgsel1[#All],\"\"&$I$4&\"\",$L$4:INDIRECT(ADDRESS($AI$3,$AI$4))),IF($B23=2,DSUM(Forespørgsel1[#All],\"\"&LEFT($C23,LEN($C23)-$A23)&\"\",$L$4:INDIRECT(ADDRESS($AI$3,$AI$4)))/DSUM(Forespørgsel1[#All],\"\"&$J$4&\"\",$L$4:INDIRECT(ADDRESS($AI$3,$AI$4))))))),\"\")","v":""},null,null,{"$f":"IF($Z$1=3,SUMIFS(Forespørgsel1[[#All],[EjendomsIdent]],Forespørgsel1[[#All],[Årets resultat pr. tæve]],K23),\"\")","v":0},{"$f":"IF($Z$1=3,DMAX(Forespørgsel1[#All],\"\"&$K$14&\"\",$L18:INDIRECT(ADDRESS($AI23,$AI$4))),\"\")","v":0},{"$f":"$M$5","v":"=8400"},{"$f":"\"<\"&K23&\"\"","v":"<0"},{"$f":"IF(N$4>0,N5,\"\")","v":true},{"$f":"IF(O$4>0,O5,\"\")","v":""},"","","","",null,null,null,null,null,null,null,null,null,null,null,null,null,null,"Række",{"$f":"ROW(AH23)-2","v":21}]
[null,null,null,{"$f":"Landsgennemsnit!B24","v":""},{"$f":"Landsgennemsnit!C24","v":""},{"$f":"IFERROR(IF(ISTEXT($B24)=TRUE,DSUM(Forespørgsel1[#All],\"\"&LEFT($C24,LEN($C24)-$A24)&\"\",$M$4:INDIRECT(ADDRESS($AI$3,$AI$4)))/DSUM(Forespørgsel1[#All],\"\"&$B24&\"\",$M$4:INDIRECT(ADDRESS($AI$3,$AI$4))),IF($B24=0,DAVERAGE(Forespørgsel1[#All],\"\"&LEFT($C24,LEN($C24)-$A24)&\"\",$M$4:INDIRECT(ADDRESS($AI$3,$AI$4))),IF($B24=1,DSUM(Forespørgsel1[#All],\"\"&LEFT($C24,LEN($C24)-$A24)&\"\",$M$4:INDIRECT(ADDRESS($AI$3,$AI$4)))/DSUM(Forespørgsel1[#All],\"\"&$I$4&\"\",$M$4:INDIRECT(ADDRESS($AI$3,$AI$4))),DSUM(Forespørgsel1[#All],\"\"&LEFT($C24,LEN($C24)-$A24)&\"\",$M$4:INDIRECT(ADDRESS($AI$3,$AI$4)))/DSUM(Forespørgsel1[#All],\"\"&$J$4&\"\",$M$4:INDIRECT(ADDRESS($AI$3,$AI$4)))))),\"\")","v":""},{"$f":"IFERROR(IF(ISTEXT($B24)=TRUE,DSUM(Forespørgsel1[#All],\"\"&LEFT($C24,LEN($C24)-$A24)&\"\",$L$4:INDIRECT(ADDRESS($AI$3,$AI$4)))/DSUM(Forespørgsel1[#All],\"\"&$B24&\"\",$L$4:INDIRECT(ADDRESS($AI$3,$AI$4))),IF($B24=0,DAVERAGE(Forespørgsel1[#All],\"\"&LEFT($C24,LEN($C24)-$A24)&\"\",$L$4:INDIRECT(ADDRESS($AI$3,$AI$4))),IF($B24=1,DSUM(Forespørgsel1[#All],\"\"&LEFT($C24,LEN($C24)-$A24)&\"\",$L$4:INDIRECT(ADDRESS($AI$3,$AI$4)))/DSUM(Forespørgsel1[#All],\"\"&$I$4&\"\",$L$4:INDIRECT(ADDRESS($AI$3,$AI$4))),IF($B24=2,DSUM(Forespørgsel1[#All],\"\"&LEFT($C24,LEN($C24)-$A24)&\"\",$L$4:INDIRECT(ADDRESS($AI$3,$AI$4)))/DSUM(Forespørgsel1[#All],\"\"&$J$4&\"\",$L$4:INDIRECT(ADDRESS($AI$3,$AI$4))))))),\"\")","v":""},null,null,null,null,{"$f":"$L$17","v":"=8400"},{"$f":"M23","v":"<0"},{"$f":"IF(N$4>0,N6,\"\")","v":true},"","","","",""]
[null,"Producerede skind","Dækningsbidrag",{"$f":"Landsgennemsnit!B25","v":230.68347061413732},{"$f":"Landsgennemsnit!C25","v":266.47516783571842},{"$f":"IFERROR(IF(ISTEXT($B25)=TRUE,DSUM(Forespørgsel1[#All],\"\"&LEFT($C25,LEN($C25)-$A25)&\"\",$M$4:INDIRECT(ADDRESS($AI$3,$AI$4)))/DSUM(Forespørgsel1[#All],\"\"&$B25&\"\",$M$4:INDIRECT(ADDRESS($AI$3,$AI$4))),IF($B25=0,DAVERAGE(Forespørgsel1[#All],\"\"&LEFT($C25,LEN($C25)-$A25)&\"\",$M$4:INDIRECT(ADDRESS($AI$3,$AI$4))),IF($B25=1,DSUM(Forespørgsel1[#All],\"\"&LEFT($C25,LEN($C25)-$A25)&\"\",$M$4:INDIRECT(ADDRESS($AI$3,$AI$4)))/DSUM(Forespørgsel1[#All],\"\"&$I$4&\"\",$M$4:INDIRECT(ADDRESS($AI$3,$AI$4))),DSUM(Forespørgsel1[#All],\"\"&LEFT($C25,LEN($C25)-$A25)&\"\",$M$4:INDIRECT(ADDRESS($AI$3,$AI$4)))/DSUM(Forespørgsel1[#All],\"\"&$J$4&\"\",$M$4:INDIRECT(ADDRESS($AI$3,$AI$4)))))),\"\")","v":""},{"$f":"IFERROR(IF(ISTEXT($B25)=TRUE,DSUM(Forespørgsel1[#All],\"\"&LEFT($C25,LEN($C25)-$A25)&\"\",$L$4:INDIRECT(ADDRESS($AI$3,$AI$4)))/DSUM(Forespørgsel1[#All],\"\"&$B25&\"\",$L$4:INDIRECT(ADDRESS($AI$3,$AI$4))),IF($B25=0,DAVERAGE(Forespørgsel1[#All],\"\"&LEFT($C25,LEN($C25)-$A25)&\"\",$L$4:INDIRECT(ADDRESS($AI$3,$AI$4))),IF($B25=1,DSUM(Forespørgsel1[#All],\"\"&LEFT($C25,LEN($C25)-$A25)&\"\",$L$4:INDIRECT(ADDRESS($AI$3,$AI$4)))/DSUM(Forespørgsel1[#All],\"\"&$I$4&\"\",$L$4:INDIRECT(ADDRESS($AI$3,$AI$4))),IF($B25=2,DSUM(Forespørgsel1[#All],\"\"&LEFT($C25,LEN($C25)-$A25)&\"\",$L$4:INDIRECT(ADDRESS($AI$3,$AI$4)))/DSUM(Forespørgsel1[#All],\"\"&$J$4&\"\",$L$4:INDIRECT(ADDRESS($AI$3,$AI$4))))))),\"\")","v":""},null,null,null,null,{"$f":"$L$17","v":"=8400"},{"$f":"M23","v":"<0"},true,"","","","",""]
[null,null,null,{"$f":"Landsgennemsnit!B26","v":""},{"$f":"Landsgennemsnit!C26","v":""},{"$f":"IFERROR(IF(ISTEXT($B26)=TRUE,DSUM(Forespørgsel1[#All],\"\"&LEFT($C26,LEN($C26)-$A26)&\"\",$M$4:INDIRECT(ADDRESS($AI$3,$AI$4)))/DSUM(Forespørgsel1[#All],\"\"&$B26&\"\",$M$4:INDIRECT(ADDRESS($AI$3,$AI$4))),IF($B26=0,DAVERAGE(Forespørgsel1[#All],\"\"&LEFT($C26,LEN($C26)-$A26)&\"\",$M$4:INDIRECT(ADDRESS($AI$3,$AI$4))),IF($B26=1,DSUM(Forespørgsel1[#All],\"\"&LEFT($C26,LEN($C26)-$A26)&\"\",$M$4:INDIRECT(ADDRESS($AI$3,$AI$4)))/DSUM(Forespørgsel1[#All],\"\"&$I$4&\"\",$M$4:INDIRECT(ADDRESS($AI$3,$AI$4))),DSUM(Forespørgsel1[#All],\"\"&LEFT($C26,LEN($C26)-$A26)&\"\",$M$4:INDIRECT(ADDRESS($AI$3,$AI$4)))/DSUM(Forespørgsel1[#All],\"\"&$J$4&\"\",$M$4:INDIRECT(ADDRESS($AI$3,$AI$4)))))),\"\")","v":""},{"$f":"IFERROR(IF(ISTEXT($B26)=TRUE,DSUM(Forespørgsel1[#All],\"\"&LEFT($C26,LEN($C26)-$A26)&\"\",$L$4:INDIRECT(ADDRESS($AI$3,$AI$4)))/DSUM(Forespørgsel1[#All],\"\"&$B26&\"\",$L$4:INDIRECT(ADDRESS($AI$3,$AI$4))),IF($B26=0,DAVERAGE(Forespørgsel1[#All],\"\"&LEFT($C26,LEN($C26)-$A26)&\"\",$L$4:INDIRECT(ADDRESS($AI$3,$AI$4))),IF($B26=1,DSUM(Forespørgsel1[#All],\"\"&LEFT($C26,LEN($C26)-$A26)&\"\",$L$4:INDIRECT(ADDRESS($AI$3,$AI$4)))/DSUM(Forespørgsel1[#All],\"\"&$I$4&\"\",$L$4:INDIRECT(ADDRESS($AI$3,$AI$4))),IF($B26=2,DSUM(Forespørgsel1[#All],\"\"&LEFT($C26,LEN($C26)-$A26)&\"\",$L$4:INDIRECT(ADDRESS($AI$3,$AI$4)))/DSUM(Forespørgsel1[#All],\"\"&$J$4&\"\",$L$4:INDIRECT(ADDRESS($AI$3,$AI$4))))))),\"\")","v":""},null,null,null,null,"Prodgren",{"$f":"$L$4","v":"Årets resultat pr. tæve"},{"$f":"IF(N$4=\"\",\"\",N$4)","v":"Godkendt"},"","","","",""]
[null,"Producerede skind","Energi og brændstof",{"$f":"Landsgennemsnit!B27","v":-2.7516076531889726},{"$f":"Landsgennemsnit!C27","v":-1.997931436523309},{"$f":"IFERROR(IF(ISTEXT($B27)=TRUE,DSUM(Forespørgsel1[#All],\"\"&LEFT($C27,LEN($C27)-$A27)&\"\",$M$4:INDIRECT(ADDRESS($AI$3,$AI$4)))/DSUM(Forespørgsel1[#All],\"\"&$B27&\"\",$M$4:INDIRECT(ADDRESS($AI$3,$AI$4))),IF($B27=0,DAVERAGE(Forespørgsel1[#All],\"\"&LEFT($C27,LEN($C27)-$A27)&\"\",$M$4:INDIRECT(ADDRESS($AI$3,$AI$4))),IF($B27=1,DSUM(Forespørgsel1[#All],\"\"&LEFT($C27,LEN($C27)-$A27)&\"\",$M$4:INDIRECT(ADDRESS($AI$3,$AI$4)))/DSUM(Forespørgsel1[#All],\"\"&$I$4&\"\",$M$4:INDIRECT(ADDRESS($AI$3,$AI$4))),DSUM(Forespørgsel1[#All],\"\"&LEFT($C27,LEN($C27)-$A27)&\"\",$M$4:INDIRECT(ADDRESS($AI$3,$AI$4)))/DSUM(Forespørgsel1[#All],\"\"&$J$4&\"\",$M$4:INDIRECT(ADDRESS($AI$3,$AI$4)))))),\"\")","v":""},{"$f":"IFERROR(IF(ISTEXT($B27)=TRUE,DSUM(Forespørgsel1[#All],\"\"&LEFT($C27,LEN($C27)-$A27)&\"\",$L$4:INDIRECT(ADDRESS($AI$3,$AI$4)))/DSUM(Forespørgsel1[#All],\"\"&$B27&\"\",$L$4:INDIRECT(ADDRESS($AI$3,$AI$4))),IF($B27=0,DAVERAGE(Forespørgsel1[#All],\"\"&LEFT($C27,LEN($C27)-$A27)&\"\",$L$4:INDIRECT(ADDRESS($AI$3,$AI$4))),IF($B27=1,DSUM(Forespørgsel1[#All],\"\"&LEFT($C27,LEN($C27)-$A27)&\"\",$L$4:INDIRECT(ADDRESS($AI$3,$AI$4)))/DSUM(Forespørgsel1[#All],\"\"&$I$4&\"\",$L$4:INDIRECT(ADDRESS($AI$3,$AI$4))),IF($B27=2,DSUM(Forespørgsel1[#All],\"\"&LEFT($C27,LEN($C27)-$A27)&\"\",$L$4:INDIRECT(ADDRESS($AI$3,$AI$4)))/DSUM(Forespørgsel1[#All],\"\"&$J$4&\"\",$L$4:INDIRECT(ADDRESS($AI$3,$AI$4))))))),\"\")","v":""},null,null,{"$f":"IF($Z$1=3,SUMIFS(Forespørgsel1[[#All],[EjendomsIdent]],Forespørgsel1[[#All],[Årets resultat pr. tæve]],K27),\"\")","v":0},{"$f":"IF($Z$1=3,DMAX(Forespørgsel1[#All],\"\"&$K$14&\"\",$L22:INDIRECT(ADDRESS($AI27,$AI$4))),\"\")","v":0},{"$f":"$M$5","v":"=8400"},{"$f":"\"<\"&K27&\"\"","v":"<0"},{"$f":"IF(N$4>0,N5,\"\")","v":true},{"$f":"IF(O$4>0,O5,\"\")","v":""},"","","","",null,null,null,null,null,null,null,null,null,null,null,null,null,null,"Række",{"$f":"ROW(AH27)-2","v":25}]
[null,"Producerede skind","Vedligehold og maskinstation",{"$f":"Landsgennemsnit!B28","v":-14.694941763583461},{"$f":"Landsgennemsnit!C28","v":-9.9182290589289863},{"$f":"IFERROR(IF(ISTEXT($B28)=TRUE,DSUM(Forespørgsel1[#All],\"\"&LEFT($C28,LEN($C28)-$A28)&\"\",$M$4:INDIRECT(ADDRESS($AI$3,$AI$4)))/DSUM(Forespørgsel1[#All],\"\"&$B28&\"\",$M$4:INDIRECT(ADDRESS($AI$3,$AI$4))),IF($B28=0,DAVERAGE(Forespørgsel1[#All],\"\"&LEFT($C28,LEN($C28)-$A28)&\"\",$M$4:INDIRECT(ADDRESS($AI$3,$AI$4))),IF($B28=1,DSUM(Forespørgsel1[#All],\"\"&LEFT($C28,LEN($C28)-$A28)&\"\",$M$4:INDIRECT(ADDRESS($AI$3,$AI$4)))/DSUM(Forespørgsel1[#All],\"\"&$I$4&\"\",$M$4:INDIRECT(ADDRESS($AI$3,$AI$4))),DSUM(Forespørgsel1[#All],\"\"&LEFT($C28,LEN($C28)-$A28)&\"\",$M$4:INDIRECT(ADDRESS($AI$3,$AI$4)))/DSUM(Forespørgsel1[#All],\"\"&$J$4&\"\",$M$4:INDIRECT(ADDRESS($AI$3,$AI$4)))))),\"\")","v":""},{"$f":"IFERROR(IF(ISTEXT($B28)=TRUE,DSUM(Forespørgsel1[#All],\"\"&LEFT($C28,LEN($C28)-$A28)&\"\",$L$4:INDIRECT(ADDRESS($AI$3,$AI$4)))/DSUM(Forespørgsel1[#All],\"\"&$B28&\"\",$L$4:INDIRECT(ADDRESS($AI$3,$AI$4))),IF($B28=0,DAVERAGE(Forespørgsel1[#All],\"\"&LEFT($C28,LEN($C28)-$A28)&\"\",$L$4:INDIRECT(ADDRESS($AI$3,$AI$4))),IF($B28=1,DSUM(Forespørgsel1[#All],\"\"&LEFT($C28,LEN($C28)-$A28)&\"\",$L$4:INDIRECT(ADDRESS($AI$3,$AI$4)))/DSUM(Forespørgsel1[#All],\"\"&$I$4&\"\",$L$4:INDIRECT(ADDRESS($AI$3,$AI$4))),IF($B28=2,DSUM(Forespørgsel1[#All],\"\"&LEFT($C28,LEN($C28)-$A28)&\"\",$L$4:INDIRECT(ADDRESS($AI$3,$AI$4)))/DSUM(Forespørgsel1[#All],\"\"&$J$4&\"\",$L$4:INDIRECT(ADDRESS($AI$3,$AI$4))))))),\"\")","v":""},null,null,null,null,{"$f":"$L$17","v":"=8400"},{"$f":"M27","v":"<0"},{"$f":"IF(N$4>0,N6,\"\")","v":true},"","","","",""]
[null,"Producerede skind","Løn - inkl. ejerløn",{"$f":"Landsgennemsnit!B29","v":-69.318694364579827},{"$f":"Landsgennemsnit!C29","v":-41.967028351856378},{"$f":"IFERROR(IF(ISTEXT($B29)=TRUE,DSUM(Forespørgsel1[#All],\"\"&LEFT($C29,LEN($C29)-$A29)&\"\",$M$4:INDIRECT(ADDRESS($AI$3,$AI$4)))/DSUM(Forespørgsel1[#All],\"\"&$B29&\"\",$M$4:INDIRECT(ADDRESS($AI$3,$AI$4))),IF($B29=0,DAVERAGE(Forespørgsel1[#All],\"\"&LEFT($C29,LEN($C29)-$A29)&\"\",$M$4:INDIRECT(ADDRESS($AI$3,$AI$4))),IF($B29=1,DSUM(Forespørgsel1[#All],\"\"&LEFT($C29,LEN($C29)-$A29)&\"\",$M$4:INDIRECT(ADDRESS($AI$3,$AI$4)))/DSUM(Forespørgsel1[#All],\"\"&$I$4&\"\",$M$4:INDIRECT(ADDRESS($AI$3,$AI$4))),DSUM(Forespørgsel1[#All],\"\"&LEFT($C29,LEN($C29)-$A29)&\"\",$M$4:INDIRECT(ADDRESS($AI$3,$AI$4)))/DSUM(Forespørgsel1[#All],\"\"&$J$4&\"\",$M$4:INDIRECT(ADDRESS($AI$3,$AI$4)))))),\"\")","v":""},{"$f":"IFERROR(IF(ISTEXT($B29)=TRUE,DSUM(Forespørgsel1[#All],\"\"&LEFT($C29,LEN($C29)-$A29)&\"\",$L$4:INDIRECT(ADDRESS($AI$3,$AI$4)))/DSUM(Forespørgsel1[#All],\"\"&$B29&\"\",$L$4:INDIRECT(ADDRESS($AI$3,$AI$4))),IF($B29=0,DAVERAGE(Forespørgsel1[#All],\"\"&LEFT($C29,LEN($C29)-$A29)&\"\",$L$4:INDIRECT(ADDRESS($AI$3,$AI$4))),IF($B29=1,DSUM(Forespørgsel1[#All],\"\"&LEFT($C29,LEN($C29)-$A29)&\"\",$L$4:INDIRECT(ADDRESS($AI$3,$AI$4)))/DSUM(Forespørgsel1[#All],\"\"&$I$4&\"\",$L$4:INDIRECT(ADDRESS($AI$3,$AI$4))),IF($B29=2,DSUM(Forespørgsel1[#All],\"\"&LEFT($C29,LEN($C29)-$A29)&\"\",$L$4:INDIRECT(ADDRESS($AI$3,$AI$4)))/DSUM(Forespørgsel1[#All],\"\"&$J$4&\"\",$L$4:INDIRECT(ADDRESS($AI$3,$AI$4))))))),\"\")","v":""},null,null,null,null,{"$f":"$L$17","v":"=8400"},{"$f":"M27","v":"<0"},true,"","","","",""]
[null,"Producerede skind","Diverse inkl. forsikring",{"$f":"Landsgennemsnit!B30","v":-13.249235889864533},{"$f":"Landsgennemsnit!C30","v":-12.400204348998001},{"$f":"IFERROR(IF(ISTEXT($B30)=TRUE,DSUM(Forespørgsel1[#All],\"\"&LEFT($C30,LEN($C30)-$A30)&\"\",$M$4:INDIRECT(ADDRESS($AI$3,$AI$4)))/DSUM(Forespørgsel1[#All],\"\"&$B30&\"\",$M$4:INDIRECT(ADDRESS($AI$3,$AI$4))),IF($B30=0,DAVERAGE(Forespørgsel1[#All],\"\"&LEFT($C30,LEN($C30)-$A30)&\"\",$M$4:INDIRECT(ADDRESS($AI$3,$AI$4))),IF($B30=1,DSUM(Forespørgsel1[#All],\"\"&LEFT($C30,LEN($C30)-$A30)&\"\",$M$4:INDIRECT(ADDRESS($AI$3,$AI$4)))/DSUM(Forespørgsel1[#All],\"\"&$I$4&\"\",$M$4:INDIRECT(ADDRESS($AI$3,$AI$4))),DSUM(Forespørgsel1[#All],\"\"&LEFT($C30,LEN($C30)-$A30)&\"\",$M$4:INDIRECT(ADDRESS($AI$3,$AI$4)))/DSUM(Forespørgsel1[#All],\"\"&$J$4&\"\",$M$4:INDIRECT(ADDRESS($AI$3,$AI$4)))))),\"\")","v":""},{"$f":"IFERROR(IF(ISTEXT($B30)=TRUE,DSUM(Forespørgsel1[#All],\"\"&LEFT($C30,LEN($C30)-$A30)&\"\",$L$4:INDIRECT(ADDRESS($AI$3,$AI$4)))/DSUM(Forespørgsel1[#All],\"\"&$B30&\"\",$L$4:INDIRECT(ADDRESS($AI$3,$AI$4))),IF($B30=0,DAVERAGE(Forespørgsel1[#All],\"\"&LEFT($C30,LEN($C30)-$A30)&\"\",$L$4:INDIRECT(ADDRESS($AI$3,$AI$4))),IF($B30=1,DSUM(Forespørgsel1[#All],\"\"&LEFT($C30,LEN($C30)-$A30)&\"\",$L$4:INDIRECT(ADDRESS($AI$3,$AI$4)))/DSUM(Forespørgsel1[#All],\"\"&$I$4&\"\",$L$4:INDIRECT(ADDRESS($AI$3,$AI$4))),IF($B30=2,DSUM(Forespørgsel1[#All],\"\"&LEFT($C30,LEN($C30)-$A30)&\"\",$L$4:INDIRECT(ADDRESS($AI$3,$AI$4)))/DSUM(Forespørgsel1[#All],\"\"&$J$4&\"\",$L$4:INDIRECT(ADDRESS($AI$3,$AI$4))))))),\"\")","v":""},null,null,null,null,"Prodgren",{"$f":"$L$4","v":"Årets resultat pr. tæve"},"Godkendt","","","","",""]
[null,"Producerede skind","Pelsning - netto",{"$f":"Landsgennemsnit!B31","v":-11.850978665354297},{"$f":"Landsgennemsnit!C31","v":-8.0696102951777391},{"$f":"IFERROR(IF(ISTEXT($B31)=TRUE,DSUM(Forespørgsel1[#All],\"\"&LEFT($C31,LEN($C31)-$A31)&\"\",$M$4:INDIRECT(ADDRESS($AI$3,$AI$4)))/DSUM(Forespørgsel1[#All],\"\"&$B31&\"\",$M$4:INDIRECT(ADDRESS($AI$3,$AI$4))),IF($B31=0,DAVERAGE(Forespørgsel1[#All],\"\"&LEFT($C31,LEN($C31)-$A31)&\"\",$M$4:INDIRECT(ADDRESS($AI$3,$AI$4))),IF($B31=1,DSUM(Forespørgsel1[#All],\"\"&LEFT($C31,LEN($C31)-$A31)&\"\",$M$4:INDIRECT(ADDRESS($AI$3,$AI$4)))/DSUM(Forespørgsel1[#All],\"\"&$I$4&\"\",$M$4:INDIRECT(ADDRESS($AI$3,$AI$4))),DSUM(Forespørgsel1[#All],\"\"&LEFT($C31,LEN($C31)-$A31)&\"\",$M$4:INDIRECT(ADDRESS($AI$3,$AI$4)))/DSUM(Forespørgsel1[#All],\"\"&$J$4&\"\",$M$4:INDIRECT(ADDRESS($AI$3,$AI$4)))))),\"\")","v":""},{"$f":"IFERROR(IF(ISTEXT($B31)=TRUE,DSUM(Forespørgsel1[#All],\"\"&LEFT($C31,LEN($C31)-$A31)&\"\",$L$4:INDIRECT(ADDRESS($AI$3,$AI$4)))/DSUM(Forespørgsel1[#All],\"\"&$B31&\"\",$L$4:INDIRECT(ADDRESS($AI$3,$AI$4))),IF($B31=0,DAVERAGE(Forespørgsel1[#All],\"\"&LEFT($C31,LEN($C31)-$A31)&\"\",$L$4:INDIRECT(ADDRESS($AI$3,$AI$4))),IF($B31=1,DSUM(Forespørgsel1[#All],\"\"&LEFT($C31,LEN($C31)-$A31)&\"\",$L$4:INDIRECT(ADDRESS($AI$3,$AI$4)))/DSUM(Forespørgsel1[#All],\"\"&$I$4&\"\",$L$4:INDIRECT(ADDRESS($AI$3,$AI$4))),IF($B31=2,DSUM(Forespørgsel1[#All],\"\"&LEFT($C31,LEN($C31)-$A31)&\"\",$L$4:INDIRECT(ADDRESS($AI$3,$AI$4)))/DSUM(Forespørgsel1[#All],\"\"&$J$4&\"\",$L$4:INDIRECT(ADDRESS($AI$3,$AI$4))))))),\"\")","v":""},null,null,{"$f":"IF($Z$1=3,SUMIFS(Forespørgsel1[[#All],[EjendomsIdent]],Forespørgsel1[[#All],[Årets resultat pr. tæve]],K31),\"\")","v":0},{"$f":"IF($Z$1=3,DMAX(Forespørgsel1[#All],\"\"&$K$14&\"\",$L26:INDIRECT(ADDRESS($AI31,$AI$4))),\"\")","v":0},{"$f":"$M$5","v":"=8400"},{"$f":"\"<\"&K31&\"\"","v":"<0"},{"$f":"IF(N$4>0,N5,\"\")","v":true},{"$f":"IF(O$4>0,O5,\"\")","v":""},"","","","",null,null,null,null,null,null,null,null,null,null,null,null,null,null,"Række",{"$f":"ROW(AH31)-2","v":29}]
[null,"Producerede skind","Kapacitetsomkostninger i alt",{"$f":"Landsgennemsnit!B32","v":-111.86891194170315},{"$f":"Landsgennemsnit!C32","v":-74.353003491484415},{"$f":"IFERROR(IF(ISTEXT($B32)=TRUE,DSUM(Forespørgsel1[#All],\"\"&LEFT($C32,LEN($C32)-$A32)&\"\",$M$4:INDIRECT(ADDRESS($AI$3,$AI$4)))/DSUM(Forespørgsel1[#All],\"\"&$B32&\"\",$M$4:INDIRECT(ADDRESS($AI$3,$AI$4))),IF($B32=0,DAVERAGE(Forespørgsel1[#All],\"\"&LEFT($C32,LEN($C32)-$A32)&\"\",$M$4:INDIRECT(ADDRESS($AI$3,$AI$4))),IF($B32=1,DSUM(Forespørgsel1[#All],\"\"&LEFT($C32,LEN($C32)-$A32)&\"\",$M$4:INDIRECT(ADDRESS($AI$3,$AI$4)))/DSUM(Forespørgsel1[#All],\"\"&$I$4&\"\",$M$4:INDIRECT(ADDRESS($AI$3,$AI$4))),DSUM(Forespørgsel1[#All],\"\"&LEFT($C32,LEN($C32)-$A32)&\"\",$M$4:INDIRECT(ADDRESS($AI$3,$AI$4)))/DSUM(Forespørgsel1[#All],\"\"&$J$4&\"\",$M$4:INDIRECT(ADDRESS($AI$3,$AI$4)))))),\"\")","v":""},{"$f":"IFERROR(IF(ISTEXT($B32)=TRUE,DSUM(Forespørgsel1[#All],\"\"&LEFT($C32,LEN($C32)-$A32)&\"\",$L$4:INDIRECT(ADDRESS($AI$3,$AI$4)))/DSUM(Forespørgsel1[#All],\"\"&$B32&\"\",$L$4:INDIRECT(ADDRESS($AI$3,$AI$4))),IF($B32=0,DAVERAGE(Forespørgsel1[#All],\"\"&LEFT($C32,LEN($C32)-$A32)&\"\",$L$4:INDIRECT(ADDRESS($AI$3,$AI$4))),IF($B32=1,DSUM(Forespørgsel1[#All],\"\"&LEFT($C32,LEN($C32)-$A32)&\"\",$L$4:INDIRECT(ADDRESS($AI$3,$AI$4)))/DSUM(Forespørgsel1[#All],\"\"&$I$4&\"\",$L$4:INDIRECT(ADDRESS($AI$3,$AI$4))),IF($B32=2,DSUM(Forespørgsel1[#All],\"\"&LEFT($C32,LEN($C32)-$A32)&\"\",$L$4:INDIRECT(ADDRESS($AI$3,$AI$4)))/DSUM(Forespørgsel1[#All],\"\"&$J$4&\"\",$L$4:INDIRECT(ADDRESS($AI$3,$AI$4))))))),\"\")","v":""},null,null,null,null,{"$f":"$L$17","v":"=8400"},{"$f":"M31","v":"<0"},{"$f":"IF(N$4>0,N6,\"\")","v":true},{"$f":"IF(O$4>0,O6,\"\")","v":""},"","","",""]
[null,null,"",{"$f":"Landsgennemsnit!B33","v":""},{"$f":"Landsgennemsnit!C33","v":""},{"$f":"IFERROR(IF(ISTEXT($B33)=TRUE,DSUM(Forespørgsel1[#All],\"\"&LEFT($C33,LEN($C33)-$A33)&\"\",$M$4:INDIRECT(ADDRESS($AI$3,$AI$4)))/DSUM(Forespørgsel1[#All],\"\"&$B33&\"\",$M$4:INDIRECT(ADDRESS($AI$3,$AI$4))),IF($B33=0,DAVERAGE(Forespørgsel1[#All],\"\"&LEFT($C33,LEN($C33)-$A33)&\"\",$M$4:INDIRECT(ADDRESS($AI$3,$AI$4))),IF($B33=1,DSUM(Forespørgsel1[#All],\"\"&LEFT($C33,LEN($C33)-$A33)&\"\",$M$4:INDIRECT(ADDRESS($AI$3,$AI$4)))/DSUM(Forespørgsel1[#All],\"\"&$I$4&\"\",$M$4:INDIRECT(ADDRESS($AI$3,$AI$4))),DSUM(Forespørgsel1[#All],\"\"&LEFT($C33,LEN($C33)-$A33)&\"\",$M$4:INDIRECT(ADDRESS($AI$3,$AI$4)))/DSUM(Forespørgsel1[#All],\"\"&$J$4&\"\",$M$4:INDIRECT(ADDRESS($AI$3,$AI$4)))))),\"\")","v":""},{"$f":"IFERROR(IF(ISTEXT($B33)=TRUE,DSUM(Forespørgsel1[#All],\"\"&LEFT($C33,LEN($C33)-$A33)&\"\",$L$4:INDIRECT(ADDRESS($AI$3,$AI$4)))/DSUM(Forespørgsel1[#All],\"\"&$B33&\"\",$L$4:INDIRECT(ADDRESS($AI$3,$AI$4))),IF($B33=0,DAVERAGE(Forespørgsel1[#All],\"\"&LEFT($C33,LEN($C33)-$A33)&\"\",$L$4:INDIRECT(ADDRESS($AI$3,$AI$4))),IF($B33=1,DSUM(Forespørgsel1[#All],\"\"&LEFT($C33,LEN($C33)-$A33)&\"\",$L$4:INDIRECT(ADDRESS($AI$3,$AI$4)))/DSUM(Forespørgsel1[#All],\"\"&$I$4&\"\",$L$4:INDIRECT(ADDRESS($AI$3,$AI$4))),IF($B33=2,DSUM(Forespørgsel1[#All],\"\"&LEFT($C33,LEN($C33)-$A33)&\"\",$L$4:INDIRECT(ADDRESS($AI$3,$AI$4)))/DSUM(Forespørgsel1[#All],\"\"&$J$4&\"\",$L$4:INDIRECT(ADDRESS($AI$3,$AI$4))))))),\"\")","v":""},null,null,null,null,{"$f":"$L$17","v":"=8400"},{"$f":"M31","v":"<0"},{"$f":"IF(N$4>0,N7,\"\")","v":true},"","","","",""]
[null,"Producerede skind","Afskrivning inkl. leasing",{"$f":"Landsgennemsnit!B34","v":-31.59248150162751},{"$f":"Landsgennemsnit!C34","v":-24.66635951633225},{"$f":"IFERROR(IF(ISTEXT($B34)=TRUE,DSUM(Forespørgsel1[#All],\"\"&LEFT($C34,LEN($C34)-$A34)&\"\",$M$4:INDIRECT(ADDRESS($AI$3,$AI$4)))/DSUM(Forespørgsel1[#All],\"\"&$B34&\"\",$M$4:INDIRECT(ADDRESS($AI$3,$AI$4))),IF($B34=0,DAVERAGE(Forespørgsel1[#All],\"\"&LEFT($C34,LEN($C34)-$A34)&\"\",$M$4:INDIRECT(ADDRESS($AI$3,$AI$4))),IF($B34=1,DSUM(Forespørgsel1[#All],\"\"&LEFT($C34,LEN($C34)-$A34)&\"\",$M$4:INDIRECT(ADDRESS($AI$3,$AI$4)))/DSUM(Forespørgsel1[#All],\"\"&$I$4&\"\",$M$4:INDIRECT(ADDRESS($AI$3,$AI$4))),DSUM(Forespørgsel1[#All],\"\"&LEFT($C34,LEN($C34)-$A34)&\"\",$M$4:INDIRECT(ADDRESS($AI$3,$AI$4)))/DSUM(Forespørgsel1[#All],\"\"&$J$4&\"\",$M$4:INDIRECT(ADDRESS($AI$3,$AI$4)))))),\"\")","v":""},{"$f":"IFERROR(IF(ISTEXT($B34)=TRUE,DSUM(Forespørgsel1[#All],\"\"&LEFT($C34,LEN($C34)-$A34)&\"\",$L$4:INDIRECT(ADDRESS($AI$3,$AI$4)))/DSUM(Forespørgsel1[#All],\"\"&$B34&\"\",$L$4:INDIRECT(ADDRESS($AI$3,$AI$4))),IF($B34=0,DAVERAGE(Forespørgsel1[#All],\"\"&LEFT($C34,LEN($C34)-$A34)&\"\",$L$4:INDIRECT(ADDRESS($AI$3,$AI$4))),IF($B34=1,DSUM(Forespørgsel1[#All],\"\"&LEFT($C34,LEN($C34)-$A34)&\"\",$L$4:INDIRECT(ADDRESS($AI$3,$AI$4)))/DSUM(Forespørgsel1[#All],\"\"&$I$4&\"\",$L$4:INDIRECT(ADDRESS($AI$3,$AI$4))),IF($B34=2,DSUM(Forespørgsel1[#All],\"\"&LEFT($C34,LEN($C34)-$A34)&\"\",$L$4:INDIRECT(ADDRESS($AI$3,$AI$4)))/DSUM(Forespørgsel1[#All],\"\"&$J$4&\"\",$L$4:INDIRECT(ADDRESS($AI$3,$AI$4))))))),\"\")","v":""},null,null,null,null,"Prodgren",{"$f":"$L$4","v":"Årets resultat pr. tæve"},{"$f":"IF(N$4=\"\",\"\",N$4)","v":"Godkendt"}]
[null,"Producerede skind","Renteomk. af bundet kapital",{"$f":"Landsgennemsnit!B35","v":-22.501856025677547},{"$f":"Landsgennemsnit!C35","v":-18.264280641380047},{"$f":"IFERROR(IF(ISTEXT($B35)=TRUE,DSUM(Forespørgsel1[#All],\"\"&LEFT($C35,LEN($C35)-$A35)&\"\",$M$4:INDIRECT(ADDRESS($AI$3,$AI$4)))/DSUM(Forespørgsel1[#All],\"\"&$B35&\"\",$M$4:INDIRECT(ADDRESS($AI$3,$AI$4))),IF($B35=0,DAVERAGE(Forespørgsel1[#All],\"\"&LEFT($C35,LEN($C35)-$A35)&\"\",$M$4:INDIRECT(ADDRESS($AI$3,$AI$4))),IF($B35=1,DSUM(Forespørgsel1[#All],\"\"&LEFT($C35,LEN($C35)-$A35)&\"\",$M$4:INDIRECT(ADDRESS($AI$3,$AI$4)))/DSUM(Forespørgsel1[#All],\"\"&$I$4&\"\",$M$4:INDIRECT(ADDRESS($AI$3,$AI$4))),DSUM(Forespørgsel1[#All],\"\"&LEFT($C35,LEN($C35)-$A35)&\"\",$M$4:INDIRECT(ADDRESS($AI$3,$AI$4)))/DSUM(Forespørgsel1[#All],\"\"&$J$4&\"\",$M$4:INDIRECT(ADDRESS($AI$3,$AI$4)))))),\"\")","v":""},{"$f":"IFERROR(IF(ISTEXT($B35)=TRUE,DSUM(Forespørgsel1[#All],\"\"&LEFT($C35,LEN($C35)-$A35)&\"\",$L$4:INDIRECT(ADDRESS($AI$3,$AI$4)))/DSUM(Forespørgsel1[#All],\"\"&$B35&\"\",$L$4:INDIRECT(ADDRESS($AI$3,$AI$4))),IF($B35=0,DAVERAGE(Forespørgsel1[#All],\"\"&LEFT($C35,LEN($C35)-$A35)&\"\",$L$4:INDIRECT(ADDRESS($AI$3,$AI$4))),IF($B35=1,DSUM(Forespørgsel1[#All],\"\"&LEFT($C35,LEN($C35)-$A35)&\"\",$L$4:INDIRECT(ADDRESS($AI$3,$AI$4)))/DSUM(Forespørgsel1[#All],\"\"&$I$4&\"\",$L$4:INDIRECT(ADDRESS($AI$3,$AI$4))),IF($B35=2,DSUM(Forespørgsel1[#All],\"\"&LEFT($C35,LEN($C35)-$A35)&\"\",$L$4:INDIRECT(ADDRESS($AI$3,$AI$4)))/DSUM(Forespørgsel1[#All],\"\"&$J$4&\"\",$L$4:INDIRECT(ADDRESS($AI$3,$AI$4))))))),\"\")","v":""},null,null,{"$f":"IF($Z$1=3,SUMIFS(Forespørgsel1[[#All],[EjendomsIdent]],Forespørgsel1[[#All],[Årets resultat pr. tæve]],K35),\"\")","v":0},{"$f":"IF($Z$1=3,DMAX(Forespørgsel1[#All],\"\"&$K$14&\"\",$L30:INDIRECT(ADDRESS($AI35,$AI$4))),\"\")","v":0},{"$f":"$M$5","v":"=8400"},{"$f":"\"<\"&K35&\"\"","v":"<0"},{"$f":"IF(N$4>0,N5,\"\")","v":true},null,null,null,null,null,null,null,null,null,null,null,null,null,null,null,null,null,null,null,"Række",{"$f":"ROW(AH35)-2","v":33}]
[null,"Producerede skind","Kapitalomkostninger i alt",{"$f":"Landsgennemsnit!B36","v":-54.182551236390616},{"$f":"Landsgennemsnit!C36","v":-42.930640157712297},{"$f":"IFERROR(IF(ISTEXT($B36)=TRUE,DSUM(Forespørgsel1[#All],\"\"&LEFT($C36,LEN($C36)-$A36)&\"\",$M$4:INDIRECT(ADDRESS($AI$3,$AI$4)))/DSUM(Forespørgsel1[#All],\"\"&$B36&\"\",$M$4:INDIRECT(ADDRESS($AI$3,$AI$4))),IF($B36=0,DAVERAGE(Forespørgsel1[#All],\"\"&LEFT($C36,LEN($C36)-$A36)&\"\",$M$4:INDIRECT(ADDRESS($AI$3,$AI$4))),IF($B36=1,DSUM(Forespørgsel1[#All],\"\"&LEFT($C36,LEN($C36)-$A36)&\"\",$M$4:INDIRECT(ADDRESS($AI$3,$AI$4)))/DSUM(Forespørgsel1[#All],\"\"&$I$4&\"\",$M$4:INDIRECT(ADDRESS($AI$3,$AI$4))),DSUM(Forespørgsel1[#All],\"\"&LEFT($C36,LEN($C36)-$A36)&\"\",$M$4:INDIRECT(ADDRESS($AI$3,$AI$4)))/DSUM(Forespørgsel1[#All],\"\"&$J$4&\"\",$M$4:INDIRECT(ADDRESS($AI$3,$AI$4)))))),\"\")","v":""},{"$f":"IFERROR(IF(ISTEXT($B36)=TRUE,DSUM(Forespørgsel1[#All],\"\"&LEFT($C36,LEN($C36)-$A36)&\"\",$L$4:INDIRECT(ADDRESS($AI$3,$AI$4)))/DSUM(Forespørgsel1[#All],\"\"&$B36&\"\",$L$4:INDIRECT(ADDRESS($AI$3,$AI$4))),IF($B36=0,DAVERAGE(Forespørgsel1[#All],\"\"&LEFT($C36,LEN($C36)-$A36)&\"\",$L$4:INDIRECT(ADDRESS($AI$3,$AI$4))),IF($B36=1,DSUM(Forespørgsel1[#All],\"\"&LEFT($C36,LEN($C36)-$A36)&\"\",$L$4:INDIRECT(ADDRESS($AI$3,$AI$4)))/DSUM(Forespørgsel1[#All],\"\"&$I$4&\"\",$L$4:INDIRECT(ADDRESS($AI$3,$AI$4))),IF($B36=2,DSUM(Forespørgsel1[#All],\"\"&LEFT($C36,LEN($C36)-$A36)&\"\",$L$4:INDIRECT(ADDRESS($AI$3,$AI$4)))/DSUM(Forespørgsel1[#All],\"\"&$J$4&\"\",$L$4:INDIRECT(ADDRESS($AI$3,$AI$4))))))),\"\")","v":""},null,null,null,null,{"$f":"$L$17","v":"=8400"},{"$f":"M35","v":"<0"},{"$f":"IF(N$4>0,N6,\"\")","v":true}]
[null,null,"",{"$f":"Landsgennemsnit!B37","v":""},{"$f":"Landsgennemsnit!C37","v":""},{"$f":"IFERROR(IF(ISTEXT($B37)=TRUE,DSUM(Forespørgsel1[#All],\"\"&LEFT($C37,LEN($C37)-$A37)&\"\",$M$4:INDIRECT(ADDRESS($AI$3,$AI$4)))/DSUM(Forespørgsel1[#All],\"\"&$B37&\"\",$M$4:INDIRECT(ADDRESS($AI$3,$AI$4))),IF($B37=0,DAVERAGE(Forespørgsel1[#All],\"\"&LEFT($C37,LEN($C37)-$A37)&\"\",$M$4:INDIRECT(ADDRESS($AI$3,$AI$4))),IF($B37=1,DSUM(Forespørgsel1[#All],\"\"&LEFT($C37,LEN($C37)-$A37)&\"\",$M$4:INDIRECT(ADDRESS($AI$3,$AI$4)))/DSUM(Forespørgsel1[#All],\"\"&$I$4&\"\",$M$4:INDIRECT(ADDRESS($AI$3,$AI$4))),DSUM(Forespørgsel1[#All],\"\"&LEFT($C37,LEN($C37)-$A37)&\"\",$M$4:INDIRECT(ADDRESS($AI$3,$AI$4)))/DSUM(Forespørgsel1[#All],\"\"&$J$4&\"\",$M$4:INDIRECT(ADDRESS($AI$3,$AI$4)))))),\"\")","v":""},{"$f":"IFERROR(IF(ISTEXT($B37)=TRUE,DSUM(Forespørgsel1[#All],\"\"&LEFT($C37,LEN($C37)-$A37)&\"\",$L$4:INDIRECT(ADDRESS($AI$3,$AI$4)))/DSUM(Forespørgsel1[#All],\"\"&$B37&\"\",$L$4:INDIRECT(ADDRESS($AI$3,$AI$4))),IF($B37=0,DAVERAGE(Forespørgsel1[#All],\"\"&LEFT($C37,LEN($C37)-$A37)&\"\",$L$4:INDIRECT(ADDRESS($AI$3,$AI$4))),IF($B37=1,DSUM(Forespørgsel1[#All],\"\"&LEFT($C37,LEN($C37)-$A37)&\"\",$L$4:INDIRECT(ADDRESS($AI$3,$AI$4)))/DSUM(Forespørgsel1[#All],\"\"&$I$4&\"\",$L$4:INDIRECT(ADDRESS($AI$3,$AI$4))),IF($B37=2,DSUM(Forespørgsel1[#All],\"\"&LEFT($C37,LEN($C37)-$A37)&\"\",$L$4:INDIRECT(ADDRESS($AI$3,$AI$4)))/DSUM(Forespørgsel1[#All],\"\"&$J$4&\"\",$L$4:INDIRECT(ADDRESS($AI$3,$AI$4))))))),\"\")","v":""},null,null,null,null,"=8400",{"$f":"M35","v":"<0"},{"$f":"IF(N$4>0,N7,\"\")","v":true}]
[null,"Producerede skind","Årets resultat",{"$f":"Landsgennemsnit!B38","v":64.63200743604358},{"$f":"Landsgennemsnit!C38","v":149.19152418652172},{"$f":"IFERROR(IF(ISTEXT($B38)=TRUE,DSUM(Forespørgsel1[#All],\"\"&LEFT($C38,LEN($C38)-$A38)&\"\",$M$4:INDIRECT(ADDRESS($AI$3,$AI$4)))/DSUM(Forespørgsel1[#All],\"\"&$B38&\"\",$M$4:INDIRECT(ADDRESS($AI$3,$AI$4))),IF($B38=0,DAVERAGE(Forespørgsel1[#All],\"\"&LEFT($C38,LEN($C38)-$A38)&\"\",$M$4:INDIRECT(ADDRESS($AI$3,$AI$4))),IF($B38=1,DSUM(Forespørgsel1[#All],\"\"&LEFT($C38,LEN($C38)-$A38)&\"\",$M$4:INDIRECT(ADDRESS($AI$3,$AI$4)))/DSUM(Forespørgsel1[#All],\"\"&$I$4&\"\",$M$4:INDIRECT(ADDRESS($AI$3,$AI$4))),DSUM(Forespørgsel1[#All],\"\"&LEFT($C38,LEN($C38)-$A38)&\"\",$M$4:INDIRECT(ADDRESS($AI$3,$AI$4)))/DSUM(Forespørgsel1[#All],\"\"&$J$4&\"\",$M$4:INDIRECT(ADDRESS($AI$3,$AI$4)))))),\"\")","v":""},{"$f":"IFERROR(IF(ISTEXT($B38)=TRUE,DSUM(Forespørgsel1[#All],\"\"&LEFT($C38,LEN($C38)-$A38)&\"\",$L$4:INDIRECT(ADDRESS($AI$3,$AI$4)))/DSUM(Forespørgsel1[#All],\"\"&$B38&\"\",$L$4:INDIRECT(ADDRESS($AI$3,$AI$4))),IF($B38=0,DAVERAGE(Forespørgsel1[#All],\"\"&LEFT($C38,LEN($C38)-$A38)&\"\",$L$4:INDIRECT(ADDRESS($AI$3,$AI$4))),IF($B38=1,DSUM(Forespørgsel1[#All],\"\"&LEFT($C38,LEN($C38)-$A38)&\"\",$L$4:INDIRECT(ADDRESS($AI$3,$AI$4)))/DSUM(Forespørgsel1[#All],\"\"&$I$4&\"\",$L$4:INDIRECT(ADDRESS($AI$3,$AI$4))),IF($B38=2,DSUM(Forespørgsel1[#All],\"\"&LEFT($C38,LEN($C38)-$A38)&\"\",$L$4:INDIRECT(ADDRESS($AI$3,$AI$4)))/DSUM(Forespørgsel1[#All],\"\"&$J$4&\"\",$L$4:INDIRECT(ADDRESS($AI$3,$AI$4))))))),\"\")","v":""},null,null,null,null,"Prodgren",{"$f":"$L$4","v":"Årets resultat pr. tæve"},{"$f":"IF(N$4=\"\",\"\",N$4)","v":"Godkendt"}]
[null,null,"",{"$f":"Landsgennemsnit!B39","v":""},{"$f":"Landsgennemsnit!C39","v":""},{"$f":"IFERROR(IF(ISTEXT($B39)=TRUE,DSUM(Forespørgsel1[#All],\"\"&LEFT($C39,LEN($C39)-$A39)&\"\",$M$4:INDIRECT(ADDRESS($AI$3,$AI$4)))/DSUM(Forespørgsel1[#All],\"\"&$B39&\"\",$M$4:INDIRECT(ADDRESS($AI$3,$AI$4))),IF($B39=0,DAVERAGE(Forespørgsel1[#All],\"\"&LEFT($C39,LEN($C39)-$A39)&\"\",$M$4:INDIRECT(ADDRESS($AI$3,$AI$4))),IF($B39=1,DSUM(Forespørgsel1[#All],\"\"&LEFT($C39,LEN($C39)-$A39)&\"\",$M$4:INDIRECT(ADDRESS($AI$3,$AI$4)))/DSUM(Forespørgsel1[#All],\"\"&$I$4&\"\",$M$4:INDIRECT(ADDRESS($AI$3,$AI$4))),DSUM(Forespørgsel1[#All],\"\"&LEFT($C39,LEN($C39)-$A39)&\"\",$M$4:INDIRECT(ADDRESS($AI$3,$AI$4)))/DSUM(Forespørgsel1[#All],\"\"&$J$4&\"\",$M$4:INDIRECT(ADDRESS($AI$3,$AI$4)))))),\"\")","v":""},{"$f":"IFERROR(IF(ISTEXT($B39)=TRUE,DSUM(Forespørgsel1[#All],\"\"&LEFT($C39,LEN($C39)-$A39)&\"\",$L$4:INDIRECT(ADDRESS($AI$3,$AI$4)))/DSUM(Forespørgsel1[#All],\"\"&$B39&\"\",$L$4:INDIRECT(ADDRESS($AI$3,$AI$4))),IF($B39=0,DAVERAGE(Forespørgsel1[#All],\"\"&LEFT($C39,LEN($C39)-$A39)&\"\",$L$4:INDIRECT(ADDRESS($AI$3,$AI$4))),IF($B39=1,DSUM(Forespørgsel1[#All],\"\"&LEFT($C39,LEN($C39)-$A39)&\"\",$L$4:INDIRECT(ADDRESS($AI$3,$AI$4)))/DSUM(Forespørgsel1[#All],\"\"&$I$4&\"\",$L$4:INDIRECT(ADDRESS($AI$3,$AI$4))),IF($B39=2,DSUM(Forespørgsel1[#All],\"\"&LEFT($C39,LEN($C39)-$A39)&\"\",$L$4:INDIRECT(ADDRESS($AI$3,$AI$4)))/DSUM(Forespørgsel1[#All],\"\"&$J$4&\"\",$L$4:INDIRECT(ADDRESS($AI$3,$AI$4))))))),\"\")","v":""},null,null,{"$f":"IF($Z$1=3,SUMIFS(Forespørgsel1[[#All],[EjendomsIdent]],Forespørgsel1[[#All],[Årets resultat pr. tæve]],K39),\"\")","v":0},{"$f":"IF($Z$1=3,DMAX(Forespørgsel1[#All],\"\"&$K$14&\"\",$L34:INDIRECT(ADDRESS($AI39,$AI$4))),\"\")","v":0},{"$f":"$M$5","v":"=8400"},{"$f":"\"<\"&K39&\"\"","v":"<0"},{"$f":"IF(N$4>0,N5,\"\")","v":true},null,null,null,null,null,null,null,null,null,null,null,null,null,null,null,null,null,null,null,"Række",{"$f":"ROW(AH39)-2","v":37}]
[null,null,"Nøgletal",{"$f":"Landsgennemsnit!B40","v":""},{"$f":"Landsgennemsnit!C40","v":""},{"$f":"IFERROR(IF(ISTEXT($B40)=TRUE,DSUM(Forespørgsel1[#All],\"\"&LEFT($C40,LEN($C40)-$A40)&\"\",$M$4:INDIRECT(ADDRESS($AI$3,$AI$4)))/DSUM(Forespørgsel1[#All],\"\"&$B40&\"\",$M$4:INDIRECT(ADDRESS($AI$3,$AI$4))),IF($B40=0,DAVERAGE(Forespørgsel1[#All],\"\"&LEFT($C40,LEN($C40)-$A40)&\"\",$M$4:INDIRECT(ADDRESS($AI$3,$AI$4))),IF($B40=1,DSUM(Forespørgsel1[#All],\"\"&LEFT($C40,LEN($C40)-$A40)&\"\",$M$4:INDIRECT(ADDRESS($AI$3,$AI$4)))/DSUM(Forespørgsel1[#All],\"\"&$I$4&\"\",$M$4:INDIRECT(ADDRESS($AI$3,$AI$4))),DSUM(Forespørgsel1[#All],\"\"&LEFT($C40,LEN($C40)-$A40)&\"\",$M$4:INDIRECT(ADDRESS($AI$3,$AI$4)))/DSUM(Forespørgsel1[#All],\"\"&$J$4&\"\",$M$4:INDIRECT(ADDRESS($AI$3,$AI$4)))))),\"\")","v":""},{"$f":"IFERROR(IF(ISTEXT($B40)=TRUE,DSUM(Forespørgsel1[#All],\"\"&LEFT($C40,LEN($C40)-$A40)&\"\",$L$4:INDIRECT(ADDRESS($AI$3,$AI$4)))/DSUM(Forespørgsel1[#All],\"\"&$B40&\"\",$L$4:INDIRECT(ADDRESS($AI$3,$AI$4))),IF($B40=0,DAVERAGE(Forespørgsel1[#All],\"\"&LEFT($C40,LEN($C40)-$A40)&\"\",$L$4:INDIRECT(ADDRESS($AI$3,$AI$4))),IF($B40=1,DSUM(Forespørgsel1[#All],\"\"&LEFT($C40,LEN($C40)-$A40)&\"\",$L$4:INDIRECT(ADDRESS($AI$3,$AI$4)))/DSUM(Forespørgsel1[#All],\"\"&$I$4&\"\",$L$4:INDIRECT(ADDRESS($AI$3,$AI$4))),IF($B40=2,DSUM(Forespørgsel1[#All],\"\"&LEFT($C40,LEN($C40)-$A40)&\"\",$L$4:INDIRECT(ADDRESS($AI$3,$AI$4)))/DSUM(Forespørgsel1[#All],\"\"&$J$4&\"\",$L$4:INDIRECT(ADDRESS($AI$3,$AI$4))))))),\"\")","v":""},null,null,null,null,{"$f":"$L$17","v":"=8400"},{"$f":"M39","v":"<0"},{"$f":"IF(N$4>0,N6,\"\")","v":true}]
[null,null,"",{"$f":"Landsgennemsnit!B41","v":""},{"$f":"Landsgennemsnit!C41","v":""},{"$f":"IFERROR(IF(ISTEXT($B41)=TRUE,DSUM(Forespørgsel1[#All],\"\"&LEFT($C41,LEN($C41)-$A41)&\"\",$M$4:INDIRECT(ADDRESS($AI$3,$AI$4)))/DSUM(Forespørgsel1[#All],\"\"&$B41&\"\",$M$4:INDIRECT(ADDRESS($AI$3,$AI$4))),IF($B41=0,DAVERAGE(Forespørgsel1[#All],\"\"&LEFT($C41,LEN($C41)-$A41)&\"\",$M$4:INDIRECT(ADDRESS($AI$3,$AI$4))),IF($B41=1,DSUM(Forespørgsel1[#All],\"\"&LEFT($C41,LEN($C41)-$A41)&\"\",$M$4:INDIRECT(ADDRESS($AI$3,$AI$4)))/DSUM(Forespørgsel1[#All],\"\"&$I$4&\"\",$M$4:INDIRECT(ADDRESS($AI$3,$AI$4))),DSUM(Forespørgsel1[#All],\"\"&LEFT($C41,LEN($C41)-$A41)&\"\",$M$4:INDIRECT(ADDRESS($AI$3,$AI$4)))/DSUM(Forespørgsel1[#All],\"\"&$J$4&\"\",$M$4:INDIRECT(ADDRESS($AI$3,$AI$4)))))),\"\")","v":""},{"$f":"IFERROR(IF(ISTEXT($B41)=TRUE,DSUM(Forespørgsel1[#All],\"\"&LEFT($C41,LEN($C41)-$A41)&\"\",$L$4:INDIRECT(ADDRESS($AI$3,$AI$4)))/DSUM(Forespørgsel1[#All],\"\"&$B41&\"\",$L$4:INDIRECT(ADDRESS($AI$3,$AI$4))),IF($B41=0,DAVERAGE(Forespørgsel1[#All],\"\"&LEFT($C41,LEN($C41)-$A41)&\"\",$L$4:INDIRECT(ADDRESS($AI$3,$AI$4))),IF($B41=1,DSUM(Forespørgsel1[#All],\"\"&LEFT($C41,LEN($C41)-$A41)&\"\",$L$4:INDIRECT(ADDRESS($AI$3,$AI$4)))/DSUM(Forespørgsel1[#All],\"\"&$I$4&\"\",$L$4:INDIRECT(ADDRESS($AI$3,$AI$4))),IF($B41=2,DSUM(Forespørgsel1[#All],\"\"&LEFT($C41,LEN($C41)-$A41)&\"\",$L$4:INDIRECT(ADDRESS($AI$3,$AI$4)))/DSUM(Forespørgsel1[#All],\"\"&$J$4&\"\",$L$4:INDIRECT(ADDRESS($AI$3,$AI$4))))))),\"\")","v":""},null,null,null,null,{"$f":"$L$17","v":"=8400"},{"$f":"M39","v":"<0"},{"$f":"IF(N$4>0,N7,\"\")","v":true}]
[9,"Minktæver","Bundet kapital pr. tæve",{"$f":"Landsgennemsnit!B42","v":3416.8081058137936},{"$f":"Landsgennemsnit!C42","v":3047.9666459195255},{"$f":"IFERROR(IF(ISTEXT($B42)=TRUE,DSUM(Forespørgsel1[#All],\"\"&LEFT($C42,LEN($C42)-$A42)&\"\",$M$4:INDIRECT(ADDRESS($AI$3,$AI$4)))/DSUM(Forespørgsel1[#All],\"\"&$B42&\"\",$M$4:INDIRECT(ADDRESS($AI$3,$AI$4))),IF($B42=0,DAVERAGE(Forespørgsel1[#All],\"\"&LEFT($C42,LEN($C42)-$A42)&\"\",$M$4:INDIRECT(ADDRESS($AI$3,$AI$4))),IF($B42=1,DSUM(Forespørgsel1[#All],\"\"&LEFT($C42,LEN($C42)-$A42)&\"\",$M$4:INDIRECT(ADDRESS($AI$3,$AI$4)))/DSUM(Forespørgsel1[#All],\"\"&$I$4&\"\",$M$4:INDIRECT(ADDRESS($AI$3,$AI$4))),DSUM(Forespørgsel1[#All],\"\"&LEFT($C42,LEN($C42)-$A42)&\"\",$M$4:INDIRECT(ADDRESS($AI$3,$AI$4)))/DSUM(Forespørgsel1[#All],\"\"&$J$4&\"\",$M$4:INDIRECT(ADDRESS($AI$3,$AI$4)))))),\"\")","v":""},{"$f":"IFERROR(IF(ISTEXT($B42)=TRUE,DSUM(Forespørgsel1[#All],\"\"&LEFT($C42,LEN($C42)-$A42)&\"\",$L$4:INDIRECT(ADDRESS($AI$3,$AI$4)))/DSUM(Forespørgsel1[#All],\"\"&$B42&\"\",$L$4:INDIRECT(ADDRESS($AI$3,$AI$4))),IF($B42=0,DAVERAGE(Forespørgsel1[#All],\"\"&LEFT($C42,LEN($C42)-$A42)&\"\",$L$4:INDIRECT(ADDRESS($AI$3,$AI$4))),IF($B42=1,DSUM(Forespørgsel1[#All],\"\"&LEFT($C42,LEN($C42)-$A42)&\"\",$L$4:INDIRECT(ADDRESS($AI$3,$AI$4)))/DSUM(Forespørgsel1[#All],\"\"&$I$4&\"\",$L$4:INDIRECT(ADDRESS($AI$3,$AI$4))),IF($B42=2,DSUM(Forespørgsel1[#All],\"\"&LEFT($C42,LEN($C42)-$A42)&\"\",$L$4:INDIRECT(ADDRESS($AI$3,$AI$4)))/DSUM(Forespørgsel1[#All],\"\"&$J$4&\"\",$L$4:INDIRECT(ADDRESS($AI$3,$AI$4))))))),\"\")","v":""},null,null,null,null,"Prodgren",{"$f":"$L$4","v":"Årets resultat pr. tæve"},{"$f":"IF(N$4=\"\",\"\",N$4)","v":"Godkendt"}]
[null,null,"Afkastningsgrad",{"$f":"Landsgennemsnit!B43","v":14.169598053819817},{"$f":"Landsgennemsnit!C43","v":34.033080085040432},{"$f":"IFERROR(IF(ISTEXT($B43)=TRUE,DSUM(Forespørgsel1[#All],\"\"&LEFT($C43,LEN($C43)-$A43)&\"\",$M$4:INDIRECT(ADDRESS($AI$3,$AI$4)))/DSUM(Forespørgsel1[#All],\"\"&$B43&\"\",$M$4:INDIRECT(ADDRESS($AI$3,$AI$4))),IF($B43=0,DAVERAGE(Forespørgsel1[#All],\"\"&LEFT($C43,LEN($C43)-$A43)&\"\",$M$4:INDIRECT(ADDRESS($AI$3,$AI$4))),IF($B43=1,DSUM(Forespørgsel1[#All],\"\"&LEFT($C43,LEN($C43)-$A43)&\"\",$M$4:INDIRECT(ADDRESS($AI$3,$AI$4)))/DSUM(Forespørgsel1[#All],\"\"&$I$4&\"\",$M$4:INDIRECT(ADDRESS($AI$3,$AI$4))),DSUM(Forespørgsel1[#All],\"\"&LEFT($C43,LEN($C43)-$A43)&\"\",$M$4:INDIRECT(ADDRESS($AI$3,$AI$4)))/DSUM(Forespørgsel1[#All],\"\"&$J$4&\"\",$M$4:INDIRECT(ADDRESS($AI$3,$AI$4)))))),\"\")","v":""},{"$f":"IFERROR(IF(ISTEXT($B43)=TRUE,DSUM(Forespørgsel1[#All],\"\"&LEFT($C43,LEN($C43)-$A43)&\"\",$L$4:INDIRECT(ADDRESS($AI$3,$AI$4)))/DSUM(Forespørgsel1[#All],\"\"&$B43&\"\",$L$4:INDIRECT(ADDRESS($AI$3,$AI$4))),IF($B43=0,DAVERAGE(Forespørgsel1[#All],\"\"&LEFT($C43,LEN($C43)-$A43)&\"\",$L$4:INDIRECT(ADDRESS($AI$3,$AI$4))),IF($B43=1,DSUM(Forespørgsel1[#All],\"\"&LEFT($C43,LEN($C43)-$A43)&\"\",$L$4:INDIRECT(ADDRESS($AI$3,$AI$4)))/DSUM(Forespørgsel1[#All],\"\"&$I$4&\"\",$L$4:INDIRECT(ADDRESS($AI$3,$AI$4))),IF($B43=2,DSUM(Forespørgsel1[#All],\"\"&LEFT($C43,LEN($C43)-$A43)&\"\",$L$4:INDIRECT(ADDRESS($AI$3,$AI$4)))/DSUM(Forespørgsel1[#All],\"\"&$J$4&\"\",$L$4:INDIRECT(ADDRESS($AI$3,$AI$4))))))),\"\")","v":""},null,null,{"$f":"IF($Z$1=3,SUMIFS(Forespørgsel1[[#All],[EjendomsIdent]],Forespørgsel1[[#All],[Årets resultat pr. tæve]],K43),\"\")","v":0},{"$f":"IF($Z$1=3,DMAX(Forespørgsel1[#All],\"\"&$K$14&\"\",$L38:INDIRECT(ADDRESS($AI43,$AI$4))),\"\")","v":0},{"$f":"$M$5","v":"=8400"},{"$f":"\"<\"&K43&\"\"","v":"<0"},{"$f":"IF(N$4>0,N5,\"\")","v":true},null,null,null,null,null,null,null,null,null,null,null,null,null,null,null,null,null,null,null,"Række",{"$f":"ROW(AH43)-2","v":41}]
[null,null,null,{"$f":"Landsgennemsnit!B44","v":""},{"$f":"Landsgennemsnit!C44","v":""},{"$f":"IFERROR(IF(ISTEXT($B44)=TRUE,DSUM(Forespørgsel1[#All],\"\"&LEFT($C44,LEN($C44)-$A44)&\"\",$M$4:INDIRECT(ADDRESS($AI$3,$AI$4)))/DSUM(Forespørgsel1[#All],\"\"&$B44&\"\",$M$4:INDIRECT(ADDRESS($AI$3,$AI$4))),IF($B44=0,DAVERAGE(Forespørgsel1[#All],\"\"&LEFT($C44,LEN($C44)-$A44)&\"\",$M$4:INDIRECT(ADDRESS($AI$3,$AI$4))),IF($B44=1,DSUM(Forespørgsel1[#All],\"\"&LEFT($C44,LEN($C44)-$A44)&\"\",$M$4:INDIRECT(ADDRESS($AI$3,$AI$4)))/DSUM(Forespørgsel1[#All],\"\"&$I$4&\"\",$M$4:INDIRECT(ADDRESS($AI$3,$AI$4))),DSUM(Forespørgsel1[#All],\"\"&LEFT($C44,LEN($C44)-$A44)&\"\",$M$4:INDIRECT(ADDRESS($AI$3,$AI$4)))/DSUM(Forespørgsel1[#All],\"\"&$J$4&\"\",$M$4:INDIRECT(ADDRESS($AI$3,$AI$4)))))),\"\")","v":""},{"$f":"IFERROR(IF(ISTEXT($B44)=TRUE,DSUM(Forespørgsel1[#All],\"\"&LEFT($C44,LEN($C44)-$A44)&\"\",$L$4:INDIRECT(ADDRESS($AI$3,$AI$4)))/DSUM(Forespørgsel1[#All],\"\"&$B44&\"\",$L$4:INDIRECT(ADDRESS($AI$3,$AI$4))),IF($B44=0,DAVERAGE(Forespørgsel1[#All],\"\"&LEFT($C44,LEN($C44)-$A44)&\"\",$L$4:INDIRECT(ADDRESS($AI$3,$AI$4))),IF($B44=1,DSUM(Forespørgsel1[#All],\"\"&LEFT($C44,LEN($C44)-$A44)&\"\",$L$4:INDIRECT(ADDRESS($AI$3,$AI$4)))/DSUM(Forespørgsel1[#All],\"\"&$I$4&\"\",$L$4:INDIRECT(ADDRESS($AI$3,$AI$4))),IF($B44=2,DSUM(Forespørgsel1[#All],\"\"&LEFT($C44,LEN($C44)-$A44)&\"\",$L$4:INDIRECT(ADDRESS($AI$3,$AI$4)))/DSUM(Forespørgsel1[#All],\"\"&$J$4&\"\",$L$4:INDIRECT(ADDRESS($AI$3,$AI$4))))))),\"\")","v":""},null,null,null,null,{"$f":"$L$17","v":"=8400"},{"$f":"M43","v":"<0"},{"$f":"IF(N$4>0,N6,\"\")","v":true}]
[null,"Producerede skind","Fremstillingspris kr. pr. skind",{"$f":"Landsgennemsnit!B45","v":318.01795630110246},{"$f":"Landsgennemsnit!C45","v":264.5099444935467},{"$f":"IFERROR(IF(ISTEXT($B45)=TRUE,DSUM(Forespørgsel1[#All],\"\"&LEFT($C45,LEN($C45)-$A45)&\"\",$M$4:INDIRECT(ADDRESS($AI$3,$AI$4)))/DSUM(Forespørgsel1[#All],\"\"&$B45&\"\",$M$4:INDIRECT(ADDRESS($AI$3,$AI$4))),IF($B45=0,DAVERAGE(Forespørgsel1[#All],\"\"&LEFT($C45,LEN($C45)-$A45)&\"\",$M$4:INDIRECT(ADDRESS($AI$3,$AI$4))),IF($B45=1,DSUM(Forespørgsel1[#All],\"\"&LEFT($C45,LEN($C45)-$A45)&\"\",$M$4:INDIRECT(ADDRESS($AI$3,$AI$4)))/DSUM(Forespørgsel1[#All],\"\"&$I$4&\"\",$M$4:INDIRECT(ADDRESS($AI$3,$AI$4))),DSUM(Forespørgsel1[#All],\"\"&LEFT($C45,LEN($C45)-$A45)&\"\",$M$4:INDIRECT(ADDRESS($AI$3,$AI$4)))/DSUM(Forespørgsel1[#All],\"\"&$J$4&\"\",$M$4:INDIRECT(ADDRESS($AI$3,$AI$4)))))),\"\")","v":""},{"$f":"IFERROR(IF(ISTEXT($B45)=TRUE,DSUM(Forespørgsel1[#All],\"\"&LEFT($C45,LEN($C45)-$A45)&\"\",$L$4:INDIRECT(ADDRESS($AI$3,$AI$4)))/DSUM(Forespørgsel1[#All],\"\"&$B45&\"\",$L$4:INDIRECT(ADDRESS($AI$3,$AI$4))),IF($B45=0,DAVERAGE(Forespørgsel1[#All],\"\"&LEFT($C45,LEN($C45)-$A45)&\"\",$L$4:INDIRECT(ADDRESS($AI$3,$AI$4))),IF($B45=1,DSUM(Forespørgsel1[#All],\"\"&LEFT($C45,LEN($C45)-$A45)&\"\",$L$4:INDIRECT(ADDRESS($AI$3,$AI$4)))/DSUM(Forespørgsel1[#All],\"\"&$I$4&\"\",$L$4:INDIRECT(ADDRESS($AI$3,$AI$4))),IF($B45=2,DSUM(Forespørgsel1[#All],\"\"&LEFT($C45,LEN($C45)-$A45)&\"\",$L$4:INDIRECT(ADDRESS($AI$3,$AI$4)))/DSUM(Forespørgsel1[#All],\"\"&$J$4&\"\",$L$4:INDIRECT(ADDRESS($AI$3,$AI$4))))))),\"\")","v":""},null,null,null,null,{"$f":"$L$17","v":"=8400"},{"$f":"M43","v":"<0"},{"$f":"IF(N$4>0,N7,\"\")","v":true}]
[null,null,"Kr. pr. Skind",{"$f":"Landsgennemsnit!B46","v":384.39759036144579},{"$f":"Landsgennemsnit!C46","v":420.8},{"$f":"IFERROR(IF(ISTEXT($B46)=TRUE,DSUM(Forespørgsel1[#All],\"\"&LEFT($C46,LEN($C46)-$A46)&\"\",$M$4:INDIRECT(ADDRESS($AI$3,$AI$4)))/DSUM(Forespørgsel1[#All],\"\"&$B46&\"\",$M$4:INDIRECT(ADDRESS($AI$3,$AI$4))),IF($B46=0,DAVERAGE(Forespørgsel1[#All],\"\"&LEFT($C46,LEN($C46)-$A46)&\"\",$M$4:INDIRECT(ADDRESS($AI$3,$AI$4))),IF($B46=1,DSUM(Forespørgsel1[#All],\"\"&LEFT($C46,LEN($C46)-$A46)&\"\",$M$4:INDIRECT(ADDRESS($AI$3,$AI$4)))/DSUM(Forespørgsel1[#All],\"\"&$I$4&\"\",$M$4:INDIRECT(ADDRESS($AI$3,$AI$4))),DSUM(Forespørgsel1[#All],\"\"&LEFT($C46,LEN($C46)-$A46)&\"\",$M$4:INDIRECT(ADDRESS($AI$3,$AI$4)))/DSUM(Forespørgsel1[#All],\"\"&$J$4&\"\",$M$4:INDIRECT(ADDRESS($AI$3,$AI$4)))))),\"\")","v":""},{"$f":"IFERROR(IF(ISTEXT($B46)=TRUE,DSUM(Forespørgsel1[#All],\"\"&LEFT($C46,LEN($C46)-$A46)&\"\",$L$4:INDIRECT(ADDRESS($AI$3,$AI$4)))/DSUM(Forespørgsel1[#All],\"\"&$B46&\"\",$L$4:INDIRECT(ADDRESS($AI$3,$AI$4))),IF($B46=0,DAVERAGE(Forespørgsel1[#All],\"\"&LEFT($C46,LEN($C46)-$A46)&\"\",$L$4:INDIRECT(ADDRESS($AI$3,$AI$4))),IF($B46=1,DSUM(Forespørgsel1[#All],\"\"&LEFT($C46,LEN($C46)-$A46)&\"\",$L$4:INDIRECT(ADDRESS($AI$3,$AI$4)))/DSUM(Forespørgsel1[#All],\"\"&$I$4&\"\",$L$4:INDIRECT(ADDRESS($AI$3,$AI$4))),IF($B46=2,DSUM(Forespørgsel1[#All],\"\"&LEFT($C46,LEN($C46)-$A46)&\"\",$L$4:INDIRECT(ADDRESS($AI$3,$AI$4)))/DSUM(Forespørgsel1[#All],\"\"&$J$4&\"\",$L$4:INDIRECT(ADDRESS($AI$3,$AI$4))))))),\"\")","v":""},null,null,null,null,"Prodgren",{"$f":"$L$4","v":"Årets resultat pr. tæve"},{"$f":"IF(N$4=\"\",\"\",N$4)","v":"Godkendt"}]
[null,null,"Producerede skind pr. tæve",{"$f":"Landsgennemsnit!B47","v":5.3228915662650635},{"$f":"Landsgennemsnit!C47","v":5.88},{"$f":"IFERROR(IF(ISTEXT($B47)=TRUE,DSUM(Forespørgsel1[#All],\"\"&LEFT($C47,LEN($C47)-$A47)&\"\",$M$4:INDIRECT(ADDRESS($AI$3,$AI$4)))/DSUM(Forespørgsel1[#All],\"\"&$B47&\"\",$M$4:INDIRECT(ADDRESS($AI$3,$AI$4))),IF($B47=0,DAVERAGE(Forespørgsel1[#All],\"\"&LEFT($C47,LEN($C47)-$A47)&\"\",$M$4:INDIRECT(ADDRESS($AI$3,$AI$4))),IF($B47=1,DSUM(Forespørgsel1[#All],\"\"&LEFT($C47,LEN($C47)-$A47)&\"\",$M$4:INDIRECT(ADDRESS($AI$3,$AI$4)))/DSUM(Forespørgsel1[#All],\"\"&$I$4&\"\",$M$4:INDIRECT(ADDRESS($AI$3,$AI$4))),DSUM(Forespørgsel1[#All],\"\"&LEFT($C47,LEN($C47)-$A47)&\"\",$M$4:INDIRECT(ADDRESS($AI$3,$AI$4)))/DSUM(Forespørgsel1[#All],\"\"&$J$4&\"\",$M$4:INDIRECT(ADDRESS($AI$3,$AI$4)))))),\"\")","v":""},{"$f":"IFERROR(IF(ISTEXT($B47)=TRUE,DSUM(Forespørgsel1[#All],\"\"&LEFT($C47,LEN($C47)-$A47)&\"\",$L$4:INDIRECT(ADDRESS($AI$3,$AI$4)))/DSUM(Forespørgsel1[#All],\"\"&$B47&\"\",$L$4:INDIRECT(ADDRESS($AI$3,$AI$4))),IF($B47=0,DAVERAGE(Forespørgsel1[#All],\"\"&LEFT($C47,LEN($C47)-$A47)&\"\",$L$4:INDIRECT(ADDRESS($AI$3,$AI$4))),IF($B47=1,DSUM(Forespørgsel1[#All],\"\"&LEFT($C47,LEN($C47)-$A47)&\"\",$L$4:INDIRECT(ADDRESS($AI$3,$AI$4)))/DSUM(Forespørgsel1[#All],\"\"&$I$4&\"\",$L$4:INDIRECT(ADDRESS($AI$3,$AI$4))),IF($B47=2,DSUM(Forespørgsel1[#All],\"\"&LEFT($C47,LEN($C47)-$A47)&\"\",$L$4:INDIRECT(ADDRESS($AI$3,$AI$4)))/DSUM(Forespørgsel1[#All],\"\"&$J$4&\"\",$L$4:INDIRECT(ADDRESS($AI$3,$AI$4))))))),\"\")","v":""},null,null,{"$f":"IF($Z$1=3,SUMIFS(Forespørgsel1[[#All],[EjendomsIdent]],Forespørgsel1[[#All],[Årets resultat pr. tæve]],K47),\"\")","v":0},{"$f":"IF($Z$1=3,DMAX(Forespørgsel1[#All],\"\"&$K$14&\"\",$L42:INDIRECT(ADDRESS($AI47,$AI$4))),\"\")","v":0},{"$f":"$M$5","v":"=8400"},{"$f":"\"<\"&K47&\"\"","v":"<0"},{"$f":"IF(N$4>0,N5,\"\")","v":true},null,null,null,null,null,null,null,null,null,null,null,null,null,null,null,null,null,null,null,"Række",{"$f":"ROW(AH47)-2","v":45}]
[null,null,null,{"$f":"Landsgennemsnit!B48","v":""},{"$f":"Landsgennemsnit!C48","v":""},{"$f":"IFERROR(IF(ISTEXT($B48)=TRUE,DSUM(Forespørgsel1[#All],\"\"&LEFT($C48,LEN($C48)-$A48)&\"\",$M$4:INDIRECT(ADDRESS($AI$3,$AI$4)))/DSUM(Forespørgsel1[#All],\"\"&$B48&\"\",$M$4:INDIRECT(ADDRESS($AI$3,$AI$4))),IF($B48=0,DAVERAGE(Forespørgsel1[#All],\"\"&LEFT($C48,LEN($C48)-$A48)&\"\",$M$4:INDIRECT(ADDRESS($AI$3,$AI$4))),IF($B48=1,DSUM(Forespørgsel1[#All],\"\"&LEFT($C48,LEN($C48)-$A48)&\"\",$M$4:INDIRECT(ADDRESS($AI$3,$AI$4)))/DSUM(Forespørgsel1[#All],\"\"&$I$4&\"\",$M$4:INDIRECT(ADDRESS($AI$3,$AI$4))),DSUM(Forespørgsel1[#All],\"\"&LEFT($C48,LEN($C48)-$A48)&\"\",$M$4:INDIRECT(ADDRESS($AI$3,$AI$4)))/DSUM(Forespørgsel1[#All],\"\"&$J$4&\"\",$M$4:INDIRECT(ADDRESS($AI$3,$AI$4)))))),\"\")","v":""},{"$f":"IFERROR(IF(ISTEXT($B48)=TRUE,DSUM(Forespørgsel1[#All],\"\"&LEFT($C48,LEN($C48)-$A48)&\"\",$L$4:INDIRECT(ADDRESS($AI$3,$AI$4)))/DSUM(Forespørgsel1[#All],\"\"&$B48&\"\",$L$4:INDIRECT(ADDRESS($AI$3,$AI$4))),IF($B48=0,DAVERAGE(Forespørgsel1[#All],\"\"&LEFT($C48,LEN($C48)-$A48)&\"\",$L$4:INDIRECT(ADDRESS($AI$3,$AI$4))),IF($B48=1,DSUM(Forespørgsel1[#All],\"\"&LEFT($C48,LEN($C48)-$A48)&\"\",$L$4:INDIRECT(ADDRESS($AI$3,$AI$4)))/DSUM(Forespørgsel1[#All],\"\"&$I$4&\"\",$L$4:INDIRECT(ADDRESS($AI$3,$AI$4))),IF($B48=2,DSUM(Forespørgsel1[#All],\"\"&LEFT($C48,LEN($C48)-$A48)&\"\",$L$4:INDIRECT(ADDRESS($AI$3,$AI$4)))/DSUM(Forespørgsel1[#All],\"\"&$J$4&\"\",$L$4:INDIRECT(ADDRESS($AI$3,$AI$4))))))),\"\")","v":""},null,null,null,null,{"$f":"$L$17","v":"=8400"},{"$f":"M47","v":"<0"},{"$f":"IF(N$4>0,N6,\"\")","v":true}]
[null,"Producerede skind","Lønningsevne kr. pr. skind",{"$f":"Landsgennemsnit!B49","v":133.95070180062336},{"$f":"Landsgennemsnit!C49","v":191.1585525383781},{"$f":"IFERROR(IF(ISTEXT($B49)=TRUE,DSUM(Forespørgsel1[#All],\"\"&LEFT($C49,LEN($C49)-$A49)&\"\",$M$4:INDIRECT(ADDRESS($AI$3,$AI$4)))/DSUM(Forespørgsel1[#All],\"\"&$B49&\"\",$M$4:INDIRECT(ADDRESS($AI$3,$AI$4))),IF($B49=0,DAVERAGE(Forespørgsel1[#All],\"\"&LEFT($C49,LEN($C49)-$A49)&\"\",$M$4:INDIRECT(ADDRESS($AI$3,$AI$4))),IF($B49=1,DSUM(Forespørgsel1[#All],\"\"&LEFT($C49,LEN($C49)-$A49)&\"\",$M$4:INDIRECT(ADDRESS($AI$3,$AI$4)))/DSUM(Forespørgsel1[#All],\"\"&$I$4&\"\",$M$4:INDIRECT(ADDRESS($AI$3,$AI$4))),DSUM(Forespørgsel1[#All],\"\"&LEFT($C49,LEN($C49)-$A49)&\"\",$M$4:INDIRECT(ADDRESS($AI$3,$AI$4)))/DSUM(Forespørgsel1[#All],\"\"&$J$4&\"\",$M$4:INDIRECT(ADDRESS($AI$3,$AI$4)))))),\"\")","v":""},{"$f":"IFERROR(IF(ISTEXT($B49)=TRUE,DSUM(Forespørgsel1[#All],\"\"&LEFT($C49,LEN($C49)-$A49)&\"\",$L$4:INDIRECT(ADDRESS($AI$3,$AI$4)))/DSUM(Forespørgsel1[#All],\"\"&$B49&\"\",$L$4:INDIRECT(ADDRESS($AI$3,$AI$4))),IF($B49=0,DAVERAGE(Forespørgsel1[#All],\"\"&LEFT($C49,LEN($C49)-$A49)&\"\",$L$4:INDIRECT(ADDRESS($AI$3,$AI$4))),IF($B49=1,DSUM(Forespørgsel1[#All],\"\"&LEFT($C49,LEN($C49)-$A49)&\"\",$L$4:INDIRECT(ADDRESS($AI$3,$AI$4)))/DSUM(Forespørgsel1[#All],\"\"&$I$4&\"\",$L$4:INDIRECT(ADDRESS($AI$3,$AI$4))),IF($B49=2,DSUM(Forespørgsel1[#All],\"\"&LEFT($C49,LEN($C49)-$A49)&\"\",$L$4:INDIRECT(ADDRESS($AI$3,$AI$4)))/DSUM(Forespørgsel1[#All],\"\"&$J$4&\"\",$L$4:INDIRECT(ADDRESS($AI$3,$AI$4))))))),\"\")","v":""},null,null,null,null,{"$f":"$L$17","v":"=8400"},{"$f":"M47","v":"<0"},{"$f":"IF(N$4>0,N7,\"\")","v":true}]
[null,null,null,{"$f":"Landsgennemsnit!B50","v":0},{"$f":"Landsgennemsnit!C50","v":0},{"$f":"IFERROR(IF(ISTEXT($B50)=TRUE,DSUM(Forespørgsel1[#All],\"\"&LEFT($C50,LEN($C50)-$A50)&\"\",$M$4:INDIRECT(ADDRESS($AI$3,$AI$4)))/DSUM(Forespørgsel1[#All],\"\"&$B50&\"\",$M$4:INDIRECT(ADDRESS($AI$3,$AI$4))),IF($B50=0,DAVERAGE(Forespørgsel1[#All],\"\"&LEFT($C50,LEN($C50)-$A50)&\"\",$M$4:INDIRECT(ADDRESS($AI$3,$AI$4))),IF($B50=1,DSUM(Forespørgsel1[#All],\"\"&LEFT($C50,LEN($C50)-$A50)&\"\",$M$4:INDIRECT(ADDRESS($AI$3,$AI$4)))/DSUM(Forespørgsel1[#All],\"\"&$I$4&\"\",$M$4:INDIRECT(ADDRESS($AI$3,$AI$4))),DSUM(Forespørgsel1[#All],\"\"&LEFT($C50,LEN($C50)-$A50)&\"\",$M$4:INDIRECT(ADDRESS($AI$3,$AI$4)))/DSUM(Forespørgsel1[#All],\"\"&$J$4&\"\",$M$4:INDIRECT(ADDRESS($AI$3,$AI$4)))))),\"\")","v":""},{"$f":"IFERROR(IF(ISTEXT($B50)=TRUE,DSUM(Forespørgsel1[#All],\"\"&LEFT($C50,LEN($C50)-$A50)&\"\",$L$4:INDIRECT(ADDRESS($AI$3,$AI$4)))/DSUM(Forespørgsel1[#All],\"\"&$B50&\"\",$L$4:INDIRECT(ADDRESS($AI$3,$AI$4))),IF($B50=0,DAVERAGE(Forespørgsel1[#All],\"\"&LEFT($C50,LEN($C50)-$A50)&\"\",$L$4:INDIRECT(ADDRESS($AI$3,$AI$4))),IF($B50=1,DSUM(Forespørgsel1[#All],\"\"&LEFT($C50,LEN($C50)-$A50)&\"\",$L$4:INDIRECT(ADDRESS($AI$3,$AI$4)))/DSUM(Forespørgsel1[#All],\"\"&$I$4&\"\",$L$4:INDIRECT(ADDRESS($AI$3,$AI$4))),IF($B50=2,DSUM(Forespørgsel1[#All],\"\"&LEFT($C50,LEN($C50)-$A50)&\"\",$L$4:INDIRECT(ADDRESS($AI$3,$AI$4)))/DSUM(Forespørgsel1[#All],\"\"&$J$4&\"\",$L$4:INDIRECT(ADDRESS($AI$3,$AI$4))))))),\"\")","v":""},null,null,null,null,"Prodgren",{"$f":"$L$4","v":"Årets resultat pr. tæve"},{"$f":"IF(N$4=\"\",\"\",N$4)","v":"Godkendt"}]
[null,null,null,{"$f":"Landsgennemsnit!B51","v":0},{"$f":"Landsgennemsnit!C51","v":0},{"$f":"IFERROR(IF(ISTEXT($B51)=TRUE,DSUM(Forespørgsel1[#All],\"\"&LEFT($C51,LEN($C51)-$A51)&\"\",$M$4:INDIRECT(ADDRESS($AI$3,$AI$4)))/DSUM(Forespørgsel1[#All],\"\"&$B51&\"\",$M$4:INDIRECT(ADDRESS($AI$3,$AI$4))),IF($B51=0,DAVERAGE(Forespørgsel1[#All],\"\"&LEFT($C51,LEN($C51)-$A51)&\"\",$M$4:INDIRECT(ADDRESS($AI$3,$AI$4))),IF($B51=1,DSUM(Forespørgsel1[#All],\"\"&LEFT($C51,LEN($C51)-$A51)&\"\",$M$4:INDIRECT(ADDRESS($AI$3,$AI$4)))/DSUM(Forespørgsel1[#All],\"\"&$I$4&\"\",$M$4:INDIRECT(ADDRESS($AI$3,$AI$4))),DSUM(Forespørgsel1[#All],\"\"&LEFT($C51,LEN($C51)-$A51)&\"\",$M$4:INDIRECT(ADDRESS($AI$3,$AI$4)))/DSUM(Forespørgsel1[#All],\"\"&$J$4&\"\",$M$4:INDIRECT(ADDRESS($AI$3,$AI$4)))))),\"\")","v":""},{"$f":"IFERROR(IF(ISTEXT($B51)=TRUE,DSUM(Forespørgsel1[#All],\"\"&LEFT($C51,LEN($C51)-$A51)&\"\",$L$4:INDIRECT(ADDRESS($AI$3,$AI$4)))/DSUM(Forespørgsel1[#All],\"\"&$B51&\"\",$L$4:INDIRECT(ADDRESS($AI$3,$AI$4))),IF($B51=0,DAVERAGE(Forespørgsel1[#All],\"\"&LEFT($C51,LEN($C51)-$A51)&\"\",$L$4:INDIRECT(ADDRESS($AI$3,$AI$4))),IF($B51=1,DSUM(Forespørgsel1[#All],\"\"&LEFT($C51,LEN($C51)-$A51)&\"\",$L$4:INDIRECT(ADDRESS($AI$3,$AI$4)))/DSUM(Forespørgsel1[#All],\"\"&$I$4&\"\",$L$4:INDIRECT(ADDRESS($AI$3,$AI$4))),IF($B51=2,DSUM(Forespørgsel1[#All],\"\"&LEFT($C51,LEN($C51)-$A51)&\"\",$L$4:INDIRECT(ADDRESS($AI$3,$AI$4)))/DSUM(Forespørgsel1[#All],\"\"&$J$4&\"\",$L$4:INDIRECT(ADDRESS($AI$3,$AI$4))))))),\"\")","v":""},null,null,{"$f":"IF($Z$1=3,SUMIFS(Forespørgsel1[[#All],[EjendomsIdent]],Forespørgsel1[[#All],[Årets resultat pr. tæve]],K51),\"\")","v":0},{"$f":"IF($Z$1=3,DMAX(Forespørgsel1[#All],\"\"&$K$14&\"\",$L46:INDIRECT(ADDRESS($AI51,$AI$4))),\"\")","v":0},{"$f":"$M$5","v":"=8400"},{"$f":"\"<\"&K51&\"\"","v":"<0"},{"$f":"IF(N$4>0,N5,\"\")","v":true},null,null,null,null,null,null,null,null,null,null,null,null,null,null,null,null,null,null,null,"Række",{"$f":"ROW(AH51)-2","v":49}]
[null,null,null,{"$f":"Landsgennemsnit!B52","v":0},{"$f":"Landsgennemsnit!C52","v":0},{"$f":"IFERROR(IF(ISTEXT($B52)=TRUE,DSUM(Forespørgsel1[#All],\"\"&LEFT($C52,LEN($C52)-$A52)&\"\",$M$4:INDIRECT(ADDRESS($AI$3,$AI$4)))/DSUM(Forespørgsel1[#All],\"\"&$B52&\"\",$M$4:INDIRECT(ADDRESS($AI$3,$AI$4))),IF($B52=0,DAVERAGE(Forespørgsel1[#All],\"\"&LEFT($C52,LEN($C52)-$A52)&\"\",$M$4:INDIRECT(ADDRESS($AI$3,$AI$4))),IF($B52=1,DSUM(Forespørgsel1[#All],\"\"&LEFT($C52,LEN($C52)-$A52)&\"\",$M$4:INDIRECT(ADDRESS($AI$3,$AI$4)))/DSUM(Forespørgsel1[#All],\"\"&$I$4&\"\",$M$4:INDIRECT(ADDRESS($AI$3,$AI$4))),DSUM(Forespørgsel1[#All],\"\"&LEFT($C52,LEN($C52)-$A52)&\"\",$M$4:INDIRECT(ADDRESS($AI$3,$AI$4)))/DSUM(Forespørgsel1[#All],\"\"&$J$4&\"\",$M$4:INDIRECT(ADDRESS($AI$3,$AI$4)))))),\"\")","v":""},{"$f":"IFERROR(IF(ISTEXT($B52)=TRUE,DSUM(Forespørgsel1[#All],\"\"&LEFT($C52,LEN($C52)-$A52)&\"\",$L$4:INDIRECT(ADDRESS($AI$3,$AI$4)))/DSUM(Forespørgsel1[#All],\"\"&$B52&\"\",$L$4:INDIRECT(ADDRESS($AI$3,$AI$4))),IF($B52=0,DAVERAGE(Forespørgsel1[#All],\"\"&LEFT($C52,LEN($C52)-$A52)&\"\",$L$4:INDIRECT(ADDRESS($AI$3,$AI$4))),IF($B52=1,DSUM(Forespørgsel1[#All],\"\"&LEFT($C52,LEN($C52)-$A52)&\"\",$L$4:INDIRECT(ADDRESS($AI$3,$AI$4)))/DSUM(Forespørgsel1[#All],\"\"&$I$4&\"\",$L$4:INDIRECT(ADDRESS($AI$3,$AI$4))),IF($B52=2,DSUM(Forespørgsel1[#All],\"\"&LEFT($C52,LEN($C52)-$A52)&\"\",$L$4:INDIRECT(ADDRESS($AI$3,$AI$4)))/DSUM(Forespørgsel1[#All],\"\"&$J$4&\"\",$L$4:INDIRECT(ADDRESS($AI$3,$AI$4))))))),\"\")","v":""},null,null,null,null,{"$f":"$L$17","v":"=8400"},{"$f":"M51","v":"<0"},{"$f":"IF(N$4>0,N6,\"\")","v":true}]
[null,null,null,null,{"$f":"Landsgennemsnit!C53","v":0},{"$f":"IFERROR(IF(ISTEXT($B53)=TRUE,DSUM(Forespørgsel1[#All],\"\"&LEFT($C53,LEN($C53)-$A53)&\"\",$M$4:INDIRECT(ADDRESS($AI$3,$AI$4)))/DSUM(Forespørgsel1[#All],\"\"&$B53&\"\",$M$4:INDIRECT(ADDRESS($AI$3,$AI$4))),IF($B53=0,DAVERAGE(Forespørgsel1[#All],\"\"&LEFT($C53,LEN($C53)-$A53)&\"\",$M$4:INDIRECT(ADDRESS($AI$3,$AI$4))),IF($B53=1,DSUM(Forespørgsel1[#All],\"\"&LEFT($C53,LEN($C53)-$A53)&\"\",$M$4:INDIRECT(ADDRESS($AI$3,$AI$4)))/DSUM(Forespørgsel1[#All],\"\"&$I$4&\"\",$M$4:INDIRECT(ADDRESS($AI$3,$AI$4))),DSUM(Forespørgsel1[#All],\"\"&LEFT($C53,LEN($C53)-$A53)&\"\",$M$4:INDIRECT(ADDRESS($AI$3,$AI$4)))/DSUM(Forespørgsel1[#All],\"\"&$J$4&\"\",$M$4:INDIRECT(ADDRESS($AI$3,$AI$4)))))),\"\")","v":""},{"$f":"IFERROR(IF(ISTEXT($B53)=TRUE,DSUM(Forespørgsel1[#All],\"\"&LEFT($C53,LEN($C53)-$A53)&\"\",$L$4:INDIRECT(ADDRESS($AI$3,$AI$4)))/DSUM(Forespørgsel1[#All],\"\"&$B53&\"\",$L$4:INDIRECT(ADDRESS($AI$3,$AI$4))),IF($B53=0,DAVERAGE(Forespørgsel1[#All],\"\"&LEFT($C53,LEN($C53)-$A53)&\"\",$L$4:INDIRECT(ADDRESS($AI$3,$AI$4))),IF($B53=1,DSUM(Forespørgsel1[#All],\"\"&LEFT($C53,LEN($C53)-$A53)&\"\",$L$4:INDIRECT(ADDRESS($AI$3,$AI$4)))/DSUM(Forespørgsel1[#All],\"\"&$I$4&\"\",$L$4:INDIRECT(ADDRESS($AI$3,$AI$4))),IF($B53=2,DSUM(Forespørgsel1[#All],\"\"&LEFT($C53,LEN($C53)-$A53)&\"\",$L$4:INDIRECT(ADDRESS($AI$3,$AI$4)))/DSUM(Forespørgsel1[#All],\"\"&$J$4&\"\",$L$4:INDIRECT(ADDRESS($AI$3,$AI$4))))))),\"\")","v":""},null,null,null,null,{"$f":"$L$17","v":"=8400"},{"$f":"M51","v":"<0"},{"$f":"IF(N$4>0,N7,\"\")","v":true}]
[]
[null,null,null,null,null,null,null,null,null,null,null,null,null,null,null,null,null,null,null,null,null,null,null,null,null,null,null,null,null,null,null,null,null,"Række",{"$f":"ROW(AH55)-2","v":53}]
[]
[]
[]
[]
[]
[]
[]
[]
[]
[]
[]
[]
[]
[]
[]
[]
[]
[]
[]
[]
[]
[]
[]
[]
[]
[]
[]
[]
[]
[null,null,{"$f":"C3","v":"Mink"},"Formattering"]
[null,null,{"$f":"C4","v":"Minktæver (Antal)"},1,1]
[null,null,"Pr. tæve",111,1]
[null,null,"Bruttoudbytte i alt pr. tæve",1,1]
[null,null,"Stykomkostninger i alt pr. tæve",1,1]
[null,null,"Dækningsbidrag pr. tæve",1,1]
[null,null,"Kapacitetsomkostninger i alt pr. tæve",1,1]
[null,null,"Kapitalomkostninger i alt pr. tæve",1,1]
[null,null,"Årets resultat pr. tæve",201,1]
[null,null,"",9,1]
[null,null,"Pr. skind",111,1]
[null,null,"Salg af skind og dyr",1,1]
[null,null,"Køb mink",1,1]
[null,null,"Besætnings- og beholdningsforskydning",1,1]
[null,null,"Andre indtægter (overskud)",1,1]
[null,null,"Bruttoudbytte i alt",111,1]
[null,null,"",9,1]
[null,null,"Foder",1,1]
[null,null,"Dyrlæge og medicin",1,1]
[null,null,"Diverse vedr. husdyr",1,1]
[null,null,"Stykomkostninger i alt",110,1]
[null,null,0,9,1]
[null,null,"Dækningsbidrag",113,1]
[null,null,0,9,1]
[null,null,"Energi og brændstof",1,1]
[null,null,"Vedligehold og maskinstation",1,1]
[null,null,"Løn - inkl. ejerløn",1,1]
[null,null,"Diverse inkl. forsikring",1,1]
[null,null,"Pelsning - netto",1,1]
[null,null,"Kapacitetsomkostninger i alt",113,1]
[null,null,"",9,1]
[null,null,"Afskrivning inkl. leasing",1,1]
[null,null,"Renteomk. af bundet kapital",1,1]
[null,null,"Kapitalomkostninger i alt",113,1]
[null,null,"",9,1]
[null,null,"Årets resultat",113,1]
[null,null,"",9,1]
[null,null,"Nøgletal",111,1]
[null,null,"",9,1]
[null,null,"Bundet kapital pr. tæve",1,1]
[null,null,"Afkastningsgrad",1,1]
[null,null,0,9,1]
[null,null,"Fremstillingspris kr. pr. skind",1,1]
[null,null,"Kr. pr. Skind",1,1]
[null,null,"Producerede skind pr. tæve",1,1]
[null,null,0,9,1]
[null,null,"Lønningsevne kr. pr. skind",101,1]
[null,null,0]
[null,null,0]

{"sheet":"Data","index":1,"n_rows":125,"n_cols":315,"rows_kept":125,"cut":false,"hidden":false,"merged":[]}
["EjendomsIdent","Kredsnr","Ejendomsnr","RegnskabsAar","Prodgren","Godkendt","Økologisk_konventionel","norm_t_ejendom","Minktæver","Producerede skind","Årets resultat pr. tæve","Dyreomsætning og andre landbrugsindtægter ekskl. Værdiændringer_fejl","Foderomkostninger_fejl","Dyrlæge og diverse","Bygninger","Inventar inkl. energi","Forrentning driftskapital","Øvrige omkostninger","Heraf afskrivninger","Arbejdsomkostninger_fejl","Bundet kapital","Anvendt rentesats, pct.","Resultatkorrektion ved 4 % rente","Afkastningsgrad","Dyrlæge og medicin","Energi","Brændstof og maskinstation","Vedligehold","Lønomkostninger","Ejeraflønning","Forsikring","Diverse kapacitetsomkostninger","Afskrivning bygninger","Afskrivning inventar","Afskrivning, øvrigt","Øvrige kapitalomkostninger_fejl","Leje af driftsbygninger","Renteomk. af bundet kapital","Ekstra_fejl","Kapitalomkostninger i alt","Forskydning_Standard_ialt","Bruttoudbytte i alt","Salg af skind og dyr","Salg avlsdyr","Salg i øvrigt, pelsdyr","Salgs af avlsdyr, pelsdyr","Køb mink","Fremstillingspris kr. pr. skind","Kr. pr. skind","Producerede skind pr. tæve","Besætningsforskydning","Andre indtægter (overskud)","Stykomkostninger i alt","Dækningsbidrag","Besætnings- og beholdningsforskydning","Lønningsevne kr. pr. skind","Foder","Energi og brændstof","Vedligehold og maskinstation","Løn - inkl. ejerløn","Diverse inkl. forsikring","Pelsning - netto","Pelsningsindtægter","Pelsning","Kapacitetsomkostninger i alt","Afskrivning","Leje og leasing","Afskrivning inkl. leasing","Årets resultat","Diverse vedr. husdyr","Driftsform","Kolonne1","Kolonne110","Fremstillingspris til graf","Kolonne72","Kolonne73","Kolonne74","Kolonne75","Kolonne71","Kolonne59","Kolonne60","Kolonne61","Kolonne62","Kolonne63","Kolonne64","Kolonne65","Kolonne66","Kolonne67","Kolonne68","Kolonne69","Kolonne70","Kolonne56","Kolonne57","Kolonne58","Kolonne55","Kolonne2","Kolonne3","Kolonne4","Kolonne5","Kolonne6","Kolonne7","Kolonne8","Kolonne9","Kolonne10","Kolonne11","Kolonne12","Kolonne13","Kolonne14","Kolonne15","Kolonne16","Kolonne17","Kolonne18","Kolonne19","Kolonne20","Kolonne21","Kolonne22","Kolonne23","Kolonne24","Kolonne25","Kolonne26","Kolonne27","Kolonne28","Kolonne29","Kolonne30","Kolonne31","Kolonne32","Kolonne33","Kolonne34","Kolonne35","Kolonne36","Kolonne37","Kolonne38","Kolonne39","Kolonne40","Kolonne41","Kolonne42","Kolonne43","Kolonne44","Kolonne45","Kolonne46","Kolonne47","Kolonne48","Kolonne49","Kolonne50","Kolonne51","Kolonne52","Kolonne53"]
[]
[]
[]
[]
[]
[]
[]
[]
[]
[]
[]
[]
[]
[]
[]
[]
[]
[]
[]
[]
[]
[]
[]
[]
[]
[]
[]
[]
[]
[]
[]
[]
[]
[]
[]
[]
[]
[]
[]
[]
[]
[]
[]
[]
[]
[]
[]
[]
[]
[]
[]
[]
[]
[]
[]
[]
[]
[]
[]
[]
[]
[]
[]
[]
[]
[]
[]
[]
[]
[]
[]
[]
[]
[]
[]
[]
[]
[]
[]
[]
[]
[]
[]
[]
[]
[]
[]
[]
[]
[]
[]
[]
[]
[]
[]
[]
[]
[]
[]
[]
[]
[]
[]
[]
[]
[]
[]
[]
[]
[]
[]
[]
[]
[]
[]
[]
[]
[]
[]
[]
[]
[null,null,null,null,null,null,null,null,null,null,null,null,null,null,null,null,null,null,null,null,null,null,null,null,null,null,null,null,null,null,null,null,null,null,null,null,null,null,null,null,null,null,null,null,null,null,null,null,null,null,null,null,null,null,null,null,null,null,null,null,null,null,null,null,null,null,null,null,null,null,null,null,null,null,null,null,null,null,null,null,null,null,null,null,null,null,null,null,null,null,null,null,null,null,null,null,null,null,null,null,null,null,null,null,null,null,null,null,null,null,null,null,null,null,null,null,null,null,null,null,null,null,null,null,null,null,null,null,null,null,null,null,null,null,null,null,null,null,null,null,null,null,null,null,null,null,null,null,null,null,null,null,null,null,null,null,null,null,null,null,null,null,null,null,null,null,null,null,null,null,null,null,null,null,null,null,null,null,null,null,null,null,null,null,null,null,null,null,null,null,null,null,null,null,null,null,null,null,null,null,null,null,null,null,null,null,null,null,null,null,null,null,null,null,null,null,null,null,null,null,null,null,null,null,null,null,null,null,null,null,null,null,null,null,null,null,null,null,null,null,null,null,null,null,null,null,null,null,null,null,null,null,null,null,null,null,null,null,null,null,null,null,null,null,null,null,null,null,null,null,null,null,null,null,null,null,null,null,null,null,null,null,null,null,null,null,null,null,null,null,null,null,null,null,null,null,null,null,null,null,null,null,null,null,null,null,null,null,null,null,null,null,null,null,26960]
[null,null,null,null,null,null,null,null,null,null,null,null,null,null,null,null,null,null,null,null,null,null,null,null,null,null,null,null,null,null,null,null,null,null,null,null,null,null,null,null,null,null,null,null,null,null,null,null,null,null,null,null,null,null,null,null,null,null,null,null,null,null,null,null,null,null,null,null,null,null,null,null,null,null,null,null,null,null,null,null,null,null,null,null,null,null,null,null,null,null,null,null,null,null,null,null,null,null,null,null,null,null,null,null,null,null,null,null,null,null,null,null,null,null,null,null,null,null,null,null,null,null,null,null,null,null,null,null,null,null,null,null,null,null,null,null,null,null,null,null,null,null,null,null,null,null,null,null,null,null,null,null,null,null,null,null,null,null,null,null,null,null,null,null,null,null,null,null,null,null,null,null,null,null,null,null,null,null,null,null,null,null,null,null,null,null,null,null,null,null,null,null,null,null,null,null,null,null,null,null,null,null,null,null,null,null,null,null,null,null,null,null,null,null,null,null,null,null,null,null,null,null,null,null,null,null,null,null,null,null,null,null,null,null,null,null,null,null,null,null,null,null,null,null,null,null,null,null,null,null,null,null,null,null,null,null,null,null,null,null,null,null,null,null,null,null,null,null,null,null,null,null,null,null,null,null,null,null,null,null,null,null,null,null,null,null,null,null,null,null,null,null,null,null,null,null,null,null,null,null,null,null,null,null,null,null,null,null,null,null,null,null,null,null,146534]
[null,null,null,null,null,null,null,null,null,null,null,null,null,null,null,null,null,null,null,null,null,null,null,null,null,null,null,null,null,null,null,null,null,null,null,null,null,null,null,null,null,null,null,null,null,null,null,null,null,null,null,null,null,null,null,null,null,null,null,null,null,null,null,null,null,null,null,null,null,null,null,null,null,null,null,null,null,null,null,null,null,null,null,null,null,null,null,null,null,null,null,null,null,null,null,null,null,null,null,null,null,null,null,null,null,null,null,null,null,null,null,null,null,null,null,null,null,null,null,null,null,null,null,null,null,null,null,null,null,null,null,null,null,null,null,null,null,null,null,null,null,null,null,null,null,null,null,null,null,null,null,null,null,null,null,null,null,null,null,null,null,null,null,null,null,null,null,null,null,null,null,null,null,null,null,null,null,null,null,null,null,null,null,null,null,null,null,null,null,null,null,null,null,null,null,null,null,null,null,null,null,null,null,null,null,null,null,null,null,null,null,null,null,null,null,null,null,null,null,null,null,null,null,null,null,null,null,null,null,null,null,null,null,null,null,null,null,null,null,null,null,null,null,null,null,null,null,null,null,null,null,null,null,null,null,null,null,null,null,null,null,null,null,null,null,null,null,null,null,null,null,null,null,null,null,null,null,null,null,null,null,null,null,null,null,null,null,null,null,null,null,null,null,null,null,null,null,null,null,null,null,null,null,null,null,null,null,null,null,null,null,null,null,null,19580]

{"sheet":"Præsentation","index":2,"n_rows":93,"n_cols":20,"rows_kept":93,"cut":false,"hidden":false,"merged":[[10,6,11,6],[10,7,11,7],[10,8,11,8],[7,7,8,7],[8,10,8,14],[10,9,11,9]]}
[]
[]
[]
[]
[]
[]
[null,null,null,null,null,null,null,"Minkproduktion"]
[]
[]
[null,null,null,null,null,null,null,{"$f":"\"årets resultat\"","v":"årets resultat"},"Gns. Alle","Gns. Top 10"]
[1,1,null,null,null,null,"Gns. BC    166 ejd.","Gns. BC Top 10","Gns. Alle Kreds","Gns. Top 10 Kreds"]
[1,101,null,null,null,"Ejendomsnummer",null,null,null,null,"M1","M2","M3","M4","M5","M6","M8","M9"]
[1,102,null,null,null,"Driftsform","-","-","-",null,{"$f":"IFERROR(IF(K$12=Kredsudvælgelse!$Q$20,\"\",IF(Kredsudvælgelse!AB$2=1,IF(ISTEXT(DGET(Forespørgsel1[#All],\"\"&LEFT($F13,LEN($F13)-$C13)&\"\",Kredsudvælgelse!$Q$2:$R$3))=TRUE,DGET(Forespørgsel1[#All],\"\"&LEFT($F13,LEN($F13)-$C13)&\"\",Kredsudvælgelse!$Q$2:$R$3),DGET(Forespørgsel1[#All],\"\"&LEFT($F13,LEN($F13)-$C13)&\"\",Kredsudvælgelse!$Q$2:$R$3)/IF(ISNONTEXT($D13)=TRUE,1,DGET(Forespørgsel1[#All],\"\"&$D13&\"\",Kredsudvælgelse!$Q$2:$R$3))),IF(ISBLANK(HLOOKUP(K$12,'Statiske ejendomme'!$B$3:$PN$81,'Statiske ejendomme'!$A6,FALSE))=FALSE,HLOOKUP(K$12,'Statiske ejendomme'!$B$3:$PN$81,'Statiske ejendomme'!$A6,FALSE),\"\"))),\"\")","v":"Konventionel"},{"$f":"IFERROR(IF(L$12=Kredsudvælgelse!$Q$20,\"\",IF(Kredsudvælgelse!AC$2=1,IF(ISTEXT(DGET(Forespørgsel1[#All],\"\"&LEFT($F13,LEN($F13)-$C13)&\"\",Kredsudvælgelse!$S$2:$T$3))=TRUE,DGET(Forespørgsel1[#All],\"\"&LEFT($F13,LEN($F13)-$C13)&\"\",Kredsudvælgelse!$S$2:$T$3),DGET(Forespørgsel1[#All],\"\"&LEFT($F13,LEN($F13)-$C13)&\"\",Kredsudvælgelse!$S$2:$T$3)/IF(ISNONTEXT($D13)=TRUE,1,DGET(Forespørgsel1[#All],\"\"&$D13&\"\",Kredsudvælgelse!$S$2:$T$3))),IF(ISBLANK(HLOOKUP(L$12,'Statiske ejendomme'!$B$3:$PN$81,'Statiske ejendomme'!$A6,FALSE))=FALSE,HLOOKUP(L$12,'Statiske ejendomme'!$B$3:$PN$81,'Statiske ejendomme'!$A6,FALSE),\"\"))),\"\")","v":"Konventionel"},{"$f":"IFERROR(IF(M$12=Kredsudvælgelse!$Q$20,\"\",IF(Kredsudvælgelse!AD$2=1,IF(ISTEXT(DGET(Forespørgsel1[#All],\"\"&LEFT($F13,LEN($F13)-$C13)&\"\",Kredsudvælgelse!$U$2:$V$3))=TRUE,DGET(Forespørgsel1[#All],\"\"&LEFT($F13,LEN($F13)-$C13)&\"\",Kredsudvælgelse!$U$2:$V$3),DGET(Forespørgsel1[#All],\"\"&LEFT($F13,LEN($F13)-$C13)&\"\",Kredsudvælgelse!$U$2:$V$3)/IF(ISNONTEXT($D13)=TRUE,1,DGET(Forespørgsel1[#All],\"\"&$D13&\"\",Kredsudvælgelse!$U$2:$V$3))),IF(ISBLANK(HLOOKUP(M$12,'Statiske ejendomme'!$B$3:$PN$81,'Statiske ejendomme'!$A6,FALSE))=FALSE,HLOOKUP(M$12,'Statiske ejendomme'!$B$3:$PN$81,'Statiske ejendomme'!$A6,FALSE),\"\"))),\"\")","v":"Konventionel"},{"$f":"IFERROR(IF(N$12=Kredsudvælgelse!$Q$20,\"\",IF(Kredsudvælgelse!AE$2=1,IF(ISTEXT(DGET(Forespørgsel1[#All],\"\"&LEFT($F13,LEN($F13)-$C13)&\"\",Kredsudvælgelse!$W$2:$X$3))=TRUE,DGET(Forespørgsel1[#All],\"\"&LEFT($F13,LEN($F13)-$C13)&\"\",Kredsudvælgelse!$W$2:$X$3),DGET(Forespørgsel1[#All],\"\"&LEFT($F13,LEN($F13)-$C13)&\"\",Kredsudvælgelse!$W$2:$X$3)/IF(ISNONTEXT($D13)=TRUE,1,DGET(Forespørgsel1[#All],\"\"&$D13&\"\",Kredsudvælgelse!$W$2:$X$3))),IF(ISBLANK(HLOOKUP(N$12,'Statiske ejendomme'!$B$3:$PN$81,'Statiske ejendomme'!$A6,FALSE))=FALSE,HLOOKUP(N$12,'Statiske ejendomme'!$B$3:$PN$81,'Statiske ejendomme'!$A6,FALSE),\"\"))),\"\")","v":"Konventionel"},{"$f":"IFERROR(IF(O$12=Kredsudvælgelse!$Q$20,\"\",IF(Kredsudvælgelse!AF$2=1,IF(ISTEXT(DGET(Forespørgsel1[#All],\"\"&LEFT($F13,LEN($F13)-$C13)&\"\",Kredsudvælgelse!$Y$2:$Z$3))=TRUE,DGET(Forespørgsel1[#All],\"\"&LEFT($F13,LEN($F13)-$C13)&\"\",Kredsudvælgelse!$Y$2:$Z$3),DGET(Forespørgsel1[#All],\"\"&LEFT($F13,LEN($F13)-$C13)&\"\",Kredsudvælgelse!$Y$2:$Z$3)/IF(ISNONTEXT($D13)=TRUE,1,DGET(Forespørgsel1[#All],\"\"&$D13&\"\",Kredsudvælgelse!$Y$2:$Z$3))),IF(ISBLANK(HLOOKUP(O$12,'Statiske ejendomme'!$B$3:$PN$81,'Statiske ejendomme'!$A6,FALSE))=FALSE,HLOOKUP(O$12,'Statiske ejendomme'!$B$3:$PN$81,'Statiske ejendomme'!$A6,FALSE),\"\"))),\"\")","v":"Konventionel"},{"$f":"IFERROR(IF(P$12=Kredsudvælgelse!$Q$20,\"\",IF(Kredsudvælgelse!AG$2=1,IF(ISTEXT(DGET(Forespørgsel1[#All],\"\"&LEFT($F13,LEN($F13)-$C13)&\"\",Kredsudvælgelse!$Q$6:$R$7))=TRUE,DGET(Forespørgsel1[#All],\"\"&LEFT($F13,LEN($F13)-$C13)&\"\",Kredsudvælgelse!$Q$6:$R$7),DGET(Forespørgsel1[#All],\"\"&LEFT($F13,LEN($F13)-$C13)&\"\",Kredsudvælgelse!$Q$6:$R$7)/IF(ISNONTEXT($D13)=TRUE,1,DGET(Forespørgsel1[#All],\"\"&$D13&\"\",Kredsudvælgelse!$Q$6:$R$7))),IF(ISBLANK(HLOOKUP(P$12,'Statiske ejendomme'!$B$3:$PN$81,'Statiske ejendomme'!$A6,FALSE))=FALSE,HLOOKUP(P$12,'Statiske ejendomme'!$B$3:$PN$81,'Statiske ejendomme'!$A6,FALSE),\"\"))),\"\")","v":"Konventionel"},{"$f":"IFERROR(IF(Q$12=Kredsudvælgelse!$Q$20,\"\",IF(Kredsudvælgelse!AH$2=1,IF(ISTEXT(DGET(Forespørgsel1[#All],\"\"&LEFT($F13,LEN($F13)-$C13)&\"\",Kredsudvælgelse!$S$6:$T$7))=TRUE,DGET(Forespørgsel1[#All],\"\"&LEFT($F13,LEN($F13)-$C13)&\"\",Kredsudvælgelse!$S$6:$T$7),DGET(Forespørgsel1[#All],\"\"&LEFT($F13,LEN($F13)-$C13)&\"\",Kredsudvælgelse!$S$6:$T$7)/IF(ISNONTEXT($D13)=TRUE,1,DGET(Forespørgsel1[#All],\"\"&$D13&\"\",Kredsudvælgelse!$S$6:$T$7))),IF(ISBLANK(HLOOKUP(Q$12,'Statiske ejendomme'!$B$3:$PN$81,'Statiske ejendomme'!$A6,FALSE))=FALSE,HLOOKUP(Q$12,'Statiske ejendomme'!$B$3:$PN$81,'Statiske ejendomme'!$A6,FALSE),\"\"))),\"\")","v":"Konventionel"},{"$f":"IFERROR(IF(R$12=Kredsudvælgelse!$Q$20,\"\",IF(Kredsudvælgelse!AI$2=1,IF(ISTEXT(DGET(Forespørgsel1[#All],\"\"&LEFT($F13,LEN($F13)-$C13)&\"\",Kredsudvælgelse!$U$6:$V$7))=TRUE,DGET(Forespørgsel1[#All],\"\"&LEFT($F13,LEN($F13)-$C13)&\"\",Kredsudvælgelse!$U$6:$V$7),DGET(Forespørgsel1[#All],\"\"&LEFT($F13,LEN($F13)-$C13)&\"\",Kredsudvælgelse!$U$6:$V$7)/IF(ISNONTEXT($D13)=TRUE,1,DGET(Forespørgsel1[#All],\"\"&$D13&\"\",Kredsudvælgelse!$U$6:$V$7))),IF(ISBLANK(HLOOKUP(R$12,'Statiske ejendomme'!$B$3:$PN$81,'Statiske ejendomme'!$A6,FALSE))=FALSE,HLOOKUP(R$12,'Statiske ejendomme'!$B$3:$PN$81,'Statiske ejendomme'!$A6,FALSE),\"\"))),\"\")","v":"Konventionel"},{"$f":"IFERROR(IF(S$12=Kredsudvælgelse!$Q$20,\"\",IF(Kredsudvælgelse!AJ$2=1,IF(ISTEXT(DGET(Forespørgsel1[#All],\"\"&LEFT($F13,LEN($F13)-$C13)&\"\",Kredsudvælgelse!$W$6:$X$7))=TRUE,DGET(Forespørgsel1[#All],\"\"&LEFT($F13,LEN($F13)-$C13)&\"\",Kredsudvælgelse!$W$6:$X$7),DGET(Forespørgsel1[#All],\"\"&LEFT($F13,LEN($F13)-$C13)&\"\",Kredsudvælgelse!$W$6:$X$7)/IF(ISNONTEXT($D13)=TRUE,1,DGET(Forespørgsel1[#All],\"\"&$D13&\"\",Kredsudvælgelse!$W$6:$X$7))),IF(ISBLANK(HLOOKUP(S$12,'Statiske ejendomme'!$B$3:$PN$81,'Statiske ejendomme'!$A6,FALSE))=FALSE,HLOOKUP(S$12,'Statiske ejendomme'!$B$3:$PN$81,'Statiske ejendomme'!$A6,FALSE),\"\"))),\"\")","v":""},{"$f":"IFERROR(IF(T$12=Kredsudvælgelse!$Q$20,\"\",IF(Kredsudvælgelse!AK$2=1,IF(ISTEXT(DGET(Forespørgsel1[#All],\"\"&LEFT($F13,LEN($F13)-$C13)&\"\",Kredsudvælgelse!$W$6:$X$7))=TRUE,DGET(Forespørgsel1[#All],\"\"&LEFT($F13,LEN($F13)-$C13)&\"\",Kredsudvælgelse!$W$6:$X$7),DGET(Forespørgsel1[#All],\"\"&LEFT($F13,LEN($F13)-$C13)&\"\",Kredsudvælgelse!$W$6:$X$7)/IF(ISNONTEXT($D13)=TRUE,1,DGET(Forespørgsel1[#All],\"\"&$D13&\"\",Kredsudvælgelse!$W$6:$X$7))),IF(ISBLANK(HLOOKUP(T$12,'Statiske ejendomme'!$B$3:$PN$81,'Statiske ejendomme'!$A6,FALSE))=FALSE,HLOOKUP(T$12,'Statiske ejendomme'!$B$3:$PN$81,'Statiske ejendomme'!$A6,FALSE),\"\"))),\"\")","v":""}]
[null,null,null,"OBS indsat linje",null,"Minktæver (Gruppe)",null,null,null,null,{"$f":"IF(K15>=3000,\"> 3000\",IF(K15<1500,\"< 1500\",\"1500-3000\"))","v":"> 3000"},{"$f":"IF(L15>=3000,\"> 3000\",IF(L15<1500,\"< 1500\",\"1500-3000\"))","v":"> 3000"},{"$f":"IF(M15>=3000,\"> 3000\",IF(M15<1500,\"< 1500\",\"1500-3000\"))","v":"> 3000"},"> 3000","> 3000","> 3000","> 3000","> 3000","> 3000",{"$f":"IFERROR(IF(T$12=Kredsudvælgelse!$Q$20,\"\",IF(Kredsudvælgelse!AK$2=1,IF(ISTEXT(DGET(Forespørgsel1[#All],\"\"&LEFT($F14,LEN($F14)-$C14)&\"\",Kredsudvælgelse!$W$6:$X$7))=TRUE,DGET(Forespørgsel1[#All],\"\"&LEFT($F14,LEN($F14)-$C14)&\"\",Kredsudvælgelse!$W$6:$X$7),DGET(Forespørgsel1[#All],\"\"&LEFT($F14,LEN($F14)-$C14)&\"\",Kredsudvælgelse!$W$6:$X$7)/IF(ISNONTEXT($D14)=TRUE,1,DGET(Forespørgsel1[#All],\"\"&$D14&\"\",Kredsudvælgelse!$W$6:$X$7))),IF(ISBLANK(HLOOKUP(T$12,'Statiske ejendomme'!$B$3:$PN$81,'Statiske ejendomme'!$A7,FALSE))=FALSE,HLOOKUP(T$12,'Statiske ejendomme'!$B$3:$PN$81,'Statiske ejendomme'!$A7,FALSE),\"\"))),\"\")","v":""}]
[{"$f":"Mink!E86","v":1},{"$f":"Mink!D86","v":1},{"$f":"Mink!A4","v":8},null,null,{"$f":"Mink!C4","v":"Minktæver (Antal)"},{"$f":"Mink!D4","v":2625.6626506024095},{"$f":"Mink!E4","v":2731.3},{"$f":"Mink!F4","v":""},{"$f":"Mink!G4","v":""},{"$f":"IFERROR(IF(K$12=Kredsudvælgelse!$Q$20,\"\",IF(Kredsudvælgelse!AB$2=1,IF(ISTEXT(DGET(Forespørgsel1[#All],\"\"&LEFT($F15,LEN($F15)-$C15)&\"\",Kredsudvælgelse!$Q$2:$R$3))=TRUE,DGET(Forespørgsel1[#All],\"\"&LEFT($F15,LEN($F15)-$C15)&\"\",Kredsudvælgelse!$Q$2:$R$3),DGET(Forespørgsel1[#All],\"\"&LEFT($F15,LEN($F15)-$C15)&\"\",Kredsudvælgelse!$Q$2:$R$3)/IF(ISNONTEXT($D15)=TRUE,1,DGET(Forespørgsel1[#All],\"\"&$D15&\"\",Kredsudvælgelse!$Q$2:$R$3))),IF(ISBLANK(HLOOKUP(K$12,'Statiske ejendomme'!$B$3:$PN$81,'Statiske ejendomme'!$A7,FALSE))=FALSE,HLOOKUP(K$12,'Statiske ejendomme'!$B$3:$PN$81,'Statiske ejendomme'!$A7,FALSE),\"\"))),\"\")","v":"> 3000"},{"$f":"IFERROR(IF(L$12=Kredsudvælgelse!$Q$20,\"\",IF(Kredsudvælgelse!AC$2=1,IF(ISTEXT(DGET(Forespørgsel1[#All],\"\"&LEFT($F15,LEN($F15)-$C15)&\"\",Kredsudvælgelse!$S$2:$T$3))=TRUE,DGET(Forespørgsel1[#All],\"\"&LEFT($F15,LEN($F15)-$C15)&\"\",Kredsudvælgelse!$S$2:$T$3),DGET(Forespørgsel1[#All],\"\"&LEFT($F15,LEN($F15)-$C15)&\"\",Kredsudvælgelse!$S$2:$T$3)/IF(ISNONTEXT($D15)=TRUE,1,DGET(Forespørgsel1[#All],\"\"&$D15&\"\",Kredsudvælgelse!$S$2:$T$3))),IF(ISBLANK(HLOOKUP(L$12,'Statiske ejendomme'!$B$3:$PN$81,'Statiske ejendomme'!$A7,FALSE))=FALSE,HLOOKUP(L$12,'Statiske ejendomme'!$B$3:$PN$81,'Statiske ejendomme'!$A7,FALSE),\"\"))),\"\")","v":"1500-3000"},{"$f":"IFERROR(IF(M$12=Kredsudvælgelse!$Q$20,\"\",IF(Kredsudvælgelse!AD$2=1,IF(ISTEXT(DGET(Forespørgsel1[#All],\"\"&LEFT($F15,LEN($F15)-$C15)&\"\",Kredsudvælgelse!$U$2:$V$3))=TRUE,DGET(Forespørgsel1[#All],\"\"&LEFT($F15,LEN($F15)-$C15)&\"\",Kredsudvælgelse!$U$2:$V$3),DGET(Forespørgsel1[#All],\"\"&LEFT($F15,LEN($F15)-$C15)&\"\",Kredsudvælgelse!$U$2:$V$3)/IF(ISNONTEXT($D15)=TRUE,1,DGET(Forespørgsel1[#All],\"\"&$D15&\"\",Kredsudvælgelse!$U$2:$V$3))),IF(ISBLANK(HLOOKUP(M$12,'Statiske ejendomme'!$B$3:$PN$81,'Statiske ejendomme'!$A7,FALSE))=FALSE,HLOOKUP(M$12,'Statiske ejendomme'!$B$3:$PN$81,'Statiske ejendomme'!$A7,FALSE),\"\"))),\"\")","v":"< 1500"},{"$f":"IFERROR(IF(N$12=Kredsudvælgelse!$Q$20,\"\",IF(Kredsudvælgelse!AE$2=1,IF(ISTEXT(DGET(Forespørgsel1[#All],\"\"&LEFT($F15,LEN($F15)-$C15)&\"\",Kredsudvælgelse!$W$2:$X$3))=TRUE,DGET(Forespørgsel1[#All],\"\"&LEFT($F15,LEN($F15)-$C15)&\"\",Kredsudvælgelse!$W$2:$X$3),DGET(Forespørgsel1[#All],\"\"&LEFT($F15,LEN($F15)-$C15)&\"\",Kredsudvælgelse!$W$2:$X$3)/IF(ISNONTEXT($D15)=TRUE,1,DGET(Forespørgsel1[#All],\"\"&$D15&\"\",Kredsudvælgelse!$W$2:$X$3))),IF(ISBLANK(HLOOKUP(N$12,'Statiske ejendomme'!$B$3:$PN$81,'Statiske ejendomme'!$A7,FALSE))=FALSE,HLOOKUP(N$12,'Statiske ejendomme'!$B$3:$PN$81,'Statiske ejendomme'!$A7,FALSE),\"\"))),\"\")","v":"> 3000"},{"$f":"IFERROR(IF(O$12=Kredsudvælgelse!$Q$20,\"\",IF(Kredsudvælgelse!AF$2=1,IF(ISTEXT(DGET(Forespørgsel1[#All],\"\"&LEFT($F15,LEN($F15)-$C15)&\"\",Kredsudvælgelse!$Y$2:$Z$3))=TRUE,DGET(Forespørgsel1[#All],\"\"&LEFT($F15,LEN($F15)-$C15)&\"\",Kredsudvælgelse!$Y$2:$Z$3),DGET(Forespørgsel1[#All],\"\"&LEFT($F15,LEN($F15)-$C15)&\"\",Kredsudvælgelse!$Y$2:$Z$3)/IF(ISNONTEXT($D15)=TRUE,1,DGET(Forespørgsel1[#All],\"\"&$D15&\"\",Kredsudvælgelse!$Y$2:$Z$3))),IF(ISBLANK(HLOOKUP(O$12,'Statiske ejendomme'!$B$3:$PN$81,'Statiske ejendomme'!$A7,FALSE))=FALSE,HLOOKUP(O$12,'Statiske ejendomme'!$B$3:$PN$81,'Statiske ejendomme'!$A7,FALSE),\"\"))),\"\")","v":"1500-3000"},{"$f":"IFERROR(IF(P$12=Kredsudvælgelse!$Q$20,\"\",IF(Kredsudvælgelse!AG$2=1,IF(ISTEXT(DGET(Forespørgsel1[#All],\"\"&LEFT($F15,LEN($F15)-$C15)&\"\",Kredsudvælgelse!$Q$6:$R$7))=TRUE,DGET(Forespørgsel1[#All],\"\"&LEFT($F15,LEN($F15)-$C15)&\"\",Kredsudvælgelse!$Q$6:$R$7),DGET(Forespørgsel1[#All],\"\"&LEFT($F15,LEN($F15)-$C15)&\"\",Kredsudvælgelse!$Q$6:$R$7)/IF(ISNONTEXT($D15)=TRUE,1,DGET(Forespørgsel1[#All],\"\"&$D15&\"\",Kredsudvælgelse!$Q$6:$R$7))),IF(ISBLANK(HLOOKUP(P$12,'Statiske ejendomme'!$B$3:$PN$81,'Statiske ejendomme'!$A7,FALSE))=FALSE,HLOOKUP(P$12,'Statiske ejendomme'!$B$3:$PN$81,'Statiske ejendomme'!$A7,FALSE),\"\"))),\"\")","v":"> 3000"},{"$f":"IFERROR(IF(Q$12=Kredsudvælgelse!$Q$20,\"\",IF(Kredsudvælgelse!AH$2=1,IF(ISTEXT(DGET(Forespørgsel1[#All],\"\"&LEFT($F15,LEN($F15)-$C15)&\"\",Kredsudvælgelse!$S$6:$T$7))=TRUE,DGET(Forespørgsel1[#All],\"\"&LEFT($F15,LEN($F15)-$C15)&\"\",Kredsudvælgelse!$S$6:$T$7),DGET(Forespørgsel1[#All],\"\"&LEFT($F15,LEN($F15)-$C15)&\"\",Kredsudvælgelse!$S$6:$T$7)/IF(ISNONTEXT($D15)=TRUE,1,DGET(Forespørgsel1[#All],\"\"&$D15&\"\",Kredsudvælgelse!$S$6:$T$7))),IF(ISBLANK(HLOOKUP(Q$12,'Statiske ejendomme'!$B$3:$PN$81,'Statiske ejendomme'!$A7,FALSE))=FALSE,HLOOKUP(Q$12,'Statiske ejendomme'!$B$3:$PN$81,'Statiske ejendomme'!$A7,FALSE),\"\"))),\"\")","v":"1500-3000"},{"$f":"IFERROR(IF(R$12=Kredsudvælgelse!$Q$20,\"\",IF(Kredsudvælgelse!AI$2=1,IF(ISTEXT(DGET(Forespørgsel1[#All],\"\"&LEFT($F15,LEN($F15)-$C15)&\"\",Kredsudvælgelse!$U$6:$V$7))=TRUE,DGET(Forespørgsel1[#All],\"\"&LEFT($F15,LEN($F15)-$C15)&\"\",Kredsudvælgelse!$U$6:$V$7),DGET(Forespørgsel1[#All],\"\"&LEFT($F15,LEN($F15)-$C15)&\"\",Kredsudvælgelse!$U$6:$V$7)/IF(ISNONTEXT($D15)=TRUE,1,DGET(Forespørgsel1[#All],\"\"&$D15&\"\",Kredsudvælgelse!$U$6:$V$7))),IF(ISBLANK(HLOOKUP(R$12,'Statiske ejendomme'!$B$3:$PN$81,'Statiske ejendomme'!$A7,FALSE))=FALSE,HLOOKUP(R$12,'Statiske ejendomme'!$B$3:$PN$81,'Statiske ejendomme'!$A7,FALSE),\"\"))),\"\")","v":"1500-3000"},{"$f":"IFERROR(IF(S$12=Kredsudvælgelse!$Q$20,\"\",IF(Kredsudvælgelse!AJ$2=1,IF(ISTEXT(DGET(Forespørgsel1[#All],\"\"&LEFT($F15,LEN($F15)-$C15)&\"\",Kredsudvælgelse!$W$6:$X$7))=TRUE,DGET(Forespørgsel1[#All],\"\"&LEFT($F15,LEN($F15)-$C15)&\"\",Kredsudvælgelse!$W$6:$X$7),DGET(Forespørgsel1[#All],\"\"&LEFT($F15,LEN($F15)-$C15)&\"\",Kredsudvælgelse!$W$6:$X$7)/IF(ISNONTEXT($D15)=TRUE,1,DGET(Forespørgsel1[#All],\"\"&$D15&\"\",Kredsudvælgelse!$W$6:$X$7))),IF(ISBLANK(HLOOKUP(S$12,'Statiske ejendomme'!$B$3:$PN$81,'Statiske ejendomme'!$A7,FALSE))=FALSE,HLOOKUP(S$12,'Statiske ejendomme'!$B$3:$PN$81,'Statiske ejendomme'!$A7,FALSE),\"\"))),\"\")","v":""},{"$f":"IFERROR(IF(T$12=Kredsudvælgelse!$Q$20,\"\",IF(Kredsudvælgelse!AK$2=1,IF(ISTEXT(DGET(Forespørgsel1[#All],\"\"&LEFT($F15,LEN($F15)-$C15)&\"\",Kredsudvælgelse!$W$6:$X$7))=TRUE,DGET(Forespørgsel1[#All],\"\"&LEFT($F15,LEN($F15)-$C15)&\"\",Kredsudvælgelse!$W$6:$X$7),DGET(Forespørgsel1[#All],\"\"&LEFT($F15,LEN($F15)-$C15)&\"\",Kredsudvælgelse!$W$6:$X$7)/IF(ISNONTEXT($D15)=TRUE,1,DGET(Forespørgsel1[#All],\"\"&$D15&\"\",Kredsudvælgelse!$W$6:$X$7))),IF(ISBLANK(HLOOKUP(T$12,'Statiske ejendomme'!$B$3:$PN$81,'Statiske ejendomme'!$A8,FALSE))=FALSE,HLOOKUP(T$12,'Statiske ejendomme'!$B$3:$PN$81,'Statiske ejendomme'!$A8,FALSE),\"\"))),\"\")","v":""}]
[{"$f":"Mink!E87","v":1},{"$f":"Mink!D87","v":111},{"$f":"Mink!A5","v":0},{"$f":"Mink!B5","v":0},null,{"$f":"Mink!C5","v":"Pr. tæve"},{"$f":"Mink!D5","v":""},{"$f":"Mink!E5","v":""},{"$f":"Mink!F5","v":""},{"$f":"Mink!G5","v":""},{"$f":"IFERROR(IF(K$12=Kredsudvælgelse!$Q$20,\"\",IF(Kredsudvælgelse!AB$2=1,IF(ISTEXT(DGET(Forespørgsel1[#All],\"\"&LEFT($F16,LEN($F16)-$C16)&\"\",Kredsudvælgelse!$Q$2:$R$3))=TRUE,DGET(Forespørgsel1[#All],\"\"&LEFT($F16,LEN($F16)-$C16)&\"\",Kredsudvælgelse!$Q$2:$R$3),DGET(Forespørgsel1[#All],\"\"&LEFT($F16,LEN($F16)-$C16)&\"\",Kredsudvælgelse!$Q$2:$R$3)/IF(ISNONTEXT($D16)=TRUE,1,DGET(Forespørgsel1[#All],\"\"&$D16&\"\",Kredsudvælgelse!$Q$2:$R$3))),IF(ISBLANK(HLOOKUP(K$12,'Statiske ejendomme'!$B$3:$PN$81,'Statiske ejendomme'!$A8,FALSE))=FALSE,HLOOKUP(K$12,'Statiske ejendomme'!$B$3:$PN$81,'Statiske ejendomme'!$A8,FALSE),\"\"))),\"\")","v":""},{"$f":"IFERROR(IF(L$12=Kredsudvælgelse!$Q$20,\"\",IF(Kredsudvælgelse!AC$2=1,IF(ISTEXT(DGET(Forespørgsel1[#All],\"\"&LEFT($F16,LEN($F16)-$C16)&\"\",Kredsudvælgelse!$S$2:$T$3))=TRUE,DGET(Forespørgsel1[#All],\"\"&LEFT($F16,LEN($F16)-$C16)&\"\",Kredsudvælgelse!$S$2:$T$3),DGET(Forespørgsel1[#All],\"\"&LEFT($F16,LEN($F16)-$C16)&\"\",Kredsudvælgelse!$S$2:$T$3)/IF(ISNONTEXT($D16)=TRUE,1,DGET(Forespørgsel1[#All],\"\"&$D16&\"\",Kredsudvælgelse!$S$2:$T$3))),IF(ISBLANK(HLOOKUP(L$12,'Statiske ejendomme'!$B$3:$PN$81,'Statiske ejendomme'!$A8,FALSE))=FALSE,HLOOKUP(L$12,'Statiske ejendomme'!$B$3:$PN$81,'Statiske ejendomme'!$A8,FALSE),\"\"))),\"\")","v":""},{"$f":"IFERROR(IF(M$12=Kredsudvælgelse!$Q$20,\"\",IF(Kredsudvælgelse!AD$2=1,IF(ISTEXT(DGET(Forespørgsel1[#All],\"\"&LEFT($F16,LEN($F16)-$C16)&\"\",Kredsudvælgelse!$U$2:$V$3))=TRUE,DGET(Forespørgsel1[#All],\"\"&LEFT($F16,LEN($F16)-$C16)&\"\",Kredsudvælgelse!$U$2:$V$3),DGET(Forespørgsel1[#All],\"\"&LEFT($F16,LEN($F16)-$C16)&\"\",Kredsudvælgelse!$U$2:$V$3)/IF(ISNONTEXT($D16)=TRUE,1,DGET(Forespørgsel1[#All],\"\"&$D16&\"\",Kredsudvælgelse!$U$2:$V$3))),IF(ISBLANK(HLOOKUP(M$12,'Statiske ejendomme'!$B$3:$PN$81,'Statiske ejendomme'!$A8,FALSE))=FALSE,HLOOKUP(M$12,'Statiske ejendomme'!$B$3:$PN$81,'Statiske ejendomme'!$A8,FALSE),\"\"))),\"\")","v":""},{"$f":"IFERROR(IF(N$12=Kredsudvælgelse!$Q$20,\"\",IF(Kredsudvælgelse!AE$2=1,IF(ISTEXT(DGET(Forespørgsel1[#All],\"\"&LEFT($F16,LEN($F16)-$C16)&\"\",Kredsudvælgelse!$W$2:$X$3))=TRUE,DGET(Forespørgsel1[#All],\"\"&LEFT($F16,LEN($F16)-$C16)&\"\",Kredsudvælgelse!$W$2:$X$3),DGET(Forespørgsel1[#All],\"\"&LEFT($F16,LEN($F16)-$C16)&\"\",Kredsudvælgelse!$W$2:$X$3)/IF(ISNONTEXT($D16)=TRUE,1,DGET(Forespørgsel1[#All],\"\"&$D16&\"\",Kredsudvælgelse!$W$2:$X$3))),IF(ISBLANK(HLOOKUP(N$12,'Statiske ejendomme'!$B$3:$PN$81,'Statiske ejendomme'!$A8,FALSE))=FALSE,HLOOKUP(N$12,'Statiske ejendomme'!$B$3:$PN$81,'Statiske ejendomme'!$A8,FALSE),\"\"))),\"\")","v":""},{"$f":"IFERROR(IF(O$12=Kredsudvælgelse!$Q$20,\"\",IF(Kredsudvælgelse!AF$2=1,IF(ISTEXT(DGET(Forespørgsel1[#All],\"\"&LEFT($F16,LEN($F16)-$C16)&\"\",Kredsudvælgelse!$Y$2:$Z$3))=TRUE,DGET(Forespørgsel1[#All],\"\"&LEFT($F16,LEN($F16)-$C16)&\"\",Kredsudvælgelse!$Y$2:$Z$3),DGET(Forespørgsel1[#All],\"\"&LEFT($F16,LEN($F16)-$C16)&\"\",Kredsudvælgelse!$Y$2:$Z$3)/IF(ISNONTEXT($D16)=TRUE,1,DGET(Forespørgsel1[#All],\"\"&$D16&\"\",Kredsudvælgelse!$Y$2:$Z$3))),IF(ISBLANK(HLOOKUP(O$12,'Statiske ejendomme'!$B$3:$PN$81,'Statiske ejendomme'!$A8,FALSE))=FALSE,HLOOKUP(O$12,'Statiske ejendomme'!$B$3:$PN$81,'Statiske ejendomme'!$A8,FALSE),\"\"))),\"\")","v":""},{"$f":"IFERROR(IF(P$12=Kredsudvælgelse!$Q$20,\"\",IF(Kredsudvælgelse!AG$2=1,IF(ISTEXT(DGET(Forespørgsel1[#All],\"\"&LEFT($F16,LEN($F16)-$C16)&\"\",Kredsudvælgelse!$Q$6:$R$7))=TRUE,DGET(Forespørgsel1[#All],\"\"&LEFT($F16,LEN($F16)-$C16)&\"\",Kredsudvælgelse!$Q$6:$R$7),DGET(Forespørgsel1[#All],\"\"&LEFT($F16,LEN($F16)-$C16)&\"\",Kredsudvælgelse!$Q$6:$R$7)/IF(ISNONTEXT($D16)=TRUE,1,DGET(Forespørgsel1[#All],\"\"&$D16&\"\",Kredsudvælgelse!$Q$6:$R$7))),IF(ISBLANK(HLOOKUP(P$12,'Statiske ejendomme'!$B$3:$PN$81,'Statiske ejendomme'!$A8,FALSE))=FALSE,HLOOKUP(P$12,'Statiske ejendomme'!$B$3:$PN$81,'Statiske ejendomme'!$A8,FALSE),\"\"))),\"\")","v":""},{"$f":"IFERROR(IF(Q$12=Kredsudvælgelse!$Q$20,\"\",IF(Kredsudvælgelse!AH$2=1,IF(ISTEXT(DGET(Forespørgsel1[#All],\"\"&LEFT($F16,LEN($F16)-$C16)&\"\",Kredsudvælgelse!$S$6:$T$7))=TRUE,DGET(Forespørgsel1[#All],\"\"&LEFT($F16,LEN($F16)-$C16)&\"\",Kredsudvælgelse!$S$6:$T$7),DGET(Forespørgsel1[#All],\"\"&LEFT($F16,LEN($F16)-$C16)&\"\",Kredsudvælgelse!$S$6:$T$7)/IF(ISNONTEXT($D16)=TRUE,1,DGET(Forespørgsel1[#All],\"\"&$D16&\"\",Kredsudvælgelse!$S$6:$T$7))),IF(ISBLANK(HLOOKUP(Q$12,'Statiske ejendomme'!$B$3:$PN$81,'Statiske ejendomme'!$A8,FALSE))=FALSE,HLOOKUP(Q$12,'Statiske ejendomme'!$B$3:$PN$81,'Statiske ejendomme'!$A8,FALSE),\"\"))),\"\")","v":""},{"$f":"IFERROR(IF(R$12=Kredsudvælgelse!$Q$20,\"\",IF(Kredsudvælgelse!AI$2=1,IF(ISTEXT(DGET(Forespørgsel1[#All],\"\"&LEFT($F16,LEN($F16)-$C16)&\"\",Kredsudvælgelse!$U$6:$V$7))=TRUE,DGET(Forespørgsel1[#All],\"\"&LEFT($F16,LEN($F16)-$C16)&\"\",Kredsudvælgelse!$U$6:$V$7),DGET(Forespørgsel1[#All],\"\"&LEFT($F16,LEN($F16)-$C16)&\"\",Kredsudvælgelse!$U$6:$V$7)/IF(ISNONTEXT($D16)=TRUE,1,DGET(Forespørgsel1[#All],\"\"&$D16&\"\",Kredsudvælgelse!$U$6:$V$7))),IF(ISBLANK(HLOOKUP(R$12,'Statiske ejendomme'!$B$3:$PN$81,'Statiske ejendomme'!$A8,FALSE))=FALSE,HLOOKUP(R$12,'Statiske ejendomme'!$B$3:$PN$81,'Statiske ejendomme'!$A8,FALSE),\"\"))),\"\")","v":""},{"$f":"IFERROR(IF(S$12=Kredsudvælgelse!$Q$20,\"\",IF(Kredsudvælgelse!AJ$2=1,IF(ISTEXT(DGET(Forespørgsel1[#All],\"\"&LEFT($F16,LEN($F16)-$C16)&\"\",Kredsudvælgelse!$W$6:$X$7))=TRUE,DGET(Forespørgsel1[#All],\"\"&LEFT($F16,LEN($F16)-$C16)&\"\",Kredsudvælgelse!$W$6:$X$7),DGET(Forespørgsel1[#All],\"\"&LEFT($F16,LEN($F16)-$C16)&\"\",Kredsudvælgelse!$W$6:$X$7)/IF(ISNONTEXT($D16)=TRUE,1,DGET(Forespørgsel1[#All],\"\"&$D16&\"\",Kredsudvælgelse!$W$6:$X$7))),IF(ISBLANK(HLOOKUP(S$12,'Statiske ejendomme'!$B$3:$PN$81,'Statiske ejendomme'!$A8,FALSE))=FALSE,HLOOKUP(S$12,'Statiske ejendomme'!$B$3:$PN$81,'Statiske ejendomme'!$A8,FALSE),\"\"))),\"\")","v":""},{"$f":"IFERROR(IF(T$12=Kredsudvælgelse!$Q$20,\"\",IF(Kredsudvælgelse!AK$2=1,IF(ISTEXT(DGET(Forespørgsel1[#All],\"\"&LEFT($F16,LEN($F16)-$C16)&\"\",Kredsudvælgelse!$W$6:$X$7))=TRUE,DGET(Forespørgsel1[#All],\"\"&LEFT($F16,LEN($F16)-$C16)&\"\",Kredsudvælgelse!$W$6:$X$7),DGET(Forespørgsel1[#All],\"\"&LEFT($F16,LEN($F16)-$C16)&\"\",Kredsudvælgelse!$W$6:$X$7)/IF(ISNONTEXT($D16)=TRUE,1,DGET(Forespørgsel1[#All],\"\"&$D16&\"\",Kredsudvælgelse!$W$6:$X$7))),IF(ISBLANK(HLOOKUP(T$12,'Statiske ejendomme'!$B$3:$PN$81,'Statiske ejendomme'!$A9,FALSE))=FALSE,HLOOKUP(T$12,'Statiske ejendomme'!$B$3:$PN$81,'Statiske ejendomme'!$A9,FALSE),\"\"))),\"\")","v":""}]
[{"$f":"Mink!E88","v":1},{"$f":"Mink!D88","v":1},{"$f":"Mink!A6","v":9},{"$f":"Mink!B6","v":"Minktæver"},null,{"$f":"Mink!C6","v":"Bruttoudbytte i alt pr. tæve"},{"$f":"Mink!D6","v":2033.6301312348003},{"$f":"Mink!E6","v":2416.3661626331782},{"$f":"Mink!F6","v":""},{"$f":"Mink!G6","v":""},{"$f":"IFERROR(IF(K$12=Kredsudvælgelse!$Q$20,\"\",IF(Kredsudvælgelse!AB$2=1,IF(ISTEXT(DGET(Forespørgsel1[#All],\"\"&LEFT($F17,LEN($F17)-$C17)&\"\",Kredsudvælgelse!$Q$2:$R$3))=TRUE,DGET(Forespørgsel1[#All],\"\"&LEFT($F17,LEN($F17)-$C17)&\"\",Kredsudvælgelse!$Q$2:$R$3),DGET(Forespørgsel1[#All],\"\"&LEFT($F17,LEN($F17)-$C17)&\"\",Kredsudvælgelse!$Q$2:$R$3)/IF(ISNONTEXT($D17)=TRUE,1,DGET(Forespørgsel1[#All],\"\"&$D17&\"\",Kredsudvælgelse!$Q$2:$R$3))),IF(ISBLANK(HLOOKUP(K$12,'Statiske ejendomme'!$B$3:$PN$81,'Statiske ejendomme'!$A9,FALSE))=FALSE,HLOOKUP(K$12,'Statiske ejendomme'!$B$3:$PN$81,'Statiske ejendomme'!$A9,FALSE),\"\"))),\"\")","v":2656.7986666666666},{"$f":"IFERROR(IF(L$12=Kredsudvælgelse!$Q$20,\"\",IF(Kredsudvælgelse!AC$2=1,IF(ISTEXT(DGET(Forespørgsel1[#All],\"\"&LEFT($F17,LEN($F17)-$C17)&\"\",Kredsudvælgelse!$S$2:$T$3))=TRUE,DGET(Forespørgsel1[#All],\"\"&LEFT($F17,LEN($F17)-$C17)&\"\",Kredsudvælgelse!$S$2:$T$3),DGET(Forespørgsel1[#All],\"\"&LEFT($F17,LEN($F17)-$C17)&\"\",Kredsudvælgelse!$S$2:$T$3)/IF(ISNONTEXT($D17)=TRUE,1,DGET(Forespørgsel1[#All],\"\"&$D17&\"\",Kredsudvælgelse!$S$2:$T$3))),IF(ISBLANK(HLOOKUP(L$12,'Statiske ejendomme'!$B$3:$PN$81,'Statiske ejendomme'!$A9,FALSE))=FALSE,HLOOKUP(L$12,'Statiske ejendomme'!$B$3:$PN$81,'Statiske ejendomme'!$A9,FALSE),\"\"))),\"\")","v":2341.2091891891891},{"$f":"IFERROR(IF(M$12=Kredsudvælgelse!$Q$20,\"\",IF(Kredsudvælgelse!AD$2=1,IF(ISTEXT(DGET(Forespørgsel1[#All],\"\"&LEFT($F17,LEN($F17)-$C17)&\"\",Kredsudvælgelse!$U$2:$V$3))=TRUE,DGET(Forespørgsel1[#All],\"\"&LEFT($F17,LEN($F17)-$C17)&\"\",Kredsudvælgelse!$U$2:$V$3),DGET(Forespørgsel1[#All],\"\"&LEFT($F17,LEN($F17)-$C17)&\"\",Kredsudvælgelse!$U$2:$V$3)/IF(ISNONTEXT($D17)=TRUE,1,DGET(Forespørgsel1[#All],\"\"&$D17&\"\",Kredsudvælgelse!$U$2:$V$3))),IF(ISBLANK(HLOOKUP(M$12,'Statiske ejendomme'!$B$3:$PN$81,'Statiske ejendomme'!$A9,FALSE))=FALSE,HLOOKUP(M$12,'Statiske ejendomme'!$B$3:$PN$81,'Statiske ejendomme'!$A9,FALSE),\"\"))),\"\")","v":2660.1147368421052},{"$f":"IFERROR(IF(N$12=Kredsudvælgelse!$Q$20,\"\",IF(Kredsudvælgelse!AE$2=1,IF(ISTEXT(DGET(Forespørgsel1[#All],\"\"&LEFT($F17,LEN($F17)-$C17)&\"\",Kredsudvælgelse!$W$2:$X$3))=TRUE,DGET(Forespørgsel1[#All],\"\"&LEFT($F17,LEN($F17)-$C17)&\"\",Kredsudvælgelse!$W$2:$X$3),DGET(Forespørgsel1[#All],\"\"&LEFT($F17,LEN($F17)-$C17)&\"\",Kredsudvælgelse!$W$2:$X$3)/IF(ISNONTEXT($D17)=TRUE,1,DGET(Forespørgsel1[#All],\"\"&$D17&\"\",Kredsudvælgelse!$W$2:$X$3))),IF(ISBLANK(HLOOKUP(N$12,'Statiske ejendomme'!$B$3:$PN$81,'Statiske ejendomme'!$A9,FALSE))=FALSE,HLOOKUP(N$12,'Statiske ejendomme'!$B$3:$PN$81,'Statiske ejendomme'!$A9,FALSE),\"\"))),\"\")","v":2127.5685294117648},{"$f":"IFERROR(IF(O$12=Kredsudvælgelse!$Q$20,\"\",IF(Kredsudvælgelse!AF$2=1,IF(ISTEXT(DGET(Forespørgsel1[#All],\"\"&LEFT($F17,LEN($F17)-$C17)&\"\",Kredsudvælgelse!$Y$2:$Z$3))=TRUE,DGET(Forespørgsel1[#All],\"\"&LEFT($F17,LEN($F17)-$C17)&\"\",Kredsudvælgelse!$Y$2:$Z$3),DGET(Forespørgsel1[#All],\"\"&LEFT($F17,LEN($F17)-$C17)&\"\",Kredsudvælgelse!$Y$2:$Z$3)/IF(ISNONTEXT($D17)=TRUE,1,DGET(Forespørgsel1[#All],\"\"&$D17&\"\",Kredsudvælgelse!$Y$2:$Z$3))),IF(ISBLANK(HLOOKUP(O$12,'Statiske ejendomme'!$B$3:$PN$81,'Statiske ejendomme'!$A9,FALSE))=FALSE,HLOOKUP(O$12,'Statiske ejendomme'!$B$3:$PN$81,'Statiske ejendomme'!$A9,FALSE),\"\"))),\"\")","v":2684.2288319583154},{"$f":"IFERROR(IF(P$12=Kredsudvælgelse!$Q$20,\"\",IF(Kredsudvælgelse!AG$2=1,IF(ISTEXT(DGET(Forespørgsel1[#All],\"\"&LEFT($F17,LEN($F17)-$C17)&\"\",Kredsudvælgelse!$Q$6:$R$7))=TRUE,DGET(Forespørgsel1[#All],\"\"&LEFT($F17,LEN($F17)-$C17)&\"\",Kredsudvælgelse!$Q$6:$R$7),DGET(Forespørgsel1[#All],\"\"&LEFT($F17,LEN($F17)-$C17)&\"\",Kredsudvælgelse!$Q$6:$R$7)/IF(ISNONTEXT($D17)=TRUE,1,DGET(Forespørgsel1[#All],\"\"&$D17&\"\",Kredsudvælgelse!$Q$6:$R$7))),IF(ISBLANK(HLOOKUP(P$12,'Statiske ejendomme'!$B$3:$PN$81,'Statiske ejendomme'!$A9,FALSE))=FALSE,HLOOKUP(P$12,'Statiske ejendomme'!$B$3:$PN$81,'Statiske ejendomme'!$A9,FALSE),\"\"))),\"\")","v":2361.7313461538461},{"$f":"IFERROR(IF(Q$12=Kredsudvælgelse!$Q$20,\"\",IF(Kredsudvælgelse!AH$2=1,IF(ISTEXT(DGET(Forespørgsel1[#All],\"\"&LEFT($F17,LEN($F17)-$C17)&\"\",Kredsudvælgelse!$S$6:$T$7))=TRUE,DGET(Forespørgsel1[#All],\"\"&LEFT($F17,LEN($F17)-$C17)&\"\",Kredsudvælgelse!$S$6:$T$7),DGET(Forespørgsel1[#All],\"\"&LEFT($F17,LEN($F17)-$C17)&\"\",Kredsudvælgelse!$S$6:$T$7)/IF(ISNONTEXT($D17)=TRUE,1,DGET(Forespørgsel1[#All],\"\"&$D17&\"\",Kredsudvælgelse!$S$6:$T$7))),IF(ISBLANK(HLOOKUP(Q$12,'Statiske ejendomme'!$B$3:$PN$81,'Statiske ejendomme'!$A9,FALSE))=FALSE,HLOOKUP(Q$12,'Statiske ejendomme'!$B$3:$PN$81,'Statiske ejendomme'!$A9,FALSE),\"\"))),\"\")","v":2551.7978647686832},{"$f":"IFERROR(IF(R$12=Kredsudvælgelse!$Q$20,\"\",IF(Kredsudvælgelse!AI$2=1,IF(ISTEXT(DGET(Forespørgsel1[#All],\"\"&LEFT($F17,LEN($F17)-$C17)&\"\",Kredsudvælgelse!$U$6:$V$7))=TRUE,DGET(Forespørgsel1[#All],\"\"&LEFT($F17,LEN($F17)-$C17)&\"\",Kredsudvælgelse!$U$6:$V$7),DGET(Forespørgsel1[#All],\"\"&LEFT($F17,LEN($F17)-$C17)&\"\",Kredsudvælgelse!$U$6:$V$7)/IF(ISNONTEXT($D17)=TRUE,1,DGET(Forespørgsel1[#All],\"\"&$D17&\"\",Kredsudvælgelse!$U$6:$V$7))),IF(ISBLANK(HLOOKUP(R$12,'Statiske ejendomme'!$B$3:$PN$81,'Statiske ejendomme'!$A9,FALSE))=FALSE,HLOOKUP(R$12,'Statiske ejendomme'!$B$3:$PN$81,'Statiske ejendomme'!$A9,FALSE),\"\"))),\"\")","v":2441.374642857143},{"$f":"IFERROR(IF(S$12=Kredsudvælgelse!$Q$20,\"\",IF(Kredsudvælgelse!AJ$2=1,IF(ISTEXT(DGET(Forespørgsel1[#All],\"\"&LEFT($F17,LEN($F17)-$C17)&\"\",Kredsudvælgelse!$W$6:$X$7))=TRUE,DGET(Forespørgsel1[#All],\"\"&LEFT($F17,LEN($F17)-$C17)&\"\",Kredsudvælgelse!$W$6:$X$7),DGET(Forespørgsel1[#All],\"\"&LEFT($F17,LEN($F17)-$C17)&\"\",Kredsudvælgelse!$W$6:$X$7)/IF(ISNONTEXT($D17)=TRUE,1,DGET(Forespørgsel1[#All],\"\"&$D17&\"\",Kredsudvælgelse!$W$6:$X$7))),IF(ISBLANK(HLOOKUP(S$12,'Statiske ejendomme'!$B$3:$PN$81,'Statiske ejendomme'!$A9,FALSE))=FALSE,HLOOKUP(S$12,'Statiske ejendomme'!$B$3:$PN$81,'Statiske ejendomme'!$A9,FALSE),\"\"))),\"\")","v":""},{"$f":"IFERROR(IF(T$12=Kredsudvælgelse!$Q$20,\"\",IF(Kredsudvælgelse!AK$2=1,IF(ISTEXT(DGET(Forespørgsel1[#All],\"\"&LEFT($F17,LEN($F17)-$C17)&\"\",Kredsudvælgelse!$W$6:$X$7))=TRUE,DGET(Forespørgsel1[#All],\"\"&LEFT($F17,LEN($F17)-$C17)&\"\",Kredsudvælgelse!$W$6:$X$7),DGET(Forespørgsel1[#All],\"\"&LEFT($F17,LEN($F17)-$C17)&\"\",Kredsudvælgelse!$W$6:$X$7)/IF(ISNONTEXT($D17)=TRUE,1,DGET(Forespørgsel1[#All],\"\"&$D17&\"\",Kredsudvælgelse!$W$6:$X$7))),IF(ISBLANK(HLOOKUP(T$12,'Statiske ejendomme'!$B$3:$PN$81,'Statiske ejendomme'!$A10,FALSE))=FALSE,HLOOKUP(T$12,'Statiske ejendomme'!$B$3:$PN$81,'Statiske ejendomme'!$A10,FALSE),\"\"))),\"\")","v":""}]
[{"$f":"Mink!E89","v":1},{"$f":"Mink!D89","v":1},{"$f":"Mink!A7","v":9},{"$f":"Mink!B7","v":"Minktæver"},null,{"$f":"Mink!C7","v":"Stykomkostninger i alt pr. tæve"},{"$f":"Mink!D7","v":-807.64058183820498},{"$f":"Mink!E7","v":-859.92600593124155},{"$f":"Mink!F7","v":""},{"$f":"Mink!G7","v":""},{"$f":"IFERROR(IF(K$12=Kredsudvælgelse!$Q$20,\"\",IF(Kredsudvælgelse!AB$2=1,IF(ISTEXT(DGET(Forespørgsel1[#All],\"\"&LEFT($F18,LEN($F18)-$C18)&\"\",Kredsudvælgelse!$Q$2:$R$3))=TRUE,DGET(Forespørgsel1[#All],\"\"&LEFT($F18,LEN($F18)-$C18)&\"\",Kredsudvælgelse!$Q$2:$R$3),DGET(Forespørgsel1[#All],\"\"&LEFT($F18,LEN($F18)-$C18)&\"\",Kredsudvælgelse!$Q$2:$R$3)/IF(ISNONTEXT($D18)=TRUE,1,DGET(Forespørgsel1[#All],\"\"&$D18&\"\",Kredsudvælgelse!$Q$2:$R$3))),IF(ISBLANK(HLOOKUP(K$12,'Statiske ejendomme'!$B$3:$PN$81,'Statiske ejendomme'!$A10,FALSE))=FALSE,HLOOKUP(K$12,'Statiske ejendomme'!$B$3:$PN$81,'Statiske ejendomme'!$A10,FALSE),\"\"))),\"\")","v":-821.09400000000005},{"$f":"IFERROR(IF(L$12=Kredsudvælgelse!$Q$20,\"\",IF(Kredsudvælgelse!AC$2=1,IF(ISTEXT(DGET(Forespørgsel1[#All],\"\"&LEFT($F18,LEN($F18)-$C18)&\"\",Kredsudvælgelse!$S$2:$T$3))=TRUE,DGET(Forespørgsel1[#All],\"\"&LEFT($F18,LEN($F18)-$C18)&\"\",Kredsudvælgelse!$S$2:$T$3),DGET(Forespørgsel1[#All],\"\"&LEFT($F18,LEN($F18)-$C18)&\"\",Kredsudvælgelse!$S$2:$T$3)/IF(ISNONTEXT($D18)=TRUE,1,DGET(Forespørgsel1[#All],\"\"&$D18&\"\",Kredsudvælgelse!$S$2:$T$3))),IF(ISBLANK(HLOOKUP(L$12,'Statiske ejendomme'!$B$3:$PN$81,'Statiske ejendomme'!$A10,FALSE))=FALSE,HLOOKUP(L$12,'Statiske ejendomme'!$B$3:$PN$81,'Statiske ejendomme'!$A10,FALSE),\"\"))),\"\")","v":-787.84756756756758},{"$f":"IFERROR(IF(M$12=Kredsudvælgelse!$Q$20,\"\",IF(Kredsudvælgelse!AD$2=1,IF(ISTEXT(DGET(Forespørgsel1[#All],\"\"&LEFT($F18,LEN($F18)-$C18)&\"\",Kredsudvælgelse!$U$2:$V$3))=TRUE,DGET(Forespørgsel1[#All],\"\"&LEFT($F18,LEN($F18)-$C18)&\"\",Kredsudvælgelse!$U$2:$V$3),DGET(Forespørgsel1[#All],\"\"&LEFT($F18,LEN($F18)-$C18)&\"\",Kredsudvælgelse!$U$2:$V$3)/IF(ISNONTEXT($D18)=TRUE,1,DGET(Forespørgsel1[#All],\"\"&$D18&\"\",Kredsudvælgelse!$U$2:$V$3))),IF(ISBLANK(HLOOKUP(M$12,'Statiske ejendomme'!$B$3:$PN$81,'Statiske ejendomme'!$A10,FALSE))=FALSE,HLOOKUP(M$12,'Statiske ejendomme'!$B$3:$PN$81,'Statiske ejendomme'!$A10,FALSE),\"\"))),\"\")","v":-877.3105263157895},{"$f":"IFERROR(IF(N$12=Kredsudvælgelse!$Q$20,\"\",IF(Kredsudvælgelse!AE$2=1,IF(ISTEXT(DGET(Forespørgsel1[#All],\"\"&LEFT($F18,LEN($F18)-$C18)&\"\",Kredsudvælgelse!$W$2:$X$3))=TRUE,DGET(Forespørgsel1[#All],\"\"&LEFT($F18,LEN($F18)-$C18)&\"\",Kredsudvælgelse!$W$2:$X$3),DGET(Forespørgsel1[#All],\"\"&LEFT($F18,LEN($F18)-$C18)&\"\",Kredsudvælgelse!$W$2:$X$3)/IF(ISNONTEXT($D18)=TRUE,1,DGET(Forespørgsel1[#All],\"\"&$D18&\"\",Kredsudvælgelse!$W$2:$X$3))),IF(ISBLANK(HLOOKUP(N$12,'Statiske ejendomme'!$B$3:$PN$81,'Statiske ejendomme'!$A10,FALSE))=FALSE,HLOOKUP(N$12,'Statiske ejendomme'!$B$3:$PN$81,'Statiske ejendomme'!$A10,FALSE),\"\"))),\"\")","v":-842.36470588235295},{"$f":"IFERROR(IF(O$12=Kredsudvælgelse!$Q$20,\"\",IF(Kredsudvælgelse!AF$2=1,IF(ISTEXT(DGET(Forespørgsel1[#All],\"\"&LEFT($F18,LEN($F18)-$C18)&\"\",Kredsudvælgelse!$Y$2:$Z$3))=TRUE,DGET(Forespørgsel1[#All],\"\"&LEFT($F18,LEN($F18)-$C18)&\"\",Kredsudvælgelse!$Y$2:$Z$3),DGET(Forespørgsel1[#All],\"\"&LEFT($F18,LEN($F18)-$C18)&\"\",Kredsudvælgelse!$Y$2:$Z$3)/IF(ISNONTEXT($D18)=TRUE,1,DGET(Forespørgsel1[#All],\"\"&$D18&\"\",Kredsudvælgelse!$Y$2:$Z$3))),IF(ISBLANK(HLOOKUP(O$12,'Statiske ejendomme'!$B$3:$PN$81,'Statiske ejendomme'!$A10,FALSE))=FALSE,HLOOKUP(O$12,'Statiske ejendomme'!$B$3:$PN$81,'Statiske ejendomme'!$A10,FALSE),\"\"))),\"\")","v":-931.49283543204513},{"$f":"IFERROR(IF(P$12=Kredsudvælgelse!$Q$20,\"\",IF(Kredsudvælgelse!AG$2=1,IF(ISTEXT(DGET(Forespørgsel1[#All],\"\"&LEFT($F18,LEN($F18)-$C18)&\"\",Kredsudvælgelse!$Q$6:$R$7))=TRUE,DGET(Forespørgsel1[#All],\"\"&LEFT($F18,LEN($F18)-$C18)&\"\",Kredsudvælgelse!$Q$6:$R$7),DGET(Forespørgsel1[#All],\"\"&LEFT($F18,LEN($F18)-$C18)&\"\",Kredsudvælgelse!$Q$6:$R$7)/IF(ISNONTEXT($D18)=TRUE,1,DGET(Forespørgsel1[#All],\"\"&$D18&\"\",Kredsudvælgelse!$Q$6:$R$7))),IF(ISBLANK(HLOOKUP(P$12,'Statiske ejendomme'!$B$3:$PN$81,'Statiske ejendomme'!$A10,FALSE))=FALSE,HLOOKUP(P$12,'Statiske ejendomme'!$B$3:$PN$81,'Statiske ejendomme'!$A10,FALSE),\"\"))),\"\")","v":-808.46980769230765},{"$f":"IFERROR(IF(Q$12=Kredsudvælgelse!$Q$20,\"\",IF(Kredsudvælgelse!AH$2=1,IF(ISTEXT(DGET(Forespørgsel1[#All],\"\"&LEFT($F18,LEN($F18)-$C18)&\"\",Kredsudvælgelse!$S$6:$T$7))=TRUE,DGET(Forespørgsel1[#All],\"\"&LEFT($F18,LEN($F18)-$C18)&\"\",Kredsudvælgelse!$S$6:$T$7),DGET(Forespørgsel1[#All],\"\"&LEFT($F18,LEN($F18)-$C18)&\"\",Kredsudvælgelse!$S$6:$T$7)/IF(ISNONTEXT($D18)=TRUE,1,DGET(Forespørgsel1[#All],\"\"&$D18&\"\",Kredsudvælgelse!$S$6:$T$7))),IF(ISBLANK(HLOOKUP(Q$12,'Statiske ejendomme'!$B$3:$PN$81,'Statiske ejendomme'!$A10,FALSE))=FALSE,HLOOKUP(Q$12,'Statiske ejendomme'!$B$3:$PN$81,'Statiske ejendomme'!$A10,FALSE),\"\"))),\"\")","v":-1028.1071174377223},{"$f":"IFERROR(IF(R$12=Kredsudvælgelse!$Q$20,\"\",IF(Kredsudvælgelse!AI$2=1,IF(ISTEXT(DGET(Forespørgsel1[#All],\"\"&LEFT($F18,LEN($F18)-$C18)&\"\",Kredsudvælgelse!$U$6:$V$7))=TRUE,DGET(Forespørgsel1[#All],\"\"&LEFT($F18,LEN($F18)-$C18)&\"\",Kredsudvælgelse!$U$6:$V$7),DGET(Forespørgsel1[#All],\"\"&LEFT($F18,LEN($F18)-$C18)&\"\",Kredsudvælgelse!$U$6:$V$7)/IF(ISNONTEXT($D18)=TRUE,1,DGET(Forespørgsel1[#All],\"\"&$D18&\"\",Kredsudvælgelse!$U$6:$V$7))),IF(ISBLANK(HLOOKUP(R$12,'Statiske ejendomme'!$B$3:$PN$81,'Statiske ejendomme'!$A10,FALSE))=FALSE,HLOOKUP(R$12,'Statiske ejendomme'!$B$3:$PN$81,'Statiske ejendomme'!$A10,FALSE),\"\"))),\"\")","v":-842.67964285714288},{"$f":"IFERROR(IF(S$12=Kredsudvælgelse!$Q$20,\"\",IF(Kredsudvælgelse!AJ$2=1,IF(ISTEXT(DGET(Forespørgsel1[#All],\"\"&LEFT($F18,LEN($F18)-$C18)&\"\",Kredsudvælgelse!$W$6:$X$7))=TRUE,DGET(Forespørgsel1[#All],\"\"&LEFT($F18,LEN($F18)-$C18)&\"\",Kredsudvælgelse!$W$6:$X$7),DGET(Forespørgsel1[#All],\"\"&LEFT($F18,LEN($F18)-$C18)&\"\",Kredsudvælgelse!$W$6:$X$7)/IF(ISNONTEXT($D18)=TRUE,1,DGET(Forespørgsel1[#All],\"\"&$D18&\"\",Kredsudvælgelse!$W$6:$X$7))),IF(ISBLANK(HLOOKUP(S$12,'Statiske ejendomme'!$B$3:$PN$81,'Statiske ejendomme'!$A10,FALSE))=FALSE,HLOOKUP(S$12,'Statiske ejendomme'!$B$3:$PN$81,'Statiske ejendomme'!$A10,FALSE),\"\"))),\"\")","v":""},{"$f":"IFERROR(IF(T$12=Kredsudvælgelse!$Q$20,\"\",IF(Kredsudvælgelse!AK$2=1,IF(ISTEXT(DGET(Forespørgsel1[#All],\"\"&LEFT($F18,LEN($F18)-$C18)&\"\",Kredsudvælgelse!$W$6:$X$7))=TRUE,DGET(Forespørgsel1[#All],\"\"&LEFT($F18,LEN($F18)-$C18)&\"\",Kredsudvælgelse!$W$6:$X$7),DGET(Forespørgsel1[#All],\"\"&LEFT($F18,LEN($F18)-$C18)&\"\",Kredsudvælgelse!$W$6:$X$7)/IF(ISNONTEXT($D18)=TRUE,1,DGET(Forespørgsel1[#All],\"\"&$D18&\"\",Kredsudvælgelse!$W$6:$X$7))),IF(ISBLANK(HLOOKUP(T$12,'Statiske ejendomme'!$B$3:$PN$81,'Statiske ejendomme'!$A11,FALSE))=FALSE,HLOOKUP(T$12,'Statiske ejendomme'!$B$3:$PN$81,'Statiske ejendomme'!$A11,FALSE),\"\"))),\"\")","v":""}]
[{"$f":"Mink!E90","v":1},{"$f":"Mink!D90","v":1},{"$f":"Mink!A8","v":9},{"$f":"Mink!B8","v":"Minktæver"},null,{"$f":"Mink!C8","v":"Dækningsbidrag pr. tæve"},{"$f":"Mink!D8","v":1225.9895493965953},{"$f":"Mink!E8","v":1556.4401567019368},{"$f":"Mink!F8","v":""},{"$f":"Mink!G8","v":""},{"$f":"IFERROR(IF(K$12=Kredsudvælgelse!$Q$20,\"\",IF(Kredsudvælgelse!AB$2=1,IF(ISTEXT(DGET(Forespørgsel1[#All],\"\"&LEFT($F19,LEN($F19)-$C19)&\"\",Kredsudvælgelse!$Q$2:$R$3))=TRUE,DGET(Forespørgsel1[#All],\"\"&LEFT($F19,LEN($F19)-$C19)&\"\",Kredsudvælgelse!$Q$2:$R$3),DGET(Forespørgsel1[#All],\"\"&LEFT($F19,LEN($F19)-$C19)&\"\",Kredsudvælgelse!$Q$2:$R$3)/IF(ISNONTEXT($D19)=TRUE,1,DGET(Forespørgsel1[#All],\"\"&$D19&\"\",Kredsudvælgelse!$Q$2:$R$3))),IF(ISBLANK(HLOOKUP(K$12,'Statiske ejendomme'!$B$3:$PN$81,'Statiske ejendomme'!$A11,FALSE))=FALSE,HLOOKUP(K$12,'Statiske ejendomme'!$B$3:$PN$81,'Statiske ejendomme'!$A11,FALSE),\"\"))),\"\")","v":1835.7046666666668},{"$f":"IFERROR(IF(L$12=Kredsudvælgelse!$Q$20,\"\",IF(Kredsudvælgelse!AC$2=1,IF(ISTEXT(DGET(Forespørgsel1[#All],\"\"&LEFT($F19,LEN($F19)-$C19)&\"\",Kredsudvælgelse!$S$2:$T$3))=TRUE,DGET(Forespørgsel1[#All],\"\"&LEFT($F19,LEN($F19)-$C19)&\"\",Kredsudvælgelse!$S$2:$T$3),DGET(Forespørgsel1[#All],\"\"&LEFT($F19,LEN($F19)-$C19)&\"\",Kredsudvælgelse!$S$2:$T$3)/IF(ISNONTEXT($D19)=TRUE,1,DGET(Forespørgsel1[#All],\"\"&$D19&\"\",Kredsudvælgelse!$S$2:$T$3))),IF(ISBLANK(HLOOKUP(L$12,'Statiske ejendomme'!$B$3:$PN$81,'Statiske ejendomme'!$A11,FALSE))=FALSE,HLOOKUP(L$12,'Statiske ejendomme'!$B$3:$PN$81,'Statiske ejendomme'!$A11,FALSE),\"\"))),\"\")","v":1553.3616216216217},{"$f":"IFERROR(IF(M$12=Kredsudvælgelse!$Q$20,\"\",IF(Kredsudvælgelse!AD$2=1,IF(ISTEXT(DGET(Forespørgsel1[#All],\"\"&LEFT($F19,LEN($F19)-$C19)&\"\",Kredsudvælgelse!$U$2:$V$3))=TRUE,DGET(Forespørgsel1[#All],\"\"&LEFT($F19,LEN($F19)-$C19)&\"\",Kredsudvælgelse!$U$2:$V$3),DGET(Forespørgsel1[#All],\"\"&LEFT($F19,LEN($F19)-$C19)&\"\",Kredsudvælgelse!$U$2:$V$3)/IF(ISNONTEXT($D19)=TRUE,1,DGET(Forespørgsel1[#All],\"\"&$D19&\"\",Kredsudvælgelse!$U$2:$V$3))),IF(ISBLANK(HLOOKUP(M$12,'Statiske ejendomme'!$B$3:$PN$81,'Statiske ejendomme'!$A11,FALSE))=FALSE,HLOOKUP(M$12,'Statiske ejendomme'!$B$3:$PN$81,'Statiske ejendomme'!$A11,FALSE),\"\"))),\"\")","v":1782.8042105263157},{"$f":"IFERROR(IF(N$12=Kredsudvælgelse!$Q$20,\"\",IF(Kredsudvælgelse!AE$2=1,IF(ISTEXT(DGET(Forespørgsel1[#All],\"\"&LEFT($F19,LEN($F19)-$C19)&\"\",Kredsudvælgelse!$W$2:$X$3))=TRUE,DGET(Forespørgsel1[#All],\"\"&LEFT($F19,LEN($F19)-$C19)&\"\",Kredsudvælgelse!$W$2:$X$3),DGET(Forespørgsel1[#All],\"\"&LEFT($F19,LEN($F19)-$C19)&\"\",Kredsudvælgelse!$W$2:$X$3)/IF(ISNONTEXT($D19)=TRUE,1,DGET(Forespørgsel1[#All],\"\"&$D19&\"\",Kredsudvælgelse!$W$2:$X$3))),IF(ISBLANK(HLOOKUP(N$12,'Statiske ejendomme'!$B$3:$PN$81,'Statiske ejendomme'!$A11,FALSE))=FALSE,HLOOKUP(N$12,'Statiske ejendomme'!$B$3:$PN$81,'Statiske ejendomme'!$A11,FALSE),\"\"))),\"\")","v":1285.2038235294117},{"$f":"IFERROR(IF(O$12=Kredsudvælgelse!$Q$20,\"\",IF(Kredsudvælgelse!AF$2=1,IF(ISTEXT(DGET(Forespørgsel1[#All],\"\"&LEFT($F19,LEN($F19)-$C19)&\"\",Kredsudvælgelse!$Y$2:$Z$3))=TRUE,DGET(Forespørgsel1[#All],\"\"&LEFT($F19,LEN($F19)-$C19)&\"\",Kredsudvælgelse!$Y$2:$Z$3),DGET(Forespørgsel1[#All],\"\"&LEFT($F19,LEN($F19)-$C19)&\"\",Kredsudvælgelse!$Y$2:$Z$3)/IF(ISNONTEXT($D19)=TRUE,1,DGET(Forespørgsel1[#All],\"\"&$D19&\"\",Kredsudvælgelse!$Y$2:$Z$3))),IF(ISBLANK(HLOOKUP(O$12,'Statiske ejendomme'!$B$3:$PN$81,'Statiske ejendomme'!$A11,FALSE))=FALSE,HLOOKUP(O$12,'Statiske ejendomme'!$B$3:$PN$81,'Statiske ejendomme'!$A11,FALSE),\"\"))),\"\")","v":1752.7359965262701},{"$f":"IFERROR(IF(P$12=Kredsudvælgelse!$Q$20,\"\",IF(Kredsudvælgelse!AG$2=1,IF(ISTEXT(DGET(Forespørgsel1[#All],\"\"&LEFT($F19,LEN($F19)-$C19)&\"\",Kredsudvælgelse!$Q$6:$R$7))=TRUE,DGET(Forespørgsel1[#All],\"\"&LEFT($F19,LEN($F19)-$C19)&\"\",Kredsudvælgelse!$Q$6:$R$7),DGET(Forespørgsel1[#All],\"\"&LEFT($F19,LEN($F19)-$C19)&\"\",Kredsudvælgelse!$Q$6:$R$7)/IF(ISNONTEXT($D19)=TRUE,1,DGET(Forespørgsel1[#All],\"\"&$D19&\"\",Kredsudvælgelse!$Q$6:$R$7))),IF(ISBLANK(HLOOKUP(P$12,'Statiske ejendomme'!$B$3:$PN$81,'Statiske ejendomme'!$A11,FALSE))=FALSE,HLOOKUP(P$12,'Statiske ejendomme'!$B$3:$PN$81,'Statiske ejendomme'!$A11,FALSE),\"\"))),\"\")","v":1553.2615384615385},{"$f":"IFERROR(IF(Q$12=Kredsudvælgelse!$Q$20,\"\",IF(Kredsudvælgelse!AH$2=1,IF(ISTEXT(DGET(Forespørgsel1[#All],\"\"&LEFT($F19,LEN($F19)-$C19)&\"\",Kredsudvælgelse!$S$6:$T$7))=TRUE,DGET(Forespørgsel1[#All],\"\"&LEFT($F19,LEN($F19)-$C19)&\"\",Kredsudvælgelse!$S$6:$T$7),DGET(Forespørgsel1[#All],\"\"&LEFT($F19,LEN($F19)-$C19)&\"\",Kredsudvælgelse!$S$6:$T$7)/IF(ISNONTEXT($D19)=TRUE,1,DGET(Forespørgsel1[#All],\"\"&$D19&\"\",Kredsudvælgelse!$S$6:$T$7))),IF(ISBLANK(HLOOKUP(Q$12,'Statiske ejendomme'!$B$3:$PN$81,'Statiske ejendomme'!$A11,FALSE))=FALSE,HLOOKUP(Q$12,'Statiske ejendomme'!$B$3:$PN$81,'Statiske ejendomme'!$A11,FALSE),\"\"))),\"\")","v":1523.6907473309609},{"$f":"IFERROR(IF(R$12=Kredsudvælgelse!$Q$20,\"\",IF(Kredsudvælgelse!AI$2=1,IF(ISTEXT(DGET(Forespørgsel1[#All],\"\"&LEFT($F19,LEN($F19)-$C19)&\"\",Kredsudvælgelse!$U$6:$V$7))=TRUE,DGET(Forespørgsel1[#All],\"\"&LEFT($F19,LEN($F19)-$C19)&\"\",Kredsudvælgelse!$U$6:$V$7),DGET(Forespørgsel1[#All],\"\"&LEFT($F19,LEN($F19)-$C19)&\"\",Kredsudvælgelse!$U$6:$V$7)/IF(ISNONTEXT($D19)=TRUE,1,DGET(Forespørgsel1[#All],\"\"&$D19&\"\",Kredsudvælgelse!$U$6:$V$7))),IF(ISBLANK(HLOOKUP(R$12,'Statiske ejendomme'!$B$3:$PN$81,'Statiske ejendomme'!$A11,FALSE))=FALSE,HLOOKUP(R$12,'Statiske ejendomme'!$B$3:$PN$81,'Statiske ejendomme'!$A11,FALSE),\"\"))),\"\")","v":1598.6949999999999},{"$f":"IFERROR(IF(S$12=Kredsudvælgelse!$Q$20,\"\",IF(Kredsudvælgelse!AJ$2=1,IF(ISTEXT(DGET(Forespørgsel1[#All],\"\"&LEFT($F19,LEN($F19)-$C19)&\"\",Kredsudvælgelse!$W$6:$X$7))=TRUE,DGET(Forespørgsel1[#All],\"\"&LEFT($F19,LEN($F19)-$C19)&\"\",Kredsudvælgelse!$W$6:$X$7),DGET(Forespørgsel1[#All],\"\"&LEFT($F19,LEN($F19)-$C19)&\"\",Kredsudvælgelse!$W$6:$X$7)/IF(ISNONTEXT($D19)=TRUE,1,DGET(Forespørgsel1[#All],\"\"&$D19&\"\",Kredsudvælgelse!$W$6:$X$7))),IF(ISBLANK(HLOOKUP(S$12,'Statiske ejendomme'!$B$3:$PN$81,'Statiske ejendomme'!$A11,FALSE))=FALSE,HLOOKUP(S$12,'Statiske ejendomme'!$B$3:$PN$81,'Statiske ejendomme'!$A11,FALSE),\"\"))),\"\")","v":""},{"$f":"IFERROR(IF(T$12=Kredsudvælgelse!$Q$20,\"\",IF(Kredsudvælgelse!AK$2=1,IF(ISTEXT(DGET(Forespørgsel1[#All],\"\"&LEFT($F19,LEN($F19)-$C19)&\"\",Kredsudvælgelse!$W$6:$X$7))=TRUE,DGET(Forespørgsel1[#All],\"\"&LEFT($F19,LEN($F19)-$C19)&\"\",Kredsudvælgelse!$W$6:$X$7),DGET(Forespørgsel1[#All],\"\"&LEFT($F19,LEN($F19)-$C19)&\"\",Kredsudvælgelse!$W$6:$X$7)/IF(ISNONTEXT($D19)=TRUE,1,DGET(Forespørgsel1[#All],\"\"&$D19&\"\",Kredsudvælgelse!$W$6:$X$7))),IF(ISBLANK(HLOOKUP(T$12,'Statiske ejendomme'!$B$3:$PN$81,'Statiske ejendomme'!$A12,FALSE))=FALSE,HLOOKUP(T$12,'Statiske ejendomme'!$B$3:$PN$81,'Statiske ejendomme'!$A12,FALSE),\"\"))),\"\")","v":""}]
[{"$f":"Mink!E91","v":1},{"$f":"Mink!D91","v":1},{"$f":"Mink!A9","v":9},{"$f":"Mink!B9","v":"Minktæver"},null,{"$f":"Mink!C9","v":"Kapacitetsomkostninger i alt pr. tæve"},{"$f":"Mink!D9","v":-594.53812003854443},{"$f":"Mink!E9","v":-434.28437008018159},{"$f":"Mink!F9","v":""},{"$f":"Mink!G9","v":""},{"$f":"IFERROR(IF(K$12=Kredsudvælgelse!$Q$20,\"\",IF(Kredsudvælgelse!AB$2=1,IF(ISTEXT(DGET(Forespørgsel1[#All],\"\"&LEFT($F20,LEN($F20)-$C20)&\"\",Kredsudvælgelse!$Q$2:$R$3))=TRUE,DGET(Forespørgsel1[#All],\"\"&LEFT($F20,LEN($F20)-$C20)&\"\",Kredsudvælgelse!$Q$2:$R$3),DGET(Forespørgsel1[#All],\"\"&LEFT($F20,LEN($F20)-$C20)&\"\",Kredsudvælgelse!$Q$2:$R$3)/IF(ISNONTEXT($D20)=TRUE,1,DGET(Forespørgsel1[#All],\"\"&$D20&\"\",Kredsudvælgelse!$Q$2:$R$3))),IF(ISBLANK(HLOOKUP(K$12,'Statiske ejendomme'!$B$3:$PN$81,'Statiske ejendomme'!$A12,FALSE))=FALSE,HLOOKUP(K$12,'Statiske ejendomme'!$B$3:$PN$81,'Statiske ejendomme'!$A12,FALSE),\"\"))),\"\")","v":-400.21133333333336},{"$f":"IFERROR(IF(L$12=Kredsudvælgelse!$Q$20,\"\",IF(Kredsudvælgelse!AC$2=1,IF(ISTEXT(DGET(Forespørgsel1[#All],\"\"&LEFT($F20,LEN($F20)-$C20)&\"\",Kredsudvælgelse!$S$2:$T$3))=TRUE,DGET(Forespørgsel1[#All],\"\"&LEFT($F20,LEN($F20)-$C20)&\"\",Kredsudvælgelse!$S$2:$T$3),DGET(Forespørgsel1[#All],\"\"&LEFT($F20,LEN($F20)-$C20)&\"\",Kredsudvælgelse!$S$2:$T$3)/IF(ISNONTEXT($D20)=TRUE,1,DGET(Forespørgsel1[#All],\"\"&$D20&\"\",Kredsudvælgelse!$S$2:$T$3))),IF(ISBLANK(HLOOKUP(L$12,'Statiske ejendomme'!$B$3:$PN$81,'Statiske ejendomme'!$A12,FALSE))=FALSE,HLOOKUP(L$12,'Statiske ejendomme'!$B$3:$PN$81,'Statiske ejendomme'!$A12,FALSE),\"\"))),\"\")","v":-414.17135135135135},{"$f":"IFERROR(IF(M$12=Kredsudvælgelse!$Q$20,\"\",IF(Kredsudvælgelse!AD$2=1,IF(ISTEXT(DGET(Forespørgsel1[#All],\"\"&LEFT($F20,LEN($F20)-$C20)&\"\",Kredsudvælgelse!$U$2:$V$3))=TRUE,DGET(Forespørgsel1[#All],\"\"&LEFT($F20,LEN($F20)-$C20)&\"\",Kredsudvælgelse!$U$2:$V$3),DGET(Forespørgsel1[#All],\"\"&LEFT($F20,LEN($F20)-$C20)&\"\",Kredsudvælgelse!$U$2:$V$3)/IF(ISNONTEXT($D20)=TRUE,1,DGET(Forespørgsel1[#All],\"\"&$D20&\"\",Kredsudvælgelse!$U$2:$V$3))),IF(ISBLANK(HLOOKUP(M$12,'Statiske ejendomme'!$B$3:$PN$81,'Statiske ejendomme'!$A12,FALSE))=FALSE,HLOOKUP(M$12,'Statiske ejendomme'!$B$3:$PN$81,'Statiske ejendomme'!$A12,FALSE),\"\"))),\"\")","v":-612.76421052631576},{"$f":"IFERROR(IF(N$12=Kredsudvælgelse!$Q$20,\"\",IF(Kredsudvælgelse!AE$2=1,IF(ISTEXT(DGET(Forespørgsel1[#All],\"\"&LEFT($F20,LEN($F20)-$C20)&\"\",Kredsudvælgelse!$W$2:$X$3))=TRUE,DGET(Forespørgsel1[#All],\"\"&LEFT($F20,LEN($F20)-$C20)&\"\",Kredsudvælgelse!$W$2:$X$3),DGET(Forespørgsel1[#All],\"\"&LEFT($F20,LEN($F20)-$C20)&\"\",Kredsudvælgelse!$W$2:$X$3)/IF(ISNONTEXT($D20)=TRUE,1,DGET(Forespørgsel1[#All],\"\"&$D20&\"\",Kredsudvælgelse!$W$2:$X$3))),IF(ISBLANK(HLOOKUP(N$12,'Statiske ejendomme'!$B$3:$PN$81,'Statiske ejendomme'!$A12,FALSE))=FALSE,HLOOKUP(N$12,'Statiske ejendomme'!$B$3:$PN$81,'Statiske ejendomme'!$A12,FALSE),\"\"))),\"\")","v":-282.37647058823529},{"$f":"IFERROR(IF(O$12=Kredsudvælgelse!$Q$20,\"\",IF(Kredsudvælgelse!AF$2=1,IF(ISTEXT(DGET(Forespørgsel1[#All],\"\"&LEFT($F20,LEN($F20)-$C20)&\"\",Kredsudvælgelse!$Y$2:$Z$3))=TRUE,DGET(Forespørgsel1[#All],\"\"&LEFT($F20,LEN($F20)-$C20)&\"\",Kredsudvælgelse!$Y$2:$Z$3),DGET(Forespørgsel1[#All],\"\"&LEFT($F20,LEN($F20)-$C20)&\"\",Kredsudvælgelse!$Y$2:$Z$3)/IF(ISNONTEXT($D20)=TRUE,1,DGET(Forespørgsel1[#All],\"\"&$D20&\"\",Kredsudvælgelse!$Y$2:$Z$3))),IF(ISBLANK(HLOOKUP(O$12,'Statiske ejendomme'!$B$3:$PN$81,'Statiske ejendomme'!$A12,FALSE))=FALSE,HLOOKUP(O$12,'Statiske ejendomme'!$B$3:$PN$81,'Statiske ejendomme'!$A12,FALSE),\"\"))),\"\")","v":-498.87798523664787},{"$f":"IFERROR(IF(P$12=Kredsudvælgelse!$Q$20,\"\",IF(Kredsudvælgelse!AG$2=1,IF(ISTEXT(DGET(Forespørgsel1[#All],\"\"&LEFT($F20,LEN($F20)-$C20)&\"\",Kredsudvælgelse!$Q$6:$R$7))=TRUE,DGET(Forespørgsel1[#All],\"\"&LEFT($F20,LEN($F20)-$C20)&\"\",Kredsudvælgelse!$Q$6:$R$7),DGET(Forespørgsel1[#All],\"\"&LEFT($F20,LEN($F20)-$C20)&\"\",Kredsudvælgelse!$Q$6:$R$7)/IF(ISNONTEXT($D20)=TRUE,1,DGET(Forespørgsel1[#All],\"\"&$D20&\"\",Kredsudvælgelse!$Q$6:$R$7))),IF(ISBLANK(HLOOKUP(P$12,'Statiske ejendomme'!$B$3:$PN$81,'Statiske ejendomme'!$A12,FALSE))=FALSE,HLOOKUP(P$12,'Statiske ejendomme'!$B$3:$PN$81,'Statiske ejendomme'!$A12,FALSE),\"\"))),\"\")","v":-401.21365384615382},{"$f":"IFERROR(IF(Q$12=Kredsudvælgelse!$Q$20,\"\",IF(Kredsudvælgelse!AH$2=1,IF(ISTEXT(DGET(Forespørgsel1[#All],\"\"&LEFT($F20,LEN($F20)-$C20)&\"\",Kredsudvælgelse!$S$6:$T$7))=TRUE,DGET(Forespørgsel1[#All],\"\"&LEFT($F20,LEN($F20)-$C20)&\"\",Kredsudvælgelse!$S$6:$T$7),DGET(Forespørgsel1[#All],\"\"&LEFT($F20,LEN($F20)-$C20)&\"\",Kredsudvælgelse!$S$6:$T$7)/IF(ISNONTEXT($D20)=TRUE,1,DGET(Forespørgsel1[#All],\"\"&$D20&\"\",Kredsudvælgelse!$S$6:$T$7))),IF(ISBLANK(HLOOKUP(Q$12,'Statiske ejendomme'!$B$3:$PN$81,'Statiske ejendomme'!$A12,FALSE))=FALSE,HLOOKUP(Q$12,'Statiske ejendomme'!$B$3:$PN$81,'Statiske ejendomme'!$A12,FALSE),\"\"))),\"\")","v":-445.09786476868328},{"$f":"IFERROR(IF(R$12=Kredsudvælgelse!$Q$20,\"\",IF(Kredsudvælgelse!AI$2=1,IF(ISTEXT(DGET(Forespørgsel1[#All],\"\"&LEFT($F20,LEN($F20)-$C20)&\"\",Kredsudvælgelse!$U$6:$V$7))=TRUE,DGET(Forespørgsel1[#All],\"\"&LEFT($F20,LEN($F20)-$C20)&\"\",Kredsudvælgelse!$U$6:$V$7),DGET(Forespørgsel1[#All],\"\"&LEFT($F20,LEN($F20)-$C20)&\"\",Kredsudvælgelse!$U$6:$V$7)/IF(ISNONTEXT($D20)=TRUE,1,DGET(Forespørgsel1[#All],\"\"&$D20&\"\",Kredsudvælgelse!$U$6:$V$7))),IF(ISBLANK(HLOOKUP(R$12,'Statiske ejendomme'!$B$3:$PN$81,'Statiske ejendomme'!$A12,FALSE))=FALSE,HLOOKUP(R$12,'Statiske ejendomme'!$B$3:$PN$81,'Statiske ejendomme'!$A12,FALSE),\"\"))),\"\")","v":-536.08142857142855},{"$f":"IFERROR(IF(S$12=Kredsudvælgelse!$Q$20,\"\",IF(Kredsudvælgelse!AJ$2=1,IF(ISTEXT(DGET(Forespørgsel1[#All],\"\"&LEFT($F20,LEN($F20)-$C20)&\"\",Kredsudvælgelse!$W$6:$X$7))=TRUE,DGET(Forespørgsel1[#All],\"\"&LEFT($F20,LEN($F20)-$C20)&\"\",Kredsudvælgelse!$W$6:$X$7),DGET(Forespørgsel1[#All],\"\"&LEFT($F20,LEN($F20)-$C20)&\"\",Kredsudvælgelse!$W$6:$X$7)/IF(ISNONTEXT($D20)=TRUE,1,DGET(Forespørgsel1[#All],\"\"&$D20&\"\",Kredsudvælgelse!$W$6:$X$7))),IF(ISBLANK(HLOOKUP(S$12,'Statiske ejendomme'!$B$3:$PN$81,'Statiske ejendomme'!$A12,FALSE))=FALSE,HLOOKUP(S$12,'Statiske ejendomme'!$B$3:$PN$81,'Statiske ejendomme'!$A12,FALSE),\"\"))),\"\")","v":""},{"$f":"IFERROR(IF(T$12=Kredsudvælgelse!$Q$20,\"\",IF(Kredsudvælgelse!AK$2=1,IF(ISTEXT(DGET(Forespørgsel1[#All],\"\"&LEFT($F20,LEN($F20)-$C20)&\"\",Kredsudvælgelse!$W$6:$X$7))=TRUE,DGET(Forespørgsel1[#All],\"\"&LEFT($F20,LEN($F20)-$C20)&\"\",Kredsudvælgelse!$W$6:$X$7),DGET(Forespørgsel1[#All],\"\"&LEFT($F20,LEN($F20)-$C20)&\"\",Kredsudvælgelse!$W$6:$X$7)/IF(ISNONTEXT($D20)=TRUE,1,DGET(Forespørgsel1[#All],\"\"&$D20&\"\",Kredsudvælgelse!$W$6:$X$7))),IF(ISBLANK(HLOOKUP(T$12,'Statiske ejendomme'!$B$3:$PN$81,'Statiske ejendomme'!$A13,FALSE))=FALSE,HLOOKUP(T$12,'Statiske ejendomme'!$B$3:$PN$81,'Statiske ejendomme'!$A13,FALSE),\"\"))),\"\")","v":""}]
[{"$f":"Mink!E92","v":1},{"$f":"Mink!D92","v":1},{"$f":"Mink!A10","v":9},{"$f":"Mink!B10","v":"Minktæver"},null,{"$f":"Mink!C10","v":"Kapitalomkostninger i alt pr. tæve"},{"$f":"Mink!D10","v":-287.95839337172475},{"$f":"Mink!E10","v":-250.75121572145133},{"$f":"Mink!F10","v":""},{"$f":"Mink!G10","v":""},{"$f":"IFERROR(IF(K$12=Kredsudvælgelse!$Q$20,\"\",IF(Kredsudvælgelse!AB$2=1,IF(ISTEXT(DGET(Forespørgsel1[#All],\"\"&LEFT($F21,LEN($F21)-$C21)&\"\",Kredsudvælgelse!$Q$2:$R$3))=TRUE,DGET(Forespørgsel1[#All],\"\"&LEFT($F21,LEN($F21)-$C21)&\"\",Kredsudvælgelse!$Q$2:$R$3),DGET(Forespørgsel1[#All],\"\"&LEFT($F21,LEN($F21)-$C21)&\"\",Kredsudvælgelse!$Q$2:$R$3)/IF(ISNONTEXT($D21)=TRUE,1,DGET(Forespørgsel1[#All],\"\"&$D21&\"\",Kredsudvælgelse!$Q$2:$R$3))),IF(ISBLANK(HLOOKUP(K$12,'Statiske ejendomme'!$B$3:$PN$81,'Statiske ejendomme'!$A13,FALSE))=FALSE,HLOOKUP(K$12,'Statiske ejendomme'!$B$3:$PN$81,'Statiske ejendomme'!$A13,FALSE),\"\"))),\"\")","v":-192.37695166666666},{"$f":"IFERROR(IF(L$12=Kredsudvælgelse!$Q$20,\"\",IF(Kredsudvælgelse!AC$2=1,IF(ISTEXT(DGET(Forespørgsel1[#All],\"\"&LEFT($F21,LEN($F21)-$C21)&\"\",Kredsudvælgelse!$S$2:$T$3))=TRUE,DGET(Forespørgsel1[#All],\"\"&LEFT($F21,LEN($F21)-$C21)&\"\",Kredsudvælgelse!$S$2:$T$3),DGET(Forespørgsel1[#All],\"\"&LEFT($F21,LEN($F21)-$C21)&\"\",Kredsudvælgelse!$S$2:$T$3)/IF(ISNONTEXT($D21)=TRUE,1,DGET(Forespørgsel1[#All],\"\"&$D21&\"\",Kredsudvælgelse!$S$2:$T$3))),IF(ISBLANK(HLOOKUP(L$12,'Statiske ejendomme'!$B$3:$PN$81,'Statiske ejendomme'!$A13,FALSE))=FALSE,HLOOKUP(L$12,'Statiske ejendomme'!$B$3:$PN$81,'Statiske ejendomme'!$A13,FALSE),\"\"))),\"\")","v":-187.37389459459462},{"$f":"IFERROR(IF(M$12=Kredsudvælgelse!$Q$20,\"\",IF(Kredsudvælgelse!AD$2=1,IF(ISTEXT(DGET(Forespørgsel1[#All],\"\"&LEFT($F21,LEN($F21)-$C21)&\"\",Kredsudvælgelse!$U$2:$V$3))=TRUE,DGET(Forespørgsel1[#All],\"\"&LEFT($F21,LEN($F21)-$C21)&\"\",Kredsudvælgelse!$U$2:$V$3),DGET(Forespørgsel1[#All],\"\"&LEFT($F21,LEN($F21)-$C21)&\"\",Kredsudvælgelse!$U$2:$V$3)/IF(ISNONTEXT($D21)=TRUE,1,DGET(Forespørgsel1[#All],\"\"&$D21&\"\",Kredsudvælgelse!$U$2:$V$3))),IF(ISBLANK(HLOOKUP(M$12,'Statiske ejendomme'!$B$3:$PN$81,'Statiske ejendomme'!$A13,FALSE))=FALSE,HLOOKUP(M$12,'Statiske ejendomme'!$B$3:$PN$81,'Statiske ejendomme'!$A13,FALSE),\"\"))),\"\")","v":-235.08698947368421},{"$f":"IFERROR(IF(N$12=Kredsudvælgelse!$Q$20,\"\",IF(Kredsudvælgelse!AE$2=1,IF(ISTEXT(DGET(Forespørgsel1[#All],\"\"&LEFT($F21,LEN($F21)-$C21)&\"\",Kredsudvælgelse!$W$2:$X$3))=TRUE,DGET(Forespørgsel1[#All],\"\"&LEFT($F21,LEN($F21)-$C21)&\"\",Kredsudvælgelse!$W$2:$X$3),DGET(Forespørgsel1[#All],\"\"&LEFT($F21,LEN($F21)-$C21)&\"\",Kredsudvælgelse!$W$2:$X$3)/IF(ISNONTEXT($D21)=TRUE,1,DGET(Forespørgsel1[#All],\"\"&$D21&\"\",Kredsudvælgelse!$W$2:$X$3))),IF(ISBLANK(HLOOKUP(N$12,'Statiske ejendomme'!$B$3:$PN$81,'Statiske ejendomme'!$A13,FALSE))=FALSE,HLOOKUP(N$12,'Statiske ejendomme'!$B$3:$PN$81,'Statiske ejendomme'!$A13,FALSE),\"\"))),\"\")","v":-140.60552058823529},{"$f":"IFERROR(IF(O$12=Kredsudvælgelse!$Q$20,\"\",IF(Kredsudvælgelse!AF$2=1,IF(ISTEXT(DGET(Forespørgsel1[#All],\"\"&LEFT($F21,LEN($F21)-$C21)&\"\",Kredsudvælgelse!$Y$2:$Z$3))=TRUE,DGET(Forespørgsel1[#All],\"\"&LEFT($F21,LEN($F21)-$C21)&\"\",Kredsudvælgelse!$Y$2:$Z$3),DGET(Forespørgsel1[#All],\"\"&LEFT($F21,LEN($F21)-$C21)&\"\",Kredsudvælgelse!$Y$2:$Z$3)/IF(ISNONTEXT($D21)=TRUE,1,DGET(Forespørgsel1[#All],\"\"&$D21&\"\",Kredsudvælgelse!$Y$2:$Z$3))),IF(ISBLANK(HLOOKUP(O$12,'Statiske ejendomme'!$B$3:$PN$81,'Statiske ejendomme'!$A13,FALSE))=FALSE,HLOOKUP(O$12,'Statiske ejendomme'!$B$3:$PN$81,'Statiske ejendomme'!$A13,FALSE),\"\"))),\"\")","v":-397.95313287016933},{"$f":"IFERROR(IF(P$12=Kredsudvælgelse!$Q$20,\"\",IF(Kredsudvælgelse!AG$2=1,IF(ISTEXT(DGET(Forespørgsel1[#All],\"\"&LEFT($F21,LEN($F21)-$C21)&\"\",Kredsudvælgelse!$Q$6:$R$7))=TRUE,DGET(Forespørgsel1[#All],\"\"&LEFT($F21,LEN($F21)-$C21)&\"\",Kredsudvælgelse!$Q$6:$R$7),DGET(Forespørgsel1[#All],\"\"&LEFT($F21,LEN($F21)-$C21)&\"\",Kredsudvælgelse!$Q$6:$R$7)/IF(ISNONTEXT($D21)=TRUE,1,DGET(Forespørgsel1[#All],\"\"&$D21&\"\",Kredsudvælgelse!$Q$6:$R$7))),IF(ISBLANK(HLOOKUP(P$12,'Statiske ejendomme'!$B$3:$PN$81,'Statiske ejendomme'!$A13,FALSE))=FALSE,HLOOKUP(P$12,'Statiske ejendomme'!$B$3:$PN$81,'Statiske ejendomme'!$A13,FALSE),\"\"))),\"\")","v":-318.51021442307695},{"$f":"IFERROR(IF(Q$12=Kredsudvælgelse!$Q$20,\"\",IF(Kredsudvælgelse!AH$2=1,IF(ISTEXT(DGET(Forespørgsel1[#All],\"\"&LEFT($F21,LEN($F21)-$C21)&\"\",Kredsudvælgelse!$S$6:$T$7))=TRUE,DGET(Forespørgsel1[#All],\"\"&LEFT($F21,LEN($F21)-$C21)&\"\",Kredsudvælgelse!$S$6:$T$7),DGET(Forespørgsel1[#All],\"\"&LEFT($F21,LEN($F21)-$C21)&\"\",Kredsudvælgelse!$S$6:$T$7)/IF(ISNONTEXT($D21)=TRUE,1,DGET(Forespørgsel1[#All],\"\"&$D21&\"\",Kredsudvælgelse!$S$6:$T$7))),IF(ISBLANK(HLOOKUP(Q$12,'Statiske ejendomme'!$B$3:$PN$81,'Statiske ejendomme'!$A13,FALSE))=FALSE,HLOOKUP(Q$12,'Statiske ejendomme'!$B$3:$PN$81,'Statiske ejendomme'!$A13,FALSE),\"\"))),\"\")","v":-313.20939501779361},{"$f":"IFERROR(IF(R$12=Kredsudvælgelse!$Q$20,\"\",IF(Kredsudvælgelse!AI$2=1,IF(ISTEXT(DGET(Forespørgsel1[#All],\"\"&LEFT($F21,LEN($F21)-$C21)&\"\",Kredsudvælgelse!$U$6:$V$7))=TRUE,DGET(Forespørgsel1[#All],\"\"&LEFT($F21,LEN($F21)-$C21)&\"\",Kredsudvælgelse!$U$6:$V$7),DGET(Forespørgsel1[#All],\"\"&LEFT($F21,LEN($F21)-$C21)&\"\",Kredsudvælgelse!$U$6:$V$7)/IF(ISNONTEXT($D21)=TRUE,1,DGET(Forespørgsel1[#All],\"\"&$D21&\"\",Kredsudvælgelse!$U$6:$V$7))),IF(ISBLANK(HLOOKUP(R$12,'Statiske ejendomme'!$B$3:$PN$81,'Statiske ejendomme'!$A13,FALSE))=FALSE,HLOOKUP(R$12,'Statiske ejendomme'!$B$3:$PN$81,'Statiske ejendomme'!$A13,FALSE),\"\"))),\"\")","v":-298.08290892857144},{"$f":"IFERROR(IF(S$12=Kredsudvælgelse!$Q$20,\"\",IF(Kredsudvælgelse!AJ$2=1,IF(ISTEXT(DGET(Forespørgsel1[#All],\"\"&LEFT($F21,LEN($F21)-$C21)&\"\",Kredsudvælgelse!$W$6:$X$7))=TRUE,DGET(Forespørgsel1[#All],\"\"&LEFT($F21,LEN($F21)-$C21)&\"\",Kredsudvælgelse!$W$6:$X$7),DGET(Forespørgsel1[#All],\"\"&LEFT($F21,LEN($F21)-$C21)&\"\",Kredsudvælgelse!$W$6:$X$7)/IF(ISNONTEXT($D21)=TRUE,1,DGET(Forespørgsel1[#All],\"\"&$D21&\"\",Kredsudvælgelse!$W$6:$X$7))),IF(ISBLANK(HLOOKUP(S$12,'Statiske ejendomme'!$B$3:$PN$81,'Statiske ejendomme'!$A13,FALSE))=FALSE,HLOOKUP(S$12,'Statiske ejendomme'!$B$3:$PN$81,'Statiske ejendomme'!$A13,FALSE),\"\"))),\"\")","v":""},{"$f":"IFERROR(IF(T$12=Kredsudvælgelse!$Q$20,\"\",IF(Kredsudvælgelse!AK$2=1,IF(ISTEXT(DGET(Forespørgsel1[#All],\"\"&LEFT($F21,LEN($F21)-$C21)&\"\",Kredsudvælgelse!$W$6:$X$7))=TRUE,DGET(Forespørgsel1[#All],\"\"&LEFT($F21,LEN($F21)-$C21)&\"\",Kredsudvælgelse!$W$6:$X$7),DGET(Forespørgsel1[#All],\"\"&LEFT($F21,LEN($F21)-$C21)&\"\",Kredsudvælgelse!$W$6:$X$7)/IF(ISNONTEXT($D21)=TRUE,1,DGET(Forespørgsel1[#All],\"\"&$D21&\"\",Kredsudvælgelse!$W$6:$X$7))),IF(ISBLANK(HLOOKUP(T$12,'Statiske ejendomme'!$B$3:$PN$81,'Statiske ejendomme'!$A14,FALSE))=FALSE,HLOOKUP(T$12,'Statiske ejendomme'!$B$3:$PN$81,'Statiske ejendomme'!$A14,FALSE),\"\"))),\"\")","v":""}]
[{"$f":"Mink!E93","v":1},{"$f":"Mink!D93","v":201},{"$f":"Mink!A11","v":9},{"$f":"Mink!B11","v":"Minktæver"},null,{"$f":"Mink!C11","v":"Årets resultat pr. tæve"},{"$f":"Mink!D11","v":343.49303598632605},{"$f":"Mink!E11","v":871.40457090030384},{"$f":"Mink!F11","v":""},{"$f":"Mink!G11","v":""},{"$f":"IFERROR(IF(K$12=Kredsudvælgelse!$Q$20,\"\",IF(Kredsudvælgelse!AB$2=1,IF(ISTEXT(DGET(Forespørgsel1[#All],\"\"&LEFT($F22,LEN($F22)-$C22)&\"\",Kredsudvælgelse!$Q$2:$R$3))=TRUE,DGET(Forespørgsel1[#All],\"\"&LEFT($F22,LEN($F22)-$C22)&\"\",Kredsudvælgelse!$Q$2:$R$3),DGET(Forespørgsel1[#All],\"\"&LEFT($F22,LEN($F22)-$C22)&\"\",Kredsudvælgelse!$Q$2:$R$3)/IF(ISNONTEXT($D22)=TRUE,1,DGET(Forespørgsel1[#All],\"\"&$D22&\"\",Kredsudvælgelse!$Q$2:$R$3))),IF(ISBLANK(HLOOKUP(K$12,'Statiske ejendomme'!$B$3:$PN$81,'Statiske ejendomme'!$A14,FALSE))=FALSE,HLOOKUP(K$12,'Statiske ejendomme'!$B$3:$PN$81,'Statiske ejendomme'!$A14,FALSE),\"\"))),\"\")","v":1243.1163816666667},{"$f":"IFERROR(IF(L$12=Kredsudvælgelse!$Q$20,\"\",IF(Kredsudvælgelse!AC$2=1,IF(ISTEXT(DGET(Forespørgsel1[#All],\"\"&LEFT($F22,LEN($F22)-$C22)&\"\",Kredsudvælgelse!$S$2:$T$3))=TRUE,DGET(Forespørgsel1[#All],\"\"&LEFT($F22,LEN($F22)-$C22)&\"\",Kredsudvælgelse!$S$2:$T$3),DGET(Forespørgsel1[#All],\"\"&LEFT($F22,LEN($F22)-$C22)&\"\",Kredsudvælgelse!$S$2:$T$3)/IF(ISNONTEXT($D22)=TRUE,1,DGET(Forespørgsel1[#All],\"\"&$D22&\"\",Kredsudvælgelse!$S$2:$T$3))),IF(ISBLANK(HLOOKUP(L$12,'Statiske ejendomme'!$B$3:$PN$81,'Statiske ejendomme'!$A14,FALSE))=FALSE,HLOOKUP(L$12,'Statiske ejendomme'!$B$3:$PN$81,'Statiske ejendomme'!$A14,FALSE),\"\"))),\"\")","v":951.81637567567566},{"$f":"IFERROR(IF(M$12=Kredsudvælgelse!$Q$20,\"\",IF(Kredsudvælgelse!AD$2=1,IF(ISTEXT(DGET(Forespørgsel1[#All],\"\"&LEFT($F22,LEN($F22)-$C22)&\"\",Kredsudvælgelse!$U$2:$V$3))=TRUE,DGET(Forespørgsel1[#All],\"\"&LEFT($F22,LEN($F22)-$C22)&\"\",Kredsudvælgelse!$U$2:$V$3),DGET(Forespørgsel1[#All],\"\"&LEFT($F22,LEN($F22)-$C22)&\"\",Kredsudvælgelse!$U$2:$V$3)/IF(ISNONTEXT($D22)=TRUE,1,DGET(Forespørgsel1[#All],\"\"&$D22&\"\",Kredsudvælgelse!$U$2:$V$3))),IF(ISBLANK(HLOOKUP(M$12,'Statiske ejendomme'!$B$3:$PN$81,'Statiske ejendomme'!$A14,FALSE))=FALSE,HLOOKUP(M$12,'Statiske ejendomme'!$B$3:$PN$81,'Statiske ejendomme'!$A14,FALSE),\"\"))),\"\")","v":934.95301052631578},{"$f":"IFERROR(IF(N$12=Kredsudvælgelse!$Q$20,\"\",IF(Kredsudvælgelse!AE$2=1,IF(ISTEXT(DGET(Forespørgsel1[#All],\"\"&LEFT($F22,LEN($F22)-$C22)&\"\",Kredsudvælgelse!$W$2:$X$3))=TRUE,DGET(Forespørgsel1[#All],\"\"&LEFT($F22,LEN($F22)-$C22)&\"\",Kredsudvælgelse!$W$2:$X$3),DGET(Forespørgsel1[#All],\"\"&LEFT($F22,LEN($F22)-$C22)&\"\",Kredsudvælgelse!$W$2:$X$3)/IF(ISNONTEXT($D22)=TRUE,1,DGET(Forespørgsel1[#All],\"\"&$D22&\"\",Kredsudvælgelse!$W$2:$X$3))),IF(ISBLANK(HLOOKUP(N$12,'Statiske ejendomme'!$B$3:$PN$81,'Statiske ejendomme'!$A14,FALSE))=FALSE,HLOOKUP(N$12,'Statiske ejendomme'!$B$3:$PN$81,'Statiske ejendomme'!$A14,FALSE),\"\"))),\"\")","v":862.22183235294119},{"$f":"IFERROR(IF(O$12=Kredsudvælgelse!$Q$20,\"\",IF(Kredsudvælgelse!AF$2=1,IF(ISTEXT(DGET(Forespørgsel1[#All],\"\"&LEFT($F22,LEN($F22)-$C22)&\"\",Kredsudvælgelse!$Y$2:$Z$3))=TRUE,DGET(Forespørgsel1[#All],\"\"&LEFT($F22,LEN($F22)-$C22)&\"\",Kredsudvælgelse!$Y$2:$Z$3),DGET(Forespørgsel1[#All],\"\"&LEFT($F22,LEN($F22)-$C22)&\"\",Kredsudvælgelse!$Y$2:$Z$3)/IF(ISNONTEXT($D22)=TRUE,1,DGET(Forespørgsel1[#All],\"\"&$D22&\"\",Kredsudvælgelse!$Y$2:$Z$3))),IF(ISBLANK(HLOOKUP(O$12,'Statiske ejendomme'!$B$3:$PN$81,'Statiske ejendomme'!$A14,FALSE))=FALSE,HLOOKUP(O$12,'Statiske ejendomme'!$B$3:$PN$81,'Statiske ejendomme'!$A14,FALSE),\"\"))),\"\")","v":855.90487841945287},{"$f":"IFERROR(IF(P$12=Kredsudvælgelse!$Q$20,\"\",IF(Kredsudvælgelse!AG$2=1,IF(ISTEXT(DGET(Forespørgsel1[#All],\"\"&LEFT($F22,LEN($F22)-$C22)&\"\",Kredsudvælgelse!$Q$6:$R$7))=TRUE,DGET(Forespørgsel1[#All],\"\"&LEFT($F22,LEN($F22)-$C22)&\"\",Kredsudvælgelse!$Q$6:$R$7),DGET(Forespørgsel1[#All],\"\"&LEFT($F22,LEN($F22)-$C22)&\"\",Kredsudvælgelse!$Q$6:$R$7)/IF(ISNONTEXT($D22)=TRUE,1,DGET(Forespørgsel1[#All],\"\"&$D22&\"\",Kredsudvælgelse!$Q$6:$R$7))),IF(ISBLANK(HLOOKUP(P$12,'Statiske ejendomme'!$B$3:$PN$81,'Statiske ejendomme'!$A14,FALSE))=FALSE,HLOOKUP(P$12,'Statiske ejendomme'!$B$3:$PN$81,'Statiske ejendomme'!$A14,FALSE),\"\"))),\"\")","v":833.5376701923077},{"$f":"IFERROR(IF(Q$12=Kredsudvælgelse!$Q$20,\"\",IF(Kredsudvælgelse!AH$2=1,IF(ISTEXT(DGET(Forespørgsel1[#All],\"\"&LEFT($F22,LEN($F22)-$C22)&\"\",Kredsudvælgelse!$S$6:$T$7))=TRUE,DGET(Forespørgsel1[#All],\"\"&LEFT($F22,LEN($F22)-$C22)&\"\",Kredsudvælgelse!$S$6:$T$7),DGET(Forespørgsel1[#All],\"\"&LEFT($F22,LEN($F22)-$C22)&\"\",Kredsudvælgelse!$S$6:$T$7)/IF(ISNONTEXT($D22)=TRUE,1,DGET(Forespørgsel1[#All],\"\"&$D22&\"\",Kredsudvælgelse!$S$6:$T$7))),IF(ISBLANK(HLOOKUP(Q$12,'Statiske ejendomme'!$B$3:$PN$81,'Statiske ejendomme'!$A14,FALSE))=FALSE,HLOOKUP(Q$12,'Statiske ejendomme'!$B$3:$PN$81,'Statiske ejendomme'!$A14,FALSE),\"\"))),\"\")","v":765.38348754448407},{"$f":"IFERROR(IF(R$12=Kredsudvælgelse!$Q$20,\"\",IF(Kredsudvælgelse!AI$2=1,IF(ISTEXT(DGET(Forespørgsel1[#All],\"\"&LEFT($F22,LEN($F22)-$C22)&\"\",Kredsudvælgelse!$U$6:$V$7))=TRUE,DGET(Forespørgsel1[#All],\"\"&LEFT($F22,LEN($F22)-$C22)&\"\",Kredsudvælgelse!$U$6:$V$7),DGET(Forespørgsel1[#All],\"\"&LEFT($F22,LEN($F22)-$C22)&\"\",Kredsudvælgelse!$U$6:$V$7)/IF(ISNONTEXT($D22)=TRUE,1,DGET(Forespørgsel1[#All],\"\"&$D22&\"\",Kredsudvælgelse!$U$6:$V$7))),IF(ISBLANK(HLOOKUP(R$12,'Statiske ejendomme'!$B$3:$PN$81,'Statiske ejendomme'!$A14,FALSE))=FALSE,HLOOKUP(R$12,'Statiske ejendomme'!$B$3:$PN$81,'Statiske ejendomme'!$A14,FALSE),\"\"))),\"\")","v":764.53066249999995},{"$f":"IFERROR(IF(S$12=Kredsudvælgelse!$Q$20,\"\",IF(Kredsudvælgelse!AJ$2=1,IF(ISTEXT(DGET(Forespørgsel1[#All],\"\"&LEFT($F22,LEN($F22)-$C22)&\"\",Kredsudvælgelse!$W$6:$X$7))=TRUE,DGET(Forespørgsel1[#All],\"\"&LEFT($F22,LEN($F22)-$C22)&\"\",Kredsudvælgelse!$W$6:$X$7),DGET(Forespørgsel1[#All],\"\"&LEFT($F22,LEN($F22)-$C22)&\"\",Kredsudvælgelse!$W$6:$X$7)/IF(ISNONTEXT($D22)=TRUE,1,DGET(Forespørgsel1[#All],\"\"&$D22&\"\",Kredsudvælgelse!$W$6:$X$7))),IF(ISBLANK(HLOOKUP(S$12,'Statiske ejendomme'!$B$3:$PN$81,'Statiske ejendomme'!$A14,FALSE))=FALSE,HLOOKUP(S$12,'Statiske ejendomme'!$B$3:$PN$81,'Statiske ejendomme'!$A14,FALSE),\"\"))),\"\")","v":""},{"$f":"IFERROR(IF(T$12=Kredsudvælgelse!$Q$20,\"\",IF(Kredsudvælgelse!AK$2=1,IF(ISTEXT(DGET(Forespørgsel1[#All],\"\"&LEFT($F22,LEN($F22)-$C22)&\"\",Kredsudvælgelse!$W$6:$X$7))=TRUE,DGET(Forespørgsel1[#All],\"\"&LEFT($F22,LEN($F22)-$C22)&\"\",Kredsudvælgelse!$W$6:$X$7),DGET(Forespørgsel1[#All],\"\"&LEFT($F22,LEN($F22)-$C22)&\"\",Kredsudvælgelse!$W$6:$X$7)/IF(ISNONTEXT($D22)=TRUE,1,DGET(Forespørgsel1[#All],\"\"&$D22&\"\",Kredsudvælgelse!$W$6:$X$7))),IF(ISBLANK(HLOOKUP(T$12,'Statiske ejendomme'!$B$3:$PN$81,'Statiske ejendomme'!$A15,FALSE))=FALSE,HLOOKUP(T$12,'Statiske ejendomme'!$B$3:$PN$81,'Statiske ejendomme'!$A15,FALSE),\"\"))),\"\")","v":""}]
[{"$f":"Mink!E94","v":1},{"$f":"Mink!D94","v":9},{"$f":"Mink!A12","v":0},{"$f":"Mink!B12","v":0},null,{"$f":"Mink!C12","v":""},{"$f":"Mink!D12","v":""},{"$f":"Mink!E12","v":""},{"$f":"Mink!F12","v":""},{"$f":"Mink!G12","v":""},{"$f":"IFERROR(IF(K$12=Kredsudvælgelse!$Q$20,\"\",IF(Kredsudvælgelse!AB$2=1,IF(ISTEXT(DGET(Forespørgsel1[#All],\"\"&LEFT($F23,LEN($F23)-$C23)&\"\",Kredsudvælgelse!$Q$2:$R$3))=TRUE,DGET(Forespørgsel1[#All],\"\"&LEFT($F23,LEN($F23)-$C23)&\"\",Kredsudvælgelse!$Q$2:$R$3),DGET(Forespørgsel1[#All],\"\"&LEFT($F23,LEN($F23)-$C23)&\"\",Kredsudvælgelse!$Q$2:$R$3)/IF(ISNONTEXT($D23)=TRUE,1,DGET(Forespørgsel1[#All],\"\"&$D23&\"\",Kredsudvælgelse!$Q$2:$R$3))),IF(ISBLANK(HLOOKUP(K$12,'Statiske ejendomme'!$B$3:$PN$81,'Statiske ejendomme'!$A15,FALSE))=FALSE,HLOOKUP(K$12,'Statiske ejendomme'!$B$3:$PN$81,'Statiske ejendomme'!$A15,FALSE),\"\"))),\"\")","v":""},{"$f":"IFERROR(IF(L$12=Kredsudvælgelse!$Q$20,\"\",IF(Kredsudvælgelse!AC$2=1,IF(ISTEXT(DGET(Forespørgsel1[#All],\"\"&LEFT($F23,LEN($F23)-$C23)&\"\",Kredsudvælgelse!$S$2:$T$3))=TRUE,DGET(Forespørgsel1[#All],\"\"&LEFT($F23,LEN($F23)-$C23)&\"\",Kredsudvælgelse!$S$2:$T$3),DGET(Forespørgsel1[#All],\"\"&LEFT($F23,LEN($F23)-$C23)&\"\",Kredsudvælgelse!$S$2:$T$3)/IF(ISNONTEXT($D23)=TRUE,1,DGET(Forespørgsel1[#All],\"\"&$D23&\"\",Kredsudvælgelse!$S$2:$T$3))),IF(ISBLANK(HLOOKUP(L$12,'Statiske ejendomme'!$B$3:$PN$81,'Statiske ejendomme'!$A15,FALSE))=FALSE,HLOOKUP(L$12,'Statiske ejendomme'!$B$3:$PN$81,'Statiske ejendomme'!$A15,FALSE),\"\"))),\"\")","v":""},{"$f":"IFERROR(IF(M$12=Kredsudvælgelse!$Q$20,\"\",IF(Kredsudvælgelse!AD$2=1,IF(ISTEXT(DGET(Forespørgsel1[#All],\"\"&LEFT($F23,LEN($F23)-$C23)&\"\",Kredsudvælgelse!$U$2:$V$3))=TRUE,DGET(Forespørgsel1[#All],\"\"&LEFT($F23,LEN($F23)-$C23)&\"\",Kredsudvælgelse!$U$2:$V$3),DGET(Forespørgsel1[#All],\"\"&LEFT($F23,LEN($F23)-$C23)&\"\",Kredsudvælgelse!$U$2:$V$3)/IF(ISNONTEXT($D23)=TRUE,1,DGET(Forespørgsel1[#All],\"\"&$D23&\"\",Kredsudvælgelse!$U$2:$V$3))),IF(ISBLANK(HLOOKUP(M$12,'Statiske ejendomme'!$B$3:$PN$81,'Statiske ejendomme'!$A15,FALSE))=FALSE,HLOOKUP(M$12,'Statiske ejendomme'!$B$3:$PN$81,'Statiske ejendomme'!$A15,FALSE),\"\"))),\"\")","v":""},{"$f":"IFERROR(IF(N$12=Kredsudvælgelse!$Q$20,\"\",IF(Kredsudvælgelse!AE$2=1,IF(ISTEXT(DGET(Forespørgsel1[#All],\"\"&LEFT($F23,LEN($F23)-$C23)&\"\",Kredsudvælgelse!$W$2:$X$3))=TRUE,DGET(Forespørgsel1[#All],\"\"&LEFT($F23,LEN($F23)-$C23)&\"\",Kredsudvælgelse!$W$2:$X$3),DGET(Forespørgsel1[#All],\"\"&LEFT($F23,LEN($F23)-$C23)&\"\",Kredsudvælgelse!$W$2:$X$3)/IF(ISNONTEXT($D23)=TRUE,1,DGET(Forespørgsel1[#All],\"\"&$D23&\"\",Kredsudvælgelse!$W$2:$X$3))),IF(ISBLANK(HLOOKUP(N$12,'Statiske ejendomme'!$B$3:$PN$81,'Statiske ejendomme'!$A15,FALSE))=FALSE,HLOOKUP(N$12,'Statiske ejendomme'!$B$3:$PN$81,'Statiske ejendomme'!$A15,FALSE),\"\"))),\"\")","v":""},{"$f":"IFERROR(IF(O$12=Kredsudvælgelse!$Q$20,\"\",IF(Kredsudvælgelse!AF$2=1,IF(ISTEXT(DGET(Forespørgsel1[#All],\"\"&LEFT($F23,LEN($F23)-$C23)&\"\",Kredsudvælgelse!$Y$2:$Z$3))=TRUE,DGET(Forespørgsel1[#All],\"\"&LEFT($F23,LEN($F23)-$C23)&\"\",Kredsudvælgelse!$Y$2:$Z$3),DGET(Forespørgsel1[#All],\"\"&LEFT($F23,LEN($F23)-$C23)&\"\",Kredsudvælgelse!$Y$2:$Z$3)/IF(ISNONTEXT($D23)=TRUE,1,DGET(Forespørgsel1[#All],\"\"&$D23&\"\",Kredsudvælgelse!$Y$2:$Z$3))),IF(ISBLANK(HLOOKUP(O$12,'Statiske ejendomme'!$B$3:$PN$81,'Statiske ejendomme'!$A15,FALSE))=FALSE,HLOOKUP(O$12,'Statiske ejendomme'!$B$3:$PN$81,'Statiske ejendomme'!$A15,FALSE),\"\"))),\"\")","v":""},{"$f":"IFERROR(IF(P$12=Kredsudvælgelse!$Q$20,\"\",IF(Kredsudvælgelse!AG$2=1,IF(ISTEXT(DGET(Forespørgsel1[#All],\"\"&LEFT($F23,LEN($F23)-$C23)&\"\",Kredsudvælgelse!$Q$6:$R$7))=TRUE,DGET(Forespørgsel1[#All],\"\"&LEFT($F23,LEN($F23)-$C23)&\"\",Kredsudvælgelse!$Q$6:$R$7),DGET(Forespørgsel1[#All],\"\"&LEFT($F23,LEN($F23)-$C23)&\"\",Kredsudvælgelse!$Q$6:$R$7)/IF(ISNONTEXT($D23)=TRUE,1,DGET(Forespørgsel1[#All],\"\"&$D23&\"\",Kredsudvælgelse!$Q$6:$R$7))),IF(ISBLANK(HLOOKUP(P$12,'Statiske ejendomme'!$B$3:$PN$81,'Statiske ejendomme'!$A15,FALSE))=FALSE,HLOOKUP(P$12,'Statiske ejendomme'!$B$3:$PN$81,'Statiske ejendomme'!$A15,FALSE),\"\"))),\"\")","v":""},{"$f":"IFERROR(IF(Q$12=Kredsudvælgelse!$Q$20,\"\",IF(Kredsudvælgelse!AH$2=1,IF(ISTEXT(DGET(Forespørgsel1[#All],\"\"&LEFT($F23,LEN($F23)-$C23)&\"\",Kredsudvælgelse!$S$6:$T$7))=TRUE,DGET(Forespørgsel1[#All],\"\"&LEFT($F23,LEN($F23)-$C23)&\"\",Kredsudvælgelse!$S$6:$T$7),DGET(Forespørgsel1[#All],\"\"&LEFT($F23,LEN($F23)-$C23)&\"\",Kredsudvælgelse!$S$6:$T$7)/IF(ISNONTEXT($D23)=TRUE,1,DGET(Forespørgsel1[#All],\"\"&$D23&\"\",Kredsudvælgelse!$S$6:$T$7))),IF(ISBLANK(HLOOKUP(Q$12,'Statiske ejendomme'!$B$3:$PN$81,'Statiske ejendomme'!$A15,FALSE))=FALSE,HLOOKUP(Q$12,'Statiske ejendomme'!$B$3:$PN$81,'Statiske ejendomme'!$A15,FALSE),\"\"))),\"\")","v":""},{"$f":"IFERROR(IF(R$12=Kredsudvælgelse!$Q$20,\"\",IF(Kredsudvælgelse!AI$2=1,IF(ISTEXT(DGET(Forespørgsel1[#All],\"\"&LEFT($F23,LEN($F23)-$C23)&\"\",Kredsudvælgelse!$U$6:$V$7))=TRUE,DGET(Forespørgsel1[#All],\"\"&LEFT($F23,LEN($F23)-$C23)&\"\",Kredsudvælgelse!$U$6:$V$7),DGET(Forespørgsel1[#All],\"\"&LEFT($F23,LEN($F23)-$C23)&\"\",Kredsudvælgelse!$U$6:$V$7)/IF(ISNONTEXT($D23)=TRUE,1,DGET(Forespørgsel1[#All],\"\"&$D23&\"\",Kredsudvælgelse!$U$6:$V$7))),IF(ISBLANK(HLOOKUP(R$12,'Statiske ejendomme'!$B$3:$PN$81,'Statiske ejendomme'!$A15,FALSE))=FALSE,HLOOKUP(R$12,'Statiske ejendomme'!$B$3:$PN$81,'Statiske ejendomme'!$A15,FALSE),\"\"))),\"\")","v":""},{"$f":"IFERROR(IF(S$12=Kredsudvælgelse!$Q$20,\"\",IF(Kredsudvælgelse!AJ$2=1,IF(ISTEXT(DGET(Forespørgsel1[#All],\"\"&LEFT($F23,LEN($F23)-$C23)&\"\",Kredsudvælgelse!$W$6:$X$7))=TRUE,DGET(Forespørgsel1[#All],\"\"&LEFT($F23,LEN($F23)-$C23)&\"\",Kredsudvælgelse!$W$6:$X$7),DGET(Forespørgsel1[#All],\"\"&LEFT($F23,LEN($F23)-$C23)&\"\",Kredsudvælgelse!$W$6:$X$7)/IF(ISNONTEXT($D23)=TRUE,1,DGET(Forespørgsel1[#All],\"\"&$D23&\"\",Kredsudvælgelse!$W$6:$X$7))),IF(ISBLANK(HLOOKUP(S$12,'Statiske ejendomme'!$B$3:$PN$81,'Statiske ejendomme'!$A15,FALSE))=FALSE,HLOOKUP(S$12,'Statiske ejendomme'!$B$3:$PN$81,'Statiske ejendomme'!$A15,FALSE),\"\"))),\"\")","v":""},{"$f":"IFERROR(IF(T$12=Kredsudvælgelse!$Q$20,\"\",IF(Kredsudvælgelse!AK$2=1,IF(ISTEXT(DGET(Forespørgsel1[#All],\"\"&LEFT($F23,LEN($F23)-$C23)&\"\",Kredsudvælgelse!$W$6:$X$7))=TRUE,DGET(Forespørgsel1[#All],\"\"&LEFT($F23,LEN($F23)-$C23)&\"\",Kredsudvælgelse!$W$6:$X$7),DGET(Forespørgsel1[#All],\"\"&LEFT($F23,LEN($F23)-$C23)&\"\",Kredsudvælgelse!$W$6:$X$7)/IF(ISNONTEXT($D23)=TRUE,1,DGET(Forespørgsel1[#All],\"\"&$D23&\"\",Kredsudvælgelse!$W$6:$X$7))),IF(ISBLANK(HLOOKUP(T$12,'Statiske ejendomme'!$B$3:$PN$81,'Statiske ejendomme'!$A16,FALSE))=FALSE,HLOOKUP(T$12,'Statiske ejendomme'!$B$3:$PN$81,'Statiske ejendomme'!$A16,FALSE),\"\"))),\"\")","v":""}]
[{"$f":"Mink!E95","v":1},{"$f":"Mink!D95","v":111},{"$f":"Mink!A13","v":0},{"$f":"Mink!B13","v":0},null,{"$f":"Mink!C13","v":"Pr. skind"},{"$f":"Mink!D13","v":""},{"$f":"Mink!E13","v":""},{"$f":"Mink!F13","v":""},{"$f":"Mink!G13","v":""},{"$f":"IFERROR(IF(K$12=Kredsudvælgelse!$Q$20,\"\",IF(Kredsudvælgelse!AB$2=1,IF(ISTEXT(DGET(Forespørgsel1[#All],\"\"&LEFT($F24,LEN($F24)-$C24)&\"\",Kredsudvælgelse!$Q$2:$R$3))=TRUE,DGET(Forespørgsel1[#All],\"\"&LEFT($F24,LEN($F24)-$C24)&\"\",Kredsudvælgelse!$Q$2:$R$3),DGET(Forespørgsel1[#All],\"\"&LEFT($F24,LEN($F24)-$C24)&\"\",Kredsudvælgelse!$Q$2:$R$3)/IF(ISNONTEXT($D24)=TRUE,1,DGET(Forespørgsel1[#All],\"\"&$D24&\"\",Kredsudvælgelse!$Q$2:$R$3))),IF(ISBLANK(HLOOKUP(K$12,'Statiske ejendomme'!$B$3:$PN$81,'Statiske ejendomme'!$A16,FALSE))=FALSE,HLOOKUP(K$12,'Statiske ejendomme'!$B$3:$PN$81,'Statiske ejendomme'!$A16,FALSE),\"\"))),\"\")","v":""},{"$f":"IFERROR(IF(L$12=Kredsudvælgelse!$Q$20,\"\",IF(Kredsudvælgelse!AC$2=1,IF(ISTEXT(DGET(Forespørgsel1[#All],\"\"&LEFT($F24,LEN($F24)-$C24)&\"\",Kredsudvælgelse!$S$2:$T$3))=TRUE,DGET(Forespørgsel1[#All],\"\"&LEFT($F24,LEN($F24)-$C24)&\"\",Kredsudvælgelse!$S$2:$T$3),DGET(Forespørgsel1[#All],\"\"&LEFT($F24,LEN($F24)-$C24)&\"\",Kredsudvælgelse!$S$2:$T$3)/IF(ISNONTEXT($D24)=TRUE,1,DGET(Forespørgsel1[#All],\"\"&$D24&\"\",Kredsudvælgelse!$S$2:$T$3))),IF(ISBLANK(HLOOKUP(L$12,'Statiske ejendomme'!$B$3:$PN$81,'Statiske ejendomme'!$A16,FALSE))=FALSE,HLOOKUP(L$12,'Statiske ejendomme'!$B$3:$PN$81,'Statiske ejendomme'!$A16,FALSE),\"\"))),\"\")","v":""},{"$f":"IFERROR(IF(M$12=Kredsudvælgelse!$Q$20,\"\",IF(Kredsudvælgelse!AD$2=1,IF(ISTEXT(DGET(Forespørgsel1[#All],\"\"&LEFT($F24,LEN($F24)-$C24)&\"\",Kredsudvælgelse!$U$2:$V$3))=TRUE,DGET(Forespørgsel1[#All],\"\"&LEFT($F24,LEN($F24)-$C24)&\"\",Kredsudvælgelse!$U$2:$V$3),DGET(Forespørgsel1[#All],\"\"&LEFT($F24,LEN($F24)-$C24)&\"\",Kredsudvælgelse!$U$2:$V$3)/IF(ISNONTEXT($D24)=TRUE,1,DGET(Forespørgsel1[#All],\"\"&$D24&\"\",Kredsudvælgelse!$U$2:$V$3))),IF(ISBLANK(HLOOKUP(M$12,'Statiske ejendomme'!$B$3:$PN$81,'Statiske ejendomme'!$A16,FALSE))=FALSE,HLOOKUP(M$12,'Statiske ejendomme'!$B$3:$PN$81,'Statiske ejendomme'!$A16,FALSE),\"\"))),\"\")","v":""},{"$f":"IFERROR(IF(N$12=Kredsudvælgelse!$Q$20,\"\",IF(Kredsudvælgelse!AE$2=1,IF(ISTEXT(DGET(Forespørgsel1[#All],\"\"&LEFT($F24,LEN($F24)-$C24)&\"\",Kredsudvælgelse!$W$2:$X$3))=TRUE,DGET(Forespørgsel1[#All],\"\"&LEFT($F24,LEN($F24)-$C24)&\"\",Kredsudvælgelse!$W$2:$X$3),DGET(Forespørgsel1[#All],\"\"&LEFT($F24,LEN($F24)-$C24)&\"\",Kredsudvælgelse!$W$2:$X$3)/IF(ISNONTEXT($D24)=TRUE,1,DGET(Forespørgsel1[#All],\"\"&$D24&\"\",Kredsudvælgelse!$W$2:$X$3))),IF(ISBLANK(HLOOKUP(N$12,'Statiske ejendomme'!$B$3:$PN$81,'Statiske ejendomme'!$A16,FALSE))=FALSE,HLOOKUP(N$12,'Statiske ejendomme'!$B$3:$PN$81,'Statiske ejendomme'!$A16,FALSE),\"\"))),\"\")","v":""},{"$f":"IFERROR(IF(O$12=Kredsudvælgelse!$Q$20,\"\",IF(Kredsudvælgelse!AF$2=1,IF(ISTEXT(DGET(Forespørgsel1[#All],\"\"&LEFT($F24,LEN($F24)-$C24)&\"\",Kredsudvælgelse!$Y$2:$Z$3))=TRUE,DGET(Forespørgsel1[#All],\"\"&LEFT($F24,LEN($F24)-$C24)&\"\",Kredsudvælgelse!$Y$2:$Z$3),DGET(Forespørgsel1[#All],\"\"&LEFT($F24,LEN($F24)-$C24)&\"\",Kredsudvælgelse!$Y$2:$Z$3)/IF(ISNONTEXT($D24)=TRUE,1,DGET(Forespørgsel1[#All],\"\"&$D24&\"\",Kredsudvælgelse!$Y$2:$Z$3))),IF(ISBLANK(HLOOKUP(O$12,'Statiske ejendomme'!$B$3:$PN$81,'Statiske ejendomme'!$A16,FALSE))=FALSE,HLOOKUP(O$12,'Statiske ejendomme'!$B$3:$PN$81,'Statiske ejendomme'!$A16,FALSE),\"\"))),\"\")","v":""},{"$f":"IFERROR(IF(P$12=Kredsudvælgelse!$Q$20,\"\",IF(Kredsudvælgelse!AG$2=1,IF(ISTEXT(DGET(Forespørgsel1[#All],\"\"&LEFT($F24,LEN($F24)-$C24)&\"\",Kredsudvælgelse!$Q$6:$R$7))=TRUE,DGET(Forespørgsel1[#All],\"\"&LEFT($F24,LEN($F24)-$C24)&\"\",Kredsudvælgelse!$Q$6:$R$7),DGET(Forespørgsel1[#All],\"\"&LEFT($F24,LEN($F24)-$C24)&\"\",Kredsudvælgelse!$Q$6:$R$7)/IF(ISNONTEXT($D24)=TRUE,1,DGET(Forespørgsel1[#All],\"\"&$D24&\"\",Kredsudvælgelse!$Q$6:$R$7))),IF(ISBLANK(HLOOKUP(P$12,'Statiske ejendomme'!$B$3:$PN$81,'Statiske ejendomme'!$A16,FALSE))=FALSE,HLOOKUP(P$12,'Statiske ejendomme'!$B$3:$PN$81,'Statiske ejendomme'!$A16,FALSE),\"\"))),\"\")","v":""},{"$f":"IFERROR(IF(Q$12=Kredsudvælgelse!$Q$20,\"\",IF(Kredsudvælgelse!AH$2=1,IF(ISTEXT(DGET(Forespørgsel1[#All],\"\"&LEFT($F24,LEN($F24)-$C24)&\"\",Kredsudvælgelse!$S$6:$T$7))=TRUE,DGET(Forespørgsel1[#All],\"\"&LEFT($F24,LEN($F24)-$C24)&\"\",Kredsudvælgelse!$S$6:$T$7),DGET(Forespørgsel1[#All],\"\"&LEFT($F24,LEN($F24)-$C24)&\"\",Kredsudvælgelse!$S$6:$T$7)/IF(ISNONTEXT($D24)=TRUE,1,DGET(Forespørgsel1[#All],\"\"&$D24&\"\",Kredsudvælgelse!$S$6:$T$7))),IF(ISBLANK(HLOOKUP(Q$12,'Statiske ejendomme'!$B$3:$PN$81,'Statiske ejendomme'!$A16,FALSE))=FALSE,HLOOKUP(Q$12,'Statiske ejendomme'!$B$3:$PN$81,'Statiske ejendomme'!$A16,FALSE),\"\"))),\"\")","v":""},{"$f":"IFERROR(IF(R$12=Kredsudvælgelse!$Q$20,\"\",IF(Kredsudvælgelse!AI$2=1,IF(ISTEXT(DGET(Forespørgsel1[#All],\"\"&LEFT($F24,LEN($F24)-$C24)&\"\",Kredsudvælgelse!$U$6:$V$7))=TRUE,DGET(Forespørgsel1[#All],\"\"&LEFT($F24,LEN($F24)-$C24)&\"\",Kredsudvælgelse!$U$6:$V$7),DGET(Forespørgsel1[#All],\"\"&LEFT($F24,LEN($F24)-$C24)&\"\",Kredsudvælgelse!$U$6:$V$7)/IF(ISNONTEXT($D24)=TRUE,1,DGET(Forespørgsel1[#All],\"\"&$D24&\"\",Kredsudvælgelse!$U$6:$V$7))),IF(ISBLANK(HLOOKUP(R$12,'Statiske ejendomme'!$B$3:$PN$81,'Statiske ejendomme'!$A16,FALSE))=FALSE,HLOOKUP(R$12,'Statiske ejendomme'!$B$3:$PN$81,'Statiske ejendomme'!$A16,FALSE),\"\"))),\"\")","v":""},{"$f":"IFERROR(IF(S$12=Kredsudvælgelse!$Q$20,\"\",IF(Kredsudvælgelse!AJ$2=1,IF(ISTEXT(DGET(Forespørgsel1[#All],\"\"&LEFT($F24,LEN($F24)-$C24)&\"\",Kredsudvælgelse!$W$6:$X$7))=TRUE,DGET(Forespørgsel1[#All],\"\"&LEFT($F24,LEN($F24)-$C24)&\"\",Kredsudvælgelse!$W$6:$X$7),DGET(Forespørgsel1[#All],\"\"&LEFT($F24,LEN($F24)-$C24)&\"\",Kredsudvælgelse!$W$6:$X$7)/IF(ISNONTEXT($D24)=TRUE,1,DGET(Forespørgsel1[#All],\"\"&$D24&\"\",Kredsudvælgelse!$W$6:$X$7))),IF(ISBLANK(HLOOKUP(S$12,'Statiske ejendomme'!$B$3:$PN$81,'Statiske ejendomme'!$A16,FALSE))=FALSE,HLOOKUP(S$12,'Statiske ejendomme'!$B$3:$PN$81,'Statiske ejendomme'!$A16,FALSE),\"\"))),\"\")","v":""},{"$f":"IFERROR(IF(T$12=Kredsudvælgelse!$Q$20,\"\",IF(Kredsudvælgelse!AK$2=1,IF(ISTEXT(DGET(Forespørgsel1[#All],\"\"&LEFT($F24,LEN($F24)-$C24)&\"\",Kredsudvælgelse!$W$6:$X$7))=TRUE,DGET(Forespørgsel1[#All],\"\"&LEFT($F24,LEN($F24)-$C24)&\"\",Kredsudvælgelse!$W$6:$X$7),DGET(Forespørgsel1[#All],\"\"&LEFT($F24,LEN($F24)-$C24)&\"\",Kredsudvælgelse!$W$6:$X$7)/IF(ISNONTEXT($D24)=TRUE,1,DGET(Forespørgsel1[#All],\"\"&$D24&\"\",Kredsudvælgelse!$W$6:$X$7))),IF(ISBLANK(HLOOKUP(T$12,'Statiske ejendomme'!$B$3:$PN$81,'Statiske ejendomme'!$A17,FALSE))=FALSE,HLOOKUP(T$12,'Statiske ejendomme'!$B$3:$PN$81,'Statiske ejendomme'!$A17,FALSE),\"\"))),\"\")","v":""}]
[{"$f":"Mink!E96","v":1},{"$f":"Mink!D96","v":1},{"$f":"Mink!A14","v":0},{"$f":"Mink!B14","v":"Producerede skind"},null,{"$f":"Mink!C14","v":"Salg af skind og dyr"},{"$f":"Mink!D14","v":373.18466987851946},{"$f":"Mink!E14","v":404.86667168136603},{"$f":"Mink!F14","v":""},{"$f":"Mink!G14","v":""},{"$f":"IFERROR(IF(K$12=Kredsudvælgelse!$Q$20,\"\",IF(Kredsudvælgelse!AB$2=1,IF(ISTEXT(DGET(Forespørgsel1[#All],\"\"&LEFT($F25,LEN($F25)-$C25)&\"\",Kredsudvælgelse!$Q$2:$R$3))=TRUE,DGET(Forespørgsel1[#All],\"\"&LEFT($F25,LEN($F25)-$C25)&\"\",Kredsudvælgelse!$Q$2:$R$3),DGET(Forespørgsel1[#All],\"\"&LEFT($F25,LEN($F25)-$C25)&\"\",Kredsudvælgelse!$Q$2:$R$3)/IF(ISNONTEXT($D25)=TRUE,1,DGET(Forespørgsel1[#All],\"\"&$D25&\"\",Kredsudvælgelse!$Q$2:$R$3))),IF(ISBLANK(HLOOKUP(K$12,'Statiske ejendomme'!$B$3:$PN$81,'Statiske ejendomme'!$A17,FALSE))=FALSE,HLOOKUP(K$12,'Statiske ejendomme'!$B$3:$PN$81,'Statiske ejendomme'!$A17,FALSE),\"\"))),\"\")","v":424.5603383659921},{"$f":"IFERROR(IF(L$12=Kredsudvælgelse!$Q$20,\"\",IF(Kredsudvælgelse!AC$2=1,IF(ISTEXT(DGET(Forespørgsel1[#All],\"\"&LEFT($F25,LEN($F25)-$C25)&\"\",Kredsudvælgelse!$S$2:$T$3))=TRUE,DGET(Forespørgsel1[#All],\"\"&LEFT($F25,LEN($F25)-$C25)&\"\",Kredsudvælgelse!$S$2:$T$3),DGET(Forespørgsel1[#All],\"\"&LEFT($F25,LEN($F25)-$C25)&\"\",Kredsudvælgelse!$S$2:$T$3)/IF(ISNONTEXT($D25)=TRUE,1,DGET(Forespørgsel1[#All],\"\"&$D25&\"\",Kredsudvælgelse!$S$2:$T$3))),IF(ISBLANK(HLOOKUP(L$12,'Statiske ejendomme'!$B$3:$PN$81,'Statiske ejendomme'!$A17,FALSE))=FALSE,HLOOKUP(L$12,'Statiske ejendomme'!$B$3:$PN$81,'Statiske ejendomme'!$A17,FALSE),\"\"))),\"\")","v":424.20184899845918},{"$f":"IFERROR(IF(M$12=Kredsudvælgelse!$Q$20,\"\",IF(Kredsudvælgelse!AD$2=1,IF(ISTEXT(DGET(Forespørgsel1[#All],\"\"&LEFT($F25,LEN($F25)-$C25)&\"\",Kredsudvælgelse!$U$2:$V$3))=TRUE,DGET(Forespørgsel1[#All],\"\"&LEFT($F25,LEN($F25)-$C25)&\"\",Kredsudvælgelse!$U$2:$V$3),DGET(Forespørgsel1[#All],\"\"&LEFT($F25,LEN($F25)-$C25)&\"\",Kredsudvælgelse!$U$2:$V$3)/IF(ISNONTEXT($D25)=TRUE,1,DGET(Forespørgsel1[#All],\"\"&$D25&\"\",Kredsudvælgelse!$U$2:$V$3))),IF(ISBLANK(HLOOKUP(M$12,'Statiske ejendomme'!$B$3:$PN$81,'Statiske ejendomme'!$A17,FALSE))=FALSE,HLOOKUP(M$12,'Statiske ejendomme'!$B$3:$PN$81,'Statiske ejendomme'!$A17,FALSE),\"\"))),\"\")","v":435.32419414598002},{"$f":"IFERROR(IF(N$12=Kredsudvælgelse!$Q$20,\"\",IF(Kredsudvælgelse!AE$2=1,IF(ISTEXT(DGET(Forespørgsel1[#All],\"\"&LEFT($F25,LEN($F25)-$C25)&\"\",Kredsudvælgelse!$W$2:$X$3))=TRUE,DGET(Forespørgsel1[#All],\"\"&LEFT($F25,LEN($F25)-$C25)&\"\",Kredsudvælgelse!$W$2:$X$3),DGET(Forespørgsel1[#All],\"\"&LEFT($F25,LEN($F25)-$C25)&\"\",Kredsudvælgelse!$W$2:$X$3)/IF(ISNONTEXT($D25)=TRUE,1,DGET(Forespørgsel1[#All],\"\"&$D25&\"\",Kredsudvælgelse!$W$2:$X$3))),IF(ISBLANK(HLOOKUP(N$12,'Statiske ejendomme'!$B$3:$PN$81,'Statiske ejendomme'!$A17,FALSE))=FALSE,HLOOKUP(N$12,'Statiske ejendomme'!$B$3:$PN$81,'Statiske ejendomme'!$A17,FALSE),\"\"))),\"\")","v":329.14741758241757},{"$f":"IFERROR(IF(O$12=Kredsudvælgelse!$Q$20,\"\",IF(Kredsudvælgelse!AF$2=1,IF(ISTEXT(DGET(Forespørgsel1[#All],\"\"&LEFT($F25,LEN($F25)-$C25)&\"\",Kredsudvælgelse!$Y$2:$Z$3))=TRUE,DGET(Forespørgsel1[#All],\"\"&LEFT($F25,LEN($F25)-$C25)&\"\",Kredsudvælgelse!$Y$2:$Z$3),DGET(Forespørgsel1[#All],\"\"&LEFT($F25,LEN($F25)-$C25)&\"\",Kredsudvælgelse!$Y$2:$Z$3)/IF(ISNONTEXT($D25)=TRUE,1,DGET(Forespørgsel1[#All],\"\"&$D25&\"\",Kredsudvælgelse!$Y$2:$Z$3))),IF(ISBLANK(HLOOKUP(O$12,'Statiske ejendomme'!$B$3:$PN$81,'Statiske ejendomme'!$A17,FALSE))=FALSE,HLOOKUP(O$12,'Statiske ejendomme'!$B$3:$PN$81,'Statiske ejendomme'!$A17,FALSE),\"\"))),\"\")","v":449.35991301196083},{"$f":"IFERROR(IF(P$12=Kredsudvælgelse!$Q$20,\"\",IF(Kredsudvælgelse!AG$2=1,IF(ISTEXT(DGET(Forespørgsel1[#All],\"\"&LEFT($F25,LEN($F25)-$C25)&\"\",Kredsudvælgelse!$Q$6:$R$7))=TRUE,DGET(Forespørgsel1[#All],\"\"&LEFT($F25,LEN($F25)-$C25)&\"\",Kredsudvælgelse!$Q$6:$R$7),DGET(Forespørgsel1[#All],\"\"&LEFT($F25,LEN($F25)-$C25)&\"\",Kredsudvælgelse!$Q$6:$R$7)/IF(ISNONTEXT($D25)=TRUE,1,DGET(Forespørgsel1[#All],\"\"&$D25&\"\",Kredsudvælgelse!$Q$6:$R$7))),IF(ISBLANK(HLOOKUP(P$12,'Statiske ejendomme'!$B$3:$PN$81,'Statiske ejendomme'!$A17,FALSE))=FALSE,HLOOKUP(P$12,'Statiske ejendomme'!$B$3:$PN$81,'Statiske ejendomme'!$A17,FALSE),\"\"))),\"\")","v":448.37169274537695},{"$f":"IFERROR(IF(Q$12=Kredsudvælgelse!$Q$20,\"\",IF(Kredsudvælgelse!AH$2=1,IF(ISTEXT(DGET(Forespørgsel1[#All],\"\"&LEFT($F25,LEN($F25)-$C25)&\"\",Kredsudvælgelse!$S$6:$T$7))=TRUE,DGET(Forespørgsel1[#All],\"\"&LEFT($F25,LEN($F25)-$C25)&\"\",Kredsudvælgelse!$S$6:$T$7),DGET(Forespørgsel1[#All],\"\"&LEFT($F25,LEN($F25)-$C25)&\"\",Kredsudvælgelse!$S$6:$T$7)/IF(ISNONTEXT($D25)=TRUE,1,DGET(Forespørgsel1[#All],\"\"&$D25&\"\",Kredsudvælgelse!$S$6:$T$7))),IF(ISBLANK(HLOOKUP(Q$12,'Statiske ejendomme'!$B$3:$PN$81,'Statiske ejendomme'!$A17,FALSE))=FALSE,HLOOKUP(Q$12,'Statiske ejendomme'!$B$3:$PN$81,'Statiske ejendomme'!$A17,FALSE),\"\"))),\"\")","v":386.06294235236913},{"$f":"IFERROR(IF(R$12=Kredsudvælgelse!$Q$20,\"\",IF(Kredsudvælgelse!AI$2=1,IF(ISTEXT(DGET(Forespørgsel1[#All],\"\"&LEFT($F25,LEN($F25)-$C25)&\"\",Kredsudvælgelse!$U$6:$V$7))=TRUE,DGET(Forespørgsel1[#All],\"\"&LEFT($F25,LEN($F25)-$C25)&\"\",Kredsudvælgelse!$U$6:$V$7),DGET(Forespørgsel1[#All],\"\"&LEFT($F25,LEN($F25)-$C25)&\"\",Kredsudvælgelse!$U$6:$V$7)/IF(ISNONTEXT($D25)=TRUE,1,DGET(Forespørgsel1[#All],\"\"&$D25&\"\",Kredsudvælgelse!$U$6:$V$7))),IF(ISBLANK(HLOOKUP(R$12,'Statiske ejendomme'!$B$3:$PN$81,'Statiske ejendomme'!$A17,FALSE))=FALSE,HLOOKUP(R$12,'Statiske ejendomme'!$B$3:$PN$81,'Statiske ejendomme'!$A17,FALSE),\"\"))),\"\")","v":340.85808061628603},{"$f":"IFERROR(IF(S$12=Kredsudvælgelse!$Q$20,\"\",IF(Kredsudvælgelse!AJ$2=1,IF(ISTEXT(DGET(Forespørgsel1[#All],\"\"&LEFT($F25,LEN($F25)-$C25)&\"\",Kredsudvælgelse!$W$6:$X$7))=TRUE,DGET(Forespørgsel1[#All],\"\"&LEFT($F25,LEN($F25)-$C25)&\"\",Kredsudvælgelse!$W$6:$X$7),DGET(Forespørgsel1[#All],\"\"&LEFT($F25,LEN($F25)-$C25)&\"\",Kredsudvælgelse!$W$6:$X$7)/IF(ISNONTEXT($D25)=TRUE,1,DGET(Forespørgsel1[#All],\"\"&$D25&\"\",Kredsudvælgelse!$W$6:$X$7))),IF(ISBLANK(HLOOKUP(S$12,'Statiske ejendomme'!$B$3:$PN$81,'Statiske ejendomme'!$A17,FALSE))=FALSE,HLOOKUP(S$12,'Statiske ejendomme'!$B$3:$PN$81,'Statiske ejendomme'!$A17,FALSE),\"\"))),\"\")","v":""},{"$f":"IFERROR(IF(T$12=Kredsudvælgelse!$Q$20,\"\",IF(Kredsudvælgelse!AK$2=1,IF(ISTEXT(DGET(Forespørgsel1[#All],\"\"&LEFT($F25,LEN($F25)-$C25)&\"\",Kredsudvælgelse!$W$6:$X$7))=TRUE,DGET(Forespørgsel1[#All],\"\"&LEFT($F25,LEN($F25)-$C25)&\"\",Kredsudvælgelse!$W$6:$X$7),DGET(Forespørgsel1[#All],\"\"&LEFT($F25,LEN($F25)-$C25)&\"\",Kredsudvælgelse!$W$6:$X$7)/IF(ISNONTEXT($D25)=TRUE,1,DGET(Forespørgsel1[#All],\"\"&$D25&\"\",Kredsudvælgelse!$W$6:$X$7))),IF(ISBLANK(HLOOKUP(T$12,'Statiske ejendomme'!$B$3:$PN$81,'Statiske ejendomme'!$A18,FALSE))=FALSE,HLOOKUP(T$12,'Statiske ejendomme'!$B$3:$PN$81,'Statiske ejendomme'!$A18,FALSE),\"\"))),\"\")","v":""}]
[{"$f":"Mink!E97","v":1},{"$f":"Mink!D97","v":1},{"$f":"Mink!A15","v":0},{"$f":"Mink!B15","v":"Producerede skind"},null,{"$f":"Mink!C15","v":"Køb mink"},{"$f":"Mink!D15","v":-9.6250524516279423},{"$f":"Mink!E15","v":-5.195905497990986},{"$f":"Mink!F15","v":""},{"$f":"Mink!G15","v":""},{"$f":"IFERROR(IF(K$12=Kredsudvælgelse!$Q$20,\"\",IF(Kredsudvælgelse!AB$2=1,IF(ISTEXT(DGET(Forespørgsel1[#All],\"\"&LEFT($F26,LEN($F26)-$C26)&\"\",Kredsudvælgelse!$Q$2:$R$3))=TRUE,DGET(Forespørgsel1[#All],\"\"&LEFT($F26,LEN($F26)-$C26)&\"\",Kredsudvælgelse!$Q$2:$R$3),DGET(Forespørgsel1[#All],\"\"&LEFT($F26,LEN($F26)-$C26)&\"\",Kredsudvælgelse!$Q$2:$R$3)/IF(ISNONTEXT($D26)=TRUE,1,DGET(Forespørgsel1[#All],\"\"&$D26&\"\",Kredsudvælgelse!$Q$2:$R$3))),IF(ISBLANK(HLOOKUP(K$12,'Statiske ejendomme'!$B$3:$PN$81,'Statiske ejendomme'!$A18,FALSE))=FALSE,HLOOKUP(K$12,'Statiske ejendomme'!$B$3:$PN$81,'Statiske ejendomme'!$A18,FALSE),\"\"))),\"\")","v":-12.046257629296498},{"$f":"IFERROR(IF(L$12=Kredsudvælgelse!$Q$20,\"\",IF(Kredsudvælgelse!AC$2=1,IF(ISTEXT(DGET(Forespørgsel1[#All],\"\"&LEFT($F26,LEN($F26)-$C26)&\"\",Kredsudvælgelse!$S$2:$T$3))=TRUE,DGET(Forespørgsel1[#All],\"\"&LEFT($F26,LEN($F26)-$C26)&\"\",Kredsudvælgelse!$S$2:$T$3),DGET(Forespørgsel1[#All],\"\"&LEFT($F26,LEN($F26)-$C26)&\"\",Kredsudvælgelse!$S$2:$T$3)/IF(ISNONTEXT($D26)=TRUE,1,DGET(Forespørgsel1[#All],\"\"&$D26&\"\",Kredsudvælgelse!$S$2:$T$3))),IF(ISBLANK(HLOOKUP(L$12,'Statiske ejendomme'!$B$3:$PN$81,'Statiske ejendomme'!$A18,FALSE))=FALSE,HLOOKUP(L$12,'Statiske ejendomme'!$B$3:$PN$81,'Statiske ejendomme'!$A18,FALSE),\"\"))),\"\")","v":-13.071391884951208},{"$f":"IFERROR(IF(M$12=Kredsudvælgelse!$Q$20,\"\",IF(Kredsudvælgelse!AD$2=1,IF(ISTEXT(DGET(Forespørgsel1[#All],\"\"&LEFT($F26,LEN($F26)-$C26)&\"\",Kredsudvælgelse!$U$2:$V$3))=TRUE,DGET(Forespørgsel1[#All],\"\"&LEFT($F26,LEN($F26)-$C26)&\"\",Kredsudvælgelse!$U$2:$V$3),DGET(Forespørgsel1[#All],\"\"&LEFT($F26,LEN($F26)-$C26)&\"\",Kredsudvælgelse!$U$2:$V$3)/IF(ISNONTEXT($D26)=TRUE,1,DGET(Forespørgsel1[#All],\"\"&$D26&\"\",Kredsudvælgelse!$U$2:$V$3))),IF(ISBLANK(HLOOKUP(M$12,'Statiske ejendomme'!$B$3:$PN$81,'Statiske ejendomme'!$A18,FALSE))=FALSE,HLOOKUP(M$12,'Statiske ejendomme'!$B$3:$PN$81,'Statiske ejendomme'!$A18,FALSE),\"\"))),\"\")","v":-13.875509447943683},{"$f":"IFERROR(IF(N$12=Kredsudvælgelse!$Q$20,\"\",IF(Kredsudvælgelse!AE$2=1,IF(ISTEXT(DGET(Forespørgsel1[#All],\"\"&LEFT($F26,LEN($F26)-$C26)&\"\",Kredsudvælgelse!$W$2:$X$3))=TRUE,DGET(Forespørgsel1[#All],\"\"&LEFT($F26,LEN($F26)-$C26)&\"\",Kredsudvælgelse!$W$2:$X$3),DGET(Forespørgsel1[#All],\"\"&LEFT($F26,LEN($F26)-$C26)&\"\",Kredsudvælgelse!$W$2:$X$3)/IF(ISNONTEXT($D26)=TRUE,1,DGET(Forespørgsel1[#All],\"\"&$D26&\"\",Kredsudvælgelse!$W$2:$X$3))),IF(ISBLANK(HLOOKUP(N$12,'Statiske ejendomme'!$B$3:$PN$81,'Statiske ejendomme'!$A18,FALSE))=FALSE,HLOOKUP(N$12,'Statiske ejendomme'!$B$3:$PN$81,'Statiske ejendomme'!$A18,FALSE),\"\"))),\"\")","v":-2.8434065934065935},{"$f":"IFERROR(IF(O$12=Kredsudvælgelse!$Q$20,\"\",IF(Kredsudvælgelse!AF$2=1,IF(ISTEXT(DGET(Forespørgsel1[#All],\"\"&LEFT($F26,LEN($F26)-$C26)&\"\",Kredsudvælgelse!$Y$2:$Z$3))=TRUE,DGET(Forespørgsel1[#All],\"\"&LEFT($F26,LEN($F26)-$C26)&\"\",Kredsudvælgelse!$Y$2:$Z$3),DGET(Forespørgsel1[#All],\"\"&LEFT($F26,LEN($F26)-$C26)&\"\",Kredsudvælgelse!$Y$2:$Z$3)/IF(ISNONTEXT($D26)=TRUE,1,DGET(Forespørgsel1[#All],\"\"&$D26&\"\",Kredsudvælgelse!$Y$2:$Z$3))),IF(ISBLANK(HLOOKUP(O$12,'Statiske ejendomme'!$B$3:$PN$81,'Statiske ejendomme'!$A18,FALSE))=FALSE,HLOOKUP(O$12,'Statiske ejendomme'!$B$3:$PN$81,'Statiske ejendomme'!$A18,FALSE),\"\"))),\"\")","v":0},{"$f":"IFERROR(IF(P$12=Kredsudvælgelse!$Q$20,\"\",IF(Kredsudvælgelse!AG$2=1,IF(ISTEXT(DGET(Forespørgsel1[#All],\"\"&LEFT($F26,LEN($F26)-$C26)&\"\",Kredsudvælgelse!$Q$6:$R$7))=TRUE,DGET(Forespørgsel1[#All],\"\"&LEFT($F26,LEN($F26)-$C26)&\"\",Kredsudvælgelse!$Q$6:$R$7),DGET(Forespørgsel1[#All],\"\"&LEFT($F26,LEN($F26)-$C26)&\"\",Kredsudvælgelse!$Q$6:$R$7)/IF(ISNONTEXT($D26)=TRUE,1,DGET(Forespørgsel1[#All],\"\"&$D26&\"\",Kredsudvælgelse!$Q$6:$R$7))),IF(ISBLANK(HLOOKUP(P$12,'Statiske ejendomme'!$B$3:$PN$81,'Statiske ejendomme'!$A18,FALSE))=FALSE,HLOOKUP(P$12,'Statiske ejendomme'!$B$3:$PN$81,'Statiske ejendomme'!$A18,FALSE),\"\"))),\"\")","v":-1.2162162162162162},{"$f":"IFERROR(IF(Q$12=Kredsudvælgelse!$Q$20,\"\",IF(Kredsudvælgelse!AH$2=1,IF(ISTEXT(DGET(Forespørgsel1[#All],\"\"&LEFT($F26,LEN($F26)-$C26)&\"\",Kredsudvælgelse!$S$6:$T$7))=TRUE,DGET(Forespørgsel1[#All],\"\"&LEFT($F26,LEN($F26)-$C26)&\"\",Kredsudvælgelse!$S$6:$T$7),DGET(Forespørgsel1[#All],\"\"&LEFT($F26,LEN($F26)-$C26)&\"\",Kredsudvælgelse!$S$6:$T$7)/IF(ISNONTEXT($D26)=TRUE,1,DGET(Forespørgsel1[#All],\"\"&$D26&\"\",Kredsudvælgelse!$S$6:$T$7))),IF(ISBLANK(HLOOKUP(Q$12,'Statiske ejendomme'!$B$3:$PN$81,'Statiske ejendomme'!$A18,FALSE))=FALSE,HLOOKUP(Q$12,'Statiske ejendomme'!$B$3:$PN$81,'Statiske ejendomme'!$A18,FALSE),\"\"))),\"\")","v":-8.0829866551407417},{"$f":"IFERROR(IF(R$12=Kredsudvælgelse!$Q$20,\"\",IF(Kredsudvælgelse!AI$2=1,IF(ISTEXT(DGET(Forespørgsel1[#All],\"\"&LEFT($F26,LEN($F26)-$C26)&\"\",Kredsudvælgelse!$U$6:$V$7))=TRUE,DGET(Forespørgsel1[#All],\"\"&LEFT($F26,LEN($F26)-$C26)&\"\",Kredsudvælgelse!$U$6:$V$7),DGET(Forespørgsel1[#All],\"\"&LEFT($F26,LEN($F26)-$C26)&\"\",Kredsudvælgelse!$U$6:$V$7)/IF(ISNONTEXT($D26)=TRUE,1,DGET(Forespørgsel1[#All],\"\"&$D26&\"\",Kredsudvælgelse!$U$6:$V$7))),IF(ISBLANK(HLOOKUP(R$12,'Statiske ejendomme'!$B$3:$PN$81,'Statiske ejendomme'!$A18,FALSE))=FALSE,HLOOKUP(R$12,'Statiske ejendomme'!$B$3:$PN$81,'Statiske ejendomme'!$A18,FALSE),\"\"))),\"\")","v":0},{"$f":"IFERROR(IF(S$12=Kredsudvælgelse!$Q$20,\"\",IF(Kredsudvælgelse!AJ$2=1,IF(ISTEXT(DGET(Forespørgsel1[#All],\"\"&LEFT($F26,LEN($F26)-$C26)&\"\",Kredsudvælgelse!$W$6:$X$7))=TRUE,DGET(Forespørgsel1[#All],\"\"&LEFT($F26,LEN($F26)-$C26)&\"\",Kredsudvælgelse!$W$6:$X$7),DGET(Forespørgsel1[#All],\"\"&LEFT($F26,LEN($F26)-$C26)&\"\",Kredsudvælgelse!$W$6:$X$7)/IF(ISNONTEXT($D26)=TRUE,1,DGET(Forespørgsel1[#All],\"\"&$D26&\"\",Kredsudvælgelse!$W$6:$X$7))),IF(ISBLANK(HLOOKUP(S$12,'Statiske ejendomme'!$B$3:$PN$81,'Statiske ejendomme'!$A18,FALSE))=FALSE,HLOOKUP(S$12,'Statiske ejendomme'!$B$3:$PN$81,'Statiske ejendomme'!$A18,FALSE),\"\"))),\"\")","v":""},{"$f":"IFERROR(IF(T$12=Kredsudvælgelse!$Q$20,\"\",IF(Kredsudvælgelse!AK$2=1,IF(ISTEXT(DGET(Forespørgsel1[#All],\"\"&LEFT($F26,LEN($F26)-$C26)&\"\",Kredsudvælgelse!$W$6:$X$7))=TRUE,DGET(Forespørgsel1[#All],\"\"&LEFT($F26,LEN($F26)-$C26)&\"\",Kredsudvælgelse!$W$6:$X$7),DGET(Forespørgsel1[#All],\"\"&LEFT($F26,LEN($F26)-$C26)&\"\",Kredsudvælgelse!$W$6:$X$7)/IF(ISNONTEXT($D26)=TRUE,1,DGET(Forespørgsel1[#All],\"\"&$D26&\"\",Kredsudvælgelse!$W$6:$X$7))),IF(ISBLANK(HLOOKUP(T$12,'Statiske ejendomme'!$B$3:$PN$81,'Statiske ejendomme'!$A19,FALSE))=FALSE,HLOOKUP(T$12,'Statiske ejendomme'!$B$3:$PN$81,'Statiske ejendomme'!$A19,FALSE),\"\"))),\"\")","v":""}]
[{"$f":"Mink!E98","v":1},{"$f":"Mink!D98","v":1},{"$f":"Mink!A16","v":0},{"$f":"Mink!B16","v":"Producerede skind"},null,{"$f":"Mink!C16","v":"Besætnings- og beholdningsforskydning"},{"$f":"Mink!D16","v":13.058879650495161},{"$f":"Mink!E16","v":9.780544220245595},{"$f":"Mink!F16","v":""},{"$f":"Mink!G16","v":""},{"$f":"IFERROR(IF(K$12=Kredsudvælgelse!$Q$20,\"\",IF(Kredsudvælgelse!AB$2=1,IF(ISTEXT(DGET(Forespørgsel1[#All],\"\"&LEFT($F27,LEN($F27)-$C27)&\"\",Kredsudvælgelse!$Q$2:$R$3))=TRUE,DGET(Forespørgsel1[#All],\"\"&LEFT($F27,LEN($F27)-$C27)&\"\",Kredsudvælgelse!$Q$2:$R$3),DGET(Forespørgsel1[#All],\"\"&LEFT($F27,LEN($F27)-$C27)&\"\",Kredsudvælgelse!$Q$2:$R$3)/IF(ISNONTEXT($D27)=TRUE,1,DGET(Forespørgsel1[#All],\"\"&$D27&\"\",Kredsudvælgelse!$Q$2:$R$3))),IF(ISBLANK(HLOOKUP(K$12,'Statiske ejendomme'!$B$3:$PN$81,'Statiske ejendomme'!$A19,FALSE))=FALSE,HLOOKUP(K$12,'Statiske ejendomme'!$B$3:$PN$81,'Statiske ejendomme'!$A19,FALSE),\"\"))),\"\")","v":6.3577470821287072},{"$f":"IFERROR(IF(L$12=Kredsudvælgelse!$Q$20,\"\",IF(Kredsudvælgelse!AC$2=1,IF(ISTEXT(DGET(Forespørgsel1[#All],\"\"&LEFT($F27,LEN($F27)-$C27)&\"\",Kredsudvælgelse!$S$2:$T$3))=TRUE,DGET(Forespørgsel1[#All],\"\"&LEFT($F27,LEN($F27)-$C27)&\"\",Kredsudvælgelse!$S$2:$T$3),DGET(Forespørgsel1[#All],\"\"&LEFT($F27,LEN($F27)-$C27)&\"\",Kredsudvælgelse!$S$2:$T$3)/IF(ISNONTEXT($D27)=TRUE,1,DGET(Forespørgsel1[#All],\"\"&$D27&\"\",Kredsudvælgelse!$S$2:$T$3))),IF(ISBLANK(HLOOKUP(L$12,'Statiske ejendomme'!$B$3:$PN$81,'Statiske ejendomme'!$A19,FALSE))=FALSE,HLOOKUP(L$12,'Statiske ejendomme'!$B$3:$PN$81,'Statiske ejendomme'!$A19,FALSE),\"\"))),\"\")","v":29.958911145351824},{"$f":"IFERROR(IF(M$12=Kredsudvælgelse!$Q$20,\"\",IF(Kredsudvælgelse!AD$2=1,IF(ISTEXT(DGET(Forespørgsel1[#All],\"\"&LEFT($F27,LEN($F27)-$C27)&\"\",Kredsudvælgelse!$U$2:$V$3))=TRUE,DGET(Forespørgsel1[#All],\"\"&LEFT($F27,LEN($F27)-$C27)&\"\",Kredsudvælgelse!$U$2:$V$3),DGET(Forespørgsel1[#All],\"\"&LEFT($F27,LEN($F27)-$C27)&\"\",Kredsudvælgelse!$U$2:$V$3)/IF(ISNONTEXT($D27)=TRUE,1,DGET(Forespørgsel1[#All],\"\"&$D27&\"\",Kredsudvælgelse!$U$2:$V$3))),IF(ISBLANK(HLOOKUP(M$12,'Statiske ejendomme'!$B$3:$PN$81,'Statiske ejendomme'!$A19,FALSE))=FALSE,HLOOKUP(M$12,'Statiske ejendomme'!$B$3:$PN$81,'Statiske ejendomme'!$A19,FALSE),\"\"))),\"\")","v":46.128195628010374},{"$f":"IFERROR(IF(N$12=Kredsudvælgelse!$Q$20,\"\",IF(Kredsudvælgelse!AE$2=1,IF(ISTEXT(DGET(Forespørgsel1[#All],\"\"&LEFT($F27,LEN($F27)-$C27)&\"\",Kredsudvælgelse!$W$2:$X$3))=TRUE,DGET(Forespørgsel1[#All],\"\"&LEFT($F27,LEN($F27)-$C27)&\"\",Kredsudvælgelse!$W$2:$X$3),DGET(Forespørgsel1[#All],\"\"&LEFT($F27,LEN($F27)-$C27)&\"\",Kredsudvælgelse!$W$2:$X$3)/IF(ISNONTEXT($D27)=TRUE,1,DGET(Forespørgsel1[#All],\"\"&$D27&\"\",Kredsudvælgelse!$W$2:$X$3))),IF(ISBLANK(HLOOKUP(N$12,'Statiske ejendomme'!$B$3:$PN$81,'Statiske ejendomme'!$A19,FALSE))=FALSE,HLOOKUP(N$12,'Statiske ejendomme'!$B$3:$PN$81,'Statiske ejendomme'!$A19,FALSE),\"\"))),\"\")","v":71.15384615384616},{"$f":"IFERROR(IF(O$12=Kredsudvælgelse!$Q$20,\"\",IF(Kredsudvælgelse!AF$2=1,IF(ISTEXT(DGET(Forespørgsel1[#All],\"\"&LEFT($F27,LEN($F27)-$C27)&\"\",Kredsudvælgelse!$Y$2:$Z$3))=TRUE,DGET(Forespørgsel1[#All],\"\"&LEFT($F27,LEN($F27)-$C27)&\"\",Kredsudvælgelse!$Y$2:$Z$3),DGET(Forespørgsel1[#All],\"\"&LEFT($F27,LEN($F27)-$C27)&\"\",Kredsudvælgelse!$Y$2:$Z$3)/IF(ISNONTEXT($D27)=TRUE,1,DGET(Forespørgsel1[#All],\"\"&$D27&\"\",Kredsudvælgelse!$Y$2:$Z$3))),IF(ISBLANK(HLOOKUP(O$12,'Statiske ejendomme'!$B$3:$PN$81,'Statiske ejendomme'!$A19,FALSE))=FALSE,HLOOKUP(O$12,'Statiske ejendomme'!$B$3:$PN$81,'Statiske ejendomme'!$A19,FALSE),\"\"))),\"\")","v":-13.754983689742661},{"$f":"IFERROR(IF(P$12=Kredsudvælgelse!$Q$20,\"\",IF(Kredsudvælgelse!AG$2=1,IF(ISTEXT(DGET(Forespørgsel1[#All],\"\"&LEFT($F27,LEN($F27)-$C27)&\"\",Kredsudvælgelse!$Q$6:$R$7))=TRUE,DGET(Forespørgsel1[#All],\"\"&LEFT($F27,LEN($F27)-$C27)&\"\",Kredsudvælgelse!$Q$6:$R$7),DGET(Forespørgsel1[#All],\"\"&LEFT($F27,LEN($F27)-$C27)&\"\",Kredsudvælgelse!$Q$6:$R$7)/IF(ISNONTEXT($D27)=TRUE,1,DGET(Forespørgsel1[#All],\"\"&$D27&\"\",Kredsudvælgelse!$Q$6:$R$7))),IF(ISBLANK(HLOOKUP(P$12,'Statiske ejendomme'!$B$3:$PN$81,'Statiske ejendomme'!$A19,FALSE))=FALSE,HLOOKUP(P$12,'Statiske ejendomme'!$B$3:$PN$81,'Statiske ejendomme'!$A19,FALSE),\"\"))),\"\")","v":-12.091038406827881},{"$f":"IFERROR(IF(Q$12=Kredsudvælgelse!$Q$20,\"\",IF(Kredsudvælgelse!AH$2=1,IF(ISTEXT(DGET(Forespørgsel1[#All],\"\"&LEFT($F27,LEN($F27)-$C27)&\"\",Kredsudvælgelse!$S$6:$T$7))=TRUE,DGET(Forespørgsel1[#All],\"\"&LEFT($F27,LEN($F27)-$C27)&\"\",Kredsudvælgelse!$S$6:$T$7),DGET(Forespørgsel1[#All],\"\"&LEFT($F27,LEN($F27)-$C27)&\"\",Kredsudvælgelse!$S$6:$T$7)/IF(ISNONTEXT($D27)=TRUE,1,DGET(Forespørgsel1[#All],\"\"&$D27&\"\",Kredsudvælgelse!$S$6:$T$7))),IF(ISBLANK(HLOOKUP(Q$12,'Statiske ejendomme'!$B$3:$PN$81,'Statiske ejendomme'!$A19,FALSE))=FALSE,HLOOKUP(Q$12,'Statiske ejendomme'!$B$3:$PN$81,'Statiske ejendomme'!$A19,FALSE),\"\"))),\"\")","v":3.4442703549624505},{"$f":"IFERROR(IF(R$12=Kredsudvælgelse!$Q$20,\"\",IF(Kredsudvælgelse!AI$2=1,IF(ISTEXT(DGET(Forespørgsel1[#All],\"\"&LEFT($F27,LEN($F27)-$C27)&\"\",Kredsudvælgelse!$U$6:$V$7))=TRUE,DGET(Forespørgsel1[#All],\"\"&LEFT($F27,LEN($F27)-$C27)&\"\",Kredsudvælgelse!$U$6:$V$7),DGET(Forespørgsel1[#All],\"\"&LEFT($F27,LEN($F27)-$C27)&\"\",Kredsudvælgelse!$U$6:$V$7)/IF(ISNONTEXT($D27)=TRUE,1,DGET(Forespørgsel1[#All],\"\"&$D27&\"\",Kredsudvælgelse!$U$6:$V$7))),IF(ISBLANK(HLOOKUP(R$12,'Statiske ejendomme'!$B$3:$PN$81,'Statiske ejendomme'!$A19,FALSE))=FALSE,HLOOKUP(R$12,'Statiske ejendomme'!$B$3:$PN$81,'Statiske ejendomme'!$A19,FALSE),\"\"))),\"\")","v":26.365757066131394},{"$f":"IFERROR(IF(S$12=Kredsudvælgelse!$Q$20,\"\",IF(Kredsudvælgelse!AJ$2=1,IF(ISTEXT(DGET(Forespørgsel1[#All],\"\"&LEFT($F27,LEN($F27)-$C27)&\"\",Kredsudvælgelse!$W$6:$X$7))=TRUE,DGET(Forespørgsel1[#All],\"\"&LEFT($F27,LEN($F27)-$C27)&\"\",Kredsudvælgelse!$W$6:$X$7),DGET(Forespørgsel1[#All],\"\"&LEFT($F27,LEN($F27)-$C27)&\"\",Kredsudvælgelse!$W$6:$X$7)/IF(ISNONTEXT($D27)=TRUE,1,DGET(Forespørgsel1[#All],\"\"&$D27&\"\",Kredsudvælgelse!$W$6:$X$7))),IF(ISBLANK(HLOOKUP(S$12,'Statiske ejendomme'!$B$3:$PN$81,'Statiske ejendomme'!$A19,FALSE))=FALSE,HLOOKUP(S$12,'Statiske ejendomme'!$B$3:$PN$81,'Statiske ejendomme'!$A19,FALSE),\"\"))),\"\")","v":""},{"$f":"IFERROR(IF(T$12=Kredsudvælgelse!$Q$20,\"\",IF(Kredsudvælgelse!AK$2=1,IF(ISTEXT(DGET(Forespørgsel1[#All],\"\"&LEFT($F27,LEN($F27)-$C27)&\"\",Kredsudvælgelse!$W$6:$X$7))=TRUE,DGET(Forespørgsel1[#All],\"\"&LEFT($F27,LEN($F27)-$C27)&\"\",Kredsudvælgelse!$W$6:$X$7),DGET(Forespørgsel1[#All],\"\"&LEFT($F27,LEN($F27)-$C27)&\"\",Kredsudvælgelse!$W$6:$X$7)/IF(ISNONTEXT($D27)=TRUE,1,DGET(Forespørgsel1[#All],\"\"&$D27&\"\",Kredsudvælgelse!$W$6:$X$7))),IF(ISBLANK(HLOOKUP(T$12,'Statiske ejendomme'!$B$3:$PN$81,'Statiske ejendomme'!$A20,FALSE))=FALSE,HLOOKUP(T$12,'Statiske ejendomme'!$B$3:$PN$81,'Statiske ejendomme'!$A20,FALSE),\"\"))),\"\")","v":""}]
[{"$f":"Mink!E99","v":1},{"$f":"Mink!D99","v":1},{"$f":"Mink!A17","v":0},{"$f":"Mink!B17","v":"Producerede skind"},null,{"$f":"Mink!C17","v":"Andre indtægter (overskud)"},{"$f":"Mink!D17","v":6.0314666597594568},{"$f":"Mink!E17","v":4.2501582764478378},{"$f":"Mink!F17","v":""},{"$f":"Mink!G17","v":""},{"$f":"IFERROR(IF(K$12=Kredsudvælgelse!$Q$20,\"\",IF(Kredsudvælgelse!AB$2=1,IF(ISTEXT(DGET(Forespørgsel1[#All],\"\"&LEFT($F28,LEN($F28)-$C28)&\"\",Kredsudvælgelse!$Q$2:$R$3))=TRUE,DGET(Forespørgsel1[#All],\"\"&LEFT($F28,LEN($F28)-$C28)&\"\",Kredsudvælgelse!$Q$2:$R$3),DGET(Forespørgsel1[#All],\"\"&LEFT($F28,LEN($F28)-$C28)&\"\",Kredsudvælgelse!$Q$2:$R$3)/IF(ISNONTEXT($D28)=TRUE,1,DGET(Forespørgsel1[#All],\"\"&$D28&\"\",Kredsudvælgelse!$Q$2:$R$3))),IF(ISBLANK(HLOOKUP(K$12,'Statiske ejendomme'!$B$3:$PN$81,'Statiske ejendomme'!$A20,FALSE))=FALSE,HLOOKUP(K$12,'Statiske ejendomme'!$B$3:$PN$81,'Statiske ejendomme'!$A20,FALSE),\"\"))),\"\")","v":7.8545882856836924},{"$f":"IFERROR(IF(L$12=Kredsudvælgelse!$Q$20,\"\",IF(Kredsudvælgelse!AC$2=1,IF(ISTEXT(DGET(Forespørgsel1[#All],\"\"&LEFT($F28,LEN($F28)-$C28)&\"\",Kredsudvælgelse!$S$2:$T$3))=TRUE,DGET(Forespørgsel1[#All],\"\"&LEFT($F28,LEN($F28)-$C28)&\"\",Kredsudvælgelse!$S$2:$T$3),DGET(Forespørgsel1[#All],\"\"&LEFT($F28,LEN($F28)-$C28)&\"\",Kredsudvælgelse!$S$2:$T$3)/IF(ISNONTEXT($D28)=TRUE,1,DGET(Forespørgsel1[#All],\"\"&$D28&\"\",Kredsudvælgelse!$S$2:$T$3))),IF(ISBLANK(HLOOKUP(L$12,'Statiske ejendomme'!$B$3:$PN$81,'Statiske ejendomme'!$A20,FALSE))=FALSE,HLOOKUP(L$12,'Statiske ejendomme'!$B$3:$PN$81,'Statiske ejendomme'!$A20,FALSE),\"\"))),\"\")","v":3.8245505906522856},{"$f":"IFERROR(IF(M$12=Kredsudvælgelse!$Q$20,\"\",IF(Kredsudvælgelse!AD$2=1,IF(ISTEXT(DGET(Forespørgsel1[#All],\"\"&LEFT($F28,LEN($F28)-$C28)&\"\",Kredsudvælgelse!$U$2:$V$3))=TRUE,DGET(Forespørgsel1[#All],\"\"&LEFT($F28,LEN($F28)-$C28)&\"\",Kredsudvælgelse!$U$2:$V$3),DGET(Forespørgsel1[#All],\"\"&LEFT($F28,LEN($F28)-$C28)&\"\",Kredsudvælgelse!$U$2:$V$3)/IF(ISNONTEXT($D28)=TRUE,1,DGET(Forespørgsel1[#All],\"\"&$D28&\"\",Kredsudvælgelse!$U$2:$V$3))),IF(ISBLANK(HLOOKUP(M$12,'Statiske ejendomme'!$B$3:$PN$81,'Statiske ejendomme'!$A20,FALSE))=FALSE,HLOOKUP(M$12,'Statiske ejendomme'!$B$3:$PN$81,'Statiske ejendomme'!$A20,FALSE),\"\"))),\"\")","v":0.57965913301222671},{"$f":"IFERROR(IF(N$12=Kredsudvælgelse!$Q$20,\"\",IF(Kredsudvælgelse!AE$2=1,IF(ISTEXT(DGET(Forespørgsel1[#All],\"\"&LEFT($F28,LEN($F28)-$C28)&\"\",Kredsudvælgelse!$W$2:$X$3))=TRUE,DGET(Forespørgsel1[#All],\"\"&LEFT($F28,LEN($F28)-$C28)&\"\",Kredsudvælgelse!$W$2:$X$3),DGET(Forespørgsel1[#All],\"\"&LEFT($F28,LEN($F28)-$C28)&\"\",Kredsudvælgelse!$W$2:$X$3)/IF(ISNONTEXT($D28)=TRUE,1,DGET(Forespørgsel1[#All],\"\"&$D28&\"\",Kredsudvælgelse!$W$2:$X$3))),IF(ISBLANK(HLOOKUP(N$12,'Statiske ejendomme'!$B$3:$PN$81,'Statiske ejendomme'!$A20,FALSE))=FALSE,HLOOKUP(N$12,'Statiske ejendomme'!$B$3:$PN$81,'Statiske ejendomme'!$A20,FALSE),\"\"))),\"\")","v":0},{"$f":"IFERROR(IF(O$12=Kredsudvælgelse!$Q$20,\"\",IF(Kredsudvælgelse!AF$2=1,IF(ISTEXT(DGET(Forespørgsel1[#All],\"\"&LEFT($F28,LEN($F28)-$C28)&\"\",Kredsudvælgelse!$Y$2:$Z$3))=TRUE,DGET(Forespørgsel1[#All],\"\"&LEFT($F28,LEN($F28)-$C28)&\"\",Kredsudvælgelse!$Y$2:$Z$3),DGET(Forespørgsel1[#All],\"\"&LEFT($F28,LEN($F28)-$C28)&\"\",Kredsudvælgelse!$Y$2:$Z$3)/IF(ISNONTEXT($D28)=TRUE,1,DGET(Forespørgsel1[#All],\"\"&$D28&\"\",Kredsudvælgelse!$Y$2:$Z$3))),IF(ISBLANK(HLOOKUP(O$12,'Statiske ejendomme'!$B$3:$PN$81,'Statiske ejendomme'!$A20,FALSE))=FALSE,HLOOKUP(O$12,'Statiske ejendomme'!$B$3:$PN$81,'Statiske ejendomme'!$A20,FALSE),\"\"))),\"\")","v":12.512432040594419},{"$f":"IFERROR(IF(P$12=Kredsudvælgelse!$Q$20,\"\",IF(Kredsudvælgelse!AG$2=1,IF(ISTEXT(DGET(Forespørgsel1[#All],\"\"&LEFT($F28,LEN($F28)-$C28)&\"\",Kredsudvælgelse!$Q$6:$R$7))=TRUE,DGET(Forespørgsel1[#All],\"\"&LEFT($F28,LEN($F28)-$C28)&\"\",Kredsudvælgelse!$Q$6:$R$7),DGET(Forespørgsel1[#All],\"\"&LEFT($F28,LEN($F28)-$C28)&\"\",Kredsudvælgelse!$Q$6:$R$7)/IF(ISNONTEXT($D28)=TRUE,1,DGET(Forespørgsel1[#All],\"\"&$D28&\"\",Kredsudvælgelse!$Q$6:$R$7))),IF(ISBLANK(HLOOKUP(P$12,'Statiske ejendomme'!$B$3:$PN$81,'Statiske ejendomme'!$A20,FALSE))=FALSE,HLOOKUP(P$12,'Statiske ejendomme'!$B$3:$PN$81,'Statiske ejendomme'!$A20,FALSE),\"\"))),\"\")","v":1.6710881934566144},{"$f":"IFERROR(IF(Q$12=Kredsudvælgelse!$Q$20,\"\",IF(Kredsudvælgelse!AH$2=1,IF(ISTEXT(DGET(Forespørgsel1[#All],\"\"&LEFT($F28,LEN($F28)-$C28)&\"\",Kredsudvælgelse!$S$6:$T$7))=TRUE,DGET(Forespørgsel1[#All],\"\"&LEFT($F28,LEN($F28)-$C28)&\"\",Kredsudvælgelse!$S$6:$T$7),DGET(Forespørgsel1[#All],\"\"&LEFT($F28,LEN($F28)-$C28)&\"\",Kredsudvælgelse!$S$6:$T$7)/IF(ISNONTEXT($D28)=TRUE,1,DGET(Forespørgsel1[#All],\"\"&$D28&\"\",Kredsudvælgelse!$S$6:$T$7))),IF(ISBLANK(HLOOKUP(Q$12,'Statiske ejendomme'!$B$3:$PN$81,'Statiske ejendomme'!$A20,FALSE))=FALSE,HLOOKUP(Q$12,'Statiske ejendomme'!$B$3:$PN$81,'Statiske ejendomme'!$A20,FALSE),\"\"))),\"\")","v":5.9847101410124806},{"$f":"IFERROR(IF(R$12=Kredsudvælgelse!$Q$20,\"\",IF(Kredsudvælgelse!AI$2=1,IF(ISTEXT(DGET(Forespørgsel1[#All],\"\"&LEFT($F28,LEN($F28)-$C28)&\"\",Kredsudvælgelse!$U$6:$V$7))=TRUE,DGET(Forespørgsel1[#All],\"\"&LEFT($F28,LEN($F28)-$C28)&\"\",Kredsudvælgelse!$U$6:$V$7),DGET(Forespørgsel1[#All],\"\"&LEFT($F28,LEN($F28)-$C28)&\"\",Kredsudvælgelse!$U$6:$V$7)/IF(ISNONTEXT($D28)=TRUE,1,DGET(Forespørgsel1[#All],\"\"&$D28&\"\",Kredsudvælgelse!$U$6:$V$7))),IF(ISBLANK(HLOOKUP(R$12,'Statiske ejendomme'!$B$3:$PN$81,'Statiske ejendomme'!$A20,FALSE))=FALSE,HLOOKUP(R$12,'Statiske ejendomme'!$B$3:$PN$81,'Statiske ejendomme'!$A20,FALSE),\"\"))),\"\")","v":3.6245863397168123},{"$f":"IFERROR(IF(S$12=Kredsudvælgelse!$Q$20,\"\",IF(Kredsudvælgelse!AJ$2=1,IF(ISTEXT(DGET(Forespørgsel1[#All],\"\"&LEFT($F28,LEN($F28)-$C28)&\"\",Kredsudvælgelse!$W$6:$X$7))=TRUE,DGET(Forespørgsel1[#All],\"\"&LEFT($F28,LEN($F28)-$C28)&\"\",Kredsudvælgelse!$W$6:$X$7),DGET(Forespørgsel1[#All],\"\"&LEFT($F28,LEN($F28)-$C28)&\"\",Kredsudvælgelse!$W$6:$X$7)/IF(ISNONTEXT($D28)=TRUE,1,DGET(Forespørgsel1[#All],\"\"&$D28&\"\",Kredsudvælgelse!$W$6:$X$7))),IF(ISBLANK(HLOOKUP(S$12,'Statiske ejendomme'!$B$3:$PN$81,'Statiske ejendomme'!$A20,FALSE))=FALSE,HLOOKUP(S$12,'Statiske ejendomme'!$B$3:$PN$81,'Statiske ejendomme'!$A20,FALSE),\"\"))),\"\")","v":""},{"$f":"IFERROR(IF(T$12=Kredsudvælgelse!$Q$20,\"\",IF(Kredsudvælgelse!AK$2=1,IF(ISTEXT(DGET(Forespørgsel1[#All],\"\"&LEFT($F28,LEN($F28)-$C28)&\"\",Kredsudvælgelse!$W$6:$X$7))=TRUE,DGET(Forespørgsel1[#All],\"\"&LEFT($F28,LEN($F28)-$C28)&\"\",Kredsudvælgelse!$W$6:$X$7),DGET(Forespørgsel1[#All],\"\"&LEFT($F28,LEN($F28)-$C28)&\"\",Kredsudvælgelse!$W$6:$X$7)/IF(ISNONTEXT($D28)=TRUE,1,DGET(Forespørgsel1[#All],\"\"&$D28&\"\",Kredsudvælgelse!$W$6:$X$7))),IF(ISBLANK(HLOOKUP(T$12,'Statiske ejendomme'!$B$3:$PN$81,'Statiske ejendomme'!$A21,FALSE))=FALSE,HLOOKUP(T$12,'Statiske ejendomme'!$B$3:$PN$81,'Statiske ejendomme'!$A21,FALSE),\"\"))),\"\")","v":""}]
[{"$f":"Mink!E100","v":1},{"$f":"Mink!D100","v":111},{"$f":"Mink!A18","v":0},{"$f":"Mink!B18","v":"Producerede skind"},null,{"$f":"Mink!C18","v":"Bruttoudbytte i alt"},{"$f":"Mink!D18","v":382.64996373714609},{"$f":"Mink!E18","v":413.70146868006844},{"$f":"Mink!F18","v":""},{"$f":"Mink!G18","v":""},{"$f":"IFERROR(IF(K$12=Kredsudvælgelse!$Q$20,\"\",IF(Kredsudvælgelse!AB$2=1,IF(ISTEXT(DGET(Forespørgsel1[#All],\"\"&LEFT($F29,LEN($F29)-$C29)&\"\",Kredsudvælgelse!$Q$2:$R$3))=TRUE,DGET(Forespørgsel1[#All],\"\"&LEFT($F29,LEN($F29)-$C29)&\"\",Kredsudvælgelse!$Q$2:$R$3),DGET(Forespørgsel1[#All],\"\"&LEFT($F29,LEN($F29)-$C29)&\"\",Kredsudvælgelse!$Q$2:$R$3)/IF(ISNONTEXT($D29)=TRUE,1,DGET(Forespørgsel1[#All],\"\"&$D29&\"\",Kredsudvælgelse!$Q$2:$R$3))),IF(ISBLANK(HLOOKUP(K$12,'Statiske ejendomme'!$B$3:$PN$81,'Statiske ejendomme'!$A21,FALSE))=FALSE,HLOOKUP(K$12,'Statiske ejendomme'!$B$3:$PN$81,'Statiske ejendomme'!$A21,FALSE),\"\"))),\"\")","v":426.72641610450796},{"$f":"IFERROR(IF(L$12=Kredsudvælgelse!$Q$20,\"\",IF(Kredsudvælgelse!AC$2=1,IF(ISTEXT(DGET(Forespørgsel1[#All],\"\"&LEFT($F29,LEN($F29)-$C29)&\"\",Kredsudvælgelse!$S$2:$T$3))=TRUE,DGET(Forespørgsel1[#All],\"\"&LEFT($F29,LEN($F29)-$C29)&\"\",Kredsudvælgelse!$S$2:$T$3),DGET(Forespørgsel1[#All],\"\"&LEFT($F29,LEN($F29)-$C29)&\"\",Kredsudvælgelse!$S$2:$T$3)/IF(ISNONTEXT($D29)=TRUE,1,DGET(Forespørgsel1[#All],\"\"&$D29&\"\",Kredsudvælgelse!$S$2:$T$3))),IF(ISBLANK(HLOOKUP(L$12,'Statiske ejendomme'!$B$3:$PN$81,'Statiske ejendomme'!$A21,FALSE))=FALSE,HLOOKUP(L$12,'Statiske ejendomme'!$B$3:$PN$81,'Statiske ejendomme'!$A21,FALSE),\"\"))),\"\")","v":444.91391884951207},{"$f":"IFERROR(IF(M$12=Kredsudvælgelse!$Q$20,\"\",IF(Kredsudvælgelse!AD$2=1,IF(ISTEXT(DGET(Forespørgsel1[#All],\"\"&LEFT($F29,LEN($F29)-$C29)&\"\",Kredsudvælgelse!$U$2:$V$3))=TRUE,DGET(Forespørgsel1[#All],\"\"&LEFT($F29,LEN($F29)-$C29)&\"\",Kredsudvælgelse!$U$2:$V$3),DGET(Forespørgsel1[#All],\"\"&LEFT($F29,LEN($F29)-$C29)&\"\",Kredsudvælgelse!$U$2:$V$3)/IF(ISNONTEXT($D29)=TRUE,1,DGET(Forespørgsel1[#All],\"\"&$D29&\"\",Kredsudvælgelse!$U$2:$V$3))),IF(ISBLANK(HLOOKUP(M$12,'Statiske ejendomme'!$B$3:$PN$81,'Statiske ejendomme'!$A21,FALSE))=FALSE,HLOOKUP(M$12,'Statiske ejendomme'!$B$3:$PN$81,'Statiske ejendomme'!$A21,FALSE),\"\"))),\"\")","v":468.15653945905893},{"$f":"IFERROR(IF(N$12=Kredsudvælgelse!$Q$20,\"\",IF(Kredsudvælgelse!AE$2=1,IF(ISTEXT(DGET(Forespørgsel1[#All],\"\"&LEFT($F29,LEN($F29)-$C29)&\"\",Kredsudvælgelse!$W$2:$X$3))=TRUE,DGET(Forespørgsel1[#All],\"\"&LEFT($F29,LEN($F29)-$C29)&\"\",Kredsudvælgelse!$W$2:$X$3),DGET(Forespørgsel1[#All],\"\"&LEFT($F29,LEN($F29)-$C29)&\"\",Kredsudvælgelse!$W$2:$X$3)/IF(ISNONTEXT($D29)=TRUE,1,DGET(Forespørgsel1[#All],\"\"&$D29&\"\",Kredsudvælgelse!$W$2:$X$3))),IF(ISBLANK(HLOOKUP(N$12,'Statiske ejendomme'!$B$3:$PN$81,'Statiske ejendomme'!$A21,FALSE))=FALSE,HLOOKUP(N$12,'Statiske ejendomme'!$B$3:$PN$81,'Statiske ejendomme'!$A21,FALSE),\"\"))),\"\")","v":397.45785714285716},{"$f":"IFERROR(IF(O$12=Kredsudvælgelse!$Q$20,\"\",IF(Kredsudvælgelse!AF$2=1,IF(ISTEXT(DGET(Forespørgsel1[#All],\"\"&LEFT($F29,LEN($F29)-$C29)&\"\",Kredsudvælgelse!$Y$2:$Z$3))=TRUE,DGET(Forespørgsel1[#All],\"\"&LEFT($F29,LEN($F29)-$C29)&\"\",Kredsudvælgelse!$Y$2:$Z$3),DGET(Forespørgsel1[#All],\"\"&LEFT($F29,LEN($F29)-$C29)&\"\",Kredsudvælgelse!$Y$2:$Z$3)/IF(ISNONTEXT($D29)=TRUE,1,DGET(Forespørgsel1[#All],\"\"&$D29&\"\",Kredsudvælgelse!$Y$2:$Z$3))),IF(ISBLANK(HLOOKUP(O$12,'Statiske ejendomme'!$B$3:$PN$81,'Statiske ejendomme'!$A21,FALSE))=FALSE,HLOOKUP(O$12,'Statiske ejendomme'!$B$3:$PN$81,'Statiske ejendomme'!$A21,FALSE),\"\"))),\"\")","v":448.11736136281263},{"$f":"IFERROR(IF(P$12=Kredsudvælgelse!$Q$20,\"\",IF(Kredsudvælgelse!AG$2=1,IF(ISTEXT(DGET(Forespørgsel1[#All],\"\"&LEFT($F29,LEN($F29)-$C29)&\"\",Kredsudvælgelse!$Q$6:$R$7))=TRUE,DGET(Forespørgsel1[#All],\"\"&LEFT($F29,LEN($F29)-$C29)&\"\",Kredsudvælgelse!$Q$6:$R$7),DGET(Forespørgsel1[#All],\"\"&LEFT($F29,LEN($F29)-$C29)&\"\",Kredsudvælgelse!$Q$6:$R$7)/IF(ISNONTEXT($D29)=TRUE,1,DGET(Forespørgsel1[#All],\"\"&$D29&\"\",Kredsudvælgelse!$Q$6:$R$7))),IF(ISBLANK(HLOOKUP(P$12,'Statiske ejendomme'!$B$3:$PN$81,'Statiske ejendomme'!$A21,FALSE))=FALSE,HLOOKUP(P$12,'Statiske ejendomme'!$B$3:$PN$81,'Statiske ejendomme'!$A21,FALSE),\"\"))),\"\")","v":436.73552631578946},{"$f":"IFERROR(IF(Q$12=Kredsudvælgelse!$Q$20,\"\",IF(Kredsudvælgelse!AH$2=1,IF(ISTEXT(DGET(Forespørgsel1[#All],\"\"&LEFT($F29,LEN($F29)-$C29)&\"\",Kredsudvælgelse!$S$6:$T$7))=TRUE,DGET(Forespørgsel1[#All],\"\"&LEFT($F29,LEN($F29)-$C29)&\"\",Kredsudvælgelse!$S$6:$T$7),DGET(Forespørgsel1[#All],\"\"&LEFT($F29,LEN($F29)-$C29)&\"\",Kredsudvælgelse!$S$6:$T$7)/IF(ISNONTEXT($D29)=TRUE,1,DGET(Forespørgsel1[#All],\"\"&$D29&\"\",Kredsudvælgelse!$S$6:$T$7))),IF(ISBLANK(HLOOKUP(Q$12,'Statiske ejendomme'!$B$3:$PN$81,'Statiske ejendomme'!$A21,FALSE))=FALSE,HLOOKUP(Q$12,'Statiske ejendomme'!$B$3:$PN$81,'Statiske ejendomme'!$A21,FALSE),\"\"))),\"\")","v":387.40893619320332},{"$f":"IFERROR(IF(R$12=Kredsudvælgelse!$Q$20,\"\",IF(Kredsudvælgelse!AI$2=1,IF(ISTEXT(DGET(Forespørgsel1[#All],\"\"&LEFT($F29,LEN($F29)-$C29)&\"\",Kredsudvælgelse!$U$6:$V$7))=TRUE,DGET(Forespørgsel1[#All],\"\"&LEFT($F29,LEN($F29)-$C29)&\"\",Kredsudvælgelse!$U$6:$V$7),DGET(Forespørgsel1[#All],\"\"&LEFT($F29,LEN($F29)-$C29)&\"\",Kredsudvælgelse!$U$6:$V$7)/IF(ISNONTEXT($D29)=TRUE,1,DGET(Forespørgsel1[#All],\"\"&$D29&\"\",Kredsudvælgelse!$U$6:$V$7))),IF(ISBLANK(HLOOKUP(R$12,'Statiske ejendomme'!$B$3:$PN$81,'Statiske ejendomme'!$A21,FALSE))=FALSE,HLOOKUP(R$12,'Statiske ejendomme'!$B$3:$PN$81,'Statiske ejendomme'!$A21,FALSE),\"\"))),\"\")","v":370.84842402213422},{"$f":"IFERROR(IF(S$12=Kredsudvælgelse!$Q$20,\"\",IF(Kredsudvælgelse!AJ$2=1,IF(ISTEXT(DGET(Forespørgsel1[#All],\"\"&LEFT($F29,LEN($F29)-$C29)&\"\",Kredsudvælgelse!$W$6:$X$7))=TRUE,DGET(Forespørgsel1[#All],\"\"&LEFT($F29,LEN($F29)-$C29)&\"\",Kredsudvælgelse!$W$6:$X$7),DGET(Forespørgsel1[#All],\"\"&LEFT($F29,LEN($F29)-$C29)&\"\",Kredsudvælgelse!$W$6:$X$7)/IF(ISNONTEXT($D29)=TRUE,1,DGET(Forespørgsel1[#All],\"\"&$D29&\"\",Kredsudvælgelse!$W$6:$X$7))),IF(ISBLANK(HLOOKUP(S$12,'Statiske ejendomme'!$B$3:$PN$81,'Statiske ejendomme'!$A21,FALSE))=FALSE,HLOOKUP(S$12,'Statiske ejendomme'!$B$3:$PN$81,'Statiske ejendomme'!$A21,FALSE),\"\"))),\"\")","v":""},{"$f":"IFERROR(IF(T$12=Kredsudvælgelse!$Q$20,\"\",IF(Kredsudvælgelse!AK$2=1,IF(ISTEXT(DGET(Forespørgsel1[#All],\"\"&LEFT($F29,LEN($F29)-$C29)&\"\",Kredsudvælgelse!$W$6:$X$7))=TRUE,DGET(Forespørgsel1[#All],\"\"&LEFT($F29,LEN($F29)-$C29)&\"\",Kredsudvælgelse!$W$6:$X$7),DGET(Forespørgsel1[#All],\"\"&LEFT($F29,LEN($F29)-$C29)&\"\",Kredsudvælgelse!$W$6:$X$7)/IF(ISNONTEXT($D29)=TRUE,1,DGET(Forespørgsel1[#All],\"\"&$D29&\"\",Kredsudvælgelse!$W$6:$X$7))),IF(ISBLANK(HLOOKUP(T$12,'Statiske ejendomme'!$B$3:$PN$81,'Statiske ejendomme'!$A22,FALSE))=FALSE,HLOOKUP(T$12,'Statiske ejendomme'!$B$3:$PN$81,'Statiske ejendomme'!$A22,FALSE),\"\"))),\"\")","v":""}]
[{"$f":"Mink!E101","v":1},{"$f":"Mink!D101","v":9},{"$f":"Mink!A19","v":0},{"$f":"Mink!B19","v":0},null,{"$f":"Mink!C19","v":""},{"$f":"Mink!D19","v":""},{"$f":"Mink!E19","v":""},{"$f":"Mink!F19","v":""},{"$f":"Mink!G19","v":""},{"$f":"IFERROR(IF(K$12=Kredsudvælgelse!$Q$20,\"\",IF(Kredsudvælgelse!AB$2=1,IF(ISTEXT(DGET(Forespørgsel1[#All],\"\"&LEFT($F30,LEN($F30)-$C30)&\"\",Kredsudvælgelse!$Q$2:$R$3))=TRUE,DGET(Forespørgsel1[#All],\"\"&LEFT($F30,LEN($F30)-$C30)&\"\",Kredsudvælgelse!$Q$2:$R$3),DGET(Forespørgsel1[#All],\"\"&LEFT($F30,LEN($F30)-$C30)&\"\",Kredsudvælgelse!$Q$2:$R$3)/IF(ISNONTEXT($D30)=TRUE,1,DGET(Forespørgsel1[#All],\"\"&$D30&\"\",Kredsudvælgelse!$Q$2:$R$3))),IF(ISBLANK(HLOOKUP(K$12,'Statiske ejendomme'!$B$3:$PN$81,'Statiske ejendomme'!$A22,FALSE))=FALSE,HLOOKUP(K$12,'Statiske ejendomme'!$B$3:$PN$81,'Statiske ejendomme'!$A22,FALSE),\"\"))),\"\")","v":""},{"$f":"IFERROR(IF(L$12=Kredsudvælgelse!$Q$20,\"\",IF(Kredsudvælgelse!AC$2=1,IF(ISTEXT(DGET(Forespørgsel1[#All],\"\"&LEFT($F30,LEN($F30)-$C30)&\"\",Kredsudvælgelse!$S$2:$T$3))=TRUE,DGET(Forespørgsel1[#All],\"\"&LEFT($F30,LEN($F30)-$C30)&\"\",Kredsudvælgelse!$S$2:$T$3),DGET(Forespørgsel1[#All],\"\"&LEFT($F30,LEN($F30)-$C30)&\"\",Kredsudvælgelse!$S$2:$T$3)/IF(ISNONTEXT($D30)=TRUE,1,DGET(Forespørgsel1[#All],\"\"&$D30&\"\",Kredsudvælgelse!$S$2:$T$3))),IF(ISBLANK(HLOOKUP(L$12,'Statiske ejendomme'!$B$3:$PN$81,'Statiske ejendomme'!$A22,FALSE))=FALSE,HLOOKUP(L$12,'Statiske ejendomme'!$B$3:$PN$81,'Statiske ejendomme'!$A22,FALSE),\"\"))),\"\")","v":""},{"$f":"IFERROR(IF(M$12=Kredsudvælgelse!$Q$20,\"\",IF(Kredsudvælgelse!AD$2=1,IF(ISTEXT(DGET(Forespørgsel1[#All],\"\"&LEFT($F30,LEN($F30)-$C30)&\"\",Kredsudvælgelse!$U$2:$V$3))=TRUE,DGET(Forespørgsel1[#All],\"\"&LEFT($F30,LEN($F30)-$C30)&\"\",Kredsudvælgelse!$U$2:$V$3),DGET(Forespørgsel1[#All],\"\"&LEFT($F30,LEN($F30)-$C30)&\"\",Kredsudvælgelse!$U$2:$V$3)/IF(ISNONTEXT($D30)=TRUE,1,DGET(Forespørgsel1[#All],\"\"&$D30&\"\",Kredsudvælgelse!$U$2:$V$3))),IF(ISBLANK(HLOOKUP(M$12,'Statiske ejendomme'!$B$3:$PN$81,'Statiske ejendomme'!$A22,FALSE))=FALSE,HLOOKUP(M$12,'Statiske ejendomme'!$B$3:$PN$81,'Statiske ejendomme'!$A22,FALSE),\"\"))),\"\")","v":""},{"$f":"IFERROR(IF(N$12=Kredsudvælgelse!$Q$20,\"\",IF(Kredsudvælgelse!AE$2=1,IF(ISTEXT(DGET(Forespørgsel1[#All],\"\"&LEFT($F30,LEN($F30)-$C30)&\"\",Kredsudvælgelse!$W$2:$X$3))=TRUE,DGET(Forespørgsel1[#All],\"\"&LEFT($F30,LEN($F30)-$C30)&\"\",Kredsudvælgelse!$W$2:$X$3),DGET(Forespørgsel1[#All],\"\"&LEFT($F30,LEN($F30)-$C30)&\"\",Kredsudvælgelse!$W$2:$X$3)/IF(ISNONTEXT($D30)=TRUE,1,DGET(Forespørgsel1[#All],\"\"&$D30&\"\",Kredsudvælgelse!$W$2:$X$3))),IF(ISBLANK(HLOOKUP(N$12,'Statiske ejendomme'!$B$3:$PN$81,'Statiske ejendomme'!$A22,FALSE))=FALSE,HLOOKUP(N$12,'Statiske ejendomme'!$B$3:$PN$81,'Statiske ejendomme'!$A22,FALSE),\"\"))),\"\")","v":""},{"$f":"IFERROR(IF(O$12=Kredsudvælgelse!$Q$20,\"\",IF(Kredsudvælgelse!AF$2=1,IF(ISTEXT(DGET(Forespørgsel1[#All],\"\"&LEFT($F30,LEN($F30)-$C30)&\"\",Kredsudvælgelse!$Y$2:$Z$3))=TRUE,DGET(Forespørgsel1[#All],\"\"&LEFT($F30,LEN($F30)-$C30)&\"\",Kredsudvælgelse!$Y$2:$Z$3),DGET(Forespørgsel1[#All],\"\"&LEFT($F30,LEN($F30)-$C30)&\"\",Kredsudvælgelse!$Y$2:$Z$3)/IF(ISNONTEXT($D30)=TRUE,1,DGET(Forespørgsel1[#All],\"\"&$D30&\"\",Kredsudvælgelse!$Y$2:$Z$3))),IF(ISBLANK(HLOOKUP(O$12,'Statiske ejendomme'!$B$3:$PN$81,'Statiske ejendomme'!$A22,FALSE))=FALSE,HLOOKUP(O$12,'Statiske ejendomme'!$B$3:$PN$81,'Statiske ejendomme'!$A22,FALSE),\"\"))),\"\")","v":""},{"$f":"IFERROR(IF(P$12=Kredsudvælgelse!$Q$20,\"\",IF(Kredsudvælgelse!AG$2=1,IF(ISTEXT(DGET(Forespørgsel1[#All],\"\"&LEFT($F30,LEN($F30)-$C30)&\"\",Kredsudvælgelse!$Q$6:$R$7))=TRUE,DGET(Forespørgsel1[#All],\"\"&LEFT($F30,LEN($F30)-$C30)&\"\",Kredsudvælgelse!$Q$6:$R$7),DGET(Forespørgsel1[#All],\"\"&LEFT($F30,LEN($F30)-$C30)&\"\",Kredsudvælgelse!$Q$6:$R$7)/IF(ISNONTEXT($D30)=TRUE,1,DGET(Forespørgsel1[#All],\"\"&$D30&\"\",Kredsudvælgelse!$Q$6:$R$7))),IF(ISBLANK(HLOOKUP(P$12,'Statiske ejendomme'!$B$3:$PN$81,'Statiske ejendomme'!$A22,FALSE))=FALSE,HLOOKUP(P$12,'Statiske ejendomme'!$B$3:$PN$81,'Statiske ejendomme'!$A22,FALSE),\"\"))),\"\")","v":""},{"$f":"IFERROR(IF(Q$12=Kredsudvælgelse!$Q$20,\"\",IF(Kredsudvælgelse!AH$2=1,IF(ISTEXT(DGET(Forespørgsel1[#All],\"\"&LEFT($F30,LEN($F30)-$C30)&\"\",Kredsudvælgelse!$S$6:$T$7))=TRUE,DGET(Forespørgsel1[#All],\"\"&LEFT($F30,LEN($F30)-$C30)&\"\",Kredsudvælgelse!$S$6:$T$7),DGET(Forespørgsel1[#All],\"\"&LEFT($F30,LEN($F30)-$C30)&\"\",Kredsudvælgelse!$S$6:$T$7)/IF(ISNONTEXT($D30)=TRUE,1,DGET(Forespørgsel1[#All],\"\"&$D30&\"\",Kredsudvælgelse!$S$6:$T$7))),IF(ISBLANK(HLOOKUP(Q$12,'Statiske ejendomme'!$B$3:$PN$81,'Statiske ejendomme'!$A22,FALSE))=FALSE,HLOOKUP(Q$12,'Statiske ejendomme'!$B$3:$PN$81,'Statiske ejendomme'!$A22,FALSE),\"\"))),\"\")","v":""},{"$f":"IFERROR(IF(R$12=Kredsudvælgelse!$Q$20,\"\",IF(Kredsudvælgelse!AI$2=1,IF(ISTEXT(DGET(Forespørgsel1[#All],\"\"&LEFT($F30,LEN($F30)-$C30)&\"\",Kredsudvælgelse!$U$6:$V$7))=TRUE,DGET(Forespørgsel1[#All],\"\"&LEFT($F30,LEN($F30)-$C30)&\"\",Kredsudvælgelse!$U$6:$V$7),DGET(Forespørgsel1[#All],\"\"&LEFT($F30,LEN($F30)-$C30)&\"\",Kredsudvælgelse!$U$6:$V$7)/IF(ISNONTEXT($D30)=TRUE,1,DGET(Forespørgsel1[#All],\"\"&$D30&\"\",Kredsudvælgelse!$U$6:$V$7))),IF(ISBLANK(HLOOKUP(R$12,'Statiske ejendomme'!$B$3:$PN$81,'Statiske ejendomme'!$A22,FALSE))=FALSE,HLOOKUP(R$12,'Statiske ejendomme'!$B$3:$PN$81,'Statiske ejendomme'!$A22,FALSE),\"\"))),\"\")","v":""},{"$f":"IFERROR(IF(S$12=Kredsudvælgelse!$Q$20,\"\",IF(Kredsudvælgelse!AJ$2=1,IF(ISTEXT(DGET(Forespørgsel1[#All],\"\"&LEFT($F30,LEN($F30)-$C30)&\"\",Kredsudvælgelse!$W$6:$X$7))=TRUE,DGET(Forespørgsel1[#All],\"\"&LEFT($F30,LEN($F30)-$C30)&\"\",Kredsudvælgelse!$W$6:$X$7),DGET(Forespørgsel1[#All],\"\"&LEFT($F30,LEN($F30)-$C30)&\"\",Kredsudvælgelse!$W$6:$X$7)/IF(ISNONTEXT($D30)=TRUE,1,DGET(Forespørgsel1[#All],\"\"&$D30&\"\",Kredsudvælgelse!$W$6:$X$7))),IF(ISBLANK(HLOOKUP(S$12,'Statiske ejendomme'!$B$3:$PN$81,'Statiske ejendomme'!$A22,FALSE))=FALSE,HLOOKUP(S$12,'Statiske ejendomme'!$B$3:$PN$81,'Statiske ejendomme'!$A22,FALSE),\"\"))),\"\")","v":""},{"$f":"IFERROR(IF(T$12=Kredsudvælgelse!$Q$20,\"\",IF(Kredsudvælgelse!AK$2=1,IF(ISTEXT(DGET(Forespørgsel1[#All],\"\"&LEFT($F30,LEN($F30)-$C30)&\"\",Kredsudvælgelse!$W$6:$X$7))=TRUE,DGET(Forespørgsel1[#All],\"\"&LEFT($F30,LEN($F30)-$C30)&\"\",Kredsudvælgelse!$W$6:$X$7),DGET(Forespørgsel1[#All],\"\"&LEFT($F30,LEN($F30)-$C30)&\"\",Kredsudvælgelse!$W$6:$X$7)/IF(ISNONTEXT($D30)=TRUE,1,DGET(Forespørgsel1[#All],\"\"&$D30&\"\",Kredsudvælgelse!$W$6:$X$7))),IF(ISBLANK(HLOOKUP(T$12,'Statiske ejendomme'!$B$3:$PN$81,'Statiske ejendomme'!$A23,FALSE))=FALSE,HLOOKUP(T$12,'Statiske ejendomme'!$B$3:$PN$81,'Statiske ejendomme'!$A23,FALSE),\"\"))),\"\")","v":""}]
[{"$f":"Mink!E102","v":1},{"$f":"Mink!D102","v":1},{"$f":"Mink!A20","v":0},{"$f":"Mink!B20","v":"Producerede skind"},null,{"$f":"Mink!C20","v":"Foder"},{"$f":"Mink!D20","v":-130.45251292943422},{"$f":"Mink!E20","v":-128.43397834903561},{"$f":"Mink!F20","v":""},{"$f":"Mink!G20","v":""},{"$f":"IFERROR(IF(K$12=Kredsudvælgelse!$Q$20,\"\",IF(Kredsudvælgelse!AB$2=1,IF(ISTEXT(DGET(Forespørgsel1[#All],\"\"&LEFT($F31,LEN($F31)-$C31)&\"\",Kredsudvælgelse!$Q$2:$R$3))=TRUE,DGET(Forespørgsel1[#All],\"\"&LEFT($F31,LEN($F31)-$C31)&\"\",Kredsudvælgelse!$Q$2:$R$3),DGET(Forespørgsel1[#All],\"\"&LEFT($F31,LEN($F31)-$C31)&\"\",Kredsudvælgelse!$Q$2:$R$3)/IF(ISNONTEXT($D31)=TRUE,1,DGET(Forespørgsel1[#All],\"\"&$D31&\"\",Kredsudvælgelse!$Q$2:$R$3))),IF(ISBLANK(HLOOKUP(K$12,'Statiske ejendomme'!$B$3:$PN$81,'Statiske ejendomme'!$A23,FALSE))=FALSE,HLOOKUP(K$12,'Statiske ejendomme'!$B$3:$PN$81,'Statiske ejendomme'!$A23,FALSE),\"\"))),\"\")","v":-117.53881571902774},{"$f":"IFERROR(IF(L$12=Kredsudvælgelse!$Q$20,\"\",IF(Kredsudvælgelse!AC$2=1,IF(ISTEXT(DGET(Forespørgsel1[#All],\"\"&LEFT($F31,LEN($F31)-$C31)&\"\",Kredsudvælgelse!$S$2:$T$3))=TRUE,DGET(Forespørgsel1[#All],\"\"&LEFT($F31,LEN($F31)-$C31)&\"\",Kredsudvælgelse!$S$2:$T$3),DGET(Forespørgsel1[#All],\"\"&LEFT($F31,LEN($F31)-$C31)&\"\",Kredsudvælgelse!$S$2:$T$3)/IF(ISNONTEXT($D31)=TRUE,1,DGET(Forespørgsel1[#All],\"\"&$D31&\"\",Kredsudvælgelse!$S$2:$T$3))),IF(ISBLANK(HLOOKUP(L$12,'Statiske ejendomme'!$B$3:$PN$81,'Statiske ejendomme'!$A23,FALSE))=FALSE,HLOOKUP(L$12,'Statiske ejendomme'!$B$3:$PN$81,'Statiske ejendomme'!$A23,FALSE),\"\"))),\"\")","v":-131.79630200308168},{"$f":"IFERROR(IF(M$12=Kredsudvælgelse!$Q$20,\"\",IF(Kredsudvælgelse!AD$2=1,IF(ISTEXT(DGET(Forespørgsel1[#All],\"\"&LEFT($F31,LEN($F31)-$C31)&\"\",Kredsudvælgelse!$U$2:$V$3))=TRUE,DGET(Forespørgsel1[#All],\"\"&LEFT($F31,LEN($F31)-$C31)&\"\",Kredsudvælgelse!$U$2:$V$3),DGET(Forespørgsel1[#All],\"\"&LEFT($F31,LEN($F31)-$C31)&\"\",Kredsudvælgelse!$U$2:$V$3)/IF(ISNONTEXT($D31)=TRUE,1,DGET(Forespørgsel1[#All],\"\"&$D31&\"\",Kredsudvælgelse!$U$2:$V$3))),IF(ISBLANK(HLOOKUP(M$12,'Statiske ejendomme'!$B$3:$PN$81,'Statiske ejendomme'!$A23,FALSE))=FALSE,HLOOKUP(M$12,'Statiske ejendomme'!$B$3:$PN$81,'Statiske ejendomme'!$A23,FALSE),\"\"))),\"\")","v":-136.01889588736569},{"$f":"IFERROR(IF(N$12=Kredsudvælgelse!$Q$20,\"\",IF(Kredsudvælgelse!AE$2=1,IF(ISTEXT(DGET(Forespørgsel1[#All],\"\"&LEFT($F31,LEN($F31)-$C31)&\"\",Kredsudvælgelse!$W$2:$X$3))=TRUE,DGET(Forespørgsel1[#All],\"\"&LEFT($F31,LEN($F31)-$C31)&\"\",Kredsudvælgelse!$W$2:$X$3),DGET(Forespørgsel1[#All],\"\"&LEFT($F31,LEN($F31)-$C31)&\"\",Kredsudvælgelse!$W$2:$X$3)/IF(ISNONTEXT($D31)=TRUE,1,DGET(Forespørgsel1[#All],\"\"&$D31&\"\",Kredsudvælgelse!$W$2:$X$3))),IF(ISBLANK(HLOOKUP(N$12,'Statiske ejendomme'!$B$3:$PN$81,'Statiske ejendomme'!$A23,FALSE))=FALSE,HLOOKUP(N$12,'Statiske ejendomme'!$B$3:$PN$81,'Statiske ejendomme'!$A23,FALSE),\"\"))),\"\")","v":-140.92521978021978},{"$f":"IFERROR(IF(O$12=Kredsudvælgelse!$Q$20,\"\",IF(Kredsudvælgelse!AF$2=1,IF(ISTEXT(DGET(Forespørgsel1[#All],\"\"&LEFT($F31,LEN($F31)-$C31)&\"\",Kredsudvælgelse!$Y$2:$Z$3))=TRUE,DGET(Forespørgsel1[#All],\"\"&LEFT($F31,LEN($F31)-$C31)&\"\",Kredsudvælgelse!$Y$2:$Z$3),DGET(Forespørgsel1[#All],\"\"&LEFT($F31,LEN($F31)-$C31)&\"\",Kredsudvælgelse!$Y$2:$Z$3)/IF(ISNONTEXT($D31)=TRUE,1,DGET(Forespørgsel1[#All],\"\"&$D31&\"\",Kredsudvælgelse!$Y$2:$Z$3))),IF(ISBLANK(HLOOKUP(O$12,'Statiske ejendomme'!$B$3:$PN$81,'Statiske ejendomme'!$A23,FALSE))=FALSE,HLOOKUP(O$12,'Statiske ejendomme'!$B$3:$PN$81,'Statiske ejendomme'!$A23,FALSE),\"\"))),\"\")","v":-127.7208408843784},{"$f":"IFERROR(IF(P$12=Kredsudvælgelse!$Q$20,\"\",IF(Kredsudvælgelse!AG$2=1,IF(ISTEXT(DGET(Forespørgsel1[#All],\"\"&LEFT($F31,LEN($F31)-$C31)&\"\",Kredsudvælgelse!$Q$6:$R$7))=TRUE,DGET(Forespørgsel1[#All],\"\"&LEFT($F31,LEN($F31)-$C31)&\"\",Kredsudvælgelse!$Q$6:$R$7),DGET(Forespørgsel1[#All],\"\"&LEFT($F31,LEN($F31)-$C31)&\"\",Kredsudvælgelse!$Q$6:$R$7)/IF(ISNONTEXT($D31)=TRUE,1,DGET(Forespørgsel1[#All],\"\"&$D31&\"\",Kredsudvælgelse!$Q$6:$R$7))),IF(ISBLANK(HLOOKUP(P$12,'Statiske ejendomme'!$B$3:$PN$81,'Statiske ejendomme'!$A23,FALSE))=FALSE,HLOOKUP(P$12,'Statiske ejendomme'!$B$3:$PN$81,'Statiske ejendomme'!$A23,FALSE),\"\"))),\"\")","v":-131.00469416785205},{"$f":"IFERROR(IF(Q$12=Kredsudvælgelse!$Q$20,\"\",IF(Kredsudvælgelse!AH$2=1,IF(ISTEXT(DGET(Forespørgsel1[#All],\"\"&LEFT($F31,LEN($F31)-$C31)&\"\",Kredsudvælgelse!$S$6:$T$7))=TRUE,DGET(Forespørgsel1[#All],\"\"&LEFT($F31,LEN($F31)-$C31)&\"\",Kredsudvælgelse!$S$6:$T$7),DGET(Forespørgsel1[#All],\"\"&LEFT($F31,LEN($F31)-$C31)&\"\",Kredsudvælgelse!$S$6:$T$7)/IF(ISNONTEXT($D31)=TRUE,1,DGET(Forespørgsel1[#All],\"\"&$D31&\"\",Kredsudvælgelse!$S$6:$T$7))),IF(ISBLANK(HLOOKUP(Q$12,'Statiske ejendomme'!$B$3:$PN$81,'Statiske ejendomme'!$A23,FALSE))=FALSE,HLOOKUP(Q$12,'Statiske ejendomme'!$B$3:$PN$81,'Statiske ejendomme'!$A23,FALSE),\"\"))),\"\")","v":-121.63677130044843},{"$f":"IFERROR(IF(R$12=Kredsudvælgelse!$Q$20,\"\",IF(Kredsudvælgelse!AI$2=1,IF(ISTEXT(DGET(Forespørgsel1[#All],\"\"&LEFT($F31,LEN($F31)-$C31)&\"\",Kredsudvælgelse!$U$6:$V$7))=TRUE,DGET(Forespørgsel1[#All],\"\"&LEFT($F31,LEN($F31)-$C31)&\"\",Kredsudvælgelse!$U$6:$V$7),DGET(Forespørgsel1[#All],\"\"&LEFT($F31,LEN($F31)-$C31)&\"\",Kredsudvælgelse!$U$6:$V$7)/IF(ISNONTEXT($D31)=TRUE,1,DGET(Forespørgsel1[#All],\"\"&$D31&\"\",Kredsudvælgelse!$U$6:$V$7))),IF(ISBLANK(HLOOKUP(R$12,'Statiske ejendomme'!$B$3:$PN$81,'Statiske ejendomme'!$A23,FALSE))=FALSE,HLOOKUP(R$12,'Statiske ejendomme'!$B$3:$PN$81,'Statiske ejendomme'!$A23,FALSE),\"\"))),\"\")","v":-117.53019041935659},{"$f":"IFERROR(IF(S$12=Kredsudvælgelse!$Q$20,\"\",IF(Kredsudvælgelse!AJ$2=1,IF(ISTEXT(DGET(Forespørgsel1[#All],\"\"&LEFT($F31,LEN($F31)-$C31)&\"\",Kredsudvælgelse!$W$6:$X$7))=TRUE,DGET(Forespørgsel1[#All],\"\"&LEFT($F31,LEN($F31)-$C31)&\"\",Kredsudvælgelse!$W$6:$X$7),DGET(Forespørgsel1[#All],\"\"&LEFT($F31,LEN($F31)-$C31)&\"\",Kredsudvælgelse!$W$6:$X$7)/IF(ISNONTEXT($D31)=TRUE,1,DGET(Forespørgsel1[#All],\"\"&$D31&\"\",Kredsudvælgelse!$W$6:$X$7))),IF(ISBLANK(HLOOKUP(S$12,'Statiske ejendomme'!$B$3:$PN$81,'Statiske ejendomme'!$A23,FALSE))=FALSE,HLOOKUP(S$12,'Statiske ejendomme'!$B$3:$PN$81,'Statiske ejendomme'!$A23,FALSE),\"\"))),\"\")","v":""},{"$f":"IFERROR(IF(T$12=Kredsudvælgelse!$Q$20,\"\",IF(Kredsudvælgelse!AK$2=1,IF(ISTEXT(DGET(Forespørgsel1[#All],\"\"&LEFT($F31,LEN($F31)-$C31)&\"\",Kredsudvælgelse!$W$6:$X$7))=TRUE,DGET(Forespørgsel1[#All],\"\"&LEFT($F31,LEN($F31)-$C31)&\"\",Kredsudvælgelse!$W$6:$X$7),DGET(Forespørgsel1[#All],\"\"&LEFT($F31,LEN($F31)-$C31)&\"\",Kredsudvælgelse!$W$6:$X$7)/IF(ISNONTEXT($D31)=TRUE,1,DGET(Forespørgsel1[#All],\"\"&$D31&\"\",Kredsudvælgelse!$W$6:$X$7))),IF(ISBLANK(HLOOKUP(T$12,'Statiske ejendomme'!$B$3:$PN$81,'Statiske ejendomme'!$A24,FALSE))=FALSE,HLOOKUP(T$12,'Statiske ejendomme'!$B$3:$PN$81,'Statiske ejendomme'!$A24,FALSE),\"\"))),\"\")","v":""}]
[{"$f":"Mink!E103","v":1},{"$f":"Mink!D103","v":1},{"$f":"Mink!A21","v":0},{"$f":"Mink!B21","v":"Producerede skind"},null,{"$f":"Mink!C21","v":"Dyrlæge og medicin"},{"$f":"Mink!D21","v":-5.3251094361126219},{"$f":"Mink!E21","v":-4.146128338692793},{"$f":"Mink!F21","v":""},{"$f":"Mink!G21","v":""},{"$f":"IFERROR(IF(K$12=Kredsudvælgelse!$Q$20,\"\",IF(Kredsudvælgelse!AB$2=1,IF(ISTEXT(DGET(Forespørgsel1[#All],\"\"&LEFT($F32,LEN($F32)-$C32)&\"\",Kredsudvælgelse!$Q$2:$R$3))=TRUE,DGET(Forespørgsel1[#All],\"\"&LEFT($F32,LEN($F32)-$C32)&\"\",Kredsudvælgelse!$Q$2:$R$3),DGET(Forespørgsel1[#All],\"\"&LEFT($F32,LEN($F32)-$C32)&\"\",Kredsudvælgelse!$Q$2:$R$3)/IF(ISNONTEXT($D32)=TRUE,1,DGET(Forespørgsel1[#All],\"\"&$D32&\"\",Kredsudvælgelse!$Q$2:$R$3))),IF(ISBLANK(HLOOKUP(K$12,'Statiske ejendomme'!$B$3:$PN$81,'Statiske ejendomme'!$A24,FALSE))=FALSE,HLOOKUP(K$12,'Statiske ejendomme'!$B$3:$PN$81,'Statiske ejendomme'!$A24,FALSE),\"\"))),\"\")","v":-5.3538922796873327E-2},{"$f":"IFERROR(IF(L$12=Kredsudvælgelse!$Q$20,\"\",IF(Kredsudvælgelse!AC$2=1,IF(ISTEXT(DGET(Forespørgsel1[#All],\"\"&LEFT($F32,LEN($F32)-$C32)&\"\",Kredsudvælgelse!$S$2:$T$3))=TRUE,DGET(Forespørgsel1[#All],\"\"&LEFT($F32,LEN($F32)-$C32)&\"\",Kredsudvælgelse!$S$2:$T$3),DGET(Forespørgsel1[#All],\"\"&LEFT($F32,LEN($F32)-$C32)&\"\",Kredsudvælgelse!$S$2:$T$3)/IF(ISNONTEXT($D32)=TRUE,1,DGET(Forespørgsel1[#All],\"\"&$D32&\"\",Kredsudvælgelse!$S$2:$T$3))),IF(ISBLANK(HLOOKUP(L$12,'Statiske ejendomme'!$B$3:$PN$81,'Statiske ejendomme'!$A24,FALSE))=FALSE,HLOOKUP(L$12,'Statiske ejendomme'!$B$3:$PN$81,'Statiske ejendomme'!$A24,FALSE),\"\"))),\"\")","v":-6.3189522342064715},{"$f":"IFERROR(IF(M$12=Kredsudvælgelse!$Q$20,\"\",IF(Kredsudvælgelse!AD$2=1,IF(ISTEXT(DGET(Forespørgsel1[#All],\"\"&LEFT($F32,LEN($F32)-$C32)&\"\",Kredsudvælgelse!$U$2:$V$3))=TRUE,DGET(Forespørgsel1[#All],\"\"&LEFT($F32,LEN($F32)-$C32)&\"\",Kredsudvælgelse!$U$2:$V$3),DGET(Forespørgsel1[#All],\"\"&LEFT($F32,LEN($F32)-$C32)&\"\",Kredsudvælgelse!$U$2:$V$3)/IF(ISNONTEXT($D32)=TRUE,1,DGET(Forespørgsel1[#All],\"\"&$D32&\"\",Kredsudvælgelse!$U$2:$V$3))),IF(ISBLANK(HLOOKUP(M$12,'Statiske ejendomme'!$B$3:$PN$81,'Statiske ejendomme'!$A24,FALSE))=FALSE,HLOOKUP(M$12,'Statiske ejendomme'!$B$3:$PN$81,'Statiske ejendomme'!$A24,FALSE),\"\"))),\"\")","v":-6.470544646165246},{"$f":"IFERROR(IF(N$12=Kredsudvælgelse!$Q$20,\"\",IF(Kredsudvælgelse!AE$2=1,IF(ISTEXT(DGET(Forespørgsel1[#All],\"\"&LEFT($F32,LEN($F32)-$C32)&\"\",Kredsudvælgelse!$W$2:$X$3))=TRUE,DGET(Forespørgsel1[#All],\"\"&LEFT($F32,LEN($F32)-$C32)&\"\",Kredsudvælgelse!$W$2:$X$3),DGET(Forespørgsel1[#All],\"\"&LEFT($F32,LEN($F32)-$C32)&\"\",Kredsudvælgelse!$W$2:$X$3)/IF(ISNONTEXT($D32)=TRUE,1,DGET(Forespørgsel1[#All],\"\"&$D32&\"\",Kredsudvælgelse!$W$2:$X$3))),IF(ISBLANK(HLOOKUP(N$12,'Statiske ejendomme'!$B$3:$PN$81,'Statiske ejendomme'!$A24,FALSE))=FALSE,HLOOKUP(N$12,'Statiske ejendomme'!$B$3:$PN$81,'Statiske ejendomme'!$A24,FALSE),\"\"))),\"\")","v":-1.8131868131868132},{"$f":"IFERROR(IF(O$12=Kredsudvælgelse!$Q$20,\"\",IF(Kredsudvælgelse!AF$2=1,IF(ISTEXT(DGET(Forespørgsel1[#All],\"\"&LEFT($F32,LEN($F32)-$C32)&\"\",Kredsudvælgelse!$Y$2:$Z$3))=TRUE,DGET(Forespørgsel1[#All],\"\"&LEFT($F32,LEN($F32)-$C32)&\"\",Kredsudvælgelse!$Y$2:$Z$3),DGET(Forespørgsel1[#All],\"\"&LEFT($F32,LEN($F32)-$C32)&\"\",Kredsudvælgelse!$Y$2:$Z$3)/IF(ISNONTEXT($D32)=TRUE,1,DGET(Forespørgsel1[#All],\"\"&$D32&\"\",Kredsudvælgelse!$Y$2:$Z$3))),IF(ISBLANK(HLOOKUP(O$12,'Statiske ejendomme'!$B$3:$PN$81,'Statiske ejendomme'!$A24,FALSE))=FALSE,HLOOKUP(O$12,'Statiske ejendomme'!$B$3:$PN$81,'Statiske ejendomme'!$A24,FALSE),\"\"))),\"\")","v":-14.250163102573396},{"$f":"IFERROR(IF(P$12=Kredsudvælgelse!$Q$20,\"\",IF(Kredsudvælgelse!AG$2=1,IF(ISTEXT(DGET(Forespørgsel1[#All],\"\"&LEFT($F32,LEN($F32)-$C32)&\"\",Kredsudvælgelse!$Q$6:$R$7))=TRUE,DGET(Forespørgsel1[#All],\"\"&LEFT($F32,LEN($F32)-$C32)&\"\",Kredsudvælgelse!$Q$6:$R$7),DGET(Forespørgsel1[#All],\"\"&LEFT($F32,LEN($F32)-$C32)&\"\",Kredsudvælgelse!$Q$6:$R$7)/IF(ISNONTEXT($D32)=TRUE,1,DGET(Forespørgsel1[#All],\"\"&$D32&\"\",Kredsudvælgelse!$Q$6:$R$7))),IF(ISBLANK(HLOOKUP(P$12,'Statiske ejendomme'!$B$3:$PN$81,'Statiske ejendomme'!$A24,FALSE))=FALSE,HLOOKUP(P$12,'Statiske ejendomme'!$B$3:$PN$81,'Statiske ejendomme'!$A24,FALSE),\"\"))),\"\")","v":-3.6847439544807967},{"$f":"IFERROR(IF(Q$12=Kredsudvælgelse!$Q$20,\"\",IF(Kredsudvælgelse!AH$2=1,IF(ISTEXT(DGET(Forespørgsel1[#All],\"\"&LEFT($F32,LEN($F32)-$C32)&\"\",Kredsudvælgelse!$S$6:$T$7))=TRUE,DGET(Forespørgsel1[#All],\"\"&LEFT($F32,LEN($F32)-$C32)&\"\",Kredsudvælgelse!$S$6:$T$7),DGET(Forespørgsel1[#All],\"\"&LEFT($F32,LEN($F32)-$C32)&\"\",Kredsudvælgelse!$S$6:$T$7)/IF(ISNONTEXT($D32)=TRUE,1,DGET(Forespørgsel1[#All],\"\"&$D32&\"\",Kredsudvælgelse!$S$6:$T$7))),IF(ISBLANK(HLOOKUP(Q$12,'Statiske ejendomme'!$B$3:$PN$81,'Statiske ejendomme'!$A24,FALSE))=FALSE,HLOOKUP(Q$12,'Statiske ejendomme'!$B$3:$PN$81,'Statiske ejendomme'!$A24,FALSE),\"\"))),\"\")","v":-7.7467178129558594},{"$f":"IFERROR(IF(R$12=Kredsudvælgelse!$Q$20,\"\",IF(Kredsudvælgelse!AI$2=1,IF(ISTEXT(DGET(Forespørgsel1[#All],\"\"&LEFT($F32,LEN($F32)-$C32)&\"\",Kredsudvælgelse!$U$6:$V$7))=TRUE,DGET(Forespørgsel1[#All],\"\"&LEFT($F32,LEN($F32)-$C32)&\"\",Kredsudvælgelse!$U$6:$V$7),DGET(Forespørgsel1[#All],\"\"&LEFT($F32,LEN($F32)-$C32)&\"\",Kredsudvælgelse!$U$6:$V$7)/IF(ISNONTEXT($D32)=TRUE,1,DGET(Forespørgsel1[#All],\"\"&$D32&\"\",Kredsudvælgelse!$U$6:$V$7))),IF(ISBLANK(HLOOKUP(R$12,'Statiske ejendomme'!$B$3:$PN$81,'Statiske ejendomme'!$A24,FALSE))=FALSE,HLOOKUP(R$12,'Statiske ejendomme'!$B$3:$PN$81,'Statiske ejendomme'!$A24,FALSE),\"\"))),\"\")","v":-0.68301415938805399},{"$f":"IFERROR(IF(S$12=Kredsudvælgelse!$Q$20,\"\",IF(Kredsudvælgelse!AJ$2=1,IF(ISTEXT(DGET(Forespørgsel1[#All],\"\"&LEFT($F32,LEN($F32)-$C32)&\"\",Kredsudvælgelse!$W$6:$X$7))=TRUE,DGET(Forespørgsel1[#All],\"\"&LEFT($F32,LEN($F32)-$C32)&\"\",Kredsudvælgelse!$W$6:$X$7),DGET(Forespørgsel1[#All],\"\"&LEFT($F32,LEN($F32)-$C32)&\"\",Kredsudvælgelse!$W$6:$X$7)/IF(ISNONTEXT($D32)=TRUE,1,DGET(Forespørgsel1[#All],\"\"&$D32&\"\",Kredsudvælgelse!$W$6:$X$7))),IF(ISBLANK(HLOOKUP(S$12,'Statiske ejendomme'!$B$3:$PN$81,'Statiske ejendomme'!$A24,FALSE))=FALSE,HLOOKUP(S$12,'Statiske ejendomme'!$B$3:$PN$81,'Statiske ejendomme'!$A24,FALSE),\"\"))),\"\")","v":""},{"$f":"IFERROR(IF(T$12=Kredsudvælgelse!$Q$20,\"\",IF(Kredsudvælgelse!AK$2=1,IF(ISTEXT(DGET(Forespørgsel1[#All],\"\"&LEFT($F32,LEN($F32)-$C32)&\"\",Kredsudvælgelse!$W$6:$X$7))=TRUE,DGET(Forespørgsel1[#All],\"\"&LEFT($F32,LEN($F32)-$C32)&\"\",Kredsudvælgelse!$W$6:$X$7),DGET(Forespørgsel1[#All],\"\"&LEFT($F32,LEN($F32)-$C32)&\"\",Kredsudvælgelse!$W$6:$X$7)/IF(ISNONTEXT($D32)=TRUE,1,DGET(Forespørgsel1[#All],\"\"&$D32&\"\",Kredsudvælgelse!$W$6:$X$7))),IF(ISBLANK(HLOOKUP(T$12,'Statiske ejendomme'!$B$3:$PN$81,'Statiske ejendomme'!$A25,FALSE))=FALSE,HLOOKUP(T$12,'Statiske ejendomme'!$B$3:$PN$81,'Statiske ejendomme'!$A25,FALSE),\"\"))),\"\")","v":""}]
[{"$f":"Mink!E104","v":1},{"$f":"Mink!D104","v":1},{"$f":"Mink!A22","v":0},{"$f":"Mink!B22","v":"Producerede skind"},null,{"$f":"Mink!C22","v":"Diverse vedr. husdyr"},{"$f":"Mink!D22","v":-16.188870757461945},{"$f":"Mink!E22","v":-14.646194156621597},{"$f":"Mink!F22","v":""},{"$f":"Mink!G22","v":""},{"$f":"IFERROR(IF(K$12=Kredsudvælgelse!$Q$20,\"\",IF(Kredsudvælgelse!AB$2=1,IF(ISTEXT(DGET(Forespørgsel1[#All],\"\"&LEFT($F33,LEN($F33)-$C33)&\"\",Kredsudvælgelse!$Q$2:$R$3))=TRUE,DGET(Forespørgsel1[#All],\"\"&LEFT($F33,LEN($F33)-$C33)&\"\",Kredsudvælgelse!$Q$2:$R$3),DGET(Forespørgsel1[#All],\"\"&LEFT($F33,LEN($F33)-$C33)&\"\",Kredsudvælgelse!$Q$2:$R$3)/IF(ISNONTEXT($D33)=TRUE,1,DGET(Forespørgsel1[#All],\"\"&$D33&\"\",Kredsudvælgelse!$Q$2:$R$3))),IF(ISBLANK(HLOOKUP(K$12,'Statiske ejendomme'!$B$3:$PN$81,'Statiske ejendomme'!$A25,FALSE))=FALSE,HLOOKUP(K$12,'Statiske ejendomme'!$B$3:$PN$81,'Statiske ejendomme'!$A25,FALSE),\"\"))),\"\")","v":-14.289110183103116},{"$f":"IFERROR(IF(L$12=Kredsudvælgelse!$Q$20,\"\",IF(Kredsudvælgelse!AC$2=1,IF(ISTEXT(DGET(Forespørgsel1[#All],\"\"&LEFT($F33,LEN($F33)-$C33)&\"\",Kredsudvælgelse!$S$2:$T$3))=TRUE,DGET(Forespørgsel1[#All],\"\"&LEFT($F33,LEN($F33)-$C33)&\"\",Kredsudvælgelse!$S$2:$T$3),DGET(Forespørgsel1[#All],\"\"&LEFT($F33,LEN($F33)-$C33)&\"\",Kredsudvælgelse!$S$2:$T$3)/IF(ISNONTEXT($D33)=TRUE,1,DGET(Forespørgsel1[#All],\"\"&$D33&\"\",Kredsudvælgelse!$S$2:$T$3))),IF(ISBLANK(HLOOKUP(L$12,'Statiske ejendomme'!$B$3:$PN$81,'Statiske ejendomme'!$A25,FALSE))=FALSE,HLOOKUP(L$12,'Statiske ejendomme'!$B$3:$PN$81,'Statiske ejendomme'!$A25,FALSE),\"\"))),\"\")","v":-11.604108885464818},{"$f":"IFERROR(IF(M$12=Kredsudvælgelse!$Q$20,\"\",IF(Kredsudvælgelse!AD$2=1,IF(ISTEXT(DGET(Forespørgsel1[#All],\"\"&LEFT($F33,LEN($F33)-$C33)&\"\",Kredsudvælgelse!$U$2:$V$3))=TRUE,DGET(Forespørgsel1[#All],\"\"&LEFT($F33,LEN($F33)-$C33)&\"\",Kredsudvælgelse!$U$2:$V$3),DGET(Forespørgsel1[#All],\"\"&LEFT($F33,LEN($F33)-$C33)&\"\",Kredsudvælgelse!$U$2:$V$3)/IF(ISNONTEXT($D33)=TRUE,1,DGET(Forespørgsel1[#All],\"\"&$D33&\"\",Kredsudvælgelse!$U$2:$V$3))),IF(ISBLANK(HLOOKUP(M$12,'Statiske ejendomme'!$B$3:$PN$81,'Statiske ejendomme'!$A25,FALSE))=FALSE,HLOOKUP(M$12,'Statiske ejendomme'!$B$3:$PN$81,'Statiske ejendomme'!$A25,FALSE),\"\"))),\"\")","v":-11.909410892923304},{"$f":"IFERROR(IF(N$12=Kredsudvælgelse!$Q$20,\"\",IF(Kredsudvælgelse!AE$2=1,IF(ISTEXT(DGET(Forespørgsel1[#All],\"\"&LEFT($F33,LEN($F33)-$C33)&\"\",Kredsudvælgelse!$W$2:$X$3))=TRUE,DGET(Forespørgsel1[#All],\"\"&LEFT($F33,LEN($F33)-$C33)&\"\",Kredsudvælgelse!$W$2:$X$3),DGET(Forespørgsel1[#All],\"\"&LEFT($F33,LEN($F33)-$C33)&\"\",Kredsudvælgelse!$W$2:$X$3)/IF(ISNONTEXT($D33)=TRUE,1,DGET(Forespørgsel1[#All],\"\"&$D33&\"\",Kredsudvælgelse!$W$2:$X$3))),IF(ISBLANK(HLOOKUP(N$12,'Statiske ejendomme'!$B$3:$PN$81,'Statiske ejendomme'!$A25,FALSE))=FALSE,HLOOKUP(N$12,'Statiske ejendomme'!$B$3:$PN$81,'Statiske ejendomme'!$A25,FALSE),\"\"))),\"\")","v":-14.626428571428571},{"$f":"IFERROR(IF(O$12=Kredsudvælgelse!$Q$20,\"\",IF(Kredsudvælgelse!AF$2=1,IF(ISTEXT(DGET(Forespørgsel1[#All],\"\"&LEFT($F33,LEN($F33)-$C33)&\"\",Kredsudvælgelse!$Y$2:$Z$3))=TRUE,DGET(Forespørgsel1[#All],\"\"&LEFT($F33,LEN($F33)-$C33)&\"\",Kredsudvælgelse!$Y$2:$Z$3),DGET(Forespørgsel1[#All],\"\"&LEFT($F33,LEN($F33)-$C33)&\"\",Kredsudvælgelse!$Y$2:$Z$3)/IF(ISNONTEXT($D33)=TRUE,1,DGET(Forespørgsel1[#All],\"\"&$D33&\"\",Kredsudvælgelse!$Y$2:$Z$3))),IF(ISBLANK(HLOOKUP(O$12,'Statiske ejendomme'!$B$3:$PN$81,'Statiske ejendomme'!$A25,FALSE))=FALSE,HLOOKUP(O$12,'Statiske ejendomme'!$B$3:$PN$81,'Statiske ejendomme'!$A25,FALSE),\"\"))),\"\")","v":-13.53664371148967},{"$f":"IFERROR(IF(P$12=Kredsudvælgelse!$Q$20,\"\",IF(Kredsudvælgelse!AG$2=1,IF(ISTEXT(DGET(Forespørgsel1[#All],\"\"&LEFT($F33,LEN($F33)-$C33)&\"\",Kredsudvælgelse!$Q$6:$R$7))=TRUE,DGET(Forespørgsel1[#All],\"\"&LEFT($F33,LEN($F33)-$C33)&\"\",Kredsudvælgelse!$Q$6:$R$7),DGET(Forespørgsel1[#All],\"\"&LEFT($F33,LEN($F33)-$C33)&\"\",Kredsudvælgelse!$Q$6:$R$7)/IF(ISNONTEXT($D33)=TRUE,1,DGET(Forespørgsel1[#All],\"\"&$D33&\"\",Kredsudvælgelse!$Q$6:$R$7))),IF(ISBLANK(HLOOKUP(P$12,'Statiske ejendomme'!$B$3:$PN$81,'Statiske ejendomme'!$A25,FALSE))=FALSE,HLOOKUP(P$12,'Statiske ejendomme'!$B$3:$PN$81,'Statiske ejendomme'!$A25,FALSE),\"\"))),\"\")","v":-14.814224751066856},{"$f":"IFERROR(IF(Q$12=Kredsudvælgelse!$Q$20,\"\",IF(Kredsudvælgelse!AH$2=1,IF(ISTEXT(DGET(Forespørgsel1[#All],\"\"&LEFT($F33,LEN($F33)-$C33)&\"\",Kredsudvælgelse!$S$6:$T$7))=TRUE,DGET(Forespørgsel1[#All],\"\"&LEFT($F33,LEN($F33)-$C33)&\"\",Kredsudvælgelse!$S$6:$T$7),DGET(Forespørgsel1[#All],\"\"&LEFT($F33,LEN($F33)-$C33)&\"\",Kredsudvælgelse!$S$6:$T$7)/IF(ISNONTEXT($D33)=TRUE,1,DGET(Forespørgsel1[#All],\"\"&$D33&\"\",Kredsudvælgelse!$S$6:$T$7))),IF(ISBLANK(HLOOKUP(Q$12,'Statiske ejendomme'!$B$3:$PN$81,'Statiske ejendomme'!$A25,FALSE))=FALSE,HLOOKUP(Q$12,'Statiske ejendomme'!$B$3:$PN$81,'Statiske ejendomme'!$A25,FALSE),\"\"))),\"\")","v":-26.701712680317684},{"$f":"IFERROR(IF(R$12=Kredsudvælgelse!$Q$20,\"\",IF(Kredsudvælgelse!AI$2=1,IF(ISTEXT(DGET(Forespørgsel1[#All],\"\"&LEFT($F33,LEN($F33)-$C33)&\"\",Kredsudvælgelse!$U$6:$V$7))=TRUE,DGET(Forespørgsel1[#All],\"\"&LEFT($F33,LEN($F33)-$C33)&\"\",Kredsudvælgelse!$U$6:$V$7),DGET(Forespørgsel1[#All],\"\"&LEFT($F33,LEN($F33)-$C33)&\"\",Kredsudvælgelse!$U$6:$V$7)/IF(ISNONTEXT($D33)=TRUE,1,DGET(Forespørgsel1[#All],\"\"&$D33&\"\",Kredsudvælgelse!$U$6:$V$7))),IF(ISBLANK(HLOOKUP(R$12,'Statiske ejendomme'!$B$3:$PN$81,'Statiske ejendomme'!$A25,FALSE))=FALSE,HLOOKUP(R$12,'Statiske ejendomme'!$B$3:$PN$81,'Statiske ejendomme'!$A25,FALSE),\"\"))),\"\")","v":-9.7910812130418279},{"$f":"IFERROR(IF(S$12=Kredsudvælgelse!$Q$20,\"\",IF(Kredsudvælgelse!AJ$2=1,IF(ISTEXT(DGET(Forespørgsel1[#All],\"\"&LEFT($F33,LEN($F33)-$C33)&\"\",Kredsudvælgelse!$W$6:$X$7))=TRUE,DGET(Forespørgsel1[#All],\"\"&LEFT($F33,LEN($F33)-$C33)&\"\",Kredsudvælgelse!$W$6:$X$7),DGET(Forespørgsel1[#All],\"\"&LEFT($F33,LEN($F33)-$C33)&\"\",Kredsudvælgelse!$W$6:$X$7)/IF(ISNONTEXT($D33)=TRUE,1,DGET(Forespørgsel1[#All],\"\"&$D33&\"\",Kredsudvælgelse!$W$6:$X$7))),IF(ISBLANK(HLOOKUP(S$12,'Statiske ejendomme'!$B$3:$PN$81,'Statiske ejendomme'!$A25,FALSE))=FALSE,HLOOKUP(S$12,'Statiske ejendomme'!$B$3:$PN$81,'Statiske ejendomme'!$A25,FALSE),\"\"))),\"\")","v":""},{"$f":"IFERROR(IF(T$12=Kredsudvælgelse!$Q$20,\"\",IF(Kredsudvælgelse!AK$2=1,IF(ISTEXT(DGET(Forespørgsel1[#All],\"\"&LEFT($F33,LEN($F33)-$C33)&\"\",Kredsudvælgelse!$W$6:$X$7))=TRUE,DGET(Forespørgsel1[#All],\"\"&LEFT($F33,LEN($F33)-$C33)&\"\",Kredsudvælgelse!$W$6:$X$7),DGET(Forespørgsel1[#All],\"\"&LEFT($F33,LEN($F33)-$C33)&\"\",Kredsudvælgelse!$W$6:$X$7)/IF(ISNONTEXT($D33)=TRUE,1,DGET(Forespørgsel1[#All],\"\"&$D33&\"\",Kredsudvælgelse!$W$6:$X$7))),IF(ISBLANK(HLOOKUP(T$12,'Statiske ejendomme'!$B$3:$PN$81,'Statiske ejendomme'!$A26,FALSE))=FALSE,HLOOKUP(T$12,'Statiske ejendomme'!$B$3:$PN$81,'Statiske ejendomme'!$A26,FALSE),\"\"))),\"\")","v":""}]
[{"$f":"Mink!E105","v":1},{"$f":"Mink!D105","v":110},{"$f":"Mink!A23","v":0},{"$f":"Mink!B23","v":"Producerede skind"},null,{"$f":"Mink!C23","v":"Stykomkostninger i alt"},{"$f":"Mink!D23","v":-151.96649312300877},{"$f":"Mink!E23","v":-147.22630084434999},{"$f":"Mink!F23","v":""},{"$f":"Mink!G23","v":""},{"$f":"IFERROR(IF(K$12=Kredsudvælgelse!$Q$20,\"\",IF(Kredsudvælgelse!AB$2=1,IF(ISTEXT(DGET(Forespørgsel1[#All],\"\"&LEFT($F34,LEN($F34)-$C34)&\"\",Kredsudvælgelse!$Q$2:$R$3))=TRUE,DGET(Forespørgsel1[#All],\"\"&LEFT($F34,LEN($F34)-$C34)&\"\",Kredsudvælgelse!$Q$2:$R$3),DGET(Forespørgsel1[#All],\"\"&LEFT($F34,LEN($F34)-$C34)&\"\",Kredsudvælgelse!$Q$2:$R$3)/IF(ISNONTEXT($D34)=TRUE,1,DGET(Forespørgsel1[#All],\"\"&$D34&\"\",Kredsudvælgelse!$Q$2:$R$3))),IF(ISBLANK(HLOOKUP(K$12,'Statiske ejendomme'!$B$3:$PN$81,'Statiske ejendomme'!$A26,FALSE))=FALSE,HLOOKUP(K$12,'Statiske ejendomme'!$B$3:$PN$81,'Statiske ejendomme'!$A26,FALSE),\"\"))),\"\")","v":-131.88146482492772},{"$f":"IFERROR(IF(L$12=Kredsudvælgelse!$Q$20,\"\",IF(Kredsudvælgelse!AC$2=1,IF(ISTEXT(DGET(Forespørgsel1[#All],\"\"&LEFT($F34,LEN($F34)-$C34)&\"\",Kredsudvælgelse!$S$2:$T$3))=TRUE,DGET(Forespørgsel1[#All],\"\"&LEFT($F34,LEN($F34)-$C34)&\"\",Kredsudvælgelse!$S$2:$T$3),DGET(Forespørgsel1[#All],\"\"&LEFT($F34,LEN($F34)-$C34)&\"\",Kredsudvælgelse!$S$2:$T$3)/IF(ISNONTEXT($D34)=TRUE,1,DGET(Forespørgsel1[#All],\"\"&$D34&\"\",Kredsudvælgelse!$S$2:$T$3))),IF(ISBLANK(HLOOKUP(L$12,'Statiske ejendomme'!$B$3:$PN$81,'Statiske ejendomme'!$A26,FALSE))=FALSE,HLOOKUP(L$12,'Statiske ejendomme'!$B$3:$PN$81,'Statiske ejendomme'!$A26,FALSE),\"\"))),\"\")","v":-149.71936312275295},{"$f":"IFERROR(IF(M$12=Kredsudvælgelse!$Q$20,\"\",IF(Kredsudvælgelse!AD$2=1,IF(ISTEXT(DGET(Forespørgsel1[#All],\"\"&LEFT($F34,LEN($F34)-$C34)&\"\",Kredsudvælgelse!$U$2:$V$3))=TRUE,DGET(Forespørgsel1[#All],\"\"&LEFT($F34,LEN($F34)-$C34)&\"\",Kredsudvælgelse!$U$2:$V$3),DGET(Forespørgsel1[#All],\"\"&LEFT($F34,LEN($F34)-$C34)&\"\",Kredsudvælgelse!$U$2:$V$3)/IF(ISNONTEXT($D34)=TRUE,1,DGET(Forespørgsel1[#All],\"\"&$D34&\"\",Kredsudvælgelse!$U$2:$V$3))),IF(ISBLANK(HLOOKUP(M$12,'Statiske ejendomme'!$B$3:$PN$81,'Statiske ejendomme'!$A26,FALSE))=FALSE,HLOOKUP(M$12,'Statiske ejendomme'!$B$3:$PN$81,'Statiske ejendomme'!$A26,FALSE),\"\"))),\"\")","v":-154.39885142645423},{"$f":"IFERROR(IF(N$12=Kredsudvælgelse!$Q$20,\"\",IF(Kredsudvælgelse!AE$2=1,IF(ISTEXT(DGET(Forespørgsel1[#All],\"\"&LEFT($F34,LEN($F34)-$C34)&\"\",Kredsudvælgelse!$W$2:$X$3))=TRUE,DGET(Forespørgsel1[#All],\"\"&LEFT($F34,LEN($F34)-$C34)&\"\",Kredsudvælgelse!$W$2:$X$3),DGET(Forespørgsel1[#All],\"\"&LEFT($F34,LEN($F34)-$C34)&\"\",Kredsudvælgelse!$W$2:$X$3)/IF(ISNONTEXT($D34)=TRUE,1,DGET(Forespørgsel1[#All],\"\"&$D34&\"\",Kredsudvælgelse!$W$2:$X$3))),IF(ISBLANK(HLOOKUP(N$12,'Statiske ejendomme'!$B$3:$PN$81,'Statiske ejendomme'!$A26,FALSE))=FALSE,HLOOKUP(N$12,'Statiske ejendomme'!$B$3:$PN$81,'Statiske ejendomme'!$A26,FALSE),\"\"))),\"\")","v":-157.36483516483517},{"$f":"IFERROR(IF(O$12=Kredsudvælgelse!$Q$20,\"\",IF(Kredsudvælgelse!AF$2=1,IF(ISTEXT(DGET(Forespørgsel1[#All],\"\"&LEFT($F34,LEN($F34)-$C34)&\"\",Kredsudvælgelse!$Y$2:$Z$3))=TRUE,DGET(Forespørgsel1[#All],\"\"&LEFT($F34,LEN($F34)-$C34)&\"\",Kredsudvælgelse!$Y$2:$Z$3),DGET(Forespørgsel1[#All],\"\"&LEFT($F34,LEN($F34)-$C34)&\"\",Kredsudvælgelse!$Y$2:$Z$3)/IF(ISNONTEXT($D34)=TRUE,1,DGET(Forespørgsel1[#All],\"\"&$D34&\"\",Kredsudvælgelse!$Y$2:$Z$3))),IF(ISBLANK(HLOOKUP(O$12,'Statiske ejendomme'!$B$3:$PN$81,'Statiske ejendomme'!$A26,FALSE))=FALSE,HLOOKUP(O$12,'Statiske ejendomme'!$B$3:$PN$81,'Statiske ejendomme'!$A26,FALSE),\"\"))),\"\")","v":-155.50764769844147},{"$f":"IFERROR(IF(P$12=Kredsudvælgelse!$Q$20,\"\",IF(Kredsudvælgelse!AG$2=1,IF(ISTEXT(DGET(Forespørgsel1[#All],\"\"&LEFT($F34,LEN($F34)-$C34)&\"\",Kredsudvælgelse!$Q$6:$R$7))=TRUE,DGET(Forespørgsel1[#All],\"\"&LEFT($F34,LEN($F34)-$C34)&\"\",Kredsudvælgelse!$Q$6:$R$7),DGET(Forespørgsel1[#All],\"\"&LEFT($F34,LEN($F34)-$C34)&\"\",Kredsudvælgelse!$Q$6:$R$7)/IF(ISNONTEXT($D34)=TRUE,1,DGET(Forespørgsel1[#All],\"\"&$D34&\"\",Kredsudvælgelse!$Q$6:$R$7))),IF(ISBLANK(HLOOKUP(P$12,'Statiske ejendomme'!$B$3:$PN$81,'Statiske ejendomme'!$A26,FALSE))=FALSE,HLOOKUP(P$12,'Statiske ejendomme'!$B$3:$PN$81,'Statiske ejendomme'!$A26,FALSE),\"\"))),\"\")","v":-149.50366287339972},{"$f":"IFERROR(IF(Q$12=Kredsudvælgelse!$Q$20,\"\",IF(Kredsudvælgelse!AH$2=1,IF(ISTEXT(DGET(Forespørgsel1[#All],\"\"&LEFT($F34,LEN($F34)-$C34)&\"\",Kredsudvælgelse!$S$6:$T$7))=TRUE,DGET(Forespørgsel1[#All],\"\"&LEFT($F34,LEN($F34)-$C34)&\"\",Kredsudvælgelse!$S$6:$T$7),DGET(Forespørgsel1[#All],\"\"&LEFT($F34,LEN($F34)-$C34)&\"\",Kredsudvælgelse!$S$6:$T$7)/IF(ISNONTEXT($D34)=TRUE,1,DGET(Forespørgsel1[#All],\"\"&$D34&\"\",Kredsudvælgelse!$S$6:$T$7))),IF(ISBLANK(HLOOKUP(Q$12,'Statiske ejendomme'!$B$3:$PN$81,'Statiske ejendomme'!$A26,FALSE))=FALSE,HLOOKUP(Q$12,'Statiske ejendomme'!$B$3:$PN$81,'Statiske ejendomme'!$A26,FALSE),\"\"))),\"\")","v":-156.08520179372198},{"$f":"IFERROR(IF(R$12=Kredsudvælgelse!$Q$20,\"\",IF(Kredsudvælgelse!AI$2=1,IF(ISTEXT(DGET(Forespørgsel1[#All],\"\"&LEFT($F34,LEN($F34)-$C34)&\"\",Kredsudvælgelse!$U$6:$V$7))=TRUE,DGET(Forespørgsel1[#All],\"\"&LEFT($F34,LEN($F34)-$C34)&\"\",Kredsudvælgelse!$U$6:$V$7),DGET(Forespørgsel1[#All],\"\"&LEFT($F34,LEN($F34)-$C34)&\"\",Kredsudvælgelse!$U$6:$V$7)/IF(ISNONTEXT($D34)=TRUE,1,DGET(Forespørgsel1[#All],\"\"&$D34&\"\",Kredsudvælgelse!$U$6:$V$7))),IF(ISBLANK(HLOOKUP(R$12,'Statiske ejendomme'!$B$3:$PN$81,'Statiske ejendomme'!$A26,FALSE))=FALSE,HLOOKUP(R$12,'Statiske ejendomme'!$B$3:$PN$81,'Statiske ejendomme'!$A26,FALSE),\"\"))),\"\")","v":-128.00428579178646},{"$f":"IFERROR(IF(S$12=Kredsudvælgelse!$Q$20,\"\",IF(Kredsudvælgelse!AJ$2=1,IF(ISTEXT(DGET(Forespørgsel1[#All],\"\"&LEFT($F34,LEN($F34)-$C34)&\"\",Kredsudvælgelse!$W$6:$X$7))=TRUE,DGET(Forespørgsel1[#All],\"\"&LEFT($F34,LEN($F34)-$C34)&\"\",Kredsudvælgelse!$W$6:$X$7),DGET(Forespørgsel1[#All],\"\"&LEFT($F34,LEN($F34)-$C34)&\"\",Kredsudvælgelse!$W$6:$X$7)/IF(ISNONTEXT($D34)=TRUE,1,DGET(Forespørgsel1[#All],\"\"&$D34&\"\",Kredsudvælgelse!$W$6:$X$7))),IF(ISBLANK(HLOOKUP(S$12,'Statiske ejendomme'!$B$3:$PN$81,'Statiske ejendomme'!$A26,FALSE))=FALSE,HLOOKUP(S$12,'Statiske ejendomme'!$B$3:$PN$81,'Statiske ejendomme'!$A26,FALSE),\"\"))),\"\")","v":""},{"$f":"IFERROR(IF(T$12=Kredsudvælgelse!$Q$20,\"\",IF(Kredsudvælgelse!AK$2=1,IF(ISTEXT(DGET(Forespørgsel1[#All],\"\"&LEFT($F34,LEN($F34)-$C34)&\"\",Kredsudvælgelse!$W$6:$X$7))=TRUE,DGET(Forespørgsel1[#All],\"\"&LEFT($F34,LEN($F34)-$C34)&\"\",Kredsudvælgelse!$W$6:$X$7),DGET(Forespørgsel1[#All],\"\"&LEFT($F34,LEN($F34)-$C34)&\"\",Kredsudvælgelse!$W$6:$X$7)/IF(ISNONTEXT($D34)=TRUE,1,DGET(Forespørgsel1[#All],\"\"&$D34&\"\",Kredsudvælgelse!$W$6:$X$7))),IF(ISBLANK(HLOOKUP(T$12,'Statiske ejendomme'!$B$3:$PN$81,'Statiske ejendomme'!$A27,FALSE))=FALSE,HLOOKUP(T$12,'Statiske ejendomme'!$B$3:$PN$81,'Statiske ejendomme'!$A27,FALSE),\"\"))),\"\")","v":""}]
[{"$f":"Mink!E106","v":1},{"$f":"Mink!D106","v":9},{"$f":"Mink!A24","v":0},{"$f":"Mink!B24","v":0},null,{"$f":"Mink!C24","v":0},{"$f":"Mink!D24","v":""},{"$f":"Mink!E24","v":""},{"$f":"Mink!F24","v":""},{"$f":"Mink!G24","v":""},{"$f":"IFERROR(IF(K$12=Kredsudvælgelse!$Q$20,\"\",IF(Kredsudvælgelse!AB$2=1,IF(ISTEXT(DGET(Forespørgsel1[#All],\"\"&LEFT($F35,LEN($F35)-$C35)&\"\",Kredsudvælgelse!$Q$2:$R$3))=TRUE,DGET(Forespørgsel1[#All],\"\"&LEFT($F35,LEN($F35)-$C35)&\"\",Kredsudvælgelse!$Q$2:$R$3),DGET(Forespørgsel1[#All],\"\"&LEFT($F35,LEN($F35)-$C35)&\"\",Kredsudvælgelse!$Q$2:$R$3)/IF(ISNONTEXT($D35)=TRUE,1,DGET(Forespørgsel1[#All],\"\"&$D35&\"\",Kredsudvælgelse!$Q$2:$R$3))),IF(ISBLANK(HLOOKUP(K$12,'Statiske ejendomme'!$B$3:$PN$81,'Statiske ejendomme'!$A27,FALSE))=FALSE,HLOOKUP(K$12,'Statiske ejendomme'!$B$3:$PN$81,'Statiske ejendomme'!$A27,FALSE),\"\"))),\"\")","v":""},{"$f":"IFERROR(IF(L$12=Kredsudvælgelse!$Q$20,\"\",IF(Kredsudvælgelse!AC$2=1,IF(ISTEXT(DGET(Forespørgsel1[#All],\"\"&LEFT($F35,LEN($F35)-$C35)&\"\",Kredsudvælgelse!$S$2:$T$3))=TRUE,DGET(Forespørgsel1[#All],\"\"&LEFT($F35,LEN($F35)-$C35)&\"\",Kredsudvælgelse!$S$2:$T$3),DGET(Forespørgsel1[#All],\"\"&LEFT($F35,LEN($F35)-$C35)&\"\",Kredsudvælgelse!$S$2:$T$3)/IF(ISNONTEXT($D35)=TRUE,1,DGET(Forespørgsel1[#All],\"\"&$D35&\"\",Kredsudvælgelse!$S$2:$T$3))),IF(ISBLANK(HLOOKUP(L$12,'Statiske ejendomme'!$B$3:$PN$81,'Statiske ejendomme'!$A27,FALSE))=FALSE,HLOOKUP(L$12,'Statiske ejendomme'!$B$3:$PN$81,'Statiske ejendomme'!$A27,FALSE),\"\"))),\"\")","v":""},{"$f":"IFERROR(IF(M$12=Kredsudvælgelse!$Q$20,\"\",IF(Kredsudvælgelse!AD$2=1,IF(ISTEXT(DGET(Forespørgsel1[#All],\"\"&LEFT($F35,LEN($F35)-$C35)&\"\",Kredsudvælgelse!$U$2:$V$3))=TRUE,DGET(Forespørgsel1[#All],\"\"&LEFT($F35,LEN($F35)-$C35)&\"\",Kredsudvælgelse!$U$2:$V$3),DGET(Forespørgsel1[#All],\"\"&LEFT($F35,LEN($F35)-$C35)&\"\",Kredsudvælgelse!$U$2:$V$3)/IF(ISNONTEXT($D35)=TRUE,1,DGET(Forespørgsel1[#All],\"\"&$D35&\"\",Kredsudvælgelse!$U$2:$V$3))),IF(ISBLANK(HLOOKUP(M$12,'Statiske ejendomme'!$B$3:$PN$81,'Statiske ejendomme'!$A27,FALSE))=FALSE,HLOOKUP(M$12,'Statiske ejendomme'!$B$3:$PN$81,'Statiske ejendomme'!$A27,FALSE),\"\"))),\"\")","v":""},{"$f":"IFERROR(IF(N$12=Kredsudvælgelse!$Q$20,\"\",IF(Kredsudvælgelse!AE$2=1,IF(ISTEXT(DGET(Forespørgsel1[#All],\"\"&LEFT($F35,LEN($F35)-$C35)&\"\",Kredsudvælgelse!$W$2:$X$3))=TRUE,DGET(Forespørgsel1[#All],\"\"&LEFT($F35,LEN($F35)-$C35)&\"\",Kredsudvælgelse!$W$2:$X$3),DGET(Forespørgsel1[#All],\"\"&LEFT($F35,LEN($F35)-$C35)&\"\",Kredsudvælgelse!$W$2:$X$3)/IF(ISNONTEXT($D35)=TRUE,1,DGET(Forespørgsel1[#All],\"\"&$D35&\"\",Kredsudvælgelse!$W$2:$X$3))),IF(ISBLANK(HLOOKUP(N$12,'Statiske ejendomme'!$B$3:$PN$81,'Statiske ejendomme'!$A27,FALSE))=FALSE,HLOOKUP(N$12,'Statiske ejendomme'!$B$3:$PN$81,'Statiske ejendomme'!$A27,FALSE),\"\"))),\"\")","v":""},{"$f":"IFERROR(IF(O$12=Kredsudvælgelse!$Q$20,\"\",IF(Kredsudvælgelse!AF$2=1,IF(ISTEXT(DGET(Forespørgsel1[#All],\"\"&LEFT($F35,LEN($F35)-$C35)&\"\",Kredsudvælgelse!$Y$2:$Z$3))=TRUE,DGET(Forespørgsel1[#All],\"\"&LEFT($F35,LEN($F35)-$C35)&\"\",Kredsudvælgelse!$Y$2:$Z$3),DGET(Forespørgsel1[#All],\"\"&LEFT($F35,LEN($F35)-$C35)&\"\",Kredsudvælgelse!$Y$2:$Z$3)/IF(ISNONTEXT($D35)=TRUE,1,DGET(Forespørgsel1[#All],\"\"&$D35&\"\",Kredsudvælgelse!$Y$2:$Z$3))),IF(ISBLANK(HLOOKUP(O$12,'Statiske ejendomme'!$B$3:$PN$81,'Statiske ejendomme'!$A27,FALSE))=FALSE,HLOOKUP(O$12,'Statiske ejendomme'!$B$3:$PN$81,'Statiske ejendomme'!$A27,FALSE),\"\"))),\"\")","v":""},{"$f":"IFERROR(IF(P$12=Kredsudvælgelse!$Q$20,\"\",IF(Kredsudvælgelse!AG$2=1,IF(ISTEXT(DGET(Forespørgsel1[#All],\"\"&LEFT($F35,LEN($F35)-$C35)&\"\",Kredsudvælgelse!$Q$6:$R$7))=TRUE,DGET(Forespørgsel1[#All],\"\"&LEFT($F35,LEN($F35)-$C35)&\"\",Kredsudvælgelse!$Q$6:$R$7),DGET(Forespørgsel1[#All],\"\"&LEFT($F35,LEN($F35)-$C35)&\"\",Kredsudvælgelse!$Q$6:$R$7)/IF(ISNONTEXT($D35)=TRUE,1,DGET(Forespørgsel1[#All],\"\"&$D35&\"\",Kredsudvælgelse!$Q$6:$R$7))),IF(ISBLANK(HLOOKUP(P$12,'Statiske ejendomme'!$B$3:$PN$81,'Statiske ejendomme'!$A27,FALSE))=FALSE,HLOOKUP(P$12,'Statiske ejendomme'!$B$3:$PN$81,'Statiske ejendomme'!$A27,FALSE),\"\"))),\"\")","v":""},{"$f":"IFERROR(IF(Q$12=Kredsudvælgelse!$Q$20,\"\",IF(Kredsudvælgelse!AH$2=1,IF(ISTEXT(DGET(Forespørgsel1[#All],\"\"&LEFT($F35,LEN($F35)-$C35)&\"\",Kredsudvælgelse!$S$6:$T$7))=TRUE,DGET(Forespørgsel1[#All],\"\"&LEFT($F35,LEN($F35)-$C35)&\"\",Kredsudvælgelse!$S$6:$T$7),DGET(Forespørgsel1[#All],\"\"&LEFT($F35,LEN($F35)-$C35)&\"\",Kredsudvælgelse!$S$6:$T$7)/IF(ISNONTEXT($D35)=TRUE,1,DGET(Forespørgsel1[#All],\"\"&$D35&\"\",Kredsudvælgelse!$S$6:$T$7))),IF(ISBLANK(HLOOKUP(Q$12,'Statiske ejendomme'!$B$3:$PN$81,'Statiske ejendomme'!$A27,FALSE))=FALSE,HLOOKUP(Q$12,'Statiske ejendomme'!$B$3:$PN$81,'Statiske ejendomme'!$A27,FALSE),\"\"))),\"\")","v":""},{"$f":"IFERROR(IF(R$12=Kredsudvælgelse!$Q$20,\"\",IF(Kredsudvælgelse!AI$2=1,IF(ISTEXT(DGET(Forespørgsel1[#All],\"\"&LEFT($F35,LEN($F35)-$C35)&\"\",Kredsudvælgelse!$U$6:$V$7))=TRUE,DGET(Forespørgsel1[#All],\"\"&LEFT($F35,LEN($F35)-$C35)&\"\",Kredsudvælgelse!$U$6:$V$7),DGET(Forespørgsel1[#All],\"\"&LEFT($F35,LEN($F35)-$C35)&\"\",Kredsudvælgelse!$U$6:$V$7)/IF(ISNONTEXT($D35)=TRUE,1,DGET(Forespørgsel1[#All],\"\"&$D35&\"\",Kredsudvælgelse!$U$6:$V$7))),IF(ISBLANK(HLOOKUP(R$12,'Statiske ejendomme'!$B$3:$PN$81,'Statiske ejendomme'!$A27,FALSE))=FALSE,HLOOKUP(R$12,'Statiske ejendomme'!$B$3:$PN$81,'Statiske ejendomme'!$A27,FALSE),\"\"))),\"\")","v":""},{"$f":"IFERROR(IF(S$12=Kredsudvælgelse!$Q$20,\"\",IF(Kredsudvælgelse!AJ$2=1,IF(ISTEXT(DGET(Forespørgsel1[#All],\"\"&LEFT($F35,LEN($F35)-$C35)&\"\",Kredsudvælgelse!$W$6:$X$7))=TRUE,DGET(Forespørgsel1[#All],\"\"&LEFT($F35,LEN($F35)-$C35)&\"\",Kredsudvælgelse!$W$6:$X$7),DGET(Forespørgsel1[#All],\"\"&LEFT($F35,LEN($F35)-$C35)&\"\",Kredsudvælgelse!$W$6:$X$7)/IF(ISNONTEXT($D35)=TRUE,1,DGET(Forespørgsel1[#All],\"\"&$D35&\"\",Kredsudvælgelse!$W$6:$X$7))),IF(ISBLANK(HLOOKUP(S$12,'Statiske ejendomme'!$B$3:$PN$81,'Statiske ejendomme'!$A27,FALSE))=FALSE,HLOOKUP(S$12,'Statiske ejendomme'!$B$3:$PN$81,'Statiske ejendomme'!$A27,FALSE),\"\"))),\"\")","v":""},{"$f":"IFERROR(IF(T$12=Kredsudvælgelse!$Q$20,\"\",IF(Kredsudvælgelse!AK$2=1,IF(ISTEXT(DGET(Forespørgsel1[#All],\"\"&LEFT($F35,LEN($F35)-$C35)&\"\",Kredsudvælgelse!$W$6:$X$7))=TRUE,DGET(Forespørgsel1[#All],\"\"&LEFT($F35,LEN($F35)-$C35)&\"\",Kredsudvælgelse!$W$6:$X$7),DGET(Forespørgsel1[#All],\"\"&LEFT($F35,LEN($F35)-$C35)&\"\",Kredsudvælgelse!$W$6:$X$7)/IF(ISNONTEXT($D35)=TRUE,1,DGET(Forespørgsel1[#All],\"\"&$D35&\"\",Kredsudvælgelse!$W$6:$X$7))),IF(ISBLANK(HLOOKUP(T$12,'Statiske ejendomme'!$B$3:$PN$81,'Statiske ejendomme'!$A28,FALSE))=FALSE,HLOOKUP(T$12,'Statiske ejendomme'!$B$3:$PN$81,'Statiske ejendomme'!$A28,FALSE),\"\"))),\"\")","v":""}]
[{"$f":"Mink!E107","v":1},{"$f":"Mink!D107","v":113},{"$f":"Mink!A25","v":0},{"$f":"Mink!B25","v":"Producerede skind"},null,{"$f":"Mink!C25","v":"Dækningsbidrag"},{"$f":"Mink!D25","v":230.68347061413732},{"$f":"Mink!E25","v":266.47516783571842},{"$f":"Mink!F25","v":""},{"$f":"Mink!G25","v":""},{"$f":"IFERROR(IF(K$12=Kredsudvælgelse!$Q$20,\"\",IF(Kredsudvælgelse!AB$2=1,IF(ISTEXT(DGET(Forespørgsel1[#All],\"\"&LEFT($F36,LEN($F36)-$C36)&\"\",Kredsudvælgelse!$Q$2:$R$3))=TRUE,DGET(Forespørgsel1[#All],\"\"&LEFT($F36,LEN($F36)-$C36)&\"\",Kredsudvælgelse!$Q$2:$R$3),DGET(Forespørgsel1[#All],\"\"&LEFT($F36,LEN($F36)-$C36)&\"\",Kredsudvælgelse!$Q$2:$R$3)/IF(ISNONTEXT($D36)=TRUE,1,DGET(Forespørgsel1[#All],\"\"&$D36&\"\",Kredsudvælgelse!$Q$2:$R$3))),IF(ISBLANK(HLOOKUP(K$12,'Statiske ejendomme'!$B$3:$PN$81,'Statiske ejendomme'!$A28,FALSE))=FALSE,HLOOKUP(K$12,'Statiske ejendomme'!$B$3:$PN$81,'Statiske ejendomme'!$A28,FALSE),\"\"))),\"\")","v":294.84495127958024},{"$f":"IFERROR(IF(L$12=Kredsudvælgelse!$Q$20,\"\",IF(Kredsudvælgelse!AC$2=1,IF(ISTEXT(DGET(Forespørgsel1[#All],\"\"&LEFT($F36,LEN($F36)-$C36)&\"\",Kredsudvælgelse!$S$2:$T$3))=TRUE,DGET(Forespørgsel1[#All],\"\"&LEFT($F36,LEN($F36)-$C36)&\"\",Kredsudvælgelse!$S$2:$T$3),DGET(Forespørgsel1[#All],\"\"&LEFT($F36,LEN($F36)-$C36)&\"\",Kredsudvælgelse!$S$2:$T$3)/IF(ISNONTEXT($D36)=TRUE,1,DGET(Forespørgsel1[#All],\"\"&$D36&\"\",Kredsudvælgelse!$S$2:$T$3))),IF(ISBLANK(HLOOKUP(L$12,'Statiske ejendomme'!$B$3:$PN$81,'Statiske ejendomme'!$A28,FALSE))=FALSE,HLOOKUP(L$12,'Statiske ejendomme'!$B$3:$PN$81,'Statiske ejendomme'!$A28,FALSE),\"\"))),\"\")","v":295.19455572675912},{"$f":"IFERROR(IF(M$12=Kredsudvælgelse!$Q$20,\"\",IF(Kredsudvælgelse!AD$2=1,IF(ISTEXT(DGET(Forespørgsel1[#All],\"\"&LEFT($F36,LEN($F36)-$C36)&\"\",Kredsudvælgelse!$U$2:$V$3))=TRUE,DGET(Forespørgsel1[#All],\"\"&LEFT($F36,LEN($F36)-$C36)&\"\",Kredsudvælgelse!$U$2:$V$3),DGET(Forespørgsel1[#All],\"\"&LEFT($F36,LEN($F36)-$C36)&\"\",Kredsudvælgelse!$U$2:$V$3)/IF(ISNONTEXT($D36)=TRUE,1,DGET(Forespørgsel1[#All],\"\"&$D36&\"\",Kredsudvælgelse!$U$2:$V$3))),IF(ISBLANK(HLOOKUP(M$12,'Statiske ejendomme'!$B$3:$PN$81,'Statiske ejendomme'!$A28,FALSE))=FALSE,HLOOKUP(M$12,'Statiske ejendomme'!$B$3:$PN$81,'Statiske ejendomme'!$A28,FALSE),\"\"))),\"\")","v":313.75768803260468},{"$f":"IFERROR(IF(N$12=Kredsudvælgelse!$Q$20,\"\",IF(Kredsudvælgelse!AE$2=1,IF(ISTEXT(DGET(Forespørgsel1[#All],\"\"&LEFT($F36,LEN($F36)-$C36)&\"\",Kredsudvælgelse!$W$2:$X$3))=TRUE,DGET(Forespørgsel1[#All],\"\"&LEFT($F36,LEN($F36)-$C36)&\"\",Kredsudvælgelse!$W$2:$X$3),DGET(Forespørgsel1[#All],\"\"&LEFT($F36,LEN($F36)-$C36)&\"\",Kredsudvælgelse!$W$2:$X$3)/IF(ISNONTEXT($D36)=TRUE,1,DGET(Forespørgsel1[#All],\"\"&$D36&\"\",Kredsudvælgelse!$W$2:$X$3))),IF(ISBLANK(HLOOKUP(N$12,'Statiske ejendomme'!$B$3:$PN$81,'Statiske ejendomme'!$A28,FALSE))=FALSE,HLOOKUP(N$12,'Statiske ejendomme'!$B$3:$PN$81,'Statiske ejendomme'!$A28,FALSE),\"\"))),\"\")","v":240.09302197802197},{"$f":"IFERROR(IF(O$12=Kredsudvælgelse!$Q$20,\"\",IF(Kredsudvælgelse!AF$2=1,IF(ISTEXT(DGET(Forespørgsel1[#All],\"\"&LEFT($F36,LEN($F36)-$C36)&\"\",Kredsudvælgelse!$Y$2:$Z$3))=TRUE,DGET(Forespørgsel1[#All],\"\"&LEFT($F36,LEN($F36)-$C36)&\"\",Kredsudvælgelse!$Y$2:$Z$3),DGET(Forespørgsel1[#All],\"\"&LEFT($F36,LEN($F36)-$C36)&\"\",Kredsudvælgelse!$Y$2:$Z$3)/IF(ISNONTEXT($D36)=TRUE,1,DGET(Forespørgsel1[#All],\"\"&$D36&\"\",Kredsudvælgelse!$Y$2:$Z$3))),IF(ISBLANK(HLOOKUP(O$12,'Statiske ejendomme'!$B$3:$PN$81,'Statiske ejendomme'!$A28,FALSE))=FALSE,HLOOKUP(O$12,'Statiske ejendomme'!$B$3:$PN$81,'Statiske ejendomme'!$A28,FALSE),\"\"))),\"\")","v":292.60971366437116},{"$f":"IFERROR(IF(P$12=Kredsudvælgelse!$Q$20,\"\",IF(Kredsudvælgelse!AG$2=1,IF(ISTEXT(DGET(Forespørgsel1[#All],\"\"&LEFT($F36,LEN($F36)-$C36)&\"\",Kredsudvælgelse!$Q$6:$R$7))=TRUE,DGET(Forespørgsel1[#All],\"\"&LEFT($F36,LEN($F36)-$C36)&\"\",Kredsudvælgelse!$Q$6:$R$7),DGET(Forespørgsel1[#All],\"\"&LEFT($F36,LEN($F36)-$C36)&\"\",Kredsudvælgelse!$Q$6:$R$7)/IF(ISNONTEXT($D36)=TRUE,1,DGET(Forespørgsel1[#All],\"\"&$D36&\"\",Kredsudvælgelse!$Q$6:$R$7))),IF(ISBLANK(HLOOKUP(P$12,'Statiske ejendomme'!$B$3:$PN$81,'Statiske ejendomme'!$A28,FALSE))=FALSE,HLOOKUP(P$12,'Statiske ejendomme'!$B$3:$PN$81,'Statiske ejendomme'!$A28,FALSE),\"\"))),\"\")","v":287.23186344238974},{"$f":"IFERROR(IF(Q$12=Kredsudvælgelse!$Q$20,\"\",IF(Kredsudvælgelse!AH$2=1,IF(ISTEXT(DGET(Forespørgsel1[#All],\"\"&LEFT($F36,LEN($F36)-$C36)&\"\",Kredsudvælgelse!$S$6:$T$7))=TRUE,DGET(Forespørgsel1[#All],\"\"&LEFT($F36,LEN($F36)-$C36)&\"\",Kredsudvælgelse!$S$6:$T$7),DGET(Forespørgsel1[#All],\"\"&LEFT($F36,LEN($F36)-$C36)&\"\",Kredsudvælgelse!$S$6:$T$7)/IF(ISNONTEXT($D36)=TRUE,1,DGET(Forespørgsel1[#All],\"\"&$D36&\"\",Kredsudvælgelse!$S$6:$T$7))),IF(ISBLANK(HLOOKUP(Q$12,'Statiske ejendomme'!$B$3:$PN$81,'Statiske ejendomme'!$A28,FALSE))=FALSE,HLOOKUP(Q$12,'Statiske ejendomme'!$B$3:$PN$81,'Statiske ejendomme'!$A28,FALSE),\"\"))),\"\")","v":231.32373439948134},{"$f":"IFERROR(IF(R$12=Kredsudvælgelse!$Q$20,\"\",IF(Kredsudvælgelse!AI$2=1,IF(ISTEXT(DGET(Forespørgsel1[#All],\"\"&LEFT($F36,LEN($F36)-$C36)&\"\",Kredsudvælgelse!$U$6:$V$7))=TRUE,DGET(Forespørgsel1[#All],\"\"&LEFT($F36,LEN($F36)-$C36)&\"\",Kredsudvælgelse!$U$6:$V$7),DGET(Forespørgsel1[#All],\"\"&LEFT($F36,LEN($F36)-$C36)&\"\",Kredsudvælgelse!$U$6:$V$7)/IF(ISNONTEXT($D36)=TRUE,1,DGET(Forespørgsel1[#All],\"\"&$D36&\"\",Kredsudvælgelse!$U$6:$V$7))),IF(ISBLANK(HLOOKUP(R$12,'Statiske ejendomme'!$B$3:$PN$81,'Statiske ejendomme'!$A28,FALSE))=FALSE,HLOOKUP(R$12,'Statiske ejendomme'!$B$3:$PN$81,'Statiske ejendomme'!$A28,FALSE),\"\"))),\"\")","v":242.84413823034774},{"$f":"IFERROR(IF(S$12=Kredsudvælgelse!$Q$20,\"\",IF(Kredsudvælgelse!AJ$2=1,IF(ISTEXT(DGET(Forespørgsel1[#All],\"\"&LEFT($F36,LEN($F36)-$C36)&\"\",Kredsudvælgelse!$W$6:$X$7))=TRUE,DGET(Forespørgsel1[#All],\"\"&LEFT($F36,LEN($F36)-$C36)&\"\",Kredsudvælgelse!$W$6:$X$7),DGET(Forespørgsel1[#All],\"\"&LEFT($F36,LEN($F36)-$C36)&\"\",Kredsudvælgelse!$W$6:$X$7)/IF(ISNONTEXT($D36)=TRUE,1,DGET(Forespørgsel1[#All],\"\"&$D36&\"\",Kredsudvælgelse!$W$6:$X$7))),IF(ISBLANK(HLOOKUP(S$12,'Statiske ejendomme'!$B$3:$PN$81,'Statiske ejendomme'!$A28,FALSE))=FALSE,HLOOKUP(S$12,'Statiske ejendomme'!$B$3:$PN$81,'Statiske ejendomme'!$A28,FALSE),\"\"))),\"\")","v":""},{"$f":"IFERROR(IF(T$12=Kredsudvælgelse!$Q$20,\"\",IF(Kredsudvælgelse!AK$2=1,IF(ISTEXT(DGET(Forespørgsel1[#All],\"\"&LEFT($F36,LEN($F36)-$C36)&\"\",Kredsudvælgelse!$W$6:$X$7))=TRUE,DGET(Forespørgsel1[#All],\"\"&LEFT($F36,LEN($F36)-$C36)&\"\",Kredsudvælgelse!$W$6:$X$7),DGET(Forespørgsel1[#All],\"\"&LEFT($F36,LEN($F36)-$C36)&\"\",Kredsudvælgelse!$W$6:$X$7)/IF(ISNONTEXT($D36)=TRUE,1,DGET(Forespørgsel1[#All],\"\"&$D36&\"\",Kredsudvælgelse!$W$6:$X$7))),IF(ISBLANK(HLOOKUP(T$12,'Statiske ejendomme'!$B$3:$PN$81,'Statiske ejendomme'!$A29,FALSE))=FALSE,HLOOKUP(T$12,'Statiske ejendomme'!$B$3:$PN$81,'Statiske ejendomme'!$A29,FALSE),\"\"))),\"\")","v":""}]
[{"$f":"Mink!E108","v":1},{"$f":"Mink!D108","v":9},{"$f":"Mink!A26","v":0},{"$f":"Mink!B26","v":0},null,{"$f":"Mink!C26","v":0},{"$f":"Mink!D26","v":""},{"$f":"Mink!E26","v":""},{"$f":"Mink!F26","v":""},{"$f":"Mink!G26","v":""},{"$f":"IFERROR(IF(K$12=Kredsudvælgelse!$Q$20,\"\",IF(Kredsudvælgelse!AB$2=1,IF(ISTEXT(DGET(Forespørgsel1[#All],\"\"&LEFT($F37,LEN($F37)-$C37)&\"\",Kredsudvælgelse!$Q$2:$R$3))=TRUE,DGET(Forespørgsel1[#All],\"\"&LEFT($F37,LEN($F37)-$C37)&\"\",Kredsudvælgelse!$Q$2:$R$3),DGET(Forespørgsel1[#All],\"\"&LEFT($F37,LEN($F37)-$C37)&\"\",Kredsudvælgelse!$Q$2:$R$3)/IF(ISNONTEXT($D37)=TRUE,1,DGET(Forespørgsel1[#All],\"\"&$D37&\"\",Kredsudvælgelse!$Q$2:$R$3))),IF(ISBLANK(HLOOKUP(K$12,'Statiske ejendomme'!$B$3:$PN$81,'Statiske ejendomme'!$A29,FALSE))=FALSE,HLOOKUP(K$12,'Statiske ejendomme'!$B$3:$PN$81,'Statiske ejendomme'!$A29,FALSE),\"\"))),\"\")","v":""},{"$f":"IFERROR(IF(L$12=Kredsudvælgelse!$Q$20,\"\",IF(Kredsudvælgelse!AC$2=1,IF(ISTEXT(DGET(Forespørgsel1[#All],\"\"&LEFT($F37,LEN($F37)-$C37)&\"\",Kredsudvælgelse!$S$2:$T$3))=TRUE,DGET(Forespørgsel1[#All],\"\"&LEFT($F37,LEN($F37)-$C37)&\"\",Kredsudvælgelse!$S$2:$T$3),DGET(Forespørgsel1[#All],\"\"&LEFT($F37,LEN($F37)-$C37)&\"\",Kredsudvælgelse!$S$2:$T$3)/IF(ISNONTEXT($D37)=TRUE,1,DGET(Forespørgsel1[#All],\"\"&$D37&\"\",Kredsudvælgelse!$S$2:$T$3))),IF(ISBLANK(HLOOKUP(L$12,'Statiske ejendomme'!$B$3:$PN$81,'Statiske ejendomme'!$A29,FALSE))=FALSE,HLOOKUP(L$12,'Statiske ejendomme'!$B$3:$PN$81,'Statiske ejendomme'!$A29,FALSE),\"\"))),\"\")","v":""},{"$f":"IFERROR(IF(M$12=Kredsudvælgelse!$Q$20,\"\",IF(Kredsudvælgelse!AD$2=1,IF(ISTEXT(DGET(Forespørgsel1[#All],\"\"&LEFT($F37,LEN($F37)-$C37)&\"\",Kredsudvælgelse!$U$2:$V$3))=TRUE,DGET(Forespørgsel1[#All],\"\"&LEFT($F37,LEN($F37)-$C37)&\"\",Kredsudvælgelse!$U$2:$V$3),DGET(Forespørgsel1[#All],\"\"&LEFT($F37,LEN($F37)-$C37)&\"\",Kredsudvælgelse!$U$2:$V$3)/IF(ISNONTEXT($D37)=TRUE,1,DGET(Forespørgsel1[#All],\"\"&$D37&\"\",Kredsudvælgelse!$U$2:$V$3))),IF(ISBLANK(HLOOKUP(M$12,'Statiske ejendomme'!$B$3:$PN$81,'Statiske ejendomme'!$A29,FALSE))=FALSE,HLOOKUP(M$12,'Statiske ejendomme'!$B$3:$PN$81,'Statiske ejendomme'!$A29,FALSE),\"\"))),\"\")","v":"Pr. Skind"},{"$f":"IFERROR(IF(N$12=Kredsudvælgelse!$Q$20,\"\",IF(Kredsudvælgelse!AE$2=1,IF(ISTEXT(DGET(Forespørgsel1[#All],\"\"&LEFT($F37,LEN($F37)-$C37)&\"\",Kredsudvælgelse!$W$2:$X$3))=TRUE,DGET(Forespørgsel1[#All],\"\"&LEFT($F37,LEN($F37)-$C37)&\"\",Kredsudvælgelse!$W$2:$X$3),DGET(Forespørgsel1[#All],\"\"&LEFT($F37,LEN($F37)-$C37)&\"\",Kredsudvælgelse!$W$2:$X$3)/IF(ISNONTEXT($D37)=TRUE,1,DGET(Forespørgsel1[#All],\"\"&$D37&\"\",Kredsudvælgelse!$W$2:$X$3))),IF(ISBLANK(HLOOKUP(N$12,'Statiske ejendomme'!$B$3:$PN$81,'Statiske ejendomme'!$A29,FALSE))=FALSE,HLOOKUP(N$12,'Statiske ejendomme'!$B$3:$PN$81,'Statiske ejendomme'!$A29,FALSE),\"\"))),\"\")","v":""},{"$f":"IFERROR(IF(O$12=Kredsudvælgelse!$Q$20,\"\",IF(Kredsudvælgelse!AF$2=1,IF(ISTEXT(DGET(Forespørgsel1[#All],\"\"&LEFT($F37,LEN($F37)-$C37)&\"\",Kredsudvælgelse!$Y$2:$Z$3))=TRUE,DGET(Forespørgsel1[#All],\"\"&LEFT($F37,LEN($F37)-$C37)&\"\",Kredsudvælgelse!$Y$2:$Z$3),DGET(Forespørgsel1[#All],\"\"&LEFT($F37,LEN($F37)-$C37)&\"\",Kredsudvælgelse!$Y$2:$Z$3)/IF(ISNONTEXT($D37)=TRUE,1,DGET(Forespørgsel1[#All],\"\"&$D37&\"\",Kredsudvælgelse!$Y$2:$Z$3))),IF(ISBLANK(HLOOKUP(O$12,'Statiske ejendomme'!$B$3:$PN$81,'Statiske ejendomme'!$A29,FALSE))=FALSE,HLOOKUP(O$12,'Statiske ejendomme'!$B$3:$PN$81,'Statiske ejendomme'!$A29,FALSE),\"\"))),\"\")","v":""},{"$f":"IFERROR(IF(P$12=Kredsudvælgelse!$Q$20,\"\",IF(Kredsudvælgelse!AG$2=1,IF(ISTEXT(DGET(Forespørgsel1[#All],\"\"&LEFT($F37,LEN($F37)-$C37)&\"\",Kredsudvælgelse!$Q$6:$R$7))=TRUE,DGET(Forespørgsel1[#All],\"\"&LEFT($F37,LEN($F37)-$C37)&\"\",Kredsudvælgelse!$Q$6:$R$7),DGET(Forespørgsel1[#All],\"\"&LEFT($F37,LEN($F37)-$C37)&\"\",Kredsudvælgelse!$Q$6:$R$7)/IF(ISNONTEXT($D37)=TRUE,1,DGET(Forespørgsel1[#All],\"\"&$D37&\"\",Kredsudvælgelse!$Q$6:$R$7))),IF(ISBLANK(HLOOKUP(P$12,'Statiske ejendomme'!$B$3:$PN$81,'Statiske ejendomme'!$A29,FALSE))=FALSE,HLOOKUP(P$12,'Statiske ejendomme'!$B$3:$PN$81,'Statiske ejendomme'!$A29,FALSE),\"\"))),\"\")","v":""},{"$f":"IFERROR(IF(Q$12=Kredsudvælgelse!$Q$20,\"\",IF(Kredsudvælgelse!AH$2=1,IF(ISTEXT(DGET(Forespørgsel1[#All],\"\"&LEFT($F37,LEN($F37)-$C37)&\"\",Kredsudvælgelse!$S$6:$T$7))=TRUE,DGET(Forespørgsel1[#All],\"\"&LEFT($F37,LEN($F37)-$C37)&\"\",Kredsudvælgelse!$S$6:$T$7),DGET(Forespørgsel1[#All],\"\"&LEFT($F37,LEN($F37)-$C37)&\"\",Kredsudvælgelse!$S$6:$T$7)/IF(ISNONTEXT($D37)=TRUE,1,DGET(Forespørgsel1[#All],\"\"&$D37&\"\",Kredsudvælgelse!$S$6:$T$7))),IF(ISBLANK(HLOOKUP(Q$12,'Statiske ejendomme'!$B$3:$PN$81,'Statiske ejendomme'!$A29,FALSE))=FALSE,HLOOKUP(Q$12,'Statiske ejendomme'!$B$3:$PN$81,'Statiske ejendomme'!$A29,FALSE),\"\"))),\"\")","v":""},{"$f":"IFERROR(IF(R$12=Kredsudvælgelse!$Q$20,\"\",IF(Kredsudvælgelse!AI$2=1,IF(ISTEXT(DGET(Forespørgsel1[#All],\"\"&LEFT($F37,LEN($F37)-$C37)&\"\",Kredsudvælgelse!$U$6:$V$7))=TRUE,DGET(Forespørgsel1[#All],\"\"&LEFT($F37,LEN($F37)-$C37)&\"\",Kredsudvælgelse!$U$6:$V$7),DGET(Forespørgsel1[#All],\"\"&LEFT($F37,LEN($F37)-$C37)&\"\",Kredsudvælgelse!$U$6:$V$7)/IF(ISNONTEXT($D37)=TRUE,1,DGET(Forespørgsel1[#All],\"\"&$D37&\"\",Kredsudvælgelse!$U$6:$V$7))),IF(ISBLANK(HLOOKUP(R$12,'Statiske ejendomme'!$B$3:$PN$81,'Statiske ejendomme'!$A29,FALSE))=FALSE,HLOOKUP(R$12,'Statiske ejendomme'!$B$3:$PN$81,'Statiske ejendomme'!$A29,FALSE),\"\"))),\"\")","v":""},{"$f":"IFERROR(IF(S$12=Kredsudvælgelse!$Q$20,\"\",IF(Kredsudvælgelse!AJ$2=1,IF(ISTEXT(DGET(Forespørgsel1[#All],\"\"&LEFT($F37,LEN($F37)-$C37)&\"\",Kredsudvælgelse!$W$6:$X$7))=TRUE,DGET(Forespørgsel1[#All],\"\"&LEFT($F37,LEN($F37)-$C37)&\"\",Kredsudvælgelse!$W$6:$X$7),DGET(Forespørgsel1[#All],\"\"&LEFT($F37,LEN($F37)-$C37)&\"\",Kredsudvælgelse!$W$6:$X$7)/IF(ISNONTEXT($D37)=TRUE,1,DGET(Forespørgsel1[#All],\"\"&$D37&\"\",Kredsudvælgelse!$W$6:$X$7))),IF(ISBLANK(HLOOKUP(S$12,'Statiske ejendomme'!$B$3:$PN$81,'Statiske ejendomme'!$A29,FALSE))=FALSE,HLOOKUP(S$12,'Statiske ejendomme'!$B$3:$PN$81,'Statiske ejendomme'!$A29,FALSE),\"\"))),\"\")","v":""},{"$f":"IFERROR(IF(T$12=Kredsudvælgelse!$Q$20,\"\",IF(Kredsudvælgelse!AK$2=1,IF(ISTEXT(DGET(Forespørgsel1[#All],\"\"&LEFT($F37,LEN($F37)-$C37)&\"\",Kredsudvælgelse!$W$6:$X$7))=TRUE,DGET(Forespørgsel1[#All],\"\"&LEFT($F37,LEN($F37)-$C37)&\"\",Kredsudvælgelse!$W$6:$X$7),DGET(Forespørgsel1[#All],\"\"&LEFT($F37,LEN($F37)-$C37)&\"\",Kredsudvælgelse!$W$6:$X$7)/IF(ISNONTEXT($D37)=TRUE,1,DGET(Forespørgsel1[#All],\"\"&$D37&\"\",Kredsudvælgelse!$W$6:$X$7))),IF(ISBLANK(HLOOKUP(T$12,'Statiske ejendomme'!$B$3:$PN$81,'Statiske ejendomme'!$A30,FALSE))=FALSE,HLOOKUP(T$12,'Statiske ejendomme'!$B$3:$PN$81,'Statiske ejendomme'!$A30,FALSE),\"\"))),\"\")","v":""}]
[{"$f":"Mink!E109","v":1},{"$f":"Mink!D109","v":1},{"$f":"Mink!A27","v":0},{"$f":"Mink!B27","v":"Producerede skind"},null,{"$f":"Mink!C27","v":"Energi og brændstof"},{"$f":"Mink!D27","v":-2.7516076531889726},{"$f":"Mink!E27","v":-1.997931436523309},{"$f":"Mink!F27","v":""},{"$f":"Mink!G27","v":""},{"$f":"IFERROR(IF(K$12=Kredsudvælgelse!$Q$20,\"\",IF(Kredsudvælgelse!AB$2=1,IF(ISTEXT(DGET(Forespørgsel1[#All],\"\"&LEFT($F38,LEN($F38)-$C38)&\"\",Kredsudvælgelse!$Q$2:$R$3))=TRUE,DGET(Forespørgsel1[#All],\"\"&LEFT($F38,LEN($F38)-$C38)&\"\",Kredsudvælgelse!$Q$2:$R$3),DGET(Forespørgsel1[#All],\"\"&LEFT($F38,LEN($F38)-$C38)&\"\",Kredsudvælgelse!$Q$2:$R$3)/IF(ISNONTEXT($D38)=TRUE,1,DGET(Forespørgsel1[#All],\"\"&$D38&\"\",Kredsudvælgelse!$Q$2:$R$3))),IF(ISBLANK(HLOOKUP(K$12,'Statiske ejendomme'!$B$3:$PN$81,'Statiske ejendomme'!$A30,FALSE))=FALSE,HLOOKUP(K$12,'Statiske ejendomme'!$B$3:$PN$81,'Statiske ejendomme'!$A30,FALSE),\"\"))),\"\")","v":-0.62463861227112105},{"$f":"IFERROR(IF(L$12=Kredsudvælgelse!$Q$20,\"\",IF(Kredsudvælgelse!AC$2=1,IF(ISTEXT(DGET(Forespørgsel1[#All],\"\"&LEFT($F38,LEN($F38)-$C38)&\"\",Kredsudvælgelse!$S$2:$T$3))=TRUE,DGET(Forespørgsel1[#All],\"\"&LEFT($F38,LEN($F38)-$C38)&\"\",Kredsudvælgelse!$S$2:$T$3),DGET(Forespørgsel1[#All],\"\"&LEFT($F38,LEN($F38)-$C38)&\"\",Kredsudvælgelse!$S$2:$T$3)/IF(ISNONTEXT($D38)=TRUE,1,DGET(Forespørgsel1[#All],\"\"&$D38&\"\",Kredsudvælgelse!$S$2:$T$3))),IF(ISBLANK(HLOOKUP(L$12,'Statiske ejendomme'!$B$3:$PN$81,'Statiske ejendomme'!$A30,FALSE))=FALSE,HLOOKUP(L$12,'Statiske ejendomme'!$B$3:$PN$81,'Statiske ejendomme'!$A30,FALSE),\"\"))),\"\")","v":-2.8392398561890086},{"$f":"IFERROR(IF(M$12=Kredsudvælgelse!$Q$20,\"\",IF(Kredsudvælgelse!AD$2=1,IF(ISTEXT(DGET(Forespørgsel1[#All],\"\"&LEFT($F38,LEN($F38)-$C38)&\"\",Kredsudvælgelse!$U$2:$V$3))=TRUE,DGET(Forespørgsel1[#All],\"\"&LEFT($F38,LEN($F38)-$C38)&\"\",Kredsudvælgelse!$U$2:$V$3),DGET(Forespørgsel1[#All],\"\"&LEFT($F38,LEN($F38)-$C38)&\"\",Kredsudvælgelse!$U$2:$V$3)/IF(ISNONTEXT($D38)=TRUE,1,DGET(Forespørgsel1[#All],\"\"&$D38&\"\",Kredsudvælgelse!$U$2:$V$3))),IF(ISBLANK(HLOOKUP(M$12,'Statiske ejendomme'!$B$3:$PN$81,'Statiske ejendomme'!$A30,FALSE))=FALSE,HLOOKUP(M$12,'Statiske ejendomme'!$B$3:$PN$81,'Statiske ejendomme'!$A30,FALSE),\"\"))),\"\")","v":-5.9833271582067429},{"$f":"IFERROR(IF(N$12=Kredsudvælgelse!$Q$20,\"\",IF(Kredsudvælgelse!AE$2=1,IF(ISTEXT(DGET(Forespørgsel1[#All],\"\"&LEFT($F38,LEN($F38)-$C38)&\"\",Kredsudvælgelse!$W$2:$X$3))=TRUE,DGET(Forespørgsel1[#All],\"\"&LEFT($F38,LEN($F38)-$C38)&\"\",Kredsudvælgelse!$W$2:$X$3),DGET(Forespørgsel1[#All],\"\"&LEFT($F38,LEN($F38)-$C38)&\"\",Kredsudvælgelse!$W$2:$X$3)/IF(ISNONTEXT($D38)=TRUE,1,DGET(Forespørgsel1[#All],\"\"&$D38&\"\",Kredsudvælgelse!$W$2:$X$3))),IF(ISBLANK(HLOOKUP(N$12,'Statiske ejendomme'!$B$3:$PN$81,'Statiske ejendomme'!$A30,FALSE))=FALSE,HLOOKUP(N$12,'Statiske ejendomme'!$B$3:$PN$81,'Statiske ejendomme'!$A30,FALSE),\"\"))),\"\")","v":-2.7287362637362635},{"$f":"IFERROR(IF(O$12=Kredsudvælgelse!$Q$20,\"\",IF(Kredsudvælgelse!AF$2=1,IF(ISTEXT(DGET(Forespørgsel1[#All],\"\"&LEFT($F38,LEN($F38)-$C38)&\"\",Kredsudvælgelse!$Y$2:$Z$3))=TRUE,DGET(Forespørgsel1[#All],\"\"&LEFT($F38,LEN($F38)-$C38)&\"\",Kredsudvælgelse!$Y$2:$Z$3),DGET(Forespørgsel1[#All],\"\"&LEFT($F38,LEN($F38)-$C38)&\"\",Kredsudvælgelse!$Y$2:$Z$3)/IF(ISNONTEXT($D38)=TRUE,1,DGET(Forespørgsel1[#All],\"\"&$D38&\"\",Kredsudvælgelse!$Y$2:$Z$3))),IF(ISBLANK(HLOOKUP(O$12,'Statiske ejendomme'!$B$3:$PN$81,'Statiske ejendomme'!$A30,FALSE))=FALSE,HLOOKUP(O$12,'Statiske ejendomme'!$B$3:$PN$81,'Statiske ejendomme'!$A30,FALSE),\"\"))),\"\")","v":-2.5371511417180139},{"$f":"IFERROR(IF(P$12=Kredsudvælgelse!$Q$20,\"\",IF(Kredsudvælgelse!AG$2=1,IF(ISTEXT(DGET(Forespørgsel1[#All],\"\"&LEFT($F38,LEN($F38)-$C38)&\"\",Kredsudvælgelse!$Q$6:$R$7))=TRUE,DGET(Forespørgsel1[#All],\"\"&LEFT($F38,LEN($F38)-$C38)&\"\",Kredsudvælgelse!$Q$6:$R$7),DGET(Forespørgsel1[#All],\"\"&LEFT($F38,LEN($F38)-$C38)&\"\",Kredsudvælgelse!$Q$6:$R$7)/IF(ISNONTEXT($D38)=TRUE,1,DGET(Forespørgsel1[#All],\"\"&$D38&\"\",Kredsudvælgelse!$Q$6:$R$7))),IF(ISBLANK(HLOOKUP(P$12,'Statiske ejendomme'!$B$3:$PN$81,'Statiske ejendomme'!$A30,FALSE))=FALSE,HLOOKUP(P$12,'Statiske ejendomme'!$B$3:$PN$81,'Statiske ejendomme'!$A30,FALSE),\"\"))),\"\")","v":-2.5877667140825036},{"$f":"IFERROR(IF(Q$12=Kredsudvælgelse!$Q$20,\"\",IF(Kredsudvælgelse!AH$2=1,IF(ISTEXT(DGET(Forespørgsel1[#All],\"\"&LEFT($F38,LEN($F38)-$C38)&\"\",Kredsudvælgelse!$S$6:$T$7))=TRUE,DGET(Forespørgsel1[#All],\"\"&LEFT($F38,LEN($F38)-$C38)&\"\",Kredsudvælgelse!$S$6:$T$7),DGET(Forespørgsel1[#All],\"\"&LEFT($F38,LEN($F38)-$C38)&\"\",Kredsudvælgelse!$S$6:$T$7)/IF(ISNONTEXT($D38)=TRUE,1,DGET(Forespørgsel1[#All],\"\"&$D38&\"\",Kredsudvælgelse!$S$6:$T$7))),IF(ISBLANK(HLOOKUP(Q$12,'Statiske ejendomme'!$B$3:$PN$81,'Statiske ejendomme'!$A30,FALSE))=FALSE,HLOOKUP(Q$12,'Statiske ejendomme'!$B$3:$PN$81,'Statiske ejendomme'!$A30,FALSE),\"\"))),\"\")","v":-1.334269814684748},{"$f":"IFERROR(IF(R$12=Kredsudvælgelse!$Q$20,\"\",IF(Kredsudvælgelse!AI$2=1,IF(ISTEXT(DGET(Forespørgsel1[#All],\"\"&LEFT($F38,LEN($F38)-$C38)&\"\",Kredsudvælgelse!$U$6:$V$7))=TRUE,DGET(Forespørgsel1[#All],\"\"&LEFT($F38,LEN($F38)-$C38)&\"\",Kredsudvælgelse!$U$6:$V$7),DGET(Forespørgsel1[#All],\"\"&LEFT($F38,LEN($F38)-$C38)&\"\",Kredsudvælgelse!$U$6:$V$7)/IF(ISNONTEXT($D38)=TRUE,1,DGET(Forespørgsel1[#All],\"\"&$D38&\"\",Kredsudvælgelse!$U$6:$V$7))),IF(ISBLANK(HLOOKUP(R$12,'Statiske ejendomme'!$B$3:$PN$81,'Statiske ejendomme'!$A30,FALSE))=FALSE,HLOOKUP(R$12,'Statiske ejendomme'!$B$3:$PN$81,'Statiske ejendomme'!$A30,FALSE),\"\"))),\"\")","v":-1.5190148103944014},{"$f":"IFERROR(IF(S$12=Kredsudvælgelse!$Q$20,\"\",IF(Kredsudvælgelse!AJ$2=1,IF(ISTEXT(DGET(Forespørgsel1[#All],\"\"&LEFT($F38,LEN($F38)-$C38)&\"\",Kredsudvælgelse!$W$6:$X$7))=TRUE,DGET(Forespørgsel1[#All],\"\"&LEFT($F38,LEN($F38)-$C38)&\"\",Kredsudvælgelse!$W$6:$X$7),DGET(Forespørgsel1[#All],\"\"&LEFT($F38,LEN($F38)-$C38)&\"\",Kredsudvælgelse!$W$6:$X$7)/IF(ISNONTEXT($D38)=TRUE,1,DGET(Forespørgsel1[#All],\"\"&$D38&\"\",Kredsudvælgelse!$W$6:$X$7))),IF(ISBLANK(HLOOKUP(S$12,'Statiske ejendomme'!$B$3:$PN$81,'Statiske ejendomme'!$A30,FALSE))=FALSE,HLOOKUP(S$12,'Statiske ejendomme'!$B$3:$PN$81,'Statiske ejendomme'!$A30,FALSE),\"\"))),\"\")","v":""},{"$f":"IFERROR(IF(T$12=Kredsudvælgelse!$Q$20,\"\",IF(Kredsudvælgelse!AK$2=1,IF(ISTEXT(DGET(Forespørgsel1[#All],\"\"&LEFT($F38,LEN($F38)-$C38)&\"\",Kredsudvælgelse!$W$6:$X$7))=TRUE,DGET(Forespørgsel1[#All],\"\"&LEFT($F38,LEN($F38)-$C38)&\"\",Kredsudvælgelse!$W$6:$X$7),DGET(Forespørgsel1[#All],\"\"&LEFT($F38,LEN($F38)-$C38)&\"\",Kredsudvælgelse!$W$6:$X$7)/IF(ISNONTEXT($D38)=TRUE,1,DGET(Forespørgsel1[#All],\"\"&$D38&\"\",Kredsudvælgelse!$W$6:$X$7))),IF(ISBLANK(HLOOKUP(T$12,'Statiske ejendomme'!$B$3:$PN$81,'Statiske ejendomme'!$A31,FALSE))=FALSE,HLOOKUP(T$12,'Statiske ejendomme'!$B$3:$PN$81,'Statiske ejendomme'!$A31,FALSE),\"\"))),\"\")","v":""}]
[{"$f":"Mink!E110","v":1},{"$f":"Mink!D110","v":1},{"$f":"Mink!A28","v":0},{"$f":"Mink!B28","v":"Producerede skind"},null,{"$f":"Mink!C28","v":"Vedligehold og maskinstation"},{"$f":"Mink!D28","v":-14.694941763583461},{"$f":"Mink!E28","v":-9.9182290589289863},{"$f":"Mink!F28","v":""},{"$f":"Mink!G28","v":""},{"$f":"IFERROR(IF(K$12=Kredsudvælgelse!$Q$20,\"\",IF(Kredsudvælgelse!AB$2=1,IF(ISTEXT(DGET(Forespørgsel1[#All],\"\"&LEFT($F39,LEN($F39)-$C39)&\"\",Kredsudvælgelse!$Q$2:$R$3))=TRUE,DGET(Forespørgsel1[#All],\"\"&LEFT($F39,LEN($F39)-$C39)&\"\",Kredsudvælgelse!$Q$2:$R$3),DGET(Forespørgsel1[#All],\"\"&LEFT($F39,LEN($F39)-$C39)&\"\",Kredsudvælgelse!$Q$2:$R$3)/IF(ISNONTEXT($D39)=TRUE,1,DGET(Forespørgsel1[#All],\"\"&$D39&\"\",Kredsudvælgelse!$Q$2:$R$3))),IF(ISBLANK(HLOOKUP(K$12,'Statiske ejendomme'!$B$3:$PN$81,'Statiske ejendomme'!$A31,FALSE))=FALSE,HLOOKUP(K$12,'Statiske ejendomme'!$B$3:$PN$81,'Statiske ejendomme'!$A31,FALSE),\"\"))),\"\")","v":-2.6325088339222615},{"$f":"IFERROR(IF(L$12=Kredsudvælgelse!$Q$20,\"\",IF(Kredsudvælgelse!AC$2=1,IF(ISTEXT(DGET(Forespørgsel1[#All],\"\"&LEFT($F39,LEN($F39)-$C39)&\"\",Kredsudvælgelse!$S$2:$T$3))=TRUE,DGET(Forespørgsel1[#All],\"\"&LEFT($F39,LEN($F39)-$C39)&\"\",Kredsudvælgelse!$S$2:$T$3),DGET(Forespørgsel1[#All],\"\"&LEFT($F39,LEN($F39)-$C39)&\"\",Kredsudvælgelse!$S$2:$T$3)/IF(ISNONTEXT($D39)=TRUE,1,DGET(Forespørgsel1[#All],\"\"&$D39&\"\",Kredsudvælgelse!$S$2:$T$3))),IF(ISBLANK(HLOOKUP(L$12,'Statiske ejendomme'!$B$3:$PN$81,'Statiske ejendomme'!$A31,FALSE))=FALSE,HLOOKUP(L$12,'Statiske ejendomme'!$B$3:$PN$81,'Statiske ejendomme'!$A31,FALSE),\"\"))),\"\")","v":-4.0177709296353363},{"$f":"IFERROR(IF(M$12=Kredsudvælgelse!$Q$20,\"\",IF(Kredsudvælgelse!AD$2=1,IF(ISTEXT(DGET(Forespørgsel1[#All],\"\"&LEFT($F39,LEN($F39)-$C39)&\"\",Kredsudvælgelse!$U$2:$V$3))=TRUE,DGET(Forespørgsel1[#All],\"\"&LEFT($F39,LEN($F39)-$C39)&\"\",Kredsudvælgelse!$U$2:$V$3),DGET(Forespørgsel1[#All],\"\"&LEFT($F39,LEN($F39)-$C39)&\"\",Kredsudvælgelse!$U$2:$V$3)/IF(ISNONTEXT($D39)=TRUE,1,DGET(Forespørgsel1[#All],\"\"&$D39&\"\",Kredsudvælgelse!$U$2:$V$3))),IF(ISBLANK(HLOOKUP(M$12,'Statiske ejendomme'!$B$3:$PN$81,'Statiske ejendomme'!$A31,FALSE))=FALSE,HLOOKUP(M$12,'Statiske ejendomme'!$B$3:$PN$81,'Statiske ejendomme'!$A31,FALSE),\"\"))),\"\")","v":-28.39403482771397},{"$f":"IFERROR(IF(N$12=Kredsudvælgelse!$Q$20,\"\",IF(Kredsudvælgelse!AE$2=1,IF(ISTEXT(DGET(Forespørgsel1[#All],\"\"&LEFT($F39,LEN($F39)-$C39)&\"\",Kredsudvælgelse!$W$2:$X$3))=TRUE,DGET(Forespørgsel1[#All],\"\"&LEFT($F39,LEN($F39)-$C39)&\"\",Kredsudvælgelse!$W$2:$X$3),DGET(Forespørgsel1[#All],\"\"&LEFT($F39,LEN($F39)-$C39)&\"\",Kredsudvælgelse!$W$2:$X$3)/IF(ISNONTEXT($D39)=TRUE,1,DGET(Forespørgsel1[#All],\"\"&$D39&\"\",Kredsudvælgelse!$W$2:$X$3))),IF(ISBLANK(HLOOKUP(N$12,'Statiske ejendomme'!$B$3:$PN$81,'Statiske ejendomme'!$A31,FALSE))=FALSE,HLOOKUP(N$12,'Statiske ejendomme'!$B$3:$PN$81,'Statiske ejendomme'!$A31,FALSE),\"\"))),\"\")","v":-4.0885164835164831},{"$f":"IFERROR(IF(O$12=Kredsudvælgelse!$Q$20,\"\",IF(Kredsudvælgelse!AF$2=1,IF(ISTEXT(DGET(Forespørgsel1[#All],\"\"&LEFT($F39,LEN($F39)-$C39)&\"\",Kredsudvælgelse!$Y$2:$Z$3))=TRUE,DGET(Forespørgsel1[#All],\"\"&LEFT($F39,LEN($F39)-$C39)&\"\",Kredsudvælgelse!$Y$2:$Z$3),DGET(Forespørgsel1[#All],\"\"&LEFT($F39,LEN($F39)-$C39)&\"\",Kredsudvælgelse!$Y$2:$Z$3)/IF(ISNONTEXT($D39)=TRUE,1,DGET(Forespørgsel1[#All],\"\"&$D39&\"\",Kredsudvælgelse!$Y$2:$Z$3))),IF(ISBLANK(HLOOKUP(O$12,'Statiske ejendomme'!$B$3:$PN$81,'Statiske ejendomme'!$A31,FALSE))=FALSE,HLOOKUP(O$12,'Statiske ejendomme'!$B$3:$PN$81,'Statiske ejendomme'!$A31,FALSE),\"\"))),\"\")","v":-1.5791953606379123},{"$f":"IFERROR(IF(P$12=Kredsudvælgelse!$Q$20,\"\",IF(Kredsudvælgelse!AG$2=1,IF(ISTEXT(DGET(Forespørgsel1[#All],\"\"&LEFT($F39,LEN($F39)-$C39)&\"\",Kredsudvælgelse!$Q$6:$R$7))=TRUE,DGET(Forespørgsel1[#All],\"\"&LEFT($F39,LEN($F39)-$C39)&\"\",Kredsudvælgelse!$Q$6:$R$7),DGET(Forespørgsel1[#All],\"\"&LEFT($F39,LEN($F39)-$C39)&\"\",Kredsudvælgelse!$Q$6:$R$7)/IF(ISNONTEXT($D39)=TRUE,1,DGET(Forespørgsel1[#All],\"\"&$D39&\"\",Kredsudvælgelse!$Q$6:$R$7))),IF(ISBLANK(HLOOKUP(P$12,'Statiske ejendomme'!$B$3:$PN$81,'Statiske ejendomme'!$A31,FALSE))=FALSE,HLOOKUP(P$12,'Statiske ejendomme'!$B$3:$PN$81,'Statiske ejendomme'!$A31,FALSE),\"\"))),\"\")","v":-17.470803698435276},{"$f":"IFERROR(IF(Q$12=Kredsudvælgelse!$Q$20,\"\",IF(Kredsudvælgelse!AH$2=1,IF(ISTEXT(DGET(Forespørgsel1[#All],\"\"&LEFT($F39,LEN($F39)-$C39)&\"\",Kredsudvælgelse!$S$6:$T$7))=TRUE,DGET(Forespørgsel1[#All],\"\"&LEFT($F39,LEN($F39)-$C39)&\"\",Kredsudvælgelse!$S$6:$T$7),DGET(Forespørgsel1[#All],\"\"&LEFT($F39,LEN($F39)-$C39)&\"\",Kredsudvælgelse!$S$6:$T$7)/IF(ISNONTEXT($D39)=TRUE,1,DGET(Forespørgsel1[#All],\"\"&$D39&\"\",Kredsudvælgelse!$S$6:$T$7))),IF(ISBLANK(HLOOKUP(Q$12,'Statiske ejendomme'!$B$3:$PN$81,'Statiske ejendomme'!$A31,FALSE))=FALSE,HLOOKUP(Q$12,'Statiske ejendomme'!$B$3:$PN$81,'Statiske ejendomme'!$A31,FALSE),\"\"))),\"\")","v":-6.3635528661732135},{"$f":"IFERROR(IF(R$12=Kredsudvælgelse!$Q$20,\"\",IF(Kredsudvælgelse!AI$2=1,IF(ISTEXT(DGET(Forespørgsel1[#All],\"\"&LEFT($F39,LEN($F39)-$C39)&\"\",Kredsudvælgelse!$U$6:$V$7))=TRUE,DGET(Forespørgsel1[#All],\"\"&LEFT($F39,LEN($F39)-$C39)&\"\",Kredsudvælgelse!$U$6:$V$7),DGET(Forespørgsel1[#All],\"\"&LEFT($F39,LEN($F39)-$C39)&\"\",Kredsudvælgelse!$U$6:$V$7)/IF(ISNONTEXT($D39)=TRUE,1,DGET(Forespørgsel1[#All],\"\"&$D39&\"\",Kredsudvælgelse!$U$6:$V$7))),IF(ISBLANK(HLOOKUP(R$12,'Statiske ejendomme'!$B$3:$PN$81,'Statiske ejendomme'!$A31,FALSE))=FALSE,HLOOKUP(R$12,'Statiske ejendomme'!$B$3:$PN$81,'Statiske ejendomme'!$A31,FALSE),\"\"))),\"\")","v":-19.476699397819129},{"$f":"IFERROR(IF(S$12=Kredsudvælgelse!$Q$20,\"\",IF(Kredsudvælgelse!AJ$2=1,IF(ISTEXT(DGET(Forespørgsel1[#All],\"\"&LEFT($F39,LEN($F39)-$C39)&\"\",Kredsudvælgelse!$W$6:$X$7))=TRUE,DGET(Forespørgsel1[#All],\"\"&LEFT($F39,LEN($F39)-$C39)&\"\",Kredsudvælgelse!$W$6:$X$7),DGET(Forespørgsel1[#All],\"\"&LEFT($F39,LEN($F39)-$C39)&\"\",Kredsudvælgelse!$W$6:$X$7)/IF(ISNONTEXT($D39)=TRUE,1,DGET(Forespørgsel1[#All],\"\"&$D39&\"\",Kredsudvælgelse!$W$6:$X$7))),IF(ISBLANK(HLOOKUP(S$12,'Statiske ejendomme'!$B$3:$PN$81,'Statiske ejendomme'!$A31,FALSE))=FALSE,HLOOKUP(S$12,'Statiske ejendomme'!$B$3:$PN$81,'Statiske ejendomme'!$A31,FALSE),\"\"))),\"\")","v":""},{"$f":"IFERROR(IF(T$12=Kredsudvælgelse!$Q$20,\"\",IF(Kredsudvælgelse!AK$2=1,IF(ISTEXT(DGET(Forespørgsel1[#All],\"\"&LEFT($F39,LEN($F39)-$C39)&\"\",Kredsudvælgelse!$W$6:$X$7))=TRUE,DGET(Forespørgsel1[#All],\"\"&LEFT($F39,LEN($F39)-$C39)&\"\",Kredsudvælgelse!$W$6:$X$7),DGET(Forespørgsel1[#All],\"\"&LEFT($F39,LEN($F39)-$C39)&\"\",Kredsudvælgelse!$W$6:$X$7)/IF(ISNONTEXT($D39)=TRUE,1,DGET(Forespørgsel1[#All],\"\"&$D39&\"\",Kredsudvælgelse!$W$6:$X$7))),IF(ISBLANK(HLOOKUP(T$12,'Statiske ejendomme'!$B$3:$PN$81,'Statiske ejendomme'!$A32,FALSE))=FALSE,HLOOKUP(T$12,'Statiske ejendomme'!$B$3:$PN$81,'Statiske ejendomme'!$A32,FALSE),\"\"))),\"\")","v":""}]
[{"$f":"Mink!E111","v":1},{"$f":"Mink!D111","v":1},{"$f":"Mink!A29","v":0},{"$f":"Mink!B29","v":"Producerede skind"},null,{"$f":"Mink!C29","v":"Løn - inkl. ejerløn"},{"$f":"Mink!D29","v":-69.318694364579827},{"$f":"Mink!E29","v":-41.967028351856378},{"$f":"Mink!F29","v":""},{"$f":"Mink!G29","v":""},{"$f":"IFERROR(IF(K$12=Kredsudvælgelse!$Q$20,\"\",IF(Kredsudvælgelse!AB$2=1,IF(ISTEXT(DGET(Forespørgsel1[#All],\"\"&LEFT($F40,LEN($F40)-$C40)&\"\",Kredsudvælgelse!$Q$2:$R$3))=TRUE,DGET(Forespørgsel1[#All],\"\"&LEFT($F40,LEN($F40)-$C40)&\"\",Kredsudvælgelse!$Q$2:$R$3),DGET(Forespørgsel1[#All],\"\"&LEFT($F40,LEN($F40)-$C40)&\"\",Kredsudvælgelse!$Q$2:$R$3)/IF(ISNONTEXT($D40)=TRUE,1,DGET(Forespørgsel1[#All],\"\"&$D40&\"\",Kredsudvælgelse!$Q$2:$R$3))),IF(ISBLANK(HLOOKUP(K$12,'Statiske ejendomme'!$B$3:$PN$81,'Statiske ejendomme'!$A32,FALSE))=FALSE,HLOOKUP(K$12,'Statiske ejendomme'!$B$3:$PN$81,'Statiske ejendomme'!$A32,FALSE),\"\"))),\"\")","v":-31.955562694078594},{"$f":"IFERROR(IF(L$12=Kredsudvælgelse!$Q$20,\"\",IF(Kredsudvælgelse!AC$2=1,IF(ISTEXT(DGET(Forespørgsel1[#All],\"\"&LEFT($F40,LEN($F40)-$C40)&\"\",Kredsudvælgelse!$S$2:$T$3))=TRUE,DGET(Forespørgsel1[#All],\"\"&LEFT($F40,LEN($F40)-$C40)&\"\",Kredsudvælgelse!$S$2:$T$3),DGET(Forespørgsel1[#All],\"\"&LEFT($F40,LEN($F40)-$C40)&\"\",Kredsudvælgelse!$S$2:$T$3)/IF(ISNONTEXT($D40)=TRUE,1,DGET(Forespørgsel1[#All],\"\"&$D40&\"\",Kredsudvælgelse!$S$2:$T$3))),IF(ISBLANK(HLOOKUP(L$12,'Statiske ejendomme'!$B$3:$PN$81,'Statiske ejendomme'!$A32,FALSE))=FALSE,HLOOKUP(L$12,'Statiske ejendomme'!$B$3:$PN$81,'Statiske ejendomme'!$A32,FALSE),\"\"))),\"\")","v":-49.608320493066259},{"$f":"IFERROR(IF(M$12=Kredsudvælgelse!$Q$20,\"\",IF(Kredsudvælgelse!AD$2=1,IF(ISTEXT(DGET(Forespørgsel1[#All],\"\"&LEFT($F40,LEN($F40)-$C40)&\"\",Kredsudvælgelse!$U$2:$V$3))=TRUE,DGET(Forespørgsel1[#All],\"\"&LEFT($F40,LEN($F40)-$C40)&\"\",Kredsudvælgelse!$U$2:$V$3),DGET(Forespørgsel1[#All],\"\"&LEFT($F40,LEN($F40)-$C40)&\"\",Kredsudvælgelse!$U$2:$V$3)/IF(ISNONTEXT($D40)=TRUE,1,DGET(Forespørgsel1[#All],\"\"&$D40&\"\",Kredsudvælgelse!$U$2:$V$3))),IF(ISBLANK(HLOOKUP(M$12,'Statiske ejendomme'!$B$3:$PN$81,'Statiske ejendomme'!$A32,FALSE))=FALSE,HLOOKUP(M$12,'Statiske ejendomme'!$B$3:$PN$81,'Statiske ejendomme'!$A32,FALSE),\"\"))),\"\")","v":-35.781585772508336},{"$f":"IFERROR(IF(N$12=Kredsudvælgelse!$Q$20,\"\",IF(Kredsudvælgelse!AE$2=1,IF(ISTEXT(DGET(Forespørgsel1[#All],\"\"&LEFT($F40,LEN($F40)-$C40)&\"\",Kredsudvælgelse!$W$2:$X$3))=TRUE,DGET(Forespørgsel1[#All],\"\"&LEFT($F40,LEN($F40)-$C40)&\"\",Kredsudvælgelse!$W$2:$X$3),DGET(Forespørgsel1[#All],\"\"&LEFT($F40,LEN($F40)-$C40)&\"\",Kredsudvælgelse!$W$2:$X$3)/IF(ISNONTEXT($D40)=TRUE,1,DGET(Forespørgsel1[#All],\"\"&$D40&\"\",Kredsudvælgelse!$W$2:$X$3))),IF(ISBLANK(HLOOKUP(N$12,'Statiske ejendomme'!$B$3:$PN$81,'Statiske ejendomme'!$A32,FALSE))=FALSE,HLOOKUP(N$12,'Statiske ejendomme'!$B$3:$PN$81,'Statiske ejendomme'!$A32,FALSE),\"\"))),\"\")","v":-33.846153846153847},{"$f":"IFERROR(IF(O$12=Kredsudvælgelse!$Q$20,\"\",IF(Kredsudvælgelse!AF$2=1,IF(ISTEXT(DGET(Forespørgsel1[#All],\"\"&LEFT($F40,LEN($F40)-$C40)&\"\",Kredsudvælgelse!$Y$2:$Z$3))=TRUE,DGET(Forespørgsel1[#All],\"\"&LEFT($F40,LEN($F40)-$C40)&\"\",Kredsudvælgelse!$Y$2:$Z$3),DGET(Forespørgsel1[#All],\"\"&LEFT($F40,LEN($F40)-$C40)&\"\",Kredsudvælgelse!$Y$2:$Z$3)/IF(ISNONTEXT($D40)=TRUE,1,DGET(Forespørgsel1[#All],\"\"&$D40&\"\",Kredsudvælgelse!$Y$2:$Z$3))),IF(ISBLANK(HLOOKUP(O$12,'Statiske ejendomme'!$B$3:$PN$81,'Statiske ejendomme'!$A32,FALSE))=FALSE,HLOOKUP(O$12,'Statiske ejendomme'!$B$3:$PN$81,'Statiske ejendomme'!$A32,FALSE),\"\"))),\"\")","v":-36.353026458861905},{"$f":"IFERROR(IF(P$12=Kredsudvælgelse!$Q$20,\"\",IF(Kredsudvælgelse!AG$2=1,IF(ISTEXT(DGET(Forespørgsel1[#All],\"\"&LEFT($F40,LEN($F40)-$C40)&\"\",Kredsudvælgelse!$Q$6:$R$7))=TRUE,DGET(Forespørgsel1[#All],\"\"&LEFT($F40,LEN($F40)-$C40)&\"\",Kredsudvælgelse!$Q$6:$R$7),DGET(Forespørgsel1[#All],\"\"&LEFT($F40,LEN($F40)-$C40)&\"\",Kredsudvælgelse!$Q$6:$R$7)/IF(ISNONTEXT($D40)=TRUE,1,DGET(Forespørgsel1[#All],\"\"&$D40&\"\",Kredsudvælgelse!$Q$6:$R$7))),IF(ISBLANK(HLOOKUP(P$12,'Statiske ejendomme'!$B$3:$PN$81,'Statiske ejendomme'!$A32,FALSE))=FALSE,HLOOKUP(P$12,'Statiske ejendomme'!$B$3:$PN$81,'Statiske ejendomme'!$A32,FALSE),\"\"))),\"\")","v":-41.064687055476526},{"$f":"IFERROR(IF(Q$12=Kredsudvælgelse!$Q$20,\"\",IF(Kredsudvælgelse!AH$2=1,IF(ISTEXT(DGET(Forespørgsel1[#All],\"\"&LEFT($F40,LEN($F40)-$C40)&\"\",Kredsudvælgelse!$S$6:$T$7))=TRUE,DGET(Forespørgsel1[#All],\"\"&LEFT($F40,LEN($F40)-$C40)&\"\",Kredsudvælgelse!$S$6:$T$7),DGET(Forespørgsel1[#All],\"\"&LEFT($F40,LEN($F40)-$C40)&\"\",Kredsudvælgelse!$S$6:$T$7)/IF(ISNONTEXT($D40)=TRUE,1,DGET(Forespørgsel1[#All],\"\"&$D40&\"\",Kredsudvælgelse!$S$6:$T$7))),IF(ISBLANK(HLOOKUP(Q$12,'Statiske ejendomme'!$B$3:$PN$81,'Statiske ejendomme'!$A32,FALSE))=FALSE,HLOOKUP(Q$12,'Statiske ejendomme'!$B$3:$PN$81,'Statiske ejendomme'!$A32,FALSE),\"\"))),\"\")","v":-52.94721486844238},{"$f":"IFERROR(IF(R$12=Kredsudvælgelse!$Q$20,\"\",IF(Kredsudvælgelse!AI$2=1,IF(ISTEXT(DGET(Forespørgsel1[#All],\"\"&LEFT($F40,LEN($F40)-$C40)&\"\",Kredsudvælgelse!$U$6:$V$7))=TRUE,DGET(Forespørgsel1[#All],\"\"&LEFT($F40,LEN($F40)-$C40)&\"\",Kredsudvælgelse!$U$6:$V$7),DGET(Forespørgsel1[#All],\"\"&LEFT($F40,LEN($F40)-$C40)&\"\",Kredsudvælgelse!$U$6:$V$7)/IF(ISNONTEXT($D40)=TRUE,1,DGET(Forespørgsel1[#All],\"\"&$D40&\"\",Kredsudvælgelse!$U$6:$V$7))),IF(ISBLANK(HLOOKUP(R$12,'Statiske ejendomme'!$B$3:$PN$81,'Statiske ejendomme'!$A32,FALSE))=FALSE,HLOOKUP(R$12,'Statiske ejendomme'!$B$3:$PN$81,'Statiske ejendomme'!$A32,FALSE),\"\"))),\"\")","v":-50.355340964574403},{"$f":"IFERROR(IF(S$12=Kredsudvælgelse!$Q$20,\"\",IF(Kredsudvælgelse!AJ$2=1,IF(ISTEXT(DGET(Forespørgsel1[#All],\"\"&LEFT($F40,LEN($F40)-$C40)&\"\",Kredsudvælgelse!$W$6:$X$7))=TRUE,DGET(Forespørgsel1[#All],\"\"&LEFT($F40,LEN($F40)-$C40)&\"\",Kredsudvælgelse!$W$6:$X$7),DGET(Forespørgsel1[#All],\"\"&LEFT($F40,LEN($F40)-$C40)&\"\",Kredsudvælgelse!$W$6:$X$7)/IF(ISNONTEXT($D40)=TRUE,1,DGET(Forespørgsel1[#All],\"\"&$D40&\"\",Kredsudvælgelse!$W$6:$X$7))),IF(ISBLANK(HLOOKUP(S$12,'Statiske ejendomme'!$B$3:$PN$81,'Statiske ejendomme'!$A32,FALSE))=FALSE,HLOOKUP(S$12,'Statiske ejendomme'!$B$3:$PN$81,'Statiske ejendomme'!$A32,FALSE),\"\"))),\"\")","v":""},{"$f":"IFERROR(IF(T$12=Kredsudvælgelse!$Q$20,\"\",IF(Kredsudvælgelse!AK$2=1,IF(ISTEXT(DGET(Forespørgsel1[#All],\"\"&LEFT($F40,LEN($F40)-$C40)&\"\",Kredsudvælgelse!$W$6:$X$7))=TRUE,DGET(Forespørgsel1[#All],\"\"&LEFT($F40,LEN($F40)-$C40)&\"\",Kredsudvælgelse!$W$6:$X$7),DGET(Forespørgsel1[#All],\"\"&LEFT($F40,LEN($F40)-$C40)&\"\",Kredsudvælgelse!$W$6:$X$7)/IF(ISNONTEXT($D40)=TRUE,1,DGET(Forespørgsel1[#All],\"\"&$D40&\"\",Kredsudvælgelse!$W$6:$X$7))),IF(ISBLANK(HLOOKUP(T$12,'Statiske ejendomme'!$B$3:$PN$81,'Statiske ejendomme'!$A33,FALSE))=FALSE,HLOOKUP(T$12,'Statiske ejendomme'!$B$3:$PN$81,'Statiske ejendomme'!$A33,FALSE),\"\"))),\"\")","v":""}]
[{"$f":"Mink!E112","v":1},{"$f":"Mink!D112","v":1},{"$f":"Mink!A30","v":0},{"$f":"Mink!B30","v":"Producerede skind"},null,{"$f":"Mink!C30","v":"Diverse inkl. forsikring"},{"$f":"Mink!D30","v":-13.249235889864533},{"$f":"Mink!E30","v":-12.400204348998001},{"$f":"Mink!F30","v":""},{"$f":"Mink!G30","v":""},{"$f":"IFERROR(IF(K$12=Kredsudvælgelse!$Q$20,\"\",IF(Kredsudvælgelse!AB$2=1,IF(ISTEXT(DGET(Forespørgsel1[#All],\"\"&LEFT($F41,LEN($F41)-$C41)&\"\",Kredsudvælgelse!$Q$2:$R$3))=TRUE,DGET(Forespørgsel1[#All],\"\"&LEFT($F41,LEN($F41)-$C41)&\"\",Kredsudvælgelse!$Q$2:$R$3),DGET(Forespørgsel1[#All],\"\"&LEFT($F41,LEN($F41)-$C41)&\"\",Kredsudvælgelse!$Q$2:$R$3)/IF(ISNONTEXT($D41)=TRUE,1,DGET(Forespørgsel1[#All],\"\"&$D41&\"\",Kredsudvælgelse!$Q$2:$R$3))),IF(ISBLANK(HLOOKUP(K$12,'Statiske ejendomme'!$B$3:$PN$81,'Statiske ejendomme'!$A33,FALSE))=FALSE,HLOOKUP(K$12,'Statiske ejendomme'!$B$3:$PN$81,'Statiske ejendomme'!$A33,FALSE),\"\"))),\"\")","v":-7.0615162222936076},{"$f":"IFERROR(IF(L$12=Kredsudvælgelse!$Q$20,\"\",IF(Kredsudvælgelse!AC$2=1,IF(ISTEXT(DGET(Forespørgsel1[#All],\"\"&LEFT($F41,LEN($F41)-$C41)&\"\",Kredsudvælgelse!$S$2:$T$3))=TRUE,DGET(Forespørgsel1[#All],\"\"&LEFT($F41,LEN($F41)-$C41)&\"\",Kredsudvælgelse!$S$2:$T$3),DGET(Forespørgsel1[#All],\"\"&LEFT($F41,LEN($F41)-$C41)&\"\",Kredsudvælgelse!$S$2:$T$3)/IF(ISNONTEXT($D41)=TRUE,1,DGET(Forespørgsel1[#All],\"\"&$D41&\"\",Kredsudvælgelse!$S$2:$T$3))),IF(ISBLANK(HLOOKUP(L$12,'Statiske ejendomme'!$B$3:$PN$81,'Statiske ejendomme'!$A33,FALSE))=FALSE,HLOOKUP(L$12,'Statiske ejendomme'!$B$3:$PN$81,'Statiske ejendomme'!$A33,FALSE),\"\"))),\"\")","v":-17.46276322547509},{"$f":"IFERROR(IF(M$12=Kredsudvælgelse!$Q$20,\"\",IF(Kredsudvælgelse!AD$2=1,IF(ISTEXT(DGET(Forespørgsel1[#All],\"\"&LEFT($F41,LEN($F41)-$C41)&\"\",Kredsudvælgelse!$U$2:$V$3))=TRUE,DGET(Forespørgsel1[#All],\"\"&LEFT($F41,LEN($F41)-$C41)&\"\",Kredsudvælgelse!$U$2:$V$3),DGET(Forespørgsel1[#All],\"\"&LEFT($F41,LEN($F41)-$C41)&\"\",Kredsudvælgelse!$U$2:$V$3)/IF(ISNONTEXT($D41)=TRUE,1,DGET(Forespørgsel1[#All],\"\"&$D41&\"\",Kredsudvælgelse!$U$2:$V$3))),IF(ISBLANK(HLOOKUP(M$12,'Statiske ejendomme'!$B$3:$PN$81,'Statiske ejendomme'!$A33,FALSE))=FALSE,HLOOKUP(M$12,'Statiske ejendomme'!$B$3:$PN$81,'Statiske ejendomme'!$A33,FALSE),\"\"))),\"\")","v":-15.853649499814747},{"$f":"IFERROR(IF(N$12=Kredsudvælgelse!$Q$20,\"\",IF(Kredsudvælgelse!AE$2=1,IF(ISTEXT(DGET(Forespørgsel1[#All],\"\"&LEFT($F41,LEN($F41)-$C41)&\"\",Kredsudvælgelse!$W$2:$X$3))=TRUE,DGET(Forespørgsel1[#All],\"\"&LEFT($F41,LEN($F41)-$C41)&\"\",Kredsudvælgelse!$W$2:$X$3),DGET(Forespørgsel1[#All],\"\"&LEFT($F41,LEN($F41)-$C41)&\"\",Kredsudvælgelse!$W$2:$X$3)/IF(ISNONTEXT($D41)=TRUE,1,DGET(Forespørgsel1[#All],\"\"&$D41&\"\",Kredsudvælgelse!$W$2:$X$3))),IF(ISBLANK(HLOOKUP(N$12,'Statiske ejendomme'!$B$3:$PN$81,'Statiske ejendomme'!$A33,FALSE))=FALSE,HLOOKUP(N$12,'Statiske ejendomme'!$B$3:$PN$81,'Statiske ejendomme'!$A33,FALSE),\"\"))),\"\")","v":-12.088241758241757},{"$f":"IFERROR(IF(O$12=Kredsudvælgelse!$Q$20,\"\",IF(Kredsudvælgelse!AF$2=1,IF(ISTEXT(DGET(Forespørgsel1[#All],\"\"&LEFT($F41,LEN($F41)-$C41)&\"\",Kredsudvælgelse!$Y$2:$Z$3))=TRUE,DGET(Forespørgsel1[#All],\"\"&LEFT($F41,LEN($F41)-$C41)&\"\",Kredsudvælgelse!$Y$2:$Z$3),DGET(Forespørgsel1[#All],\"\"&LEFT($F41,LEN($F41)-$C41)&\"\",Kredsudvælgelse!$Y$2:$Z$3)/IF(ISNONTEXT($D41)=TRUE,1,DGET(Forespørgsel1[#All],\"\"&$D41&\"\",Kredsudvælgelse!$Y$2:$Z$3))),IF(ISBLANK(HLOOKUP(O$12,'Statiske ejendomme'!$B$3:$PN$81,'Statiske ejendomme'!$A33,FALSE))=FALSE,HLOOKUP(O$12,'Statiske ejendomme'!$B$3:$PN$81,'Statiske ejendomme'!$A33,FALSE),\"\"))),\"\")","v":-13.292062341428053},{"$f":"IFERROR(IF(P$12=Kredsudvælgelse!$Q$20,\"\",IF(Kredsudvælgelse!AG$2=1,IF(ISTEXT(DGET(Forespørgsel1[#All],\"\"&LEFT($F41,LEN($F41)-$C41)&\"\",Kredsudvælgelse!$Q$6:$R$7))=TRUE,DGET(Forespørgsel1[#All],\"\"&LEFT($F41,LEN($F41)-$C41)&\"\",Kredsudvælgelse!$Q$6:$R$7),DGET(Forespørgsel1[#All],\"\"&LEFT($F41,LEN($F41)-$C41)&\"\",Kredsudvælgelse!$Q$6:$R$7)/IF(ISNONTEXT($D41)=TRUE,1,DGET(Forespørgsel1[#All],\"\"&$D41&\"\",Kredsudvælgelse!$Q$6:$R$7))),IF(ISBLANK(HLOOKUP(P$12,'Statiske ejendomme'!$B$3:$PN$81,'Statiske ejendomme'!$A33,FALSE))=FALSE,HLOOKUP(P$12,'Statiske ejendomme'!$B$3:$PN$81,'Statiske ejendomme'!$A33,FALSE),\"\"))),\"\")","v":-18.182788051209105},{"$f":"IFERROR(IF(Q$12=Kredsudvælgelse!$Q$20,\"\",IF(Kredsudvælgelse!AH$2=1,IF(ISTEXT(DGET(Forespørgsel1[#All],\"\"&LEFT($F41,LEN($F41)-$C41)&\"\",Kredsudvælgelse!$S$6:$T$7))=TRUE,DGET(Forespørgsel1[#All],\"\"&LEFT($F41,LEN($F41)-$C41)&\"\",Kredsudvælgelse!$S$6:$T$7),DGET(Forespørgsel1[#All],\"\"&LEFT($F41,LEN($F41)-$C41)&\"\",Kredsudvælgelse!$S$6:$T$7)/IF(ISNONTEXT($D41)=TRUE,1,DGET(Forespørgsel1[#All],\"\"&$D41&\"\",Kredsudvælgelse!$S$6:$T$7))),IF(ISBLANK(HLOOKUP(Q$12,'Statiske ejendomme'!$B$3:$PN$81,'Statiske ejendomme'!$A33,FALSE))=FALSE,HLOOKUP(Q$12,'Statiske ejendomme'!$B$3:$PN$81,'Statiske ejendomme'!$A33,FALSE),\"\"))),\"\")","v":-8.75444378410503},{"$f":"IFERROR(IF(R$12=Kredsudvælgelse!$Q$20,\"\",IF(Kredsudvælgelse!AI$2=1,IF(ISTEXT(DGET(Forespørgsel1[#All],\"\"&LEFT($F41,LEN($F41)-$C41)&\"\",Kredsudvælgelse!$U$6:$V$7))=TRUE,DGET(Forespørgsel1[#All],\"\"&LEFT($F41,LEN($F41)-$C41)&\"\",Kredsudvælgelse!$U$6:$V$7),DGET(Forespørgsel1[#All],\"\"&LEFT($F41,LEN($F41)-$C41)&\"\",Kredsudvælgelse!$U$6:$V$7)/IF(ISNONTEXT($D41)=TRUE,1,DGET(Forespørgsel1[#All],\"\"&$D41&\"\",Kredsudvælgelse!$U$6:$V$7))),IF(ISBLANK(HLOOKUP(R$12,'Statiske ejendomme'!$B$3:$PN$81,'Statiske ejendomme'!$A33,FALSE))=FALSE,HLOOKUP(R$12,'Statiske ejendomme'!$B$3:$PN$81,'Statiske ejendomme'!$A33,FALSE),\"\"))),\"\")","v":-8.6274616177507735},{"$f":"IFERROR(IF(S$12=Kredsudvælgelse!$Q$20,\"\",IF(Kredsudvælgelse!AJ$2=1,IF(ISTEXT(DGET(Forespørgsel1[#All],\"\"&LEFT($F41,LEN($F41)-$C41)&\"\",Kredsudvælgelse!$W$6:$X$7))=TRUE,DGET(Forespørgsel1[#All],\"\"&LEFT($F41,LEN($F41)-$C41)&\"\",Kredsudvælgelse!$W$6:$X$7),DGET(Forespørgsel1[#All],\"\"&LEFT($F41,LEN($F41)-$C41)&\"\",Kredsudvælgelse!$W$6:$X$7)/IF(ISNONTEXT($D41)=TRUE,1,DGET(Forespørgsel1[#All],\"\"&$D41&\"\",Kredsudvælgelse!$W$6:$X$7))),IF(ISBLANK(HLOOKUP(S$12,'Statiske ejendomme'!$B$3:$PN$81,'Statiske ejendomme'!$A33,FALSE))=FALSE,HLOOKUP(S$12,'Statiske ejendomme'!$B$3:$PN$81,'Statiske ejendomme'!$A33,FALSE),\"\"))),\"\")","v":""},{"$f":"IFERROR(IF(T$12=Kredsudvælgelse!$Q$20,\"\",IF(Kredsudvælgelse!AK$2=1,IF(ISTEXT(DGET(Forespørgsel1[#All],\"\"&LEFT($F41,LEN($F41)-$C41)&\"\",Kredsudvælgelse!$W$6:$X$7))=TRUE,DGET(Forespørgsel1[#All],\"\"&LEFT($F41,LEN($F41)-$C41)&\"\",Kredsudvælgelse!$W$6:$X$7),DGET(Forespørgsel1[#All],\"\"&LEFT($F41,LEN($F41)-$C41)&\"\",Kredsudvælgelse!$W$6:$X$7)/IF(ISNONTEXT($D41)=TRUE,1,DGET(Forespørgsel1[#All],\"\"&$D41&\"\",Kredsudvælgelse!$W$6:$X$7))),IF(ISBLANK(HLOOKUP(T$12,'Statiske ejendomme'!$B$3:$PN$81,'Statiske ejendomme'!$A34,FALSE))=FALSE,HLOOKUP(T$12,'Statiske ejendomme'!$B$3:$PN$81,'Statiske ejendomme'!$A34,FALSE),\"\"))),\"\")","v":""}]
[{"$f":"Mink!E113","v":1},{"$f":"Mink!D113","v":1},{"$f":"Mink!A31","v":0},{"$f":"Mink!B31","v":"Producerede skind"},null,{"$f":"Mink!C31","v":"Pelsning - netto"},{"$f":"Mink!D31","v":-11.850978665354297},{"$f":"Mink!E31","v":-8.0696102951777391},{"$f":"Mink!F31","v":""},{"$f":"Mink!G31","v":""},{"$f":"IFERROR(IF(K$12=Kredsudvælgelse!$Q$20,\"\",IF(Kredsudvælgelse!AB$2=1,IF(ISTEXT(DGET(Forespørgsel1[#All],\"\"&LEFT($F42,LEN($F42)-$C42)&\"\",Kredsudvælgelse!$Q$2:$R$3))=TRUE,DGET(Forespørgsel1[#All],\"\"&LEFT($F42,LEN($F42)-$C42)&\"\",Kredsudvælgelse!$Q$2:$R$3),DGET(Forespørgsel1[#All],\"\"&LEFT($F42,LEN($F42)-$C42)&\"\",Kredsudvælgelse!$Q$2:$R$3)/IF(ISNONTEXT($D42)=TRUE,1,DGET(Forespørgsel1[#All],\"\"&$D42&\"\",Kredsudvælgelse!$Q$2:$R$3))),IF(ISBLANK(HLOOKUP(K$12,'Statiske ejendomme'!$B$3:$PN$81,'Statiske ejendomme'!$A34,FALSE))=FALSE,HLOOKUP(K$12,'Statiske ejendomme'!$B$3:$PN$81,'Statiske ejendomme'!$A34,FALSE),\"\"))),\"\")","v":-22.006424670735626},{"$f":"IFERROR(IF(L$12=Kredsudvælgelse!$Q$20,\"\",IF(Kredsudvælgelse!AC$2=1,IF(ISTEXT(DGET(Forespørgsel1[#All],\"\"&LEFT($F42,LEN($F42)-$C42)&\"\",Kredsudvælgelse!$S$2:$T$3))=TRUE,DGET(Forespørgsel1[#All],\"\"&LEFT($F42,LEN($F42)-$C42)&\"\",Kredsudvælgelse!$S$2:$T$3),DGET(Forespørgsel1[#All],\"\"&LEFT($F42,LEN($F42)-$C42)&\"\",Kredsudvælgelse!$S$2:$T$3)/IF(ISNONTEXT($D42)=TRUE,1,DGET(Forespørgsel1[#All],\"\"&$D42&\"\",Kredsudvælgelse!$S$2:$T$3))),IF(ISBLANK(HLOOKUP(L$12,'Statiske ejendomme'!$B$3:$PN$81,'Statiske ejendomme'!$A34,FALSE))=FALSE,HLOOKUP(L$12,'Statiske ejendomme'!$B$3:$PN$81,'Statiske ejendomme'!$A34,FALSE),\"\"))),\"\")","v":-4.7793528505392908},{"$f":"IFERROR(IF(M$12=Kredsudvælgelse!$Q$20,\"\",IF(Kredsudvælgelse!AD$2=1,IF(ISTEXT(DGET(Forespørgsel1[#All],\"\"&LEFT($F42,LEN($F42)-$C42)&\"\",Kredsudvælgelse!$U$2:$V$3))=TRUE,DGET(Forespørgsel1[#All],\"\"&LEFT($F42,LEN($F42)-$C42)&\"\",Kredsudvælgelse!$U$2:$V$3),DGET(Forespørgsel1[#All],\"\"&LEFT($F42,LEN($F42)-$C42)&\"\",Kredsudvælgelse!$U$2:$V$3)/IF(ISNONTEXT($D42)=TRUE,1,DGET(Forespørgsel1[#All],\"\"&$D42&\"\",Kredsudvælgelse!$U$2:$V$3))),IF(ISBLANK(HLOOKUP(M$12,'Statiske ejendomme'!$B$3:$PN$81,'Statiske ejendomme'!$A34,FALSE))=FALSE,HLOOKUP(M$12,'Statiske ejendomme'!$B$3:$PN$81,'Statiske ejendomme'!$A34,FALSE),\"\"))),\"\")","v":-21.828454983327159},{"$f":"IFERROR(IF(N$12=Kredsudvælgelse!$Q$20,\"\",IF(Kredsudvælgelse!AE$2=1,IF(ISTEXT(DGET(Forespørgsel1[#All],\"\"&LEFT($F42,LEN($F42)-$C42)&\"\",Kredsudvælgelse!$W$2:$X$3))=TRUE,DGET(Forespørgsel1[#All],\"\"&LEFT($F42,LEN($F42)-$C42)&\"\",Kredsudvælgelse!$W$2:$X$3),DGET(Forespørgsel1[#All],\"\"&LEFT($F42,LEN($F42)-$C42)&\"\",Kredsudvælgelse!$W$2:$X$3)/IF(ISNONTEXT($D42)=TRUE,1,DGET(Forespørgsel1[#All],\"\"&$D42&\"\",Kredsudvælgelse!$W$2:$X$3))),IF(ISBLANK(HLOOKUP(N$12,'Statiske ejendomme'!$B$3:$PN$81,'Statiske ejendomme'!$A34,FALSE))=FALSE,HLOOKUP(N$12,'Statiske ejendomme'!$B$3:$PN$81,'Statiske ejendomme'!$A34,FALSE),\"\"))),\"\")","v":0},{"$f":"IFERROR(IF(O$12=Kredsudvælgelse!$Q$20,\"\",IF(Kredsudvælgelse!AF$2=1,IF(ISTEXT(DGET(Forespørgsel1[#All],\"\"&LEFT($F42,LEN($F42)-$C42)&\"\",Kredsudvælgelse!$Y$2:$Z$3))=TRUE,DGET(Forespørgsel1[#All],\"\"&LEFT($F42,LEN($F42)-$C42)&\"\",Kredsudvælgelse!$Y$2:$Z$3),DGET(Forespørgsel1[#All],\"\"&LEFT($F42,LEN($F42)-$C42)&\"\",Kredsudvælgelse!$Y$2:$Z$3)/IF(ISNONTEXT($D42)=TRUE,1,DGET(Forespørgsel1[#All],\"\"&$D42&\"\",Kredsudvælgelse!$Y$2:$Z$3))),IF(ISBLANK(HLOOKUP(O$12,'Statiske ejendomme'!$B$3:$PN$81,'Statiske ejendomme'!$A34,FALSE))=FALSE,HLOOKUP(O$12,'Statiske ejendomme'!$B$3:$PN$81,'Statiske ejendomme'!$A34,FALSE),\"\"))),\"\")","v":-29.523523015585358},{"$f":"IFERROR(IF(P$12=Kredsudvælgelse!$Q$20,\"\",IF(Kredsudvælgelse!AG$2=1,IF(ISTEXT(DGET(Forespørgsel1[#All],\"\"&LEFT($F42,LEN($F42)-$C42)&\"\",Kredsudvælgelse!$Q$6:$R$7))=TRUE,DGET(Forespørgsel1[#All],\"\"&LEFT($F42,LEN($F42)-$C42)&\"\",Kredsudvælgelse!$Q$6:$R$7),DGET(Forespørgsel1[#All],\"\"&LEFT($F42,LEN($F42)-$C42)&\"\",Kredsudvælgelse!$Q$6:$R$7)/IF(ISNONTEXT($D42)=TRUE,1,DGET(Forespørgsel1[#All],\"\"&$D42&\"\",Kredsudvælgelse!$Q$6:$R$7))),IF(ISBLANK(HLOOKUP(P$12,'Statiske ejendomme'!$B$3:$PN$81,'Statiske ejendomme'!$A34,FALSE))=FALSE,HLOOKUP(P$12,'Statiske ejendomme'!$B$3:$PN$81,'Statiske ejendomme'!$A34,FALSE),\"\"))),\"\")","v":5.1129089615931722},{"$f":"IFERROR(IF(Q$12=Kredsudvælgelse!$Q$20,\"\",IF(Kredsudvælgelse!AH$2=1,IF(ISTEXT(DGET(Forespørgsel1[#All],\"\"&LEFT($F42,LEN($F42)-$C42)&\"\",Kredsudvælgelse!$S$6:$T$7))=TRUE,DGET(Forespørgsel1[#All],\"\"&LEFT($F42,LEN($F42)-$C42)&\"\",Kredsudvælgelse!$S$6:$T$7),DGET(Forespørgsel1[#All],\"\"&LEFT($F42,LEN($F42)-$C42)&\"\",Kredsudvælgelse!$S$6:$T$7)/IF(ISNONTEXT($D42)=TRUE,1,DGET(Forespørgsel1[#All],\"\"&$D42&\"\",Kredsudvælgelse!$S$6:$T$7))),IF(ISBLANK(HLOOKUP(Q$12,'Statiske ejendomme'!$B$3:$PN$81,'Statiske ejendomme'!$A34,FALSE))=FALSE,HLOOKUP(Q$12,'Statiske ejendomme'!$B$3:$PN$81,'Statiske ejendomme'!$A34,FALSE),\"\"))),\"\")","v":1.8255983575557837},{"$f":"IFERROR(IF(R$12=Kredsudvælgelse!$Q$20,\"\",IF(Kredsudvælgelse!AI$2=1,IF(ISTEXT(DGET(Forespørgsel1[#All],\"\"&LEFT($F42,LEN($F42)-$C42)&\"\",Kredsudvælgelse!$U$6:$V$7))=TRUE,DGET(Forespørgsel1[#All],\"\"&LEFT($F42,LEN($F42)-$C42)&\"\",Kredsudvælgelse!$U$6:$V$7),DGET(Forespørgsel1[#All],\"\"&LEFT($F42,LEN($F42)-$C42)&\"\",Kredsudvælgelse!$U$6:$V$7)/IF(ISNONTEXT($D42)=TRUE,1,DGET(Forespørgsel1[#All],\"\"&$D42&\"\",Kredsudvælgelse!$U$6:$V$7))),IF(ISBLANK(HLOOKUP(R$12,'Statiske ejendomme'!$B$3:$PN$81,'Statiske ejendomme'!$A34,FALSE))=FALSE,HLOOKUP(R$12,'Statiske ejendomme'!$B$3:$PN$81,'Statiske ejendomme'!$A34,FALSE),\"\"))),\"\")","v":-1.4530461672001302},{"$f":"IFERROR(IF(S$12=Kredsudvælgelse!$Q$20,\"\",IF(Kredsudvælgelse!AJ$2=1,IF(ISTEXT(DGET(Forespørgsel1[#All],\"\"&LEFT($F42,LEN($F42)-$C42)&\"\",Kredsudvælgelse!$W$6:$X$7))=TRUE,DGET(Forespørgsel1[#All],\"\"&LEFT($F42,LEN($F42)-$C42)&\"\",Kredsudvælgelse!$W$6:$X$7),DGET(Forespørgsel1[#All],\"\"&LEFT($F42,LEN($F42)-$C42)&\"\",Kredsudvælgelse!$W$6:$X$7)/IF(ISNONTEXT($D42)=TRUE,1,DGET(Forespørgsel1[#All],\"\"&$D42&\"\",Kredsudvælgelse!$W$6:$X$7))),IF(ISBLANK(HLOOKUP(S$12,'Statiske ejendomme'!$B$3:$PN$81,'Statiske ejendomme'!$A34,FALSE))=FALSE,HLOOKUP(S$12,'Statiske ejendomme'!$B$3:$PN$81,'Statiske ejendomme'!$A34,FALSE),\"\"))),\"\")","v":""},{"$f":"IFERROR(IF(T$12=Kredsudvælgelse!$Q$20,\"\",IF(Kredsudvælgelse!AK$2=1,IF(ISTEXT(DGET(Forespørgsel1[#All],\"\"&LEFT($F42,LEN($F42)-$C42)&\"\",Kredsudvælgelse!$W$6:$X$7))=TRUE,DGET(Forespørgsel1[#All],\"\"&LEFT($F42,LEN($F42)-$C42)&\"\",Kredsudvælgelse!$W$6:$X$7),DGET(Forespørgsel1[#All],\"\"&LEFT($F42,LEN($F42)-$C42)&\"\",Kredsudvælgelse!$W$6:$X$7)/IF(ISNONTEXT($D42)=TRUE,1,DGET(Forespørgsel1[#All],\"\"&$D42&\"\",Kredsudvælgelse!$W$6:$X$7))),IF(ISBLANK(HLOOKUP(T$12,'Statiske ejendomme'!$B$3:$PN$81,'Statiske ejendomme'!$A35,FALSE))=FALSE,HLOOKUP(T$12,'Statiske ejendomme'!$B$3:$PN$81,'Statiske ejendomme'!$A35,FALSE),\"\"))),\"\")","v":""}]
[{"$f":"Mink!E114","v":1},{"$f":"Mink!D114","v":113},{"$f":"Mink!A32","v":0},{"$f":"Mink!B32","v":"Producerede skind"},null,{"$f":"Mink!C32","v":"Kapacitetsomkostninger i alt"},{"$f":"Mink!D32","v":-111.86891194170315},{"$f":"Mink!E32","v":-74.353003491484415},{"$f":"Mink!F32","v":""},{"$f":"Mink!G32","v":""},{"$f":"IFERROR(IF(K$12=Kredsudvælgelse!$Q$20,\"\",IF(Kredsudvælgelse!AB$2=1,IF(ISTEXT(DGET(Forespørgsel1[#All],\"\"&LEFT($F43,LEN($F43)-$C43)&\"\",Kredsudvælgelse!$Q$2:$R$3))=TRUE,DGET(Forespørgsel1[#All],\"\"&LEFT($F43,LEN($F43)-$C43)&\"\",Kredsudvælgelse!$Q$2:$R$3),DGET(Forespørgsel1[#All],\"\"&LEFT($F43,LEN($F43)-$C43)&\"\",Kredsudvælgelse!$Q$2:$R$3)/IF(ISNONTEXT($D43)=TRUE,1,DGET(Forespørgsel1[#All],\"\"&$D43&\"\",Kredsudvælgelse!$Q$2:$R$3))),IF(ISBLANK(HLOOKUP(K$12,'Statiske ejendomme'!$B$3:$PN$81,'Statiske ejendomme'!$A35,FALSE))=FALSE,HLOOKUP(K$12,'Statiske ejendomme'!$B$3:$PN$81,'Statiske ejendomme'!$A35,FALSE),\"\"))),\"\")","v":-64.280651033301211},{"$f":"IFERROR(IF(L$12=Kredsudvælgelse!$Q$20,\"\",IF(Kredsudvælgelse!AC$2=1,IF(ISTEXT(DGET(Forespørgsel1[#All],\"\"&LEFT($F43,LEN($F43)-$C43)&\"\",Kredsudvælgelse!$S$2:$T$3))=TRUE,DGET(Forespørgsel1[#All],\"\"&LEFT($F43,LEN($F43)-$C43)&\"\",Kredsudvælgelse!$S$2:$T$3),DGET(Forespørgsel1[#All],\"\"&LEFT($F43,LEN($F43)-$C43)&\"\",Kredsudvælgelse!$S$2:$T$3)/IF(ISNONTEXT($D43)=TRUE,1,DGET(Forespørgsel1[#All],\"\"&$D43&\"\",Kredsudvælgelse!$S$2:$T$3))),IF(ISBLANK(HLOOKUP(L$12,'Statiske ejendomme'!$B$3:$PN$81,'Statiske ejendomme'!$A35,FALSE))=FALSE,HLOOKUP(L$12,'Statiske ejendomme'!$B$3:$PN$81,'Statiske ejendomme'!$A35,FALSE),\"\"))),\"\")","v":-78.707447354904986},{"$f":"IFERROR(IF(M$12=Kredsudvælgelse!$Q$20,\"\",IF(Kredsudvælgelse!AD$2=1,IF(ISTEXT(DGET(Forespørgsel1[#All],\"\"&LEFT($F43,LEN($F43)-$C43)&\"\",Kredsudvælgelse!$U$2:$V$3))=TRUE,DGET(Forespørgsel1[#All],\"\"&LEFT($F43,LEN($F43)-$C43)&\"\",Kredsudvælgelse!$U$2:$V$3),DGET(Forespørgsel1[#All],\"\"&LEFT($F43,LEN($F43)-$C43)&\"\",Kredsudvælgelse!$U$2:$V$3)/IF(ISNONTEXT($D43)=TRUE,1,DGET(Forespørgsel1[#All],\"\"&$D43&\"\",Kredsudvælgelse!$U$2:$V$3))),IF(ISBLANK(HLOOKUP(M$12,'Statiske ejendomme'!$B$3:$PN$81,'Statiske ejendomme'!$A35,FALSE))=FALSE,HLOOKUP(M$12,'Statiske ejendomme'!$B$3:$PN$81,'Statiske ejendomme'!$A35,FALSE),\"\"))),\"\")","v":-107.84105224157095},{"$f":"IFERROR(IF(N$12=Kredsudvælgelse!$Q$20,\"\",IF(Kredsudvælgelse!AE$2=1,IF(ISTEXT(DGET(Forespørgsel1[#All],\"\"&LEFT($F43,LEN($F43)-$C43)&\"\",Kredsudvælgelse!$W$2:$X$3))=TRUE,DGET(Forespørgsel1[#All],\"\"&LEFT($F43,LEN($F43)-$C43)&\"\",Kredsudvælgelse!$W$2:$X$3),DGET(Forespørgsel1[#All],\"\"&LEFT($F43,LEN($F43)-$C43)&\"\",Kredsudvælgelse!$W$2:$X$3)/IF(ISNONTEXT($D43)=TRUE,1,DGET(Forespørgsel1[#All],\"\"&$D43&\"\",Kredsudvælgelse!$W$2:$X$3))),IF(ISBLANK(HLOOKUP(N$12,'Statiske ejendomme'!$B$3:$PN$81,'Statiske ejendomme'!$A35,FALSE))=FALSE,HLOOKUP(N$12,'Statiske ejendomme'!$B$3:$PN$81,'Statiske ejendomme'!$A35,FALSE),\"\"))),\"\")","v":-52.751648351648349},{"$f":"IFERROR(IF(O$12=Kredsudvælgelse!$Q$20,\"\",IF(Kredsudvælgelse!AF$2=1,IF(ISTEXT(DGET(Forespørgsel1[#All],\"\"&LEFT($F43,LEN($F43)-$C43)&\"\",Kredsudvælgelse!$Y$2:$Z$3))=TRUE,DGET(Forespørgsel1[#All],\"\"&LEFT($F43,LEN($F43)-$C43)&\"\",Kredsudvælgelse!$Y$2:$Z$3),DGET(Forespørgsel1[#All],\"\"&LEFT($F43,LEN($F43)-$C43)&\"\",Kredsudvælgelse!$Y$2:$Z$3)/IF(ISNONTEXT($D43)=TRUE,1,DGET(Forespørgsel1[#All],\"\"&$D43&\"\",Kredsudvælgelse!$Y$2:$Z$3))),IF(ISBLANK(HLOOKUP(O$12,'Statiske ejendomme'!$B$3:$PN$81,'Statiske ejendomme'!$A35,FALSE))=FALSE,HLOOKUP(O$12,'Statiske ejendomme'!$B$3:$PN$81,'Statiske ejendomme'!$A35,FALSE),\"\"))),\"\")","v":-83.284958318231247},{"$f":"IFERROR(IF(P$12=Kredsudvælgelse!$Q$20,\"\",IF(Kredsudvælgelse!AG$2=1,IF(ISTEXT(DGET(Forespørgsel1[#All],\"\"&LEFT($F43,LEN($F43)-$C43)&\"\",Kredsudvælgelse!$Q$6:$R$7))=TRUE,DGET(Forespørgsel1[#All],\"\"&LEFT($F43,LEN($F43)-$C43)&\"\",Kredsudvælgelse!$Q$6:$R$7),DGET(Forespørgsel1[#All],\"\"&LEFT($F43,LEN($F43)-$C43)&\"\",Kredsudvælgelse!$Q$6:$R$7)/IF(ISNONTEXT($D43)=TRUE,1,DGET(Forespørgsel1[#All],\"\"&$D43&\"\",Kredsudvælgelse!$Q$6:$R$7))),IF(ISBLANK(HLOOKUP(P$12,'Statiske ejendomme'!$B$3:$PN$81,'Statiske ejendomme'!$A35,FALSE))=FALSE,HLOOKUP(P$12,'Statiske ejendomme'!$B$3:$PN$81,'Statiske ejendomme'!$A35,FALSE),\"\"))),\"\")","v":-74.193136557610245},{"$f":"IFERROR(IF(Q$12=Kredsudvælgelse!$Q$20,\"\",IF(Kredsudvælgelse!AH$2=1,IF(ISTEXT(DGET(Forespørgsel1[#All],\"\"&LEFT($F43,LEN($F43)-$C43)&\"\",Kredsudvælgelse!$S$6:$T$7))=TRUE,DGET(Forespørgsel1[#All],\"\"&LEFT($F43,LEN($F43)-$C43)&\"\",Kredsudvælgelse!$S$6:$T$7),DGET(Forespørgsel1[#All],\"\"&LEFT($F43,LEN($F43)-$C43)&\"\",Kredsudvælgelse!$S$6:$T$7)/IF(ISNONTEXT($D43)=TRUE,1,DGET(Forespørgsel1[#All],\"\"&$D43&\"\",Kredsudvælgelse!$S$6:$T$7))),IF(ISBLANK(HLOOKUP(Q$12,'Statiske ejendomme'!$B$3:$PN$81,'Statiske ejendomme'!$A35,FALSE))=FALSE,HLOOKUP(Q$12,'Statiske ejendomme'!$B$3:$PN$81,'Statiske ejendomme'!$A35,FALSE),\"\"))),\"\")","v":-67.573882975849585},{"$f":"IFERROR(IF(R$12=Kredsudvælgelse!$Q$20,\"\",IF(Kredsudvælgelse!AI$2=1,IF(ISTEXT(DGET(Forespørgsel1[#All],\"\"&LEFT($F43,LEN($F43)-$C43)&\"\",Kredsudvælgelse!$U$6:$V$7))=TRUE,DGET(Forespørgsel1[#All],\"\"&LEFT($F43,LEN($F43)-$C43)&\"\",Kredsudvælgelse!$U$6:$V$7),DGET(Forespørgsel1[#All],\"\"&LEFT($F43,LEN($F43)-$C43)&\"\",Kredsudvælgelse!$U$6:$V$7)/IF(ISNONTEXT($D43)=TRUE,1,DGET(Forespørgsel1[#All],\"\"&$D43&\"\",Kredsudvælgelse!$U$6:$V$7))),IF(ISBLANK(HLOOKUP(R$12,'Statiske ejendomme'!$B$3:$PN$81,'Statiske ejendomme'!$A35,FALSE))=FALSE,HLOOKUP(R$12,'Statiske ejendomme'!$B$3:$PN$81,'Statiske ejendomme'!$A35,FALSE),\"\"))),\"\")","v":-81.431562957738834},{"$f":"IFERROR(IF(S$12=Kredsudvælgelse!$Q$20,\"\",IF(Kredsudvælgelse!AJ$2=1,IF(ISTEXT(DGET(Forespørgsel1[#All],\"\"&LEFT($F43,LEN($F43)-$C43)&\"\",Kredsudvælgelse!$W$6:$X$7))=TRUE,DGET(Forespørgsel1[#All],\"\"&LEFT($F43,LEN($F43)-$C43)&\"\",Kredsudvælgelse!$W$6:$X$7),DGET(Forespørgsel1[#All],\"\"&LEFT($F43,LEN($F43)-$C43)&\"\",Kredsudvælgelse!$W$6:$X$7)/IF(ISNONTEXT($D43)=TRUE,1,DGET(Forespørgsel1[#All],\"\"&$D43&\"\",Kredsudvælgelse!$W$6:$X$7))),IF(ISBLANK(HLOOKUP(S$12,'Statiske ejendomme'!$B$3:$PN$81,'Statiske ejendomme'!$A35,FALSE))=FALSE,HLOOKUP(S$12,'Statiske ejendomme'!$B$3:$PN$81,'Statiske ejendomme'!$A35,FALSE),\"\"))),\"\")","v":""},{"$f":"IFERROR(IF(T$12=Kredsudvælgelse!$Q$20,\"\",IF(Kredsudvælgelse!AK$2=1,IF(ISTEXT(DGET(Forespørgsel1[#All],\"\"&LEFT($F43,LEN($F43)-$C43)&\"\",Kredsudvælgelse!$W$6:$X$7))=TRUE,DGET(Forespørgsel1[#All],\"\"&LEFT($F43,LEN($F43)-$C43)&\"\",Kredsudvælgelse!$W$6:$X$7),DGET(Forespørgsel1[#All],\"\"&LEFT($F43,LEN($F43)-$C43)&\"\",Kredsudvælgelse!$W$6:$X$7)/IF(ISNONTEXT($D43)=TRUE,1,DGET(Forespørgsel1[#All],\"\"&$D43&\"\",Kredsudvælgelse!$W$6:$X$7))),IF(ISBLANK(HLOOKUP(T$12,'Statiske ejendomme'!$B$3:$PN$81,'Statiske ejendomme'!$A36,FALSE))=FALSE,HLOOKUP(T$12,'Statiske ejendomme'!$B$3:$PN$81,'Statiske ejendomme'!$A36,FALSE),\"\"))),\"\")","v":""}]
[{"$f":"Mink!E115","v":1},{"$f":"Mink!D115","v":9},{"$f":"Mink!A33","v":0},{"$f":"Mink!B33","v":0},null,{"$f":"Mink!C33","v":""},{"$f":"Mink!D33","v":""},{"$f":"Mink!E33","v":""},{"$f":"Mink!F33","v":""},{"$f":"Mink!G33","v":""},{"$f":"IFERROR(IF(K$12=Kredsudvælgelse!$Q$20,\"\",IF(Kredsudvælgelse!AB$2=1,IF(ISTEXT(DGET(Forespørgsel1[#All],\"\"&LEFT($F44,LEN($F44)-$C44)&\"\",Kredsudvælgelse!$Q$2:$R$3))=TRUE,DGET(Forespørgsel1[#All],\"\"&LEFT($F44,LEN($F44)-$C44)&\"\",Kredsudvælgelse!$Q$2:$R$3),DGET(Forespørgsel1[#All],\"\"&LEFT($F44,LEN($F44)-$C44)&\"\",Kredsudvælgelse!$Q$2:$R$3)/IF(ISNONTEXT($D44)=TRUE,1,DGET(Forespørgsel1[#All],\"\"&$D44&\"\",Kredsudvælgelse!$Q$2:$R$3))),IF(ISBLANK(HLOOKUP(K$12,'Statiske ejendomme'!$B$3:$PN$81,'Statiske ejendomme'!$A36,FALSE))=FALSE,HLOOKUP(K$12,'Statiske ejendomme'!$B$3:$PN$81,'Statiske ejendomme'!$A36,FALSE),\"\"))),\"\")","v":""},{"$f":"IFERROR(IF(L$12=Kredsudvælgelse!$Q$20,\"\",IF(Kredsudvælgelse!AC$2=1,IF(ISTEXT(DGET(Forespørgsel1[#All],\"\"&LEFT($F44,LEN($F44)-$C44)&\"\",Kredsudvælgelse!$S$2:$T$3))=TRUE,DGET(Forespørgsel1[#All],\"\"&LEFT($F44,LEN($F44)-$C44)&\"\",Kredsudvælgelse!$S$2:$T$3),DGET(Forespørgsel1[#All],\"\"&LEFT($F44,LEN($F44)-$C44)&\"\",Kredsudvælgelse!$S$2:$T$3)/IF(ISNONTEXT($D44)=TRUE,1,DGET(Forespørgsel1[#All],\"\"&$D44&\"\",Kredsudvælgelse!$S$2:$T$3))),IF(ISBLANK(HLOOKUP(L$12,'Statiske ejendomme'!$B$3:$PN$81,'Statiske ejendomme'!$A36,FALSE))=FALSE,HLOOKUP(L$12,'Statiske ejendomme'!$B$3:$PN$81,'Statiske ejendomme'!$A36,FALSE),\"\"))),\"\")","v":""},{"$f":"IFERROR(IF(M$12=Kredsudvælgelse!$Q$20,\"\",IF(Kredsudvælgelse!AD$2=1,IF(ISTEXT(DGET(Forespørgsel1[#All],\"\"&LEFT($F44,LEN($F44)-$C44)&\"\",Kredsudvælgelse!$U$2:$V$3))=TRUE,DGET(Forespørgsel1[#All],\"\"&LEFT($F44,LEN($F44)-$C44)&\"\",Kredsudvælgelse!$U$2:$V$3),DGET(Forespørgsel1[#All],\"\"&LEFT($F44,LEN($F44)-$C44)&\"\",Kredsudvælgelse!$U$2:$V$3)/IF(ISNONTEXT($D44)=TRUE,1,DGET(Forespørgsel1[#All],\"\"&$D44&\"\",Kredsudvælgelse!$U$2:$V$3))),IF(ISBLANK(HLOOKUP(M$12,'Statiske ejendomme'!$B$3:$PN$81,'Statiske ejendomme'!$A36,FALSE))=FALSE,HLOOKUP(M$12,'Statiske ejendomme'!$B$3:$PN$81,'Statiske ejendomme'!$A36,FALSE),\"\"))),\"\")","v":""},{"$f":"IFERROR(IF(N$12=Kredsudvælgelse!$Q$20,\"\",IF(Kredsudvælgelse!AE$2=1,IF(ISTEXT(DGET(Forespørgsel1[#All],\"\"&LEFT($F44,LEN($F44)-$C44)&\"\",Kredsudvælgelse!$W$2:$X$3))=TRUE,DGET(Forespørgsel1[#All],\"\"&LEFT($F44,LEN($F44)-$C44)&\"\",Kredsudvælgelse!$W$2:$X$3),DGET(Forespørgsel1[#All],\"\"&LEFT($F44,LEN($F44)-$C44)&\"\",Kredsudvælgelse!$W$2:$X$3)/IF(ISNONTEXT($D44)=TRUE,1,DGET(Forespørgsel1[#All],\"\"&$D44&\"\",Kredsudvælgelse!$W$2:$X$3))),IF(ISBLANK(HLOOKUP(N$12,'Statiske ejendomme'!$B$3:$PN$81,'Statiske ejendomme'!$A36,FALSE))=FALSE,HLOOKUP(N$12,'Statiske ejendomme'!$B$3:$PN$81,'Statiske ejendomme'!$A36,FALSE),\"\"))),\"\")","v":""},{"$f":"IFERROR(IF(O$12=Kredsudvælgelse!$Q$20,\"\",IF(Kredsudvælgelse!AF$2=1,IF(ISTEXT(DGET(Forespørgsel1[#All],\"\"&LEFT($F44,LEN($F44)-$C44)&\"\",Kredsudvælgelse!$Y$2:$Z$3))=TRUE,DGET(Forespørgsel1[#All],\"\"&LEFT($F44,LEN($F44)-$C44)&\"\",Kredsudvælgelse!$Y$2:$Z$3),DGET(Forespørgsel1[#All],\"\"&LEFT($F44,LEN($F44)-$C44)&\"\",Kredsudvælgelse!$Y$2:$Z$3)/IF(ISNONTEXT($D44)=TRUE,1,DGET(Forespørgsel1[#All],\"\"&$D44&\"\",Kredsudvælgelse!$Y$2:$Z$3))),IF(ISBLANK(HLOOKUP(O$12,'Statiske ejendomme'!$B$3:$PN$81,'Statiske ejendomme'!$A36,FALSE))=FALSE,HLOOKUP(O$12,'Statiske ejendomme'!$B$3:$PN$81,'Statiske ejendomme'!$A36,FALSE),\"\"))),\"\")","v":""},{"$f":"IFERROR(IF(P$12=Kredsudvælgelse!$Q$20,\"\",IF(Kredsudvælgelse!AG$2=1,IF(ISTEXT(DGET(Forespørgsel1[#All],\"\"&LEFT($F44,LEN($F44)-$C44)&\"\",Kredsudvælgelse!$Q$6:$R$7))=TRUE,DGET(Forespørgsel1[#All],\"\"&LEFT($F44,LEN($F44)-$C44)&\"\",Kredsudvælgelse!$Q$6:$R$7),DGET(Forespørgsel1[#All],\"\"&LEFT($F44,LEN($F44)-$C44)&\"\",Kredsudvælgelse!$Q$6:$R$7)/IF(ISNONTEXT($D44)=TRUE,1,DGET(Forespørgsel1[#All],\"\"&$D44&\"\",Kredsudvælgelse!$Q$6:$R$7))),IF(ISBLANK(HLOOKUP(P$12,'Statiske ejendomme'!$B$3:$PN$81,'Statiske ejendomme'!$A36,FALSE))=FALSE,HLOOKUP(P$12,'Statiske ejendomme'!$B$3:$PN$81,'Statiske ejendomme'!$A36,FALSE),\"\"))),\"\")","v":""},{"$f":"IFERROR(IF(Q$12=Kredsudvælgelse!$Q$20,\"\",IF(Kredsudvælgelse!AH$2=1,IF(ISTEXT(DGET(Forespørgsel1[#All],\"\"&LEFT($F44,LEN($F44)-$C44)&\"\",Kredsudvælgelse!$S$6:$T$7))=TRUE,DGET(Forespørgsel1[#All],\"\"&LEFT($F44,LEN($F44)-$C44)&\"\",Kredsudvælgelse!$S$6:$T$7),DGET(Forespørgsel1[#All],\"\"&LEFT($F44,LEN($F44)-$C44)&\"\",Kredsudvælgelse!$S$6:$T$7)/IF(ISNONTEXT($D44)=TRUE,1,DGET(Forespørgsel1[#All],\"\"&$D44&\"\",Kredsudvælgelse!$S$6:$T$7))),IF(ISBLANK(HLOOKUP(Q$12,'Statiske ejendomme'!$B$3:$PN$81,'Statiske ejendomme'!$A36,FALSE))=FALSE,HLOOKUP(Q$12,'Statiske ejendomme'!$B$3:$PN$81,'Statiske ejendomme'!$A36,FALSE),\"\"))),\"\")","v":""},{"$f":"IFERROR(IF(R$12=Kredsudvælgelse!$Q$20,\"\",IF(Kredsudvælgelse!AI$2=1,IF(ISTEXT(DGET(Forespørgsel1[#All],\"\"&LEFT($F44,LEN($F44)-$C44)&\"\",Kredsudvælgelse!$U$6:$V$7))=TRUE,DGET(Forespørgsel1[#All],\"\"&LEFT($F44,LEN($F44)-$C44)&\"\",Kredsudvælgelse!$U$6:$V$7),DGET(Forespørgsel1[#All],\"\"&LEFT($F44,LEN($F44)-$C44)&\"\",Kredsudvælgelse!$U$6:$V$7)/IF(ISNONTEXT($D44)=TRUE,1,DGET(Forespørgsel1[#All],\"\"&$D44&\"\",Kredsudvælgelse!$U$6:$V$7))),IF(ISBLANK(HLOOKUP(R$12,'Statiske ejendomme'!$B$3:$PN$81,'Statiske ejendomme'!$A36,FALSE))=FALSE,HLOOKUP(R$12,'Statiske ejendomme'!$B$3:$PN$81,'Statiske ejendomme'!$A36,FALSE),\"\"))),\"\")","v":""},{"$f":"IFERROR(IF(S$12=Kredsudvælgelse!$Q$20,\"\",IF(Kredsudvælgelse!AJ$2=1,IF(ISTEXT(DGET(Forespørgsel1[#All],\"\"&LEFT($F44,LEN($F44)-$C44)&\"\",Kredsudvælgelse!$W$6:$X$7))=TRUE,DGET(Forespørgsel1[#All],\"\"&LEFT($F44,LEN($F44)-$C44)&\"\",Kredsudvælgelse!$W$6:$X$7),DGET(Forespørgsel1[#All],\"\"&LEFT($F44,LEN($F44)-$C44)&\"\",Kredsudvælgelse!$W$6:$X$7)/IF(ISNONTEXT($D44)=TRUE,1,DGET(Forespørgsel1[#All],\"\"&$D44&\"\",Kredsudvælgelse!$W$6:$X$7))),IF(ISBLANK(HLOOKUP(S$12,'Statiske ejendomme'!$B$3:$PN$81,'Statiske ejendomme'!$A36,FALSE))=FALSE,HLOOKUP(S$12,'Statiske ejendomme'!$B$3:$PN$81,'Statiske ejendomme'!$A36,FALSE),\"\"))),\"\")","v":""},{"$f":"IFERROR(IF(T$12=Kredsudvælgelse!$Q$20,\"\",IF(Kredsudvælgelse!AK$2=1,IF(ISTEXT(DGET(Forespørgsel1[#All],\"\"&LEFT($F44,LEN($F44)-$C44)&\"\",Kredsudvælgelse!$W$6:$X$7))=TRUE,DGET(Forespørgsel1[#All],\"\"&LEFT($F44,LEN($F44)-$C44)&\"\",Kredsudvælgelse!$W$6:$X$7),DGET(Forespørgsel1[#All],\"\"&LEFT($F44,LEN($F44)-$C44)&\"\",Kredsudvælgelse!$W$6:$X$7)/IF(ISNONTEXT($D44)=TRUE,1,DGET(Forespørgsel1[#All],\"\"&$D44&\"\",Kredsudvælgelse!$W$6:$X$7))),IF(ISBLANK(HLOOKUP(T$12,'Statiske ejendomme'!$B$3:$PN$81,'Statiske ejendomme'!$A37,FALSE))=FALSE,HLOOKUP(T$12,'Statiske ejendomme'!$B$3:$PN$81,'Statiske ejendomme'!$A37,FALSE),\"\"))),\"\")","v":""}]
[{"$f":"Mink!E116","v":1},{"$f":"Mink!D116","v":1},{"$f":"Mink!A34","v":0},{"$f":"Mink!B34","v":"Producerede skind"},null,{"$f":"Mink!C34","v":"Afskrivning inkl. leasing"},{"$f":"Mink!D34","v":-31.59248150162751},{"$f":"Mink!E34","v":-24.66635951633225},{"$f":"Mink!F34","v":""},{"$f":"Mink!G34","v":""},{"$f":"IFERROR(IF(K$12=Kredsudvælgelse!$Q$20,\"\",IF(Kredsudvælgelse!AB$2=1,IF(ISTEXT(DGET(Forespørgsel1[#All],\"\"&LEFT($F45,LEN($F45)-$C45)&\"\",Kredsudvælgelse!$Q$2:$R$3))=TRUE,DGET(Forespørgsel1[#All],\"\"&LEFT($F45,LEN($F45)-$C45)&\"\",Kredsudvælgelse!$Q$2:$R$3),DGET(Forespørgsel1[#All],\"\"&LEFT($F45,LEN($F45)-$C45)&\"\",Kredsudvælgelse!$Q$2:$R$3)/IF(ISNONTEXT($D45)=TRUE,1,DGET(Forespørgsel1[#All],\"\"&$D45&\"\",Kredsudvælgelse!$Q$2:$R$3))),IF(ISBLANK(HLOOKUP(K$12,'Statiske ejendomme'!$B$3:$PN$81,'Statiske ejendomme'!$A37,FALSE))=FALSE,HLOOKUP(K$12,'Statiske ejendomme'!$B$3:$PN$81,'Statiske ejendomme'!$A37,FALSE),\"\"))),\"\")","v":-11.417068208587644},{"$f":"IFERROR(IF(L$12=Kredsudvælgelse!$Q$20,\"\",IF(Kredsudvælgelse!AC$2=1,IF(ISTEXT(DGET(Forespørgsel1[#All],\"\"&LEFT($F45,LEN($F45)-$C45)&\"\",Kredsudvælgelse!$S$2:$T$3))=TRUE,DGET(Forespørgsel1[#All],\"\"&LEFT($F45,LEN($F45)-$C45)&\"\",Kredsudvælgelse!$S$2:$T$3),DGET(Forespørgsel1[#All],\"\"&LEFT($F45,LEN($F45)-$C45)&\"\",Kredsudvælgelse!$S$2:$T$3)/IF(ISNONTEXT($D45)=TRUE,1,DGET(Forespørgsel1[#All],\"\"&$D45&\"\",Kredsudvælgelse!$S$2:$T$3))),IF(ISBLANK(HLOOKUP(L$12,'Statiske ejendomme'!$B$3:$PN$81,'Statiske ejendomme'!$A37,FALSE))=FALSE,HLOOKUP(L$12,'Statiske ejendomme'!$B$3:$PN$81,'Statiske ejendomme'!$A37,FALSE),\"\"))),\"\")","v":-21.229686697483309},{"$f":"IFERROR(IF(M$12=Kredsudvælgelse!$Q$20,\"\",IF(Kredsudvælgelse!AD$2=1,IF(ISTEXT(DGET(Forespørgsel1[#All],\"\"&LEFT($F45,LEN($F45)-$C45)&\"\",Kredsudvælgelse!$U$2:$V$3))=TRUE,DGET(Forespørgsel1[#All],\"\"&LEFT($F45,LEN($F45)-$C45)&\"\",Kredsudvælgelse!$U$2:$V$3),DGET(Forespørgsel1[#All],\"\"&LEFT($F45,LEN($F45)-$C45)&\"\",Kredsudvælgelse!$U$2:$V$3)/IF(ISNONTEXT($D45)=TRUE,1,DGET(Forespørgsel1[#All],\"\"&$D45&\"\",Kredsudvælgelse!$U$2:$V$3))),IF(ISBLANK(HLOOKUP(M$12,'Statiske ejendomme'!$B$3:$PN$81,'Statiske ejendomme'!$A37,FALSE))=FALSE,HLOOKUP(M$12,'Statiske ejendomme'!$B$3:$PN$81,'Statiske ejendomme'!$A37,FALSE),\"\"))),\"\")","v":-21.887180437198964},{"$f":"IFERROR(IF(N$12=Kredsudvælgelse!$Q$20,\"\",IF(Kredsudvælgelse!AE$2=1,IF(ISTEXT(DGET(Forespørgsel1[#All],\"\"&LEFT($F45,LEN($F45)-$C45)&\"\",Kredsudvælgelse!$W$2:$X$3))=TRUE,DGET(Forespørgsel1[#All],\"\"&LEFT($F45,LEN($F45)-$C45)&\"\",Kredsudvælgelse!$W$2:$X$3),DGET(Forespørgsel1[#All],\"\"&LEFT($F45,LEN($F45)-$C45)&\"\",Kredsudvælgelse!$W$2:$X$3)/IF(ISNONTEXT($D45)=TRUE,1,DGET(Forespørgsel1[#All],\"\"&$D45&\"\",Kredsudvælgelse!$W$2:$X$3))),IF(ISBLANK(HLOOKUP(N$12,'Statiske ejendomme'!$B$3:$PN$81,'Statiske ejendomme'!$A37,FALSE))=FALSE,HLOOKUP(N$12,'Statiske ejendomme'!$B$3:$PN$81,'Statiske ejendomme'!$A37,FALSE),\"\"))),\"\")","v":-11.387692307692308},{"$f":"IFERROR(IF(O$12=Kredsudvælgelse!$Q$20,\"\",IF(Kredsudvælgelse!AF$2=1,IF(ISTEXT(DGET(Forespørgsel1[#All],\"\"&LEFT($F45,LEN($F45)-$C45)&\"\",Kredsudvælgelse!$Y$2:$Z$3))=TRUE,DGET(Forespørgsel1[#All],\"\"&LEFT($F45,LEN($F45)-$C45)&\"\",Kredsudvælgelse!$Y$2:$Z$3),DGET(Forespørgsel1[#All],\"\"&LEFT($F45,LEN($F45)-$C45)&\"\",Kredsudvælgelse!$Y$2:$Z$3)/IF(ISNONTEXT($D45)=TRUE,1,DGET(Forespørgsel1[#All],\"\"&$D45&\"\",Kredsudvælgelse!$Y$2:$Z$3))),IF(ISBLANK(HLOOKUP(O$12,'Statiske ejendomme'!$B$3:$PN$81,'Statiske ejendomme'!$A37,FALSE))=FALSE,HLOOKUP(O$12,'Statiske ejendomme'!$B$3:$PN$81,'Statiske ejendomme'!$A37,FALSE),\"\"))),\"\")","v":-41.971728887277997},{"$f":"IFERROR(IF(P$12=Kredsudvælgelse!$Q$20,\"\",IF(Kredsudvælgelse!AG$2=1,IF(ISTEXT(DGET(Forespørgsel1[#All],\"\"&LEFT($F45,LEN($F45)-$C45)&\"\",Kredsudvælgelse!$Q$6:$R$7))=TRUE,DGET(Forespørgsel1[#All],\"\"&LEFT($F45,LEN($F45)-$C45)&\"\",Kredsudvælgelse!$Q$6:$R$7),DGET(Forespørgsel1[#All],\"\"&LEFT($F45,LEN($F45)-$C45)&\"\",Kredsudvælgelse!$Q$6:$R$7)/IF(ISNONTEXT($D45)=TRUE,1,DGET(Forespørgsel1[#All],\"\"&$D45&\"\",Kredsudvælgelse!$Q$6:$R$7))),IF(ISBLANK(HLOOKUP(P$12,'Statiske ejendomme'!$B$3:$PN$81,'Statiske ejendomme'!$A37,FALSE))=FALSE,HLOOKUP(P$12,'Statiske ejendomme'!$B$3:$PN$81,'Statiske ejendomme'!$A37,FALSE),\"\"))),\"\")","v":-35.260170697012803},{"$f":"IFERROR(IF(Q$12=Kredsudvælgelse!$Q$20,\"\",IF(Kredsudvælgelse!AH$2=1,IF(ISTEXT(DGET(Forespørgsel1[#All],\"\"&LEFT($F45,LEN($F45)-$C45)&\"\",Kredsudvælgelse!$S$6:$T$7))=TRUE,DGET(Forespørgsel1[#All],\"\"&LEFT($F45,LEN($F45)-$C45)&\"\",Kredsudvælgelse!$S$6:$T$7),DGET(Forespørgsel1[#All],\"\"&LEFT($F45,LEN($F45)-$C45)&\"\",Kredsudvælgelse!$S$6:$T$7)/IF(ISNONTEXT($D45)=TRUE,1,DGET(Forespørgsel1[#All],\"\"&$D45&\"\",Kredsudvælgelse!$S$6:$T$7))),IF(ISBLANK(HLOOKUP(Q$12,'Statiske ejendomme'!$B$3:$PN$81,'Statiske ejendomme'!$A37,FALSE))=FALSE,HLOOKUP(Q$12,'Statiske ejendomme'!$B$3:$PN$81,'Statiske ejendomme'!$A37,FALSE),\"\"))),\"\")","v":-29.335026203468583},{"$f":"IFERROR(IF(R$12=Kredsudvælgelse!$Q$20,\"\",IF(Kredsudvælgelse!AI$2=1,IF(ISTEXT(DGET(Forespørgsel1[#All],\"\"&LEFT($F45,LEN($F45)-$C45)&\"\",Kredsudvælgelse!$U$6:$V$7))=TRUE,DGET(Forespørgsel1[#All],\"\"&LEFT($F45,LEN($F45)-$C45)&\"\",Kredsudvælgelse!$U$6:$V$7),DGET(Forespørgsel1[#All],\"\"&LEFT($F45,LEN($F45)-$C45)&\"\",Kredsudvælgelse!$U$6:$V$7)/IF(ISNONTEXT($D45)=TRUE,1,DGET(Forespørgsel1[#All],\"\"&$D45&\"\",Kredsudvælgelse!$U$6:$V$7))),IF(ISBLANK(HLOOKUP(R$12,'Statiske ejendomme'!$B$3:$PN$81,'Statiske ejendomme'!$A37,FALSE))=FALSE,HLOOKUP(R$12,'Statiske ejendomme'!$B$3:$PN$81,'Statiske ejendomme'!$A37,FALSE),\"\"))),\"\")","v":-30.967178429989694},{"$f":"IFERROR(IF(S$12=Kredsudvælgelse!$Q$20,\"\",IF(Kredsudvælgelse!AJ$2=1,IF(ISTEXT(DGET(Forespørgsel1[#All],\"\"&LEFT($F45,LEN($F45)-$C45)&\"\",Kredsudvælgelse!$W$6:$X$7))=TRUE,DGET(Forespørgsel1[#All],\"\"&LEFT($F45,LEN($F45)-$C45)&\"\",Kredsudvælgelse!$W$6:$X$7),DGET(Forespørgsel1[#All],\"\"&LEFT($F45,LEN($F45)-$C45)&\"\",Kredsudvælgelse!$W$6:$X$7)/IF(ISNONTEXT($D45)=TRUE,1,DGET(Forespørgsel1[#All],\"\"&$D45&\"\",Kredsudvælgelse!$W$6:$X$7))),IF(ISBLANK(HLOOKUP(S$12,'Statiske ejendomme'!$B$3:$PN$81,'Statiske ejendomme'!$A37,FALSE))=FALSE,HLOOKUP(S$12,'Statiske ejendomme'!$B$3:$PN$81,'Statiske ejendomme'!$A37,FALSE),\"\"))),\"\")","v":""},{"$f":"IFERROR(IF(T$12=Kredsudvælgelse!$Q$20,\"\",IF(Kredsudvælgelse!AK$2=1,IF(ISTEXT(DGET(Forespørgsel1[#All],\"\"&LEFT($F45,LEN($F45)-$C45)&\"\",Kredsudvælgelse!$W$6:$X$7))=TRUE,DGET(Forespørgsel1[#All],\"\"&LEFT($F45,LEN($F45)-$C45)&\"\",Kredsudvælgelse!$W$6:$X$7),DGET(Forespørgsel1[#All],\"\"&LEFT($F45,LEN($F45)-$C45)&\"\",Kredsudvælgelse!$W$6:$X$7)/IF(ISNONTEXT($D45)=TRUE,1,DGET(Forespørgsel1[#All],\"\"&$D45&\"\",Kredsudvælgelse!$W$6:$X$7))),IF(ISBLANK(HLOOKUP(T$12,'Statiske ejendomme'!$B$3:$PN$81,'Statiske ejendomme'!$A38,FALSE))=FALSE,HLOOKUP(T$12,'Statiske ejendomme'!$B$3:$PN$81,'Statiske ejendomme'!$A38,FALSE),\"\"))),\"\")","v":""}]
[{"$f":"Mink!E117","v":1},{"$f":"Mink!D117","v":1},{"$f":"Mink!A35","v":0},{"$f":"Mink!B35","v":"Producerede skind"},null,{"$f":"Mink!C35","v":"Renteomk. af bundet kapital"},{"$f":"Mink!D35","v":-22.501856025677547},{"$f":"Mink!E35","v":-18.264280641380047},{"$f":"Mink!F35","v":""},{"$f":"Mink!G35","v":""},{"$f":"IFERROR(IF(K$12=Kredsudvælgelse!$Q$20,\"\",IF(Kredsudvælgelse!AB$2=1,IF(ISTEXT(DGET(Forespørgsel1[#All],\"\"&LEFT($F46,LEN($F46)-$C46)&\"\",Kredsudvælgelse!$Q$2:$R$3))=TRUE,DGET(Forespørgsel1[#All],\"\"&LEFT($F46,LEN($F46)-$C46)&\"\",Kredsudvælgelse!$Q$2:$R$3),DGET(Forespørgsel1[#All],\"\"&LEFT($F46,LEN($F46)-$C46)&\"\",Kredsudvælgelse!$Q$2:$R$3)/IF(ISNONTEXT($D46)=TRUE,1,DGET(Forespørgsel1[#All],\"\"&$D46&\"\",Kredsudvælgelse!$Q$2:$R$3))),IF(ISBLANK(HLOOKUP(K$12,'Statiske ejendomme'!$B$3:$PN$81,'Statiske ejendomme'!$A38,FALSE))=FALSE,HLOOKUP(K$12,'Statiske ejendomme'!$B$3:$PN$81,'Statiske ejendomme'!$A38,FALSE),\"\"))),\"\")","v":-19.48189608095085},{"$f":"IFERROR(IF(L$12=Kredsudvælgelse!$Q$20,\"\",IF(Kredsudvælgelse!AC$2=1,IF(ISTEXT(DGET(Forespørgsel1[#All],\"\"&LEFT($F46,LEN($F46)-$C46)&\"\",Kredsudvælgelse!$S$2:$T$3))=TRUE,DGET(Forespørgsel1[#All],\"\"&LEFT($F46,LEN($F46)-$C46)&\"\",Kredsudvælgelse!$S$2:$T$3),DGET(Forespørgsel1[#All],\"\"&LEFT($F46,LEN($F46)-$C46)&\"\",Kredsudvælgelse!$S$2:$T$3)/IF(ISNONTEXT($D46)=TRUE,1,DGET(Forespørgsel1[#All],\"\"&$D46&\"\",Kredsudvælgelse!$S$2:$T$3))),IF(ISBLANK(HLOOKUP(L$12,'Statiske ejendomme'!$B$3:$PN$81,'Statiske ejendomme'!$A38,FALSE))=FALSE,HLOOKUP(L$12,'Statiske ejendomme'!$B$3:$PN$81,'Statiske ejendomme'!$A38,FALSE),\"\"))),\"\")","v":-14.378089881869542},{"$f":"IFERROR(IF(M$12=Kredsudvælgelse!$Q$20,\"\",IF(Kredsudvælgelse!AD$2=1,IF(ISTEXT(DGET(Forespørgsel1[#All],\"\"&LEFT($F46,LEN($F46)-$C46)&\"\",Kredsudvælgelse!$U$2:$V$3))=TRUE,DGET(Forespørgsel1[#All],\"\"&LEFT($F46,LEN($F46)-$C46)&\"\",Kredsudvælgelse!$U$2:$V$3),DGET(Forespørgsel1[#All],\"\"&LEFT($F46,LEN($F46)-$C46)&\"\",Kredsudvælgelse!$U$2:$V$3)/IF(ISNONTEXT($D46)=TRUE,1,DGET(Forespørgsel1[#All],\"\"&$D46&\"\",Kredsudvælgelse!$U$2:$V$3))),IF(ISBLANK(HLOOKUP(M$12,'Statiske ejendomme'!$B$3:$PN$81,'Statiske ejendomme'!$A38,FALSE))=FALSE,HLOOKUP(M$12,'Statiske ejendomme'!$B$3:$PN$81,'Statiske ejendomme'!$A38,FALSE),\"\"))),\"\")","v":-19.486039273805112},{"$f":"IFERROR(IF(N$12=Kredsudvælgelse!$Q$20,\"\",IF(Kredsudvælgelse!AE$2=1,IF(ISTEXT(DGET(Forespørgsel1[#All],\"\"&LEFT($F46,LEN($F46)-$C46)&\"\",Kredsudvælgelse!$W$2:$X$3))=TRUE,DGET(Forespørgsel1[#All],\"\"&LEFT($F46,LEN($F46)-$C46)&\"\",Kredsudvælgelse!$W$2:$X$3),DGET(Forespørgsel1[#All],\"\"&LEFT($F46,LEN($F46)-$C46)&\"\",Kredsudvælgelse!$W$2:$X$3)/IF(ISNONTEXT($D46)=TRUE,1,DGET(Forespørgsel1[#All],\"\"&$D46&\"\",Kredsudvælgelse!$W$2:$X$3))),IF(ISBLANK(HLOOKUP(N$12,'Statiske ejendomme'!$B$3:$PN$81,'Statiske ejendomme'!$A38,FALSE))=FALSE,HLOOKUP(N$12,'Statiske ejendomme'!$B$3:$PN$81,'Statiske ejendomme'!$A38,FALSE),\"\"))),\"\")","v":-14.879273076923077},{"$f":"IFERROR(IF(O$12=Kredsudvælgelse!$Q$20,\"\",IF(Kredsudvælgelse!AF$2=1,IF(ISTEXT(DGET(Forespørgsel1[#All],\"\"&LEFT($F46,LEN($F46)-$C46)&\"\",Kredsudvælgelse!$Y$2:$Z$3))=TRUE,DGET(Forespørgsel1[#All],\"\"&LEFT($F46,LEN($F46)-$C46)&\"\",Kredsudvælgelse!$Y$2:$Z$3),DGET(Forespørgsel1[#All],\"\"&LEFT($F46,LEN($F46)-$C46)&\"\",Kredsudvælgelse!$Y$2:$Z$3)/IF(ISNONTEXT($D46)=TRUE,1,DGET(Forespørgsel1[#All],\"\"&$D46&\"\",Kredsudvælgelse!$Y$2:$Z$3))),IF(ISBLANK(HLOOKUP(O$12,'Statiske ejendomme'!$B$3:$PN$81,'Statiske ejendomme'!$A38,FALSE))=FALSE,HLOOKUP(O$12,'Statiske ejendomme'!$B$3:$PN$81,'Statiske ejendomme'!$A38,FALSE),\"\"))),\"\")","v":-24.464375860819139},{"$f":"IFERROR(IF(P$12=Kredsudvælgelse!$Q$20,\"\",IF(Kredsudvælgelse!AG$2=1,IF(ISTEXT(DGET(Forespørgsel1[#All],\"\"&LEFT($F46,LEN($F46)-$C46)&\"\",Kredsudvælgelse!$Q$6:$R$7))=TRUE,DGET(Forespørgsel1[#All],\"\"&LEFT($F46,LEN($F46)-$C46)&\"\",Kredsudvælgelse!$Q$6:$R$7),DGET(Forespørgsel1[#All],\"\"&LEFT($F46,LEN($F46)-$C46)&\"\",Kredsudvælgelse!$Q$6:$R$7)/IF(ISNONTEXT($D46)=TRUE,1,DGET(Forespørgsel1[#All],\"\"&$D46&\"\",Kredsudvælgelse!$Q$6:$R$7))),IF(ISBLANK(HLOOKUP(P$12,'Statiske ejendomme'!$B$3:$PN$81,'Statiske ejendomme'!$A38,FALSE))=FALSE,HLOOKUP(P$12,'Statiske ejendomme'!$B$3:$PN$81,'Statiske ejendomme'!$A38,FALSE),\"\"))),\"\")","v":-23.639299964438123},{"$f":"IFERROR(IF(Q$12=Kredsudvælgelse!$Q$20,\"\",IF(Kredsudvælgelse!AH$2=1,IF(ISTEXT(DGET(Forespørgsel1[#All],\"\"&LEFT($F46,LEN($F46)-$C46)&\"\",Kredsudvælgelse!$S$6:$T$7))=TRUE,DGET(Forespørgsel1[#All],\"\"&LEFT($F46,LEN($F46)-$C46)&\"\",Kredsudvælgelse!$S$6:$T$7),DGET(Forespørgsel1[#All],\"\"&LEFT($F46,LEN($F46)-$C46)&\"\",Kredsudvælgelse!$S$6:$T$7)/IF(ISNONTEXT($D46)=TRUE,1,DGET(Forespørgsel1[#All],\"\"&$D46&\"\",Kredsudvælgelse!$S$6:$T$7))),IF(ISBLANK(HLOOKUP(Q$12,'Statiske ejendomme'!$B$3:$PN$81,'Statiske ejendomme'!$A38,FALSE))=FALSE,HLOOKUP(Q$12,'Statiske ejendomme'!$B$3:$PN$81,'Statiske ejendomme'!$A38,FALSE),\"\"))),\"\")","v":-18.215808525582151},{"$f":"IFERROR(IF(R$12=Kredsudvælgelse!$Q$20,\"\",IF(Kredsudvælgelse!AI$2=1,IF(ISTEXT(DGET(Forespørgsel1[#All],\"\"&LEFT($F46,LEN($F46)-$C46)&\"\",Kredsudvælgelse!$U$6:$V$7))=TRUE,DGET(Forespørgsel1[#All],\"\"&LEFT($F46,LEN($F46)-$C46)&\"\",Kredsudvælgelse!$U$6:$V$7),DGET(Forespørgsel1[#All],\"\"&LEFT($F46,LEN($F46)-$C46)&\"\",Kredsudvælgelse!$U$6:$V$7)/IF(ISNONTEXT($D46)=TRUE,1,DGET(Forespørgsel1[#All],\"\"&$D46&\"\",Kredsudvælgelse!$U$6:$V$7))),IF(ISBLANK(HLOOKUP(R$12,'Statiske ejendomme'!$B$3:$PN$81,'Statiske ejendomme'!$A38,FALSE))=FALSE,HLOOKUP(R$12,'Statiske ejendomme'!$B$3:$PN$81,'Statiske ejendomme'!$A38,FALSE),\"\"))),\"\")","v":-14.312056908804863},{"$f":"IFERROR(IF(S$12=Kredsudvælgelse!$Q$20,\"\",IF(Kredsudvælgelse!AJ$2=1,IF(ISTEXT(DGET(Forespørgsel1[#All],\"\"&LEFT($F46,LEN($F46)-$C46)&\"\",Kredsudvælgelse!$W$6:$X$7))=TRUE,DGET(Forespørgsel1[#All],\"\"&LEFT($F46,LEN($F46)-$C46)&\"\",Kredsudvælgelse!$W$6:$X$7),DGET(Forespørgsel1[#All],\"\"&LEFT($F46,LEN($F46)-$C46)&\"\",Kredsudvælgelse!$W$6:$X$7)/IF(ISNONTEXT($D46)=TRUE,1,DGET(Forespørgsel1[#All],\"\"&$D46&\"\",Kredsudvælgelse!$W$6:$X$7))),IF(ISBLANK(HLOOKUP(S$12,'Statiske ejendomme'!$B$3:$PN$81,'Statiske ejendomme'!$A38,FALSE))=FALSE,HLOOKUP(S$12,'Statiske ejendomme'!$B$3:$PN$81,'Statiske ejendomme'!$A38,FALSE),\"\"))),\"\")","v":""},{"$f":"IFERROR(IF(T$12=Kredsudvælgelse!$Q$20,\"\",IF(Kredsudvælgelse!AK$2=1,IF(ISTEXT(DGET(Forespørgsel1[#All],\"\"&LEFT($F46,LEN($F46)-$C46)&\"\",Kredsudvælgelse!$W$6:$X$7))=TRUE,DGET(Forespørgsel1[#All],\"\"&LEFT($F46,LEN($F46)-$C46)&\"\",Kredsudvælgelse!$W$6:$X$7),DGET(Forespørgsel1[#All],\"\"&LEFT($F46,LEN($F46)-$C46)&\"\",Kredsudvælgelse!$W$6:$X$7)/IF(ISNONTEXT($D46)=TRUE,1,DGET(Forespørgsel1[#All],\"\"&$D46&\"\",Kredsudvælgelse!$W$6:$X$7))),IF(ISBLANK(HLOOKUP(T$12,'Statiske ejendomme'!$B$3:$PN$81,'Statiske ejendomme'!$A39,FALSE))=FALSE,HLOOKUP(T$12,'Statiske ejendomme'!$B$3:$PN$81,'Statiske ejendomme'!$A39,FALSE),\"\"))),\"\")","v":""}]
[{"$f":"Mink!E118","v":1},{"$f":"Mink!D118","v":113},{"$f":"Mink!A36","v":0},{"$f":"Mink!B36","v":"Producerede skind"},null,{"$f":"Mink!C36","v":"Kapitalomkostninger i alt"},{"$f":"Mink!D36","v":-54.182551236390616},{"$f":"Mink!E36","v":-42.930640157712297},{"$f":"Mink!F36","v":""},{"$f":"Mink!G36","v":""},{"$f":"IFERROR(IF(K$12=Kredsudvælgelse!$Q$20,\"\",IF(Kredsudvælgelse!AB$2=1,IF(ISTEXT(DGET(Forespørgsel1[#All],\"\"&LEFT($F47,LEN($F47)-$C47)&\"\",Kredsudvælgelse!$Q$2:$R$3))=TRUE,DGET(Forespørgsel1[#All],\"\"&LEFT($F47,LEN($F47)-$C47)&\"\",Kredsudvælgelse!$Q$2:$R$3),DGET(Forespørgsel1[#All],\"\"&LEFT($F47,LEN($F47)-$C47)&\"\",Kredsudvælgelse!$Q$2:$R$3)/IF(ISNONTEXT($D47)=TRUE,1,DGET(Forespørgsel1[#All],\"\"&$D47&\"\",Kredsudvælgelse!$Q$2:$R$3))),IF(ISBLANK(HLOOKUP(K$12,'Statiske ejendomme'!$B$3:$PN$81,'Statiske ejendomme'!$A39,FALSE))=FALSE,HLOOKUP(K$12,'Statiske ejendomme'!$B$3:$PN$81,'Statiske ejendomme'!$A39,FALSE),\"\"))),\"\")","v":-30.898964289538494},{"$f":"IFERROR(IF(L$12=Kredsudvælgelse!$Q$20,\"\",IF(Kredsudvælgelse!AC$2=1,IF(ISTEXT(DGET(Forespørgsel1[#All],\"\"&LEFT($F47,LEN($F47)-$C47)&\"\",Kredsudvælgelse!$S$2:$T$3))=TRUE,DGET(Forespørgsel1[#All],\"\"&LEFT($F47,LEN($F47)-$C47)&\"\",Kredsudvælgelse!$S$2:$T$3),DGET(Forespørgsel1[#All],\"\"&LEFT($F47,LEN($F47)-$C47)&\"\",Kredsudvælgelse!$S$2:$T$3)/IF(ISNONTEXT($D47)=TRUE,1,DGET(Forespørgsel1[#All],\"\"&$D47&\"\",Kredsudvælgelse!$S$2:$T$3))),IF(ISBLANK(HLOOKUP(L$12,'Statiske ejendomme'!$B$3:$PN$81,'Statiske ejendomme'!$A39,FALSE))=FALSE,HLOOKUP(L$12,'Statiske ejendomme'!$B$3:$PN$81,'Statiske ejendomme'!$A39,FALSE),\"\"))),\"\")","v":-35.607776579352851},{"$f":"IFERROR(IF(M$12=Kredsudvælgelse!$Q$20,\"\",IF(Kredsudvælgelse!AD$2=1,IF(ISTEXT(DGET(Forespørgsel1[#All],\"\"&LEFT($F47,LEN($F47)-$C47)&\"\",Kredsudvælgelse!$U$2:$V$3))=TRUE,DGET(Forespørgsel1[#All],\"\"&LEFT($F47,LEN($F47)-$C47)&\"\",Kredsudvælgelse!$U$2:$V$3),DGET(Forespørgsel1[#All],\"\"&LEFT($F47,LEN($F47)-$C47)&\"\",Kredsudvælgelse!$U$2:$V$3)/IF(ISNONTEXT($D47)=TRUE,1,DGET(Forespørgsel1[#All],\"\"&$D47&\"\",Kredsudvælgelse!$U$2:$V$3))),IF(ISBLANK(HLOOKUP(M$12,'Statiske ejendomme'!$B$3:$PN$81,'Statiske ejendomme'!$A39,FALSE))=FALSE,HLOOKUP(M$12,'Statiske ejendomme'!$B$3:$PN$81,'Statiske ejendomme'!$A39,FALSE),\"\"))),\"\")","v":-41.373219711004076},{"$f":"IFERROR(IF(N$12=Kredsudvælgelse!$Q$20,\"\",IF(Kredsudvælgelse!AE$2=1,IF(ISTEXT(DGET(Forespørgsel1[#All],\"\"&LEFT($F47,LEN($F47)-$C47)&\"\",Kredsudvælgelse!$W$2:$X$3))=TRUE,DGET(Forespørgsel1[#All],\"\"&LEFT($F47,LEN($F47)-$C47)&\"\",Kredsudvælgelse!$W$2:$X$3),DGET(Forespørgsel1[#All],\"\"&LEFT($F47,LEN($F47)-$C47)&\"\",Kredsudvælgelse!$W$2:$X$3)/IF(ISNONTEXT($D47)=TRUE,1,DGET(Forespørgsel1[#All],\"\"&$D47&\"\",Kredsudvælgelse!$W$2:$X$3))),IF(ISBLANK(HLOOKUP(N$12,'Statiske ejendomme'!$B$3:$PN$81,'Statiske ejendomme'!$A39,FALSE))=FALSE,HLOOKUP(N$12,'Statiske ejendomme'!$B$3:$PN$81,'Statiske ejendomme'!$A39,FALSE),\"\"))),\"\")","v":-26.266965384615386},{"$f":"IFERROR(IF(O$12=Kredsudvælgelse!$Q$20,\"\",IF(Kredsudvælgelse!AF$2=1,IF(ISTEXT(DGET(Forespørgsel1[#All],\"\"&LEFT($F47,LEN($F47)-$C47)&\"\",Kredsudvælgelse!$Y$2:$Z$3))=TRUE,DGET(Forespørgsel1[#All],\"\"&LEFT($F47,LEN($F47)-$C47)&\"\",Kredsudvælgelse!$Y$2:$Z$3),DGET(Forespørgsel1[#All],\"\"&LEFT($F47,LEN($F47)-$C47)&\"\",Kredsudvælgelse!$Y$2:$Z$3)/IF(ISNONTEXT($D47)=TRUE,1,DGET(Forespørgsel1[#All],\"\"&$D47&\"\",Kredsudvælgelse!$Y$2:$Z$3))),IF(ISBLANK(HLOOKUP(O$12,'Statiske ejendomme'!$B$3:$PN$81,'Statiske ejendomme'!$A39,FALSE))=FALSE,HLOOKUP(O$12,'Statiske ejendomme'!$B$3:$PN$81,'Statiske ejendomme'!$A39,FALSE),\"\"))),\"\")","v":-66.436104748097137},{"$f":"IFERROR(IF(P$12=Kredsudvælgelse!$Q$20,\"\",IF(Kredsudvælgelse!AG$2=1,IF(ISTEXT(DGET(Forespørgsel1[#All],\"\"&LEFT($F47,LEN($F47)-$C47)&\"\",Kredsudvælgelse!$Q$6:$R$7))=TRUE,DGET(Forespørgsel1[#All],\"\"&LEFT($F47,LEN($F47)-$C47)&\"\",Kredsudvælgelse!$Q$6:$R$7),DGET(Forespørgsel1[#All],\"\"&LEFT($F47,LEN($F47)-$C47)&\"\",Kredsudvælgelse!$Q$6:$R$7)/IF(ISNONTEXT($D47)=TRUE,1,DGET(Forespørgsel1[#All],\"\"&$D47&\"\",Kredsudvælgelse!$Q$6:$R$7))),IF(ISBLANK(HLOOKUP(P$12,'Statiske ejendomme'!$B$3:$PN$81,'Statiske ejendomme'!$A39,FALSE))=FALSE,HLOOKUP(P$12,'Statiske ejendomme'!$B$3:$PN$81,'Statiske ejendomme'!$A39,FALSE),\"\"))),\"\")","v":-58.899470661450927},{"$f":"IFERROR(IF(Q$12=Kredsudvælgelse!$Q$20,\"\",IF(Kredsudvælgelse!AH$2=1,IF(ISTEXT(DGET(Forespørgsel1[#All],\"\"&LEFT($F47,LEN($F47)-$C47)&\"\",Kredsudvælgelse!$S$6:$T$7))=TRUE,DGET(Forespørgsel1[#All],\"\"&LEFT($F47,LEN($F47)-$C47)&\"\",Kredsudvælgelse!$S$6:$T$7),DGET(Forespørgsel1[#All],\"\"&LEFT($F47,LEN($F47)-$C47)&\"\",Kredsudvælgelse!$S$6:$T$7)/IF(ISNONTEXT($D47)=TRUE,1,DGET(Forespørgsel1[#All],\"\"&$D47&\"\",Kredsudvælgelse!$S$6:$T$7))),IF(ISBLANK(HLOOKUP(Q$12,'Statiske ejendomme'!$B$3:$PN$81,'Statiske ejendomme'!$A39,FALSE))=FALSE,HLOOKUP(Q$12,'Statiske ejendomme'!$B$3:$PN$81,'Statiske ejendomme'!$A39,FALSE),\"\"))),\"\")","v":-47.550834729050734},{"$f":"IFERROR(IF(R$12=Kredsudvælgelse!$Q$20,\"\",IF(Kredsudvælgelse!AI$2=1,IF(ISTEXT(DGET(Forespørgsel1[#All],\"\"&LEFT($F47,LEN($F47)-$C47)&\"\",Kredsudvælgelse!$U$6:$V$7))=TRUE,DGET(Forespørgsel1[#All],\"\"&LEFT($F47,LEN($F47)-$C47)&\"\",Kredsudvælgelse!$U$6:$V$7),DGET(Forespørgsel1[#All],\"\"&LEFT($F47,LEN($F47)-$C47)&\"\",Kredsudvælgelse!$U$6:$V$7)/IF(ISNONTEXT($D47)=TRUE,1,DGET(Forespørgsel1[#All],\"\"&$D47&\"\",Kredsudvælgelse!$U$6:$V$7))),IF(ISBLANK(HLOOKUP(R$12,'Statiske ejendomme'!$B$3:$PN$81,'Statiske ejendomme'!$A39,FALSE))=FALSE,HLOOKUP(R$12,'Statiske ejendomme'!$B$3:$PN$81,'Statiske ejendomme'!$A39,FALSE),\"\"))),\"\")","v":-45.279235338794557},{"$f":"IFERROR(IF(S$12=Kredsudvælgelse!$Q$20,\"\",IF(Kredsudvælgelse!AJ$2=1,IF(ISTEXT(DGET(Forespørgsel1[#All],\"\"&LEFT($F47,LEN($F47)-$C47)&\"\",Kredsudvælgelse!$W$6:$X$7))=TRUE,DGET(Forespørgsel1[#All],\"\"&LEFT($F47,LEN($F47)-$C47)&\"\",Kredsudvælgelse!$W$6:$X$7),DGET(Forespørgsel1[#All],\"\"&LEFT($F47,LEN($F47)-$C47)&\"\",Kredsudvælgelse!$W$6:$X$7)/IF(ISNONTEXT($D47)=TRUE,1,DGET(Forespørgsel1[#All],\"\"&$D47&\"\",Kredsudvælgelse!$W$6:$X$7))),IF(ISBLANK(HLOOKUP(S$12,'Statiske ejendomme'!$B$3:$PN$81,'Statiske ejendomme'!$A39,FALSE))=FALSE,HLOOKUP(S$12,'Statiske ejendomme'!$B$3:$PN$81,'Statiske ejendomme'!$A39,FALSE),\"\"))),\"\")","v":""},{"$f":"IFERROR(IF(T$12=Kredsudvælgelse!$Q$20,\"\",IF(Kredsudvælgelse!AK$2=1,IF(ISTEXT(DGET(Forespørgsel1[#All],\"\"&LEFT($F47,LEN($F47)-$C47)&\"\",Kredsudvælgelse!$W$6:$X$7))=TRUE,DGET(Forespørgsel1[#All],\"\"&LEFT($F47,LEN($F47)-$C47)&\"\",Kredsudvælgelse!$W$6:$X$7),DGET(Forespørgsel1[#All],\"\"&LEFT($F47,LEN($F47)-$C47)&\"\",Kredsudvælgelse!$W$6:$X$7)/IF(ISNONTEXT($D47)=TRUE,1,DGET(Forespørgsel1[#All],\"\"&$D47&\"\",Kredsudvælgelse!$W$6:$X$7))),IF(ISBLANK(HLOOKUP(T$12,'Statiske ejendomme'!$B$3:$PN$81,'Statiske ejendomme'!$A40,FALSE))=FALSE,HLOOKUP(T$12,'Statiske ejendomme'!$B$3:$PN$81,'Statiske ejendomme'!$A40,FALSE),\"\"))),\"\")","v":""}]
[{"$f":"Mink!E119","v":1},{"$f":"Mink!D119","v":9},{"$f":"Mink!A37","v":0},{"$f":"Mink!B37","v":0},null,{"$f":"Mink!C37","v":""},{"$f":"Mink!D37","v":""},{"$f":"Mink!E37","v":""},{"$f":"Mink!F37","v":""},{"$f":"Mink!G37","v":""},{"$f":"IFERROR(IF(K$12=Kredsudvælgelse!$Q$20,\"\",IF(Kredsudvælgelse!AB$2=1,IF(ISTEXT(DGET(Forespørgsel1[#All],\"\"&LEFT($F48,LEN($F48)-$C48)&\"\",Kredsudvælgelse!$Q$2:$R$3))=TRUE,DGET(Forespørgsel1[#All],\"\"&LEFT($F48,LEN($F48)-$C48)&\"\",Kredsudvælgelse!$Q$2:$R$3),DGET(Forespørgsel1[#All],\"\"&LEFT($F48,LEN($F48)-$C48)&\"\",Kredsudvælgelse!$Q$2:$R$3)/IF(ISNONTEXT($D48)=TRUE,1,DGET(Forespørgsel1[#All],\"\"&$D48&\"\",Kredsudvælgelse!$Q$2:$R$3))),IF(ISBLANK(HLOOKUP(K$12,'Statiske ejendomme'!$B$3:$PN$81,'Statiske ejendomme'!$A40,FALSE))=FALSE,HLOOKUP(K$12,'Statiske ejendomme'!$B$3:$PN$81,'Statiske ejendomme'!$A40,FALSE),\"\"))),\"\")","v":""},{"$f":"IFERROR(IF(L$12=Kredsudvælgelse!$Q$20,\"\",IF(Kredsudvælgelse!AC$2=1,IF(ISTEXT(DGET(Forespørgsel1[#All],\"\"&LEFT($F48,LEN($F48)-$C48)&\"\",Kredsudvælgelse!$S$2:$T$3))=TRUE,DGET(Forespørgsel1[#All],\"\"&LEFT($F48,LEN($F48)-$C48)&\"\",Kredsudvælgelse!$S$2:$T$3),DGET(Forespørgsel1[#All],\"\"&LEFT($F48,LEN($F48)-$C48)&\"\",Kredsudvælgelse!$S$2:$T$3)/IF(ISNONTEXT($D48)=TRUE,1,DGET(Forespørgsel1[#All],\"\"&$D48&\"\",Kredsudvælgelse!$S$2:$T$3))),IF(ISBLANK(HLOOKUP(L$12,'Statiske ejendomme'!$B$3:$PN$81,'Statiske ejendomme'!$A40,FALSE))=FALSE,HLOOKUP(L$12,'Statiske ejendomme'!$B$3:$PN$81,'Statiske ejendomme'!$A40,FALSE),\"\"))),\"\")","v":""},{"$f":"IFERROR(IF(M$12=Kredsudvælgelse!$Q$20,\"\",IF(Kredsudvælgelse!AD$2=1,IF(ISTEXT(DGET(Forespørgsel1[#All],\"\"&LEFT($F48,LEN($F48)-$C48)&\"\",Kredsudvælgelse!$U$2:$V$3))=TRUE,DGET(Forespørgsel1[#All],\"\"&LEFT($F48,LEN($F48)-$C48)&\"\",Kredsudvælgelse!$U$2:$V$3),DGET(Forespørgsel1[#All],\"\"&LEFT($F48,LEN($F48)-$C48)&\"\",Kredsudvælgelse!$U$2:$V$3)/IF(ISNONTEXT($D48)=TRUE,1,DGET(Forespørgsel1[#All],\"\"&$D48&\"\",Kredsudvælgelse!$U$2:$V$3))),IF(ISBLANK(HLOOKUP(M$12,'Statiske ejendomme'!$B$3:$PN$81,'Statiske ejendomme'!$A40,FALSE))=FALSE,HLOOKUP(M$12,'Statiske ejendomme'!$B$3:$PN$81,'Statiske ejendomme'!$A40,FALSE),\"\"))),\"\")","v":""},{"$f":"IFERROR(IF(N$12=Kredsudvælgelse!$Q$20,\"\",IF(Kredsudvælgelse!AE$2=1,IF(ISTEXT(DGET(Forespørgsel1[#All],\"\"&LEFT($F48,LEN($F48)-$C48)&\"\",Kredsudvælgelse!$W$2:$X$3))=TRUE,DGET(Forespørgsel1[#All],\"\"&LEFT($F48,LEN($F48)-$C48)&\"\",Kredsudvælgelse!$W$2:$X$3),DGET(Forespørgsel1[#All],\"\"&LEFT($F48,LEN($F48)-$C48)&\"\",Kredsudvælgelse!$W$2:$X$3)/IF(ISNONTEXT($D48)=TRUE,1,DGET(Forespørgsel1[#All],\"\"&$D48&\"\",Kredsudvælgelse!$W$2:$X$3))),IF(ISBLANK(HLOOKUP(N$12,'Statiske ejendomme'!$B$3:$PN$81,'Statiske ejendomme'!$A40,FALSE))=FALSE,HLOOKUP(N$12,'Statiske ejendomme'!$B$3:$PN$81,'Statiske ejendomme'!$A40,FALSE),\"\"))),\"\")","v":""},{"$f":"IFERROR(IF(O$12=Kredsudvælgelse!$Q$20,\"\",IF(Kredsudvælgelse!AF$2=1,IF(ISTEXT(DGET(Forespørgsel1[#All],\"\"&LEFT($F48,LEN($F48)-$C48)&\"\",Kredsudvælgelse!$Y$2:$Z$3))=TRUE,DGET(Forespørgsel1[#All],\"\"&LEFT($F48,LEN($F48)-$C48)&\"\",Kredsudvælgelse!$Y$2:$Z$3),DGET(Forespørgsel1[#All],\"\"&LEFT($F48,LEN($F48)-$C48)&\"\",Kredsudvælgelse!$Y$2:$Z$3)/IF(ISNONTEXT($D48)=TRUE,1,DGET(Forespørgsel1[#All],\"\"&$D48&\"\",Kredsudvælgelse!$Y$2:$Z$3))),IF(ISBLANK(HLOOKUP(O$12,'Statiske ejendomme'!$B$3:$PN$81,'Statiske ejendomme'!$A40,FALSE))=FALSE,HLOOKUP(O$12,'Statiske ejendomme'!$B$3:$PN$81,'Statiske ejendomme'!$A40,FALSE),\"\"))),\"\")","v":""},{"$f":"IFERROR(IF(P$12=Kredsudvælgelse!$Q$20,\"\",IF(Kredsudvælgelse!AG$2=1,IF(ISTEXT(DGET(Forespørgsel1[#All],\"\"&LEFT($F48,LEN($F48)-$C48)&\"\",Kredsudvælgelse!$Q$6:$R$7))=TRUE,DGET(Forespørgsel1[#All],\"\"&LEFT($F48,LEN($F48)-$C48)&\"\",Kredsudvælgelse!$Q$6:$R$7),DGET(Forespørgsel1[#All],\"\"&LEFT($F48,LEN($F48)-$C48)&\"\",Kredsudvælgelse!$Q$6:$R$7)/IF(ISNONTEXT($D48)=TRUE,1,DGET(Forespørgsel1[#All],\"\"&$D48&\"\",Kredsudvælgelse!$Q$6:$R$7))),IF(ISBLANK(HLOOKUP(P$12,'Statiske ejendomme'!$B$3:$PN$81,'Statiske ejendomme'!$A40,FALSE))=FALSE,HLOOKUP(P$12,'Statiske ejendomme'!$B$3:$PN$81,'Statiske ejendomme'!$A40,FALSE),\"\"))),\"\")","v":""},{"$f":"IFERROR(IF(Q$12=Kredsudvælgelse!$Q$20,\"\",IF(Kredsudvælgelse!AH$2=1,IF(ISTEXT(DGET(Forespørgsel1[#All],\"\"&LEFT($F48,LEN($F48)-$C48)&\"\",Kredsudvælgelse!$S$6:$T$7))=TRUE,DGET(Forespørgsel1[#All],\"\"&LEFT($F48,LEN($F48)-$C48)&\"\",Kredsudvælgelse!$S$6:$T$7),DGET(Forespørgsel1[#All],\"\"&LEFT($F48,LEN($F48)-$C48)&\"\",Kredsudvælgelse!$S$6:$T$7)/IF(ISNONTEXT($D48)=TRUE,1,DGET(Forespørgsel1[#All],\"\"&$D48&\"\",Kredsudvælgelse!$S$6:$T$7))),IF(ISBLANK(HLOOKUP(Q$12,'Statiske ejendomme'!$B$3:$PN$81,'Statiske ejendomme'!$A40,FALSE))=FALSE,HLOOKUP(Q$12,'Statiske ejendomme'!$B$3:$PN$81,'Statiske ejendomme'!$A40,FALSE),\"\"))),\"\")","v":""},{"$f":"IFERROR(IF(R$12=Kredsudvælgelse!$Q$20,\"\",IF(Kredsudvælgelse!AI$2=1,IF(ISTEXT(DGET(Forespørgsel1[#All],\"\"&LEFT($F48,LEN($F48)-$C48)&\"\",Kredsudvælgelse!$U$6:$V$7))=TRUE,DGET(Forespørgsel1[#All],\"\"&LEFT($F48,LEN($F48)-$C48)&\"\",Kredsudvælgelse!$U$6:$V$7),DGET(Forespørgsel1[#All],\"\"&LEFT($F48,LEN($F48)-$C48)&\"\",Kredsudvælgelse!$U$6:$V$7)/IF(ISNONTEXT($D48)=TRUE,1,DGET(Forespørgsel1[#All],\"\"&$D48&\"\",Kredsudvælgelse!$U$6:$V$7))),IF(ISBLANK(HLOOKUP(R$12,'Statiske ejendomme'!$B$3:$PN$81,'Statiske ejendomme'!$A40,FALSE))=FALSE,HLOOKUP(R$12,'Statiske ejendomme'!$B$3:$PN$81,'Statiske ejendomme'!$A40,FALSE),\"\"))),\"\")","v":""},{"$f":"IFERROR(IF(S$12=Kredsudvælgelse!$Q$20,\"\",IF(Kredsudvælgelse!AJ$2=1,IF(ISTEXT(DGET(Forespørgsel1[#All],\"\"&LEFT($F48,LEN($F48)-$C48)&\"\",Kredsudvælgelse!$W$6:$X$7))=TRUE,DGET(Forespørgsel1[#All],\"\"&LEFT($F48,LEN($F48)-$C48)&\"\",Kredsudvælgelse!$W$6:$X$7),DGET(Forespørgsel1[#All],\"\"&LEFT($F48,LEN($F48)-$C48)&\"\",Kredsudvælgelse!$W$6:$X$7)/IF(ISNONTEXT($D48)=TRUE,1,DGET(Forespørgsel1[#All],\"\"&$D48&\"\",Kredsudvælgelse!$W$6:$X$7))),IF(ISBLANK(HLOOKUP(S$12,'Statiske ejendomme'!$B$3:$PN$81,'Statiske ejendomme'!$A40,FALSE))=FALSE,HLOOKUP(S$12,'Statiske ejendomme'!$B$3:$PN$81,'Statiske ejendomme'!$A40,FALSE),\"\"))),\"\")","v":""},{"$f":"IFERROR(IF(T$12=Kredsudvælgelse!$Q$20,\"\",IF(Kredsudvælgelse!AK$2=1,IF(ISTEXT(DGET(Forespørgsel1[#All],\"\"&LEFT($F48,LEN($F48)-$C48)&\"\",Kredsudvælgelse!$W$6:$X$7))=TRUE,DGET(Forespørgsel1[#All],\"\"&LEFT($F48,LEN($F48)-$C48)&\"\",Kredsudvælgelse!$W$6:$X$7),DGET(Forespørgsel1[#All],\"\"&LEFT($F48,LEN($F48)-$C48)&\"\",Kredsudvælgelse!$W$6:$X$7)/IF(ISNONTEXT($D48)=TRUE,1,DGET(Forespørgsel1[#All],\"\"&$D48&\"\",Kredsudvælgelse!$W$6:$X$7))),IF(ISBLANK(HLOOKUP(T$12,'Statiske ejendomme'!$B$3:$PN$81,'Statiske ejendomme'!$A41,FALSE))=FALSE,HLOOKUP(T$12,'Statiske ejendomme'!$B$3:$PN$81,'Statiske ejendomme'!$A41,FALSE),\"\"))),\"\")","v":""}]
[{"$f":"Mink!E120","v":1},{"$f":"Mink!D120","v":113},{"$f":"Mink!A38","v":0},{"$f":"Mink!B38","v":"Producerede skind"},null,{"$f":"Mink!C38","v":"Årets resultat"},{"$f":"Mink!D38","v":64.63200743604358},{"$f":"Mink!E38","v":149.19152418652172},{"$f":"Mink!F38","v":""},{"$f":"Mink!G38","v":""},{"$f":"IFERROR(IF(K$12=Kredsudvælgelse!$Q$20,\"\",IF(Kredsudvælgelse!AB$2=1,IF(ISTEXT(DGET(Forespørgsel1[#All],\"\"&LEFT($F49,LEN($F49)-$C49)&\"\",Kredsudvælgelse!$Q$2:$R$3))=TRUE,DGET(Forespørgsel1[#All],\"\"&LEFT($F49,LEN($F49)-$C49)&\"\",Kredsudvælgelse!$Q$2:$R$3),DGET(Forespørgsel1[#All],\"\"&LEFT($F49,LEN($F49)-$C49)&\"\",Kredsudvælgelse!$Q$2:$R$3)/IF(ISNONTEXT($D49)=TRUE,1,DGET(Forespørgsel1[#All],\"\"&$D49&\"\",Kredsudvælgelse!$Q$2:$R$3))),IF(ISBLANK(HLOOKUP(K$12,'Statiske ejendomme'!$B$3:$PN$81,'Statiske ejendomme'!$A41,FALSE))=FALSE,HLOOKUP(K$12,'Statiske ejendomme'!$B$3:$PN$81,'Statiske ejendomme'!$A41,FALSE),\"\"))),\"\")","v":199.66533595674056},{"$f":"IFERROR(IF(L$12=Kredsudvælgelse!$Q$20,\"\",IF(Kredsudvælgelse!AC$2=1,IF(ISTEXT(DGET(Forespørgsel1[#All],\"\"&LEFT($F49,LEN($F49)-$C49)&\"\",Kredsudvælgelse!$S$2:$T$3))=TRUE,DGET(Forespørgsel1[#All],\"\"&LEFT($F49,LEN($F49)-$C49)&\"\",Kredsudvælgelse!$S$2:$T$3),DGET(Forespørgsel1[#All],\"\"&LEFT($F49,LEN($F49)-$C49)&\"\",Kredsudvælgelse!$S$2:$T$3)/IF(ISNONTEXT($D49)=TRUE,1,DGET(Forespørgsel1[#All],\"\"&$D49&\"\",Kredsudvælgelse!$S$2:$T$3))),IF(ISBLANK(HLOOKUP(L$12,'Statiske ejendomme'!$B$3:$PN$81,'Statiske ejendomme'!$A41,FALSE))=FALSE,HLOOKUP(L$12,'Statiske ejendomme'!$B$3:$PN$81,'Statiske ejendomme'!$A41,FALSE),\"\"))),\"\")","v":180.87933179250129},{"$f":"IFERROR(IF(M$12=Kredsudvælgelse!$Q$20,\"\",IF(Kredsudvælgelse!AD$2=1,IF(ISTEXT(DGET(Forespørgsel1[#All],\"\"&LEFT($F49,LEN($F49)-$C49)&\"\",Kredsudvælgelse!$U$2:$V$3))=TRUE,DGET(Forespørgsel1[#All],\"\"&LEFT($F49,LEN($F49)-$C49)&\"\",Kredsudvælgelse!$U$2:$V$3),DGET(Forespørgsel1[#All],\"\"&LEFT($F49,LEN($F49)-$C49)&\"\",Kredsudvælgelse!$U$2:$V$3)/IF(ISNONTEXT($D49)=TRUE,1,DGET(Forespørgsel1[#All],\"\"&$D49&\"\",Kredsudvælgelse!$U$2:$V$3))),IF(ISBLANK(HLOOKUP(M$12,'Statiske ejendomme'!$B$3:$PN$81,'Statiske ejendomme'!$A41,FALSE))=FALSE,HLOOKUP(M$12,'Statiske ejendomme'!$B$3:$PN$81,'Statiske ejendomme'!$A41,FALSE),\"\"))),\"\")","v":164.54341608002963},{"$f":"IFERROR(IF(N$12=Kredsudvælgelse!$Q$20,\"\",IF(Kredsudvælgelse!AE$2=1,IF(ISTEXT(DGET(Forespørgsel1[#All],\"\"&LEFT($F49,LEN($F49)-$C49)&\"\",Kredsudvælgelse!$W$2:$X$3))=TRUE,DGET(Forespørgsel1[#All],\"\"&LEFT($F49,LEN($F49)-$C49)&\"\",Kredsudvælgelse!$W$2:$X$3),DGET(Forespørgsel1[#All],\"\"&LEFT($F49,LEN($F49)-$C49)&\"\",Kredsudvælgelse!$W$2:$X$3)/IF(ISNONTEXT($D49)=TRUE,1,DGET(Forespørgsel1[#All],\"\"&$D49&\"\",Kredsudvælgelse!$W$2:$X$3))),IF(ISBLANK(HLOOKUP(N$12,'Statiske ejendomme'!$B$3:$PN$81,'Statiske ejendomme'!$A41,FALSE))=FALSE,HLOOKUP(N$12,'Statiske ejendomme'!$B$3:$PN$81,'Statiske ejendomme'!$A41,FALSE),\"\"))),\"\")","v":161.07440824175825},{"$f":"IFERROR(IF(O$12=Kredsudvælgelse!$Q$20,\"\",IF(Kredsudvælgelse!AF$2=1,IF(ISTEXT(DGET(Forespørgsel1[#All],\"\"&LEFT($F49,LEN($F49)-$C49)&\"\",Kredsudvælgelse!$Y$2:$Z$3))=TRUE,DGET(Forespørgsel1[#All],\"\"&LEFT($F49,LEN($F49)-$C49)&\"\",Kredsudvælgelse!$Y$2:$Z$3),DGET(Forespørgsel1[#All],\"\"&LEFT($F49,LEN($F49)-$C49)&\"\",Kredsudvælgelse!$Y$2:$Z$3)/IF(ISNONTEXT($D49)=TRUE,1,DGET(Forespørgsel1[#All],\"\"&$D49&\"\",Kredsudvælgelse!$Y$2:$Z$3))),IF(ISBLANK(HLOOKUP(O$12,'Statiske ejendomme'!$B$3:$PN$81,'Statiske ejendomme'!$A41,FALSE))=FALSE,HLOOKUP(O$12,'Statiske ejendomme'!$B$3:$PN$81,'Statiske ejendomme'!$A41,FALSE),\"\"))),\"\")","v":142.88865059804277},{"$f":"IFERROR(IF(P$12=Kredsudvælgelse!$Q$20,\"\",IF(Kredsudvælgelse!AG$2=1,IF(ISTEXT(DGET(Forespørgsel1[#All],\"\"&LEFT($F49,LEN($F49)-$C49)&\"\",Kredsudvælgelse!$Q$6:$R$7))=TRUE,DGET(Forespørgsel1[#All],\"\"&LEFT($F49,LEN($F49)-$C49)&\"\",Kredsudvælgelse!$Q$6:$R$7),DGET(Forespørgsel1[#All],\"\"&LEFT($F49,LEN($F49)-$C49)&\"\",Kredsudvælgelse!$Q$6:$R$7)/IF(ISNONTEXT($D49)=TRUE,1,DGET(Forespørgsel1[#All],\"\"&$D49&\"\",Kredsudvælgelse!$Q$6:$R$7))),IF(ISBLANK(HLOOKUP(P$12,'Statiske ejendomme'!$B$3:$PN$81,'Statiske ejendomme'!$A41,FALSE))=FALSE,HLOOKUP(P$12,'Statiske ejendomme'!$B$3:$PN$81,'Statiske ejendomme'!$A41,FALSE),\"\"))),\"\")","v":154.13925622332857},{"$f":"IFERROR(IF(Q$12=Kredsudvælgelse!$Q$20,\"\",IF(Kredsudvælgelse!AH$2=1,IF(ISTEXT(DGET(Forespørgsel1[#All],\"\"&LEFT($F49,LEN($F49)-$C49)&\"\",Kredsudvælgelse!$S$6:$T$7))=TRUE,DGET(Forespørgsel1[#All],\"\"&LEFT($F49,LEN($F49)-$C49)&\"\",Kredsudvælgelse!$S$6:$T$7),DGET(Forespørgsel1[#All],\"\"&LEFT($F49,LEN($F49)-$C49)&\"\",Kredsudvælgelse!$S$6:$T$7)/IF(ISNONTEXT($D49)=TRUE,1,DGET(Forespørgsel1[#All],\"\"&$D49&\"\",Kredsudvælgelse!$S$6:$T$7))),IF(ISBLANK(HLOOKUP(Q$12,'Statiske ejendomme'!$B$3:$PN$81,'Statiske ejendomme'!$A41,FALSE))=FALSE,HLOOKUP(Q$12,'Statiske ejendomme'!$B$3:$PN$81,'Statiske ejendomme'!$A41,FALSE),\"\"))),\"\")","v":116.19901669458102},{"$f":"IFERROR(IF(R$12=Kredsudvælgelse!$Q$20,\"\",IF(Kredsudvælgelse!AI$2=1,IF(ISTEXT(DGET(Forespørgsel1[#All],\"\"&LEFT($F49,LEN($F49)-$C49)&\"\",Kredsudvælgelse!$U$6:$V$7))=TRUE,DGET(Forespørgsel1[#All],\"\"&LEFT($F49,LEN($F49)-$C49)&\"\",Kredsudvælgelse!$U$6:$V$7),DGET(Forespørgsel1[#All],\"\"&LEFT($F49,LEN($F49)-$C49)&\"\",Kredsudvælgelse!$U$6:$V$7)/IF(ISNONTEXT($D49)=TRUE,1,DGET(Forespørgsel1[#All],\"\"&$D49&\"\",Kredsudvælgelse!$U$6:$V$7))),IF(ISBLANK(HLOOKUP(R$12,'Statiske ejendomme'!$B$3:$PN$81,'Statiske ejendomme'!$A41,FALSE))=FALSE,HLOOKUP(R$12,'Statiske ejendomme'!$B$3:$PN$81,'Statiske ejendomme'!$A41,FALSE),\"\"))),\"\")","v":116.13333993381436},{"$f":"IFERROR(IF(S$12=Kredsudvælgelse!$Q$20,\"\",IF(Kredsudvælgelse!AJ$2=1,IF(ISTEXT(DGET(Forespørgsel1[#All],\"\"&LEFT($F49,LEN($F49)-$C49)&\"\",Kredsudvælgelse!$W$6:$X$7))=TRUE,DGET(Forespørgsel1[#All],\"\"&LEFT($F49,LEN($F49)-$C49)&\"\",Kredsudvælgelse!$W$6:$X$7),DGET(Forespørgsel1[#All],\"\"&LEFT($F49,LEN($F49)-$C49)&\"\",Kredsudvælgelse!$W$6:$X$7)/IF(ISNONTEXT($D49)=TRUE,1,DGET(Forespørgsel1[#All],\"\"&$D49&\"\",Kredsudvælgelse!$W$6:$X$7))),IF(ISBLANK(HLOOKUP(S$12,'Statiske ejendomme'!$B$3:$PN$81,'Statiske ejendomme'!$A41,FALSE))=FALSE,HLOOKUP(S$12,'Statiske ejendomme'!$B$3:$PN$81,'Statiske ejendomme'!$A41,FALSE),\"\"))),\"\")","v":""},{"$f":"IFERROR(IF(T$12=Kredsudvælgelse!$Q$20,\"\",IF(Kredsudvælgelse!AK$2=1,IF(ISTEXT(DGET(Forespørgsel1[#All],\"\"&LEFT($F49,LEN($F49)-$C49)&\"\",Kredsudvælgelse!$W$6:$X$7))=TRUE,DGET(Forespørgsel1[#All],\"\"&LEFT($F49,LEN($F49)-$C49)&\"\",Kredsudvælgelse!$W$6:$X$7),DGET(Forespørgsel1[#All],\"\"&LEFT($F49,LEN($F49)-$C49)&\"\",Kredsudvælgelse!$W$6:$X$7)/IF(ISNONTEXT($D49)=TRUE,1,DGET(Forespørgsel1[#All],\"\"&$D49&\"\",Kredsudvælgelse!$W$6:$X$7))),IF(ISBLANK(HLOOKUP(T$12,'Statiske ejendomme'!$B$3:$PN$81,'Statiske ejendomme'!$A42,FALSE))=FALSE,HLOOKUP(T$12,'Statiske ejendomme'!$B$3:$PN$81,'Statiske ejendomme'!$A42,FALSE),\"\"))),\"\")","v":""}]
[{"$f":"Mink!E121","v":1},{"$f":"Mink!D121","v":9},{"$f":"Mink!A39","v":0},{"$f":"Mink!B39","v":0},null,{"$f":"Mink!C39","v":""},{"$f":"Mink!D39","v":""},{"$f":"Mink!E39","v":""},{"$f":"Mink!F39","v":""},{"$f":"Mink!G39","v":""},{"$f":"IFERROR(IF(K$12=Kredsudvælgelse!$Q$20,\"\",IF(Kredsudvælgelse!AB$2=1,IF(ISTEXT(DGET(Forespørgsel1[#All],\"\"&LEFT($F50,LEN($F50)-$C50)&\"\",Kredsudvælgelse!$Q$2:$R$3))=TRUE,DGET(Forespørgsel1[#All],\"\"&LEFT($F50,LEN($F50)-$C50)&\"\",Kredsudvælgelse!$Q$2:$R$3),DGET(Forespørgsel1[#All],\"\"&LEFT($F50,LEN($F50)-$C50)&\"\",Kredsudvælgelse!$Q$2:$R$3)/IF(ISNONTEXT($D50)=TRUE,1,DGET(Forespørgsel1[#All],\"\"&$D50&\"\",Kredsudvælgelse!$Q$2:$R$3))),IF(ISBLANK(HLOOKUP(K$12,'Statiske ejendomme'!$B$3:$PN$81,'Statiske ejendomme'!$A42,FALSE))=FALSE,HLOOKUP(K$12,'Statiske ejendomme'!$B$3:$PN$81,'Statiske ejendomme'!$A42,FALSE),\"\"))),\"\")","v":""},{"$f":"IFERROR(IF(L$12=Kredsudvælgelse!$Q$20,\"\",IF(Kredsudvælgelse!AC$2=1,IF(ISTEXT(DGET(Forespørgsel1[#All],\"\"&LEFT($F50,LEN($F50)-$C50)&\"\",Kredsudvælgelse!$S$2:$T$3))=TRUE,DGET(Forespørgsel1[#All],\"\"&LEFT($F50,LEN($F50)-$C50)&\"\",Kredsudvælgelse!$S$2:$T$3),DGET(Forespørgsel1[#All],\"\"&LEFT($F50,LEN($F50)-$C50)&\"\",Kredsudvælgelse!$S$2:$T$3)/IF(ISNONTEXT($D50)=TRUE,1,DGET(Forespørgsel1[#All],\"\"&$D50&\"\",Kredsudvælgelse!$S$2:$T$3))),IF(ISBLANK(HLOOKUP(L$12,'Statiske ejendomme'!$B$3:$PN$81,'Statiske ejendomme'!$A42,FALSE))=FALSE,HLOOKUP(L$12,'Statiske ejendomme'!$B$3:$PN$81,'Statiske ejendomme'!$A42,FALSE),\"\"))),\"\")","v":""},{"$f":"IFERROR(IF(M$12=Kredsudvælgelse!$Q$20,\"\",IF(Kredsudvælgelse!AD$2=1,IF(ISTEXT(DGET(Forespørgsel1[#All],\"\"&LEFT($F50,LEN($F50)-$C50)&\"\",Kredsudvælgelse!$U$2:$V$3))=TRUE,DGET(Forespørgsel1[#All],\"\"&LEFT($F50,LEN($F50)-$C50)&\"\",Kredsudvælgelse!$U$2:$V$3),DGET(Forespørgsel1[#All],\"\"&LEFT($F50,LEN($F50)-$C50)&\"\",Kredsudvælgelse!$U$2:$V$3)/IF(ISNONTEXT($D50)=TRUE,1,DGET(Forespørgsel1[#All],\"\"&$D50&\"\",Kredsudvælgelse!$U$2:$V$3))),IF(ISBLANK(HLOOKUP(M$12,'Statiske ejendomme'!$B$3:$PN$81,'Statiske ejendomme'!$A42,FALSE))=FALSE,HLOOKUP(M$12,'Statiske ejendomme'!$B$3:$PN$81,'Statiske ejendomme'!$A42,FALSE),\"\"))),\"\")","v":""},{"$f":"IFERROR(IF(N$12=Kredsudvælgelse!$Q$20,\"\",IF(Kredsudvælgelse!AE$2=1,IF(ISTEXT(DGET(Forespørgsel1[#All],\"\"&LEFT($F50,LEN($F50)-$C50)&\"\",Kredsudvælgelse!$W$2:$X$3))=TRUE,DGET(Forespørgsel1[#All],\"\"&LEFT($F50,LEN($F50)-$C50)&\"\",Kredsudvælgelse!$W$2:$X$3),DGET(Forespørgsel1[#All],\"\"&LEFT($F50,LEN($F50)-$C50)&\"\",Kredsudvælgelse!$W$2:$X$3)/IF(ISNONTEXT($D50)=TRUE,1,DGET(Forespørgsel1[#All],\"\"&$D50&\"\",Kredsudvælgelse!$W$2:$X$3))),IF(ISBLANK(HLOOKUP(N$12,'Statiske ejendomme'!$B$3:$PN$81,'Statiske ejendomme'!$A42,FALSE))=FALSE,HLOOKUP(N$12,'Statiske ejendomme'!$B$3:$PN$81,'Statiske ejendomme'!$A42,FALSE),\"\"))),\"\")","v":""},{"$f":"IFERROR(IF(O$12=Kredsudvælgelse!$Q$20,\"\",IF(Kredsudvælgelse!AF$2=1,IF(ISTEXT(DGET(Forespørgsel1[#All],\"\"&LEFT($F50,LEN($F50)-$C50)&\"\",Kredsudvælgelse!$Y$2:$Z$3))=TRUE,DGET(Forespørgsel1[#All],\"\"&LEFT($F50,LEN($F50)-$C50)&\"\",Kredsudvælgelse!$Y$2:$Z$3),DGET(Forespørgsel1[#All],\"\"&LEFT($F50,LEN($F50)-$C50)&\"\",Kredsudvælgelse!$Y$2:$Z$3)/IF(ISNONTEXT($D50)=TRUE,1,DGET(Forespørgsel1[#All],\"\"&$D50&\"\",Kredsudvælgelse!$Y$2:$Z$3))),IF(ISBLANK(HLOOKUP(O$12,'Statiske ejendomme'!$B$3:$PN$81,'Statiske ejendomme'!$A42,FALSE))=FALSE,HLOOKUP(O$12,'Statiske ejendomme'!$B$3:$PN$81,'Statiske ejendomme'!$A42,FALSE),\"\"))),\"\")","v":""},{"$f":"IFERROR(IF(P$12=Kredsudvælgelse!$Q$20,\"\",IF(Kredsudvælgelse!AG$2=1,IF(ISTEXT(DGET(Forespørgsel1[#All],\"\"&LEFT($F50,LEN($F50)-$C50)&\"\",Kredsudvælgelse!$Q$6:$R$7))=TRUE,DGET(Forespørgsel1[#All],\"\"&LEFT($F50,LEN($F50)-$C50)&\"\",Kredsudvælgelse!$Q$6:$R$7),DGET(Forespørgsel1[#All],\"\"&LEFT($F50,LEN($F50)-$C50)&\"\",Kredsudvælgelse!$Q$6:$R$7)/IF(ISNONTEXT($D50)=TRUE,1,DGET(Forespørgsel1[#All],\"\"&$D50&\"\",Kredsudvælgelse!$Q$6:$R$7))),IF(ISBLANK(HLOOKUP(P$12,'Statiske ejendomme'!$B$3:$PN$81,'Statiske ejendomme'!$A42,FALSE))=FALSE,HLOOKUP(P$12,'Statiske ejendomme'!$B$3:$PN$81,'Statiske ejendomme'!$A42,FALSE),\"\"))),\"\")","v":""},{"$f":"IFERROR(IF(Q$12=Kredsudvælgelse!$Q$20,\"\",IF(Kredsudvælgelse!AH$2=1,IF(ISTEXT(DGET(Forespørgsel1[#All],\"\"&LEFT($F50,LEN($F50)-$C50)&\"\",Kredsudvælgelse!$S$6:$T$7))=TRUE,DGET(Forespørgsel1[#All],\"\"&LEFT($F50,LEN($F50)-$C50)&\"\",Kredsudvælgelse!$S$6:$T$7),DGET(Forespørgsel1[#All],\"\"&LEFT($F50,LEN($F50)-$C50)&\"\",Kredsudvælgelse!$S$6:$T$7)/IF(ISNONTEXT($D50)=TRUE,1,DGET(Forespørgsel1[#All],\"\"&$D50&\"\",Kredsudvælgelse!$S$6:$T$7))),IF(ISBLANK(HLOOKUP(Q$12,'Statiske ejendomme'!$B$3:$PN$81,'Statiske ejendomme'!$A42,FALSE))=FALSE,HLOOKUP(Q$12,'Statiske ejendomme'!$B$3:$PN$81,'Statiske ejendomme'!$A42,FALSE),\"\"))),\"\")","v":""},{"$f":"IFERROR(IF(R$12=Kredsudvælgelse!$Q$20,\"\",IF(Kredsudvælgelse!AI$2=1,IF(ISTEXT(DGET(Forespørgsel1[#All],\"\"&LEFT($F50,LEN($F50)-$C50)&\"\",Kredsudvælgelse!$U$6:$V$7))=TRUE,DGET(Forespørgsel1[#All],\"\"&LEFT($F50,LEN($F50)-$C50)&\"\",Kredsudvælgelse!$U$6:$V$7),DGET(Forespørgsel1[#All],\"\"&LEFT($F50,LEN($F50)-$C50)&\"\",Kredsudvælgelse!$U$6:$V$7)/IF(ISNONTEXT($D50)=TRUE,1,DGET(Forespørgsel1[#All],\"\"&$D50&\"\",Kredsudvælgelse!$U$6:$V$7))),IF(ISBLANK(HLOOKUP(R$12,'Statiske ejendomme'!$B$3:$PN$81,'Statiske ejendomme'!$A42,FALSE))=FALSE,HLOOKUP(R$12,'Statiske ejendomme'!$B$3:$PN$81,'Statiske ejendomme'!$A42,FALSE),\"\"))),\"\")","v":""},{"$f":"IFERROR(IF(S$12=Kredsudvælgelse!$Q$20,\"\",IF(Kredsudvælgelse!AJ$2=1,IF(ISTEXT(DGET(Forespørgsel1[#All],\"\"&LEFT($F50,LEN($F50)-$C50)&\"\",Kredsudvælgelse!$W$6:$X$7))=TRUE,DGET(Forespørgsel1[#All],\"\"&LEFT($F50,LEN($F50)-$C50)&\"\",Kredsudvælgelse!$W$6:$X$7),DGET(Forespørgsel1[#All],\"\"&LEFT($F50,LEN($F50)-$C50)&\"\",Kredsudvælgelse!$W$6:$X$7)/IF(ISNONTEXT($D50)=TRUE,1,DGET(Forespørgsel1[#All],\"\"&$D50&\"\",Kredsudvælgelse!$W$6:$X$7))),IF(ISBLANK(HLOOKUP(S$12,'Statiske ejendomme'!$B$3:$PN$81,'Statiske ejendomme'!$A42,FALSE))=FALSE,HLOOKUP(S$12,'Statiske ejendomme'!$B$3:$PN$81,'Statiske ejendomme'!$A42,FALSE),\"\"))),\"\")","v":""},{"$f":"IFERROR(IF(T$12=Kredsudvælgelse!$Q$20,\"\",IF(Kredsudvælgelse!AK$2=1,IF(ISTEXT(DGET(Forespørgsel1[#All],\"\"&LEFT($F50,LEN($F50)-$C50)&\"\",Kredsudvælgelse!$W$6:$X$7))=TRUE,DGET(Forespørgsel1[#All],\"\"&LEFT($F50,LEN($F50)-$C50)&\"\",Kredsudvælgelse!$W$6:$X$7),DGET(Forespørgsel1[#All],\"\"&LEFT($F50,LEN($F50)-$C50)&\"\",Kredsudvælgelse!$W$6:$X$7)/IF(ISNONTEXT($D50)=TRUE,1,DGET(Forespørgsel1[#All],\"\"&$D50&\"\",Kredsudvælgelse!$W$6:$X$7))),IF(ISBLANK(HLOOKUP(T$12,'Statiske ejendomme'!$B$3:$PN$81,'Statiske ejendomme'!$A43,FALSE))=FALSE,HLOOKUP(T$12,'Statiske ejendomme'!$B$3:$PN$81,'Statiske ejendomme'!$A43,FALSE),\"\"))),\"\")","v":""}]
[{"$f":"Mink!E122","v":1},{"$f":"Mink!D122","v":111},{"$f":"Mink!A40","v":0},{"$f":"Mink!B40","v":0},null,{"$f":"Mink!C40","v":"Nøgletal"},{"$f":"Mink!D40","v":""},{"$f":"Mink!E40","v":""},{"$f":"Mink!F40","v":""},{"$f":"Mink!G40","v":""},{"$f":"IFERROR(IF(K$12=Kredsudvælgelse!$Q$20,\"\",IF(Kredsudvælgelse!AB$2=1,IF(ISTEXT(DGET(Forespørgsel1[#All],\"\"&LEFT($F51,LEN($F51)-$C51)&\"\",Kredsudvælgelse!$Q$2:$R$3))=TRUE,DGET(Forespørgsel1[#All],\"\"&LEFT($F51,LEN($F51)-$C51)&\"\",Kredsudvælgelse!$Q$2:$R$3),DGET(Forespørgsel1[#All],\"\"&LEFT($F51,LEN($F51)-$C51)&\"\",Kredsudvælgelse!$Q$2:$R$3)/IF(ISNONTEXT($D51)=TRUE,1,DGET(Forespørgsel1[#All],\"\"&$D51&\"\",Kredsudvælgelse!$Q$2:$R$3))),IF(ISBLANK(HLOOKUP(K$12,'Statiske ejendomme'!$B$3:$PN$81,'Statiske ejendomme'!$A43,FALSE))=FALSE,HLOOKUP(K$12,'Statiske ejendomme'!$B$3:$PN$81,'Statiske ejendomme'!$A43,FALSE),\"\"))),\"\")","v":""},{"$f":"IFERROR(IF(L$12=Kredsudvælgelse!$Q$20,\"\",IF(Kredsudvælgelse!AC$2=1,IF(ISTEXT(DGET(Forespørgsel1[#All],\"\"&LEFT($F51,LEN($F51)-$C51)&\"\",Kredsudvælgelse!$S$2:$T$3))=TRUE,DGET(Forespørgsel1[#All],\"\"&LEFT($F51,LEN($F51)-$C51)&\"\",Kredsudvælgelse!$S$2:$T$3),DGET(Forespørgsel1[#All],\"\"&LEFT($F51,LEN($F51)-$C51)&\"\",Kredsudvælgelse!$S$2:$T$3)/IF(ISNONTEXT($D51)=TRUE,1,DGET(Forespørgsel1[#All],\"\"&$D51&\"\",Kredsudvælgelse!$S$2:$T$3))),IF(ISBLANK(HLOOKUP(L$12,'Statiske ejendomme'!$B$3:$PN$81,'Statiske ejendomme'!$A43,FALSE))=FALSE,HLOOKUP(L$12,'Statiske ejendomme'!$B$3:$PN$81,'Statiske ejendomme'!$A43,FALSE),\"\"))),\"\")","v":""},{"$f":"IFERROR(IF(M$12=Kredsudvælgelse!$Q$20,\"\",IF(Kredsudvælgelse!AD$2=1,IF(ISTEXT(DGET(Forespørgsel1[#All],\"\"&LEFT($F51,LEN($F51)-$C51)&\"\",Kredsudvælgelse!$U$2:$V$3))=TRUE,DGET(Forespørgsel1[#All],\"\"&LEFT($F51,LEN($F51)-$C51)&\"\",Kredsudvælgelse!$U$2:$V$3),DGET(Forespørgsel1[#All],\"\"&LEFT($F51,LEN($F51)-$C51)&\"\",Kredsudvælgelse!$U$2:$V$3)/IF(ISNONTEXT($D51)=TRUE,1,DGET(Forespørgsel1[#All],\"\"&$D51&\"\",Kredsudvælgelse!$U$2:$V$3))),IF(ISBLANK(HLOOKUP(M$12,'Statiske ejendomme'!$B$3:$PN$81,'Statiske ejendomme'!$A43,FALSE))=FALSE,HLOOKUP(M$12,'Statiske ejendomme'!$B$3:$PN$81,'Statiske ejendomme'!$A43,FALSE),\"\"))),\"\")","v":""},{"$f":"IFERROR(IF(N$12=Kredsudvælgelse!$Q$20,\"\",IF(Kredsudvælgelse!AE$2=1,IF(ISTEXT(DGET(Forespørgsel1[#All],\"\"&LEFT($F51,LEN($F51)-$C51)&\"\",Kredsudvælgelse!$W$2:$X$3))=TRUE,DGET(Forespørgsel1[#All],\"\"&LEFT($F51,LEN($F51)-$C51)&\"\",Kredsudvælgelse!$W$2:$X$3),DGET(Forespørgsel1[#All],\"\"&LEFT($F51,LEN($F51)-$C51)&\"\",Kredsudvælgelse!$W$2:$X$3)/IF(ISNONTEXT($D51)=TRUE,1,DGET(Forespørgsel1[#All],\"\"&$D51&\"\",Kredsudvælgelse!$W$2:$X$3))),IF(ISBLANK(HLOOKUP(N$12,'Statiske ejendomme'!$B$3:$PN$81,'Statiske ejendomme'!$A43,FALSE))=FALSE,HLOOKUP(N$12,'Statiske ejendomme'!$B$3:$PN$81,'Statiske ejendomme'!$A43,FALSE),\"\"))),\"\")","v":""},{"$f":"IFERROR(IF(O$12=Kredsudvælgelse!$Q$20,\"\",IF(Kredsudvælgelse!AF$2=1,IF(ISTEXT(DGET(Forespørgsel1[#All],\"\"&LEFT($F51,LEN($F51)-$C51)&\"\",Kredsudvælgelse!$Y$2:$Z$3))=TRUE,DGET(Forespørgsel1[#All],\"\"&LEFT($F51,LEN($F51)-$C51)&\"\",Kredsudvælgelse!$Y$2:$Z$3),DGET(Forespørgsel1[#All],\"\"&LEFT($F51,LEN($F51)-$C51)&\"\",Kredsudvælgelse!$Y$2:$Z$3)/IF(ISNONTEXT($D51)=TRUE,1,DGET(Forespørgsel1[#All],\"\"&$D51&\"\",Kredsudvælgelse!$Y$2:$Z$3))),IF(ISBLANK(HLOOKUP(O$12,'Statiske ejendomme'!$B$3:$PN$81,'Statiske ejendomme'!$A43,FALSE))=FALSE,HLOOKUP(O$12,'Statiske ejendomme'!$B$3:$PN$81,'Statiske ejendomme'!$A43,FALSE),\"\"))),\"\")","v":""},{"$f":"IFERROR(IF(P$12=Kredsudvælgelse!$Q$20,\"\",IF(Kredsudvælgelse!AG$2=1,IF(ISTEXT(DGET(Forespørgsel1[#All],\"\"&LEFT($F51,LEN($F51)-$C51)&\"\",Kredsudvælgelse!$Q$6:$R$7))=TRUE,DGET(Forespørgsel1[#All],\"\"&LEFT($F51,LEN($F51)-$C51)&\"\",Kredsudvælgelse!$Q$6:$R$7),DGET(Forespørgsel1[#All],\"\"&LEFT($F51,LEN($F51)-$C51)&\"\",Kredsudvælgelse!$Q$6:$R$7)/IF(ISNONTEXT($D51)=TRUE,1,DGET(Forespørgsel1[#All],\"\"&$D51&\"\",Kredsudvælgelse!$Q$6:$R$7))),IF(ISBLANK(HLOOKUP(P$12,'Statiske ejendomme'!$B$3:$PN$81,'Statiske ejendomme'!$A43,FALSE))=FALSE,HLOOKUP(P$12,'Statiske ejendomme'!$B$3:$PN$81,'Statiske ejendomme'!$A43,FALSE),\"\"))),\"\")","v":""},{"$f":"IFERROR(IF(Q$12=Kredsudvælgelse!$Q$20,\"\",IF(Kredsudvælgelse!AH$2=1,IF(ISTEXT(DGET(Forespørgsel1[#All],\"\"&LEFT($F51,LEN($F51)-$C51)&\"\",Kredsudvælgelse!$S$6:$T$7))=TRUE,DGET(Forespørgsel1[#All],\"\"&LEFT($F51,LEN($F51)-$C51)&\"\",Kredsudvælgelse!$S$6:$T$7),DGET(Forespørgsel1[#All],\"\"&LEFT($F51,LEN($F51)-$C51)&\"\",Kredsudvælgelse!$S$6:$T$7)/IF(ISNONTEXT($D51)=TRUE,1,DGET(Forespørgsel1[#All],\"\"&$D51&\"\",Kredsudvælgelse!$S$6:$T$7))),IF(ISBLANK(HLOOKUP(Q$12,'Statiske ejendomme'!$B$3:$PN$81,'Statiske ejendomme'!$A43,FALSE))=FALSE,HLOOKUP(Q$12,'Statiske ejendomme'!$B$3:$PN$81,'Statiske ejendomme'!$A43,FALSE),\"\"))),\"\")","v":""},{"$f":"IFERROR(IF(R$12=Kredsudvælgelse!$Q$20,\"\",IF(Kredsudvælgelse!AI$2=1,IF(ISTEXT(DGET(Forespørgsel1[#All],\"\"&LEFT($F51,LEN($F51)-$C51)&\"\",Kredsudvælgelse!$U$6:$V$7))=TRUE,DGET(Forespørgsel1[#All],\"\"&LEFT($F51,LEN($F51)-$C51)&\"\",Kredsudvælgelse!$U$6:$V$7),DGET(Forespørgsel1[#All],\"\"&LEFT($F51,LEN($F51)-$C51)&\"\",Kredsudvælgelse!$U$6:$V$7)/IF(ISNONTEXT($D51)=TRUE,1,DGET(Forespørgsel1[#All],\"\"&$D51&\"\",Kredsudvælgelse!$U$6:$V$7))),IF(ISBLANK(HLOOKUP(R$12,'Statiske ejendomme'!$B$3:$PN$81,'Statiske ejendomme'!$A43,FALSE))=FALSE,HLOOKUP(R$12,'Statiske ejendomme'!$B$3:$PN$81,'Statiske ejendomme'!$A43,FALSE),\"\"))),\"\")","v":""},{"$f":"IFERROR(IF(S$12=Kredsudvælgelse!$Q$20,\"\",IF(Kredsudvælgelse!AJ$2=1,IF(ISTEXT(DGET(Forespørgsel1[#All],\"\"&LEFT($F51,LEN($F51)-$C51)&\"\",Kredsudvælgelse!$W$6:$X$7))=TRUE,DGET(Forespørgsel1[#All],\"\"&LEFT($F51,LEN($F51)-$C51)&\"\",Kredsudvælgelse!$W$6:$X$7),DGET(Forespørgsel1[#All],\"\"&LEFT($F51,LEN($F51)-$C51)&\"\",Kredsudvælgelse!$W$6:$X$7)/IF(ISNONTEXT($D51)=TRUE,1,DGET(Forespørgsel1[#All],\"\"&$D51&\"\",Kredsudvælgelse!$W$6:$X$7))),IF(ISBLANK(HLOOKUP(S$12,'Statiske ejendomme'!$B$3:$PN$81,'Statiske ejendomme'!$A43,FALSE))=FALSE,HLOOKUP(S$12,'Statiske ejendomme'!$B$3:$PN$81,'Statiske ejendomme'!$A43,FALSE),\"\"))),\"\")","v":""},{"$f":"IFERROR(IF(T$12=Kredsudvælgelse!$Q$20,\"\",IF(Kredsudvælgelse!AK$2=1,IF(ISTEXT(DGET(Forespørgsel1[#All],\"\"&LEFT($F51,LEN($F51)-$C51)&\"\",Kredsudvælgelse!$W$6:$X$7))=TRUE,DGET(Forespørgsel1[#All],\"\"&LEFT($F51,LEN($F51)-$C51)&\"\",Kredsudvælgelse!$W$6:$X$7),DGET(Forespørgsel1[#All],\"\"&LEFT($F51,LEN($F51)-$C51)&\"\",Kredsudvælgelse!$W$6:$X$7)/IF(ISNONTEXT($D51)=TRUE,1,DGET(Forespørgsel1[#All],\"\"&$D51&\"\",Kredsudvælgelse!$W$6:$X$7))),IF(ISBLANK(HLOOKUP(T$12,'Statiske ejendomme'!$B$3:$PN$81,'Statiske ejendomme'!$A44,FALSE))=FALSE,HLOOKUP(T$12,'Statiske ejendomme'!$B$3:$PN$81,'Statiske ejendomme'!$A44,FALSE),\"\"))),\"\")","v":""}]
[{"$f":"Mink!E123","v":1},{"$f":"Mink!D123","v":9},{"$f":"Mink!A41","v":0},{"$f":"Mink!B41","v":0},null,{"$f":"Mink!C41","v":""},{"$f":"Mink!D41","v":""},{"$f":"Mink!E41","v":""},{"$f":"Mink!F41","v":""},{"$f":"Mink!G41","v":""},{"$f":"IFERROR(IF(K$12=Kredsudvælgelse!$Q$20,\"\",IF(Kredsudvælgelse!AB$2=1,IF(ISTEXT(DGET(Forespørgsel1[#All],\"\"&LEFT($F52,LEN($F52)-$C52)&\"\",Kredsudvælgelse!$Q$2:$R$3))=TRUE,DGET(Forespørgsel1[#All],\"\"&LEFT($F52,LEN($F52)-$C52)&\"\",Kredsudvælgelse!$Q$2:$R$3),DGET(Forespørgsel1[#All],\"\"&LEFT($F52,LEN($F52)-$C52)&\"\",Kredsudvælgelse!$Q$2:$R$3)/IF(ISNONTEXT($D52)=TRUE,1,DGET(Forespørgsel1[#All],\"\"&$D52&\"\",Kredsudvælgelse!$Q$2:$R$3))),IF(ISBLANK(HLOOKUP(K$12,'Statiske ejendomme'!$B$3:$PN$81,'Statiske ejendomme'!$A44,FALSE))=FALSE,HLOOKUP(K$12,'Statiske ejendomme'!$B$3:$PN$81,'Statiske ejendomme'!$A44,FALSE),\"\"))),\"\")","v":""},{"$f":"IFERROR(IF(L$12=Kredsudvælgelse!$Q$20,\"\",IF(Kredsudvælgelse!AC$2=1,IF(ISTEXT(DGET(Forespørgsel1[#All],\"\"&LEFT($F52,LEN($F52)-$C52)&\"\",Kredsudvælgelse!$S$2:$T$3))=TRUE,DGET(Forespørgsel1[#All],\"\"&LEFT($F52,LEN($F52)-$C52)&\"\",Kredsudvælgelse!$S$2:$T$3),DGET(Forespørgsel1[#All],\"\"&LEFT($F52,LEN($F52)-$C52)&\"\",Kredsudvælgelse!$S$2:$T$3)/IF(ISNONTEXT($D52)=TRUE,1,DGET(Forespørgsel1[#All],\"\"&$D52&\"\",Kredsudvælgelse!$S$2:$T$3))),IF(ISBLANK(HLOOKUP(L$12,'Statiske ejendomme'!$B$3:$PN$81,'Statiske ejendomme'!$A44,FALSE))=FALSE,HLOOKUP(L$12,'Statiske ejendomme'!$B$3:$PN$81,'Statiske ejendomme'!$A44,FALSE),\"\"))),\"\")","v":""},{"$f":"IFERROR(IF(M$12=Kredsudvælgelse!$Q$20,\"\",IF(Kredsudvælgelse!AD$2=1,IF(ISTEXT(DGET(Forespørgsel1[#All],\"\"&LEFT($F52,LEN($F52)-$C52)&\"\",Kredsudvælgelse!$U$2:$V$3))=TRUE,DGET(Forespørgsel1[#All],\"\"&LEFT($F52,LEN($F52)-$C52)&\"\",Kredsudvælgelse!$U$2:$V$3),DGET(Forespørgsel1[#All],\"\"&LEFT($F52,LEN($F52)-$C52)&\"\",Kredsudvælgelse!$U$2:$V$3)/IF(ISNONTEXT($D52)=TRUE,1,DGET(Forespørgsel1[#All],\"\"&$D52&\"\",Kredsudvælgelse!$U$2:$V$3))),IF(ISBLANK(HLOOKUP(M$12,'Statiske ejendomme'!$B$3:$PN$81,'Statiske ejendomme'!$A44,FALSE))=FALSE,HLOOKUP(M$12,'Statiske ejendomme'!$B$3:$PN$81,'Statiske ejendomme'!$A44,FALSE),\"\"))),\"\")","v":""},{"$f":"IFERROR(IF(N$12=Kredsudvælgelse!$Q$20,\"\",IF(Kredsudvælgelse!AE$2=1,IF(ISTEXT(DGET(Forespørgsel1[#All],\"\"&LEFT($F52,LEN($F52)-$C52)&\"\",Kredsudvælgelse!$W$2:$X$3))=TRUE,DGET(Forespørgsel1[#All],\"\"&LEFT($F52,LEN($F52)-$C52)&\"\",Kredsudvælgelse!$W$2:$X$3),DGET(Forespørgsel1[#All],\"\"&LEFT($F52,LEN($F52)-$C52)&\"\",Kredsudvælgelse!$W$2:$X$3)/IF(ISNONTEXT($D52)=TRUE,1,DGET(Forespørgsel1[#All],\"\"&$D52&\"\",Kredsudvælgelse!$W$2:$X$3))),IF(ISBLANK(HLOOKUP(N$12,'Statiske ejendomme'!$B$3:$PN$81,'Statiske ejendomme'!$A44,FALSE))=FALSE,HLOOKUP(N$12,'Statiske ejendomme'!$B$3:$PN$81,'Statiske ejendomme'!$A44,FALSE),\"\"))),\"\")","v":""},{"$f":"IFERROR(IF(O$12=Kredsudvælgelse!$Q$20,\"\",IF(Kredsudvælgelse!AF$2=1,IF(ISTEXT(DGET(Forespørgsel1[#All],\"\"&LEFT($F52,LEN($F52)-$C52)&\"\",Kredsudvælgelse!$Y$2:$Z$3))=TRUE,DGET(Forespørgsel1[#All],\"\"&LEFT($F52,LEN($F52)-$C52)&\"\",Kredsudvælgelse!$Y$2:$Z$3),DGET(Forespørgsel1[#All],\"\"&LEFT($F52,LEN($F52)-$C52)&\"\",Kredsudvælgelse!$Y$2:$Z$3)/IF(ISNONTEXT($D52)=TRUE,1,DGET(Forespørgsel1[#All],\"\"&$D52&\"\",Kredsudvælgelse!$Y$2:$Z$3))),IF(ISBLANK(HLOOKUP(O$12,'Statiske ejendomme'!$B$3:$PN$81,'Statiske ejendomme'!$A44,FALSE))=FALSE,HLOOKUP(O$12,'Statiske ejendomme'!$B$3:$PN$81,'Statiske ejendomme'!$A44,FALSE),\"\"))),\"\")","v":""},{"$f":"IFERROR(IF(P$12=Kredsudvælgelse!$Q$20,\"\",IF(Kredsudvælgelse!AG$2=1,IF(ISTEXT(DGET(Forespørgsel1[#All],\"\"&LEFT($F52,LEN($F52)-$C52)&\"\",Kredsudvælgelse!$Q$6:$R$7))=TRUE,DGET(Forespørgsel1[#All],\"\"&LEFT($F52,LEN($F52)-$C52)&\"\",Kredsudvælgelse!$Q$6:$R$7),DGET(Forespørgsel1[#All],\"\"&LEFT($F52,LEN($F52)-$C52)&\"\",Kredsudvælgelse!$Q$6:$R$7)/IF(ISNONTEXT($D52)=TRUE,1,DGET(Forespørgsel1[#All],\"\"&$D52&\"\",Kredsudvælgelse!$Q$6:$R$7))),IF(ISBLANK(HLOOKUP(P$12,'Statiske ejendomme'!$B$3:$PN$81,'Statiske ejendomme'!$A44,FALSE))=FALSE,HLOOKUP(P$12,'Statiske ejendomme'!$B$3:$PN$81,'Statiske ejendomme'!$A44,FALSE),\"\"))),\"\")","v":""},{"$f":"IFERROR(IF(Q$12=Kredsudvælgelse!$Q$20,\"\",IF(Kredsudvælgelse!AH$2=1,IF(ISTEXT(DGET(Forespørgsel1[#All],\"\"&LEFT($F52,LEN($F52)-$C52)&\"\",Kredsudvælgelse!$S$6:$T$7))=TRUE,DGET(Forespørgsel1[#All],\"\"&LEFT($F52,LEN($F52)-$C52)&\"\",Kredsudvælgelse!$S$6:$T$7),DGET(Forespørgsel1[#All],\"\"&LEFT($F52,LEN($F52)-$C52)&\"\",Kredsudvælgelse!$S$6:$T$7)/IF(ISNONTEXT($D52)=TRUE,1,DGET(Forespørgsel1[#All],\"\"&$D52&\"\",Kredsudvælgelse!$S$6:$T$7))),IF(ISBLANK(HLOOKUP(Q$12,'Statiske ejendomme'!$B$3:$PN$81,'Statiske ejendomme'!$A44,FALSE))=FALSE,HLOOKUP(Q$12,'Statiske ejendomme'!$B$3:$PN$81,'Statiske ejendomme'!$A44,FALSE),\"\"))),\"\")","v":""},{"$f":"IFERROR(IF(R$12=Kredsudvælgelse!$Q$20,\"\",IF(Kredsudvælgelse!AI$2=1,IF(ISTEXT(DGET(Forespørgsel1[#All],\"\"&LEFT($F52,LEN($F52)-$C52)&\"\",Kredsudvælgelse!$U$6:$V$7))=TRUE,DGET(Forespørgsel1[#All],\"\"&LEFT($F52,LEN($F52)-$C52)&\"\",Kredsudvælgelse!$U$6:$V$7),DGET(Forespørgsel1[#All],\"\"&LEFT($F52,LEN($F52)-$C52)&\"\",Kredsudvælgelse!$U$6:$V$7)/IF(ISNONTEXT($D52)=TRUE,1,DGET(Forespørgsel1[#All],\"\"&$D52&\"\",Kredsudvælgelse!$U$6:$V$7))),IF(ISBLANK(HLOOKUP(R$12,'Statiske ejendomme'!$B$3:$PN$81,'Statiske ejendomme'!$A44,FALSE))=FALSE,HLOOKUP(R$12,'Statiske ejendomme'!$B$3:$PN$81,'Statiske ejendomme'!$A44,FALSE),\"\"))),\"\")","v":""},{"$f":"IFERROR(IF(S$12=Kredsudvælgelse!$Q$20,\"\",IF(Kredsudvælgelse!AJ$2=1,IF(ISTEXT(DGET(Forespørgsel1[#All],\"\"&LEFT($F52,LEN($F52)-$C52)&\"\",Kredsudvælgelse!$W$6:$X$7))=TRUE,DGET(Forespørgsel1[#All],\"\"&LEFT($F52,LEN($F52)-$C52)&\"\",Kredsudvælgelse!$W$6:$X$7),DGET(Forespørgsel1[#All],\"\"&LEFT($F52,LEN($F52)-$C52)&\"\",Kredsudvælgelse!$W$6:$X$7)/IF(ISNONTEXT($D52)=TRUE,1,DGET(Forespørgsel1[#All],\"\"&$D52&\"\",Kredsudvælgelse!$W$6:$X$7))),IF(ISBLANK(HLOOKUP(S$12,'Statiske ejendomme'!$B$3:$PN$81,'Statiske ejendomme'!$A44,FALSE))=FALSE,HLOOKUP(S$12,'Statiske ejendomme'!$B$3:$PN$81,'Statiske ejendomme'!$A44,FALSE),\"\"))),\"\")","v":""},{"$f":"IFERROR(IF(T$12=Kredsudvælgelse!$Q$20,\"\",IF(Kredsudvælgelse!AK$2=1,IF(ISTEXT(DGET(Forespørgsel1[#All],\"\"&LEFT($F52,LEN($F52)-$C52)&\"\",Kredsudvælgelse!$W$6:$X$7))=TRUE,DGET(Forespørgsel1[#All],\"\"&LEFT($F52,LEN($F52)-$C52)&\"\",Kredsudvælgelse!$W$6:$X$7),DGET(Forespørgsel1[#All],\"\"&LEFT($F52,LEN($F52)-$C52)&\"\",Kredsudvælgelse!$W$6:$X$7)/IF(ISNONTEXT($D52)=TRUE,1,DGET(Forespørgsel1[#All],\"\"&$D52&\"\",Kredsudvælgelse!$W$6:$X$7))),IF(ISBLANK(HLOOKUP(T$12,'Statiske ejendomme'!$B$3:$PN$81,'Statiske ejendomme'!$A45,FALSE))=FALSE,HLOOKUP(T$12,'Statiske ejendomme'!$B$3:$PN$81,'Statiske ejendomme'!$A45,FALSE),\"\"))),\"\")","v":""}]
[{"$f":"Mink!E124","v":1},{"$f":"Mink!D124","v":1},{"$f":"Mink!A42","v":9},{"$f":"Mink!B42","v":"Minktæver"},null,{"$f":"Mink!C42","v":"Bundet kapital pr. tæve"},{"$f":"Mink!D42","v":3416.8081058137936},{"$f":"Mink!E42","v":3047.9666459195255},{"$f":"Mink!F42","v":""},{"$f":"Mink!G42","v":""},{"$f":"IFERROR(IF(K$12=Kredsudvælgelse!$Q$20,\"\",IF(Kredsudvælgelse!AB$2=1,IF(ISTEXT(DGET(Forespørgsel1[#All],\"\"&LEFT($F53,LEN($F53)-$C53)&\"\",Kredsudvælgelse!$Q$2:$R$3))=TRUE,DGET(Forespørgsel1[#All],\"\"&LEFT($F53,LEN($F53)-$C53)&\"\",Kredsudvælgelse!$Q$2:$R$3),DGET(Forespørgsel1[#All],\"\"&LEFT($F53,LEN($F53)-$C53)&\"\",Kredsudvælgelse!$Q$2:$R$3)/IF(ISNONTEXT($D53)=TRUE,1,DGET(Forespørgsel1[#All],\"\"&$D53&\"\",Kredsudvælgelse!$Q$2:$R$3))),IF(ISBLANK(HLOOKUP(K$12,'Statiske ejendomme'!$B$3:$PN$81,'Statiske ejendomme'!$A45,FALSE))=FALSE,HLOOKUP(K$12,'Statiske ejendomme'!$B$3:$PN$81,'Statiske ejendomme'!$A45,FALSE),\"\"))),\"\")","v":3465.5509999999999},{"$f":"IFERROR(IF(L$12=Kredsudvælgelse!$Q$20,\"\",IF(Kredsudvælgelse!AC$2=1,IF(ISTEXT(DGET(Forespørgsel1[#All],\"\"&LEFT($F53,LEN($F53)-$C53)&\"\",Kredsudvælgelse!$S$2:$T$3))=TRUE,DGET(Forespørgsel1[#All],\"\"&LEFT($F53,LEN($F53)-$C53)&\"\",Kredsudvælgelse!$S$2:$T$3),DGET(Forespørgsel1[#All],\"\"&LEFT($F53,LEN($F53)-$C53)&\"\",Kredsudvælgelse!$S$2:$T$3)/IF(ISNONTEXT($D53)=TRUE,1,DGET(Forespørgsel1[#All],\"\"&$D53&\"\",Kredsudvælgelse!$S$2:$T$3))),IF(ISBLANK(HLOOKUP(L$12,'Statiske ejendomme'!$B$3:$PN$81,'Statiske ejendomme'!$A45,FALSE))=FALSE,HLOOKUP(L$12,'Statiske ejendomme'!$B$3:$PN$81,'Statiske ejendomme'!$A45,FALSE),\"\"))),\"\")","v":2161.7097297297296},{"$f":"IFERROR(IF(M$12=Kredsudvælgelse!$Q$20,\"\",IF(Kredsudvælgelse!AD$2=1,IF(ISTEXT(DGET(Forespørgsel1[#All],\"\"&LEFT($F53,LEN($F53)-$C53)&\"\",Kredsudvælgelse!$U$2:$V$3))=TRUE,DGET(Forespørgsel1[#All],\"\"&LEFT($F53,LEN($F53)-$C53)&\"\",Kredsudvælgelse!$U$2:$V$3),DGET(Forespørgsel1[#All],\"\"&LEFT($F53,LEN($F53)-$C53)&\"\",Kredsudvælgelse!$U$2:$V$3)/IF(ISNONTEXT($D53)=TRUE,1,DGET(Forespørgsel1[#All],\"\"&$D53&\"\",Kredsudvælgelse!$U$2:$V$3))),IF(ISBLANK(HLOOKUP(M$12,'Statiske ejendomme'!$B$3:$PN$81,'Statiske ejendomme'!$A45,FALSE))=FALSE,HLOOKUP(M$12,'Statiske ejendomme'!$B$3:$PN$81,'Statiske ejendomme'!$A45,FALSE),\"\"))),\"\")","v":3163.4778947368422},{"$f":"IFERROR(IF(N$12=Kredsudvælgelse!$Q$20,\"\",IF(Kredsudvælgelse!AE$2=1,IF(ISTEXT(DGET(Forespørgsel1[#All],\"\"&LEFT($F53,LEN($F53)-$C53)&\"\",Kredsudvælgelse!$W$2:$X$3))=TRUE,DGET(Forespørgsel1[#All],\"\"&LEFT($F53,LEN($F53)-$C53)&\"\",Kredsudvælgelse!$W$2:$X$3),DGET(Forespørgsel1[#All],\"\"&LEFT($F53,LEN($F53)-$C53)&\"\",Kredsudvælgelse!$W$2:$X$3)/IF(ISNONTEXT($D53)=TRUE,1,DGET(Forespørgsel1[#All],\"\"&$D53&\"\",Kredsudvælgelse!$W$2:$X$3))),IF(ISBLANK(HLOOKUP(N$12,'Statiske ejendomme'!$B$3:$PN$81,'Statiske ejendomme'!$A45,FALSE))=FALSE,HLOOKUP(N$12,'Statiske ejendomme'!$B$3:$PN$81,'Statiske ejendomme'!$A45,FALSE),\"\"))),\"\")","v":2275.6535294117648},{"$f":"IFERROR(IF(O$12=Kredsudvælgelse!$Q$20,\"\",IF(Kredsudvælgelse!AF$2=1,IF(ISTEXT(DGET(Forespørgsel1[#All],\"\"&LEFT($F53,LEN($F53)-$C53)&\"\",Kredsudvælgelse!$Y$2:$Z$3))=TRUE,DGET(Forespørgsel1[#All],\"\"&LEFT($F53,LEN($F53)-$C53)&\"\",Kredsudvælgelse!$Y$2:$Z$3),DGET(Forespørgsel1[#All],\"\"&LEFT($F53,LEN($F53)-$C53)&\"\",Kredsudvælgelse!$Y$2:$Z$3)/IF(ISNONTEXT($D53)=TRUE,1,DGET(Forespørgsel1[#All],\"\"&$D53&\"\",Kredsudvælgelse!$Y$2:$Z$3))),IF(ISBLANK(HLOOKUP(O$12,'Statiske ejendomme'!$B$3:$PN$81,'Statiske ejendomme'!$A45,FALSE))=FALSE,HLOOKUP(O$12,'Statiske ejendomme'!$B$3:$PN$81,'Statiske ejendomme'!$A45,FALSE),\"\"))),\"\")","v":4186.9122883195832},{"$f":"IFERROR(IF(P$12=Kredsudvælgelse!$Q$20,\"\",IF(Kredsudvælgelse!AG$2=1,IF(ISTEXT(DGET(Forespørgsel1[#All],\"\"&LEFT($F53,LEN($F53)-$C53)&\"\",Kredsudvælgelse!$Q$6:$R$7))=TRUE,DGET(Forespørgsel1[#All],\"\"&LEFT($F53,LEN($F53)-$C53)&\"\",Kredsudvælgelse!$Q$6:$R$7),DGET(Forespørgsel1[#All],\"\"&LEFT($F53,LEN($F53)-$C53)&\"\",Kredsudvælgelse!$Q$6:$R$7)/IF(ISNONTEXT($D53)=TRUE,1,DGET(Forespørgsel1[#All],\"\"&$D53&\"\",Kredsudvælgelse!$Q$6:$R$7))),IF(ISBLANK(HLOOKUP(P$12,'Statiske ejendomme'!$B$3:$PN$81,'Statiske ejendomme'!$A45,FALSE))=FALSE,HLOOKUP(P$12,'Statiske ejendomme'!$B$3:$PN$81,'Statiske ejendomme'!$A45,FALSE),\"\"))),\"\")","v":3652.4017307692307},{"$f":"IFERROR(IF(Q$12=Kredsudvælgelse!$Q$20,\"\",IF(Kredsudvælgelse!AH$2=1,IF(ISTEXT(DGET(Forespørgsel1[#All],\"\"&LEFT($F53,LEN($F53)-$C53)&\"\",Kredsudvælgelse!$S$6:$T$7))=TRUE,DGET(Forespørgsel1[#All],\"\"&LEFT($F53,LEN($F53)-$C53)&\"\",Kredsudvælgelse!$S$6:$T$7),DGET(Forespørgsel1[#All],\"\"&LEFT($F53,LEN($F53)-$C53)&\"\",Kredsudvælgelse!$S$6:$T$7)/IF(ISNONTEXT($D53)=TRUE,1,DGET(Forespørgsel1[#All],\"\"&$D53&\"\",Kredsudvælgelse!$S$6:$T$7))),IF(ISBLANK(HLOOKUP(Q$12,'Statiske ejendomme'!$B$3:$PN$81,'Statiske ejendomme'!$A45,FALSE))=FALSE,HLOOKUP(Q$12,'Statiske ejendomme'!$B$3:$PN$81,'Statiske ejendomme'!$A45,FALSE),\"\"))),\"\")","v":3428.1281138790036},{"$f":"IFERROR(IF(R$12=Kredsudvælgelse!$Q$20,\"\",IF(Kredsudvælgelse!AI$2=1,IF(ISTEXT(DGET(Forespørgsel1[#All],\"\"&LEFT($F53,LEN($F53)-$C53)&\"\",Kredsudvælgelse!$U$6:$V$7))=TRUE,DGET(Forespørgsel1[#All],\"\"&LEFT($F53,LEN($F53)-$C53)&\"\",Kredsudvælgelse!$U$6:$V$7),DGET(Forespørgsel1[#All],\"\"&LEFT($F53,LEN($F53)-$C53)&\"\",Kredsudvælgelse!$U$6:$V$7)/IF(ISNONTEXT($D53)=TRUE,1,DGET(Forespørgsel1[#All],\"\"&$D53&\"\",Kredsudvælgelse!$U$6:$V$7))),IF(ISBLANK(HLOOKUP(R$12,'Statiske ejendomme'!$B$3:$PN$81,'Statiske ejendomme'!$A45,FALSE))=FALSE,HLOOKUP(R$12,'Statiske ejendomme'!$B$3:$PN$81,'Statiske ejendomme'!$A45,FALSE),\"\"))),\"\")","v":2691.9810714285713},{"$f":"IFERROR(IF(S$12=Kredsudvælgelse!$Q$20,\"\",IF(Kredsudvælgelse!AJ$2=1,IF(ISTEXT(DGET(Forespørgsel1[#All],\"\"&LEFT($F53,LEN($F53)-$C53)&\"\",Kredsudvælgelse!$W$6:$X$7))=TRUE,DGET(Forespørgsel1[#All],\"\"&LEFT($F53,LEN($F53)-$C53)&\"\",Kredsudvælgelse!$W$6:$X$7),DGET(Forespørgsel1[#All],\"\"&LEFT($F53,LEN($F53)-$C53)&\"\",Kredsudvælgelse!$W$6:$X$7)/IF(ISNONTEXT($D53)=TRUE,1,DGET(Forespørgsel1[#All],\"\"&$D53&\"\",Kredsudvælgelse!$W$6:$X$7))),IF(ISBLANK(HLOOKUP(S$12,'Statiske ejendomme'!$B$3:$PN$81,'Statiske ejendomme'!$A45,FALSE))=FALSE,HLOOKUP(S$12,'Statiske ejendomme'!$B$3:$PN$81,'Statiske ejendomme'!$A45,FALSE),\"\"))),\"\")","v":""},{"$f":"IFERROR(IF(T$12=Kredsudvælgelse!$Q$20,\"\",IF(Kredsudvælgelse!AK$2=1,IF(ISTEXT(DGET(Forespørgsel1[#All],\"\"&LEFT($F53,LEN($F53)-$C53)&\"\",Kredsudvælgelse!$W$6:$X$7))=TRUE,DGET(Forespørgsel1[#All],\"\"&LEFT($F53,LEN($F53)-$C53)&\"\",Kredsudvælgelse!$W$6:$X$7),DGET(Forespørgsel1[#All],\"\"&LEFT($F53,LEN($F53)-$C53)&\"\",Kredsudvælgelse!$W$6:$X$7)/IF(ISNONTEXT($D53)=TRUE,1,DGET(Forespørgsel1[#All],\"\"&$D53&\"\",Kredsudvælgelse!$W$6:$X$7))),IF(ISBLANK(HLOOKUP(T$12,'Statiske ejendomme'!$B$3:$PN$81,'Statiske ejendomme'!$A46,FALSE))=FALSE,HLOOKUP(T$12,'Statiske ejendomme'!$B$3:$PN$81,'Statiske ejendomme'!$A46,FALSE),\"\"))),\"\")","v":""}]
[{"$f":"Mink!E125","v":1},{"$f":"Mink!D125","v":1},{"$f":"Mink!A43","v":0},{"$f":"Mink!B43","v":0},null,{"$f":"Mink!C43","v":"Afkastningsgrad"},{"$f":"Mink!D43","v":14.169598053819817},{"$f":"Mink!E43","v":34.033080085040432},{"$f":"Mink!F43","v":""},{"$f":"Mink!G43","v":""},{"$f":"IFERROR(IF(K$12=Kredsudvælgelse!$Q$20,\"\",IF(Kredsudvælgelse!AB$2=1,IF(ISTEXT(DGET(Forespørgsel1[#All],\"\"&LEFT($F54,LEN($F54)-$C54)&\"\",Kredsudvælgelse!$Q$2:$R$3))=TRUE,DGET(Forespørgsel1[#All],\"\"&LEFT($F54,LEN($F54)-$C54)&\"\",Kredsudvælgelse!$Q$2:$R$3),DGET(Forespørgsel1[#All],\"\"&LEFT($F54,LEN($F54)-$C54)&\"\",Kredsudvælgelse!$Q$2:$R$3)/IF(ISNONTEXT($D54)=TRUE,1,DGET(Forespørgsel1[#All],\"\"&$D54&\"\",Kredsudvælgelse!$Q$2:$R$3))),IF(ISBLANK(HLOOKUP(K$12,'Statiske ejendomme'!$B$3:$PN$81,'Statiske ejendomme'!$A46,FALSE))=FALSE,HLOOKUP(K$12,'Statiske ejendomme'!$B$3:$PN$81,'Statiske ejendomme'!$A46,FALSE),\"\"))),\"\")","v":39.370670541759928},{"$f":"IFERROR(IF(L$12=Kredsudvælgelse!$Q$20,\"\",IF(Kredsudvælgelse!AC$2=1,IF(ISTEXT(DGET(Forespørgsel1[#All],\"\"&LEFT($F54,LEN($F54)-$C54)&\"\",Kredsudvælgelse!$S$2:$T$3))=TRUE,DGET(Forespørgsel1[#All],\"\"&LEFT($F54,LEN($F54)-$C54)&\"\",Kredsudvælgelse!$S$2:$T$3),DGET(Forespørgsel1[#All],\"\"&LEFT($F54,LEN($F54)-$C54)&\"\",Kredsudvælgelse!$S$2:$T$3)/IF(ISNONTEXT($D54)=TRUE,1,DGET(Forespørgsel1[#All],\"\"&$D54&\"\",Kredsudvælgelse!$S$2:$T$3))),IF(ISBLANK(HLOOKUP(L$12,'Statiske ejendomme'!$B$3:$PN$81,'Statiske ejendomme'!$A46,FALSE))=FALSE,HLOOKUP(L$12,'Statiske ejendomme'!$B$3:$PN$81,'Statiske ejendomme'!$A46,FALSE),\"\"))),\"\")","v":47.530720803328094},{"$f":"IFERROR(IF(M$12=Kredsudvælgelse!$Q$20,\"\",IF(Kredsudvælgelse!AD$2=1,IF(ISTEXT(DGET(Forespørgsel1[#All],\"\"&LEFT($F54,LEN($F54)-$C54)&\"\",Kredsudvælgelse!$U$2:$V$3))=TRUE,DGET(Forespørgsel1[#All],\"\"&LEFT($F54,LEN($F54)-$C54)&\"\",Kredsudvælgelse!$U$2:$V$3),DGET(Forespørgsel1[#All],\"\"&LEFT($F54,LEN($F54)-$C54)&\"\",Kredsudvælgelse!$U$2:$V$3)/IF(ISNONTEXT($D54)=TRUE,1,DGET(Forespørgsel1[#All],\"\"&$D54&\"\",Kredsudvælgelse!$U$2:$V$3))),IF(ISBLANK(HLOOKUP(M$12,'Statiske ejendomme'!$B$3:$PN$81,'Statiske ejendomme'!$A46,FALSE))=FALSE,HLOOKUP(M$12,'Statiske ejendomme'!$B$3:$PN$81,'Statiske ejendomme'!$A46,FALSE),\"\"))),\"\")","v":33.054592813239523},{"$f":"IFERROR(IF(N$12=Kredsudvælgelse!$Q$20,\"\",IF(Kredsudvælgelse!AE$2=1,IF(ISTEXT(DGET(Forespørgsel1[#All],\"\"&LEFT($F54,LEN($F54)-$C54)&\"\",Kredsudvælgelse!$W$2:$X$3))=TRUE,DGET(Forespørgsel1[#All],\"\"&LEFT($F54,LEN($F54)-$C54)&\"\",Kredsudvælgelse!$W$2:$X$3),DGET(Forespørgsel1[#All],\"\"&LEFT($F54,LEN($F54)-$C54)&\"\",Kredsudvælgelse!$W$2:$X$3)/IF(ISNONTEXT($D54)=TRUE,1,DGET(Forespørgsel1[#All],\"\"&$D54&\"\",Kredsudvælgelse!$W$2:$X$3))),IF(ISBLANK(HLOOKUP(N$12,'Statiske ejendomme'!$B$3:$PN$81,'Statiske ejendomme'!$A46,FALSE))=FALSE,HLOOKUP(N$12,'Statiske ejendomme'!$B$3:$PN$81,'Statiske ejendomme'!$A46,FALSE),\"\"))),\"\")","v":41.388976560321005},{"$f":"IFERROR(IF(O$12=Kredsudvælgelse!$Q$20,\"\",IF(Kredsudvælgelse!AF$2=1,IF(ISTEXT(DGET(Forespørgsel1[#All],\"\"&LEFT($F54,LEN($F54)-$C54)&\"\",Kredsudvælgelse!$Y$2:$Z$3))=TRUE,DGET(Forespørgsel1[#All],\"\"&LEFT($F54,LEN($F54)-$C54)&\"\",Kredsudvælgelse!$Y$2:$Z$3),DGET(Forespørgsel1[#All],\"\"&LEFT($F54,LEN($F54)-$C54)&\"\",Kredsudvælgelse!$Y$2:$Z$3)/IF(ISNONTEXT($D54)=TRUE,1,DGET(Forespørgsel1[#All],\"\"&$D54&\"\",Kredsudvælgelse!$Y$2:$Z$3))),IF(ISBLANK(HLOOKUP(O$12,'Statiske ejendomme'!$B$3:$PN$81,'Statiske ejendomme'!$A46,FALSE))=FALSE,HLOOKUP(O$12,'Statiske ejendomme'!$B$3:$PN$81,'Statiske ejendomme'!$A46,FALSE),\"\"))),\"\")","v":23.942388554620766},{"$f":"IFERROR(IF(P$12=Kredsudvælgelse!$Q$20,\"\",IF(Kredsudvælgelse!AG$2=1,IF(ISTEXT(DGET(Forespørgsel1[#All],\"\"&LEFT($F54,LEN($F54)-$C54)&\"\",Kredsudvælgelse!$Q$6:$R$7))=TRUE,DGET(Forespørgsel1[#All],\"\"&LEFT($F54,LEN($F54)-$C54)&\"\",Kredsudvælgelse!$Q$6:$R$7),DGET(Forespørgsel1[#All],\"\"&LEFT($F54,LEN($F54)-$C54)&\"\",Kredsudvælgelse!$Q$6:$R$7)/IF(ISNONTEXT($D54)=TRUE,1,DGET(Forespørgsel1[#All],\"\"&$D54&\"\",Kredsudvælgelse!$Q$6:$R$7))),IF(ISBLANK(HLOOKUP(P$12,'Statiske ejendomme'!$B$3:$PN$81,'Statiske ejendomme'!$A46,FALSE))=FALSE,HLOOKUP(P$12,'Statiske ejendomme'!$B$3:$PN$81,'Statiske ejendomme'!$A46,FALSE),\"\"))),\"\")","v":26.321631672394279},{"$f":"IFERROR(IF(Q$12=Kredsudvælgelse!$Q$20,\"\",IF(Kredsudvælgelse!AH$2=1,IF(ISTEXT(DGET(Forespørgsel1[#All],\"\"&LEFT($F54,LEN($F54)-$C54)&\"\",Kredsudvælgelse!$S$6:$T$7))=TRUE,DGET(Forespørgsel1[#All],\"\"&LEFT($F54,LEN($F54)-$C54)&\"\",Kredsudvælgelse!$S$6:$T$7),DGET(Forespørgsel1[#All],\"\"&LEFT($F54,LEN($F54)-$C54)&\"\",Kredsudvælgelse!$S$6:$T$7)/IF(ISNONTEXT($D54)=TRUE,1,DGET(Forespørgsel1[#All],\"\"&$D54&\"\",Kredsudvælgelse!$S$6:$T$7))),IF(ISBLANK(HLOOKUP(Q$12,'Statiske ejendomme'!$B$3:$PN$81,'Statiske ejendomme'!$A46,FALSE))=FALSE,HLOOKUP(Q$12,'Statiske ejendomme'!$B$3:$PN$81,'Statiske ejendomme'!$A46,FALSE),\"\"))),\"\")","v":25.826571881773564},{"$f":"IFERROR(IF(R$12=Kredsudvælgelse!$Q$20,\"\",IF(Kredsudvælgelse!AI$2=1,IF(ISTEXT(DGET(Forespørgsel1[#All],\"\"&LEFT($F54,LEN($F54)-$C54)&\"\",Kredsudvælgelse!$U$6:$V$7))=TRUE,DGET(Forespørgsel1[#All],\"\"&LEFT($F54,LEN($F54)-$C54)&\"\",Kredsudvælgelse!$U$6:$V$7),DGET(Forespørgsel1[#All],\"\"&LEFT($F54,LEN($F54)-$C54)&\"\",Kredsudvælgelse!$U$6:$V$7)/IF(ISNONTEXT($D54)=TRUE,1,DGET(Forespørgsel1[#All],\"\"&$D54&\"\",Kredsudvælgelse!$U$6:$V$7))),IF(ISBLANK(HLOOKUP(R$12,'Statiske ejendomme'!$B$3:$PN$81,'Statiske ejendomme'!$A46,FALSE))=FALSE,HLOOKUP(R$12,'Statiske ejendomme'!$B$3:$PN$81,'Statiske ejendomme'!$A46,FALSE),\"\"))),\"\")","v":31.900298598469767},{"$f":"IFERROR(IF(S$12=Kredsudvælgelse!$Q$20,\"\",IF(Kredsudvælgelse!AJ$2=1,IF(ISTEXT(DGET(Forespørgsel1[#All],\"\"&LEFT($F54,LEN($F54)-$C54)&\"\",Kredsudvælgelse!$W$6:$X$7))=TRUE,DGET(Forespørgsel1[#All],\"\"&LEFT($F54,LEN($F54)-$C54)&\"\",Kredsudvælgelse!$W$6:$X$7),DGET(Forespørgsel1[#All],\"\"&LEFT($F54,LEN($F54)-$C54)&\"\",Kredsudvælgelse!$W$6:$X$7)/IF(ISNONTEXT($D54)=TRUE,1,DGET(Forespørgsel1[#All],\"\"&$D54&\"\",Kredsudvælgelse!$W$6:$X$7))),IF(ISBLANK(HLOOKUP(S$12,'Statiske ejendomme'!$B$3:$PN$81,'Statiske ejendomme'!$A46,FALSE))=FALSE,HLOOKUP(S$12,'Statiske ejendomme'!$B$3:$PN$81,'Statiske ejendomme'!$A46,FALSE),\"\"))),\"\")","v":""},{"$f":"IFERROR(IF(T$12=Kredsudvælgelse!$Q$20,\"\",IF(Kredsudvælgelse!AK$2=1,IF(ISTEXT(DGET(Forespørgsel1[#All],\"\"&LEFT($F54,LEN($F54)-$C54)&\"\",Kredsudvælgelse!$W$6:$X$7))=TRUE,DGET(Forespørgsel1[#All],\"\"&LEFT($F54,LEN($F54)-$C54)&\"\",Kredsudvælgelse!$W$6:$X$7),DGET(Forespørgsel1[#All],\"\"&LEFT($F54,LEN($F54)-$C54)&\"\",Kredsudvælgelse!$W$6:$X$7)/IF(ISNONTEXT($D54)=TRUE,1,DGET(Forespørgsel1[#All],\"\"&$D54&\"\",Kredsudvælgelse!$W$6:$X$7))),IF(ISBLANK(HLOOKUP(T$12,'Statiske ejendomme'!$B$3:$PN$81,'Statiske ejendomme'!$A47,FALSE))=FALSE,HLOOKUP(T$12,'Statiske ejendomme'!$B$3:$PN$81,'Statiske ejendomme'!$A47,FALSE),\"\"))),\"\")","v":""}]
[{"$f":"Mink!E126","v":1},{"$f":"Mink!D126","v":9},{"$f":"Mink!A44","v":0},{"$f":"Mink!B44","v":0},null,{"$f":"Mink!C44","v":0},{"$f":"Mink!D44","v":""},{"$f":"Mink!E44","v":""},{"$f":"Mink!F44","v":""},{"$f":"Mink!G44","v":""},{"$f":"IFERROR(IF(K$12=Kredsudvælgelse!$Q$20,\"\",IF(Kredsudvælgelse!AB$2=1,IF(ISTEXT(DGET(Forespørgsel1[#All],\"\"&LEFT($F55,LEN($F55)-$C55)&\"\",Kredsudvælgelse!$Q$2:$R$3))=TRUE,DGET(Forespørgsel1[#All],\"\"&LEFT($F55,LEN($F55)-$C55)&\"\",Kredsudvælgelse!$Q$2:$R$3),DGET(Forespørgsel1[#All],\"\"&LEFT($F55,LEN($F55)-$C55)&\"\",Kredsudvælgelse!$Q$2:$R$3)/IF(ISNONTEXT($D55)=TRUE,1,DGET(Forespørgsel1[#All],\"\"&$D55&\"\",Kredsudvælgelse!$Q$2:$R$3))),IF(ISBLANK(HLOOKUP(K$12,'Statiske ejendomme'!$B$3:$PN$81,'Statiske ejendomme'!$A47,FALSE))=FALSE,HLOOKUP(K$12,'Statiske ejendomme'!$B$3:$PN$81,'Statiske ejendomme'!$A47,FALSE),\"\"))),\"\")","v":""},{"$f":"IFERROR(IF(L$12=Kredsudvælgelse!$Q$20,\"\",IF(Kredsudvælgelse!AC$2=1,IF(ISTEXT(DGET(Forespørgsel1[#All],\"\"&LEFT($F55,LEN($F55)-$C55)&\"\",Kredsudvælgelse!$S$2:$T$3))=TRUE,DGET(Forespørgsel1[#All],\"\"&LEFT($F55,LEN($F55)-$C55)&\"\",Kredsudvælgelse!$S$2:$T$3),DGET(Forespørgsel1[#All],\"\"&LEFT($F55,LEN($F55)-$C55)&\"\",Kredsudvælgelse!$S$2:$T$3)/IF(ISNONTEXT($D55)=TRUE,1,DGET(Forespørgsel1[#All],\"\"&$D55&\"\",Kredsudvælgelse!$S$2:$T$3))),IF(ISBLANK(HLOOKUP(L$12,'Statiske ejendomme'!$B$3:$PN$81,'Statiske ejendomme'!$A47,FALSE))=FALSE,HLOOKUP(L$12,'Statiske ejendomme'!$B$3:$PN$81,'Statiske ejendomme'!$A47,FALSE),\"\"))),\"\")","v":""},{"$f":"IFERROR(IF(M$12=Kredsudvælgelse!$Q$20,\"\",IF(Kredsudvælgelse!AD$2=1,IF(ISTEXT(DGET(Forespørgsel1[#All],\"\"&LEFT($F55,LEN($F55)-$C55)&\"\",Kredsudvælgelse!$U$2:$V$3))=TRUE,DGET(Forespørgsel1[#All],\"\"&LEFT($F55,LEN($F55)-$C55)&\"\",Kredsudvælgelse!$U$2:$V$3),DGET(Forespørgsel1[#All],\"\"&LEFT($F55,LEN($F55)-$C55)&\"\",Kredsudvælgelse!$U$2:$V$3)/IF(ISNONTEXT($D55)=TRUE,1,DGET(Forespørgsel1[#All],\"\"&$D55&\"\",Kredsudvælgelse!$U$2:$V$3))),IF(ISBLANK(HLOOKUP(M$12,'Statiske ejendomme'!$B$3:$PN$81,'Statiske ejendomme'!$A47,FALSE))=FALSE,HLOOKUP(M$12,'Statiske ejendomme'!$B$3:$PN$81,'Statiske ejendomme'!$A47,FALSE),\"\"))),\"\")","v":""},{"$f":"IFERROR(IF(N$12=Kredsudvælgelse!$Q$20,\"\",IF(Kredsudvælgelse!AE$2=1,IF(ISTEXT(DGET(Forespørgsel1[#All],\"\"&LEFT($F55,LEN($F55)-$C55)&\"\",Kredsudvælgelse!$W$2:$X$3))=TRUE,DGET(Forespørgsel1[#All],\"\"&LEFT($F55,LEN($F55)-$C55)&\"\",Kredsudvælgelse!$W$2:$X$3),DGET(Forespørgsel1[#All],\"\"&LEFT($F55,LEN($F55)-$C55)&\"\",Kredsudvælgelse!$W$2:$X$3)/IF(ISNONTEXT($D55)=TRUE,1,DGET(Forespørgsel1[#All],\"\"&$D55&\"\",Kredsudvælgelse!$W$2:$X$3))),IF(ISBLANK(HLOOKUP(N$12,'Statiske ejendomme'!$B$3:$PN$81,'Statiske ejendomme'!$A47,FALSE))=FALSE,HLOOKUP(N$12,'Statiske ejendomme'!$B$3:$PN$81,'Statiske ejendomme'!$A47,FALSE),\"\"))),\"\")","v":""},{"$f":"IFERROR(IF(O$12=Kredsudvælgelse!$Q$20,\"\",IF(Kredsudvælgelse!AF$2=1,IF(ISTEXT(DGET(Forespørgsel1[#All],\"\"&LEFT($F55,LEN($F55)-$C55)&\"\",Kredsudvælgelse!$Y$2:$Z$3))=TRUE,DGET(Forespørgsel1[#All],\"\"&LEFT($F55,LEN($F55)-$C55)&\"\",Kredsudvælgelse!$Y$2:$Z$3),DGET(Forespørgsel1[#All],\"\"&LEFT($F55,LEN($F55)-$C55)&\"\",Kredsudvælgelse!$Y$2:$Z$3)/IF(ISNONTEXT($D55)=TRUE,1,DGET(Forespørgsel1[#All],\"\"&$D55&\"\",Kredsudvælgelse!$Y$2:$Z$3))),IF(ISBLANK(HLOOKUP(O$12,'Statiske ejendomme'!$B$3:$PN$81,'Statiske ejendomme'!$A47,FALSE))=FALSE,HLOOKUP(O$12,'Statiske ejendomme'!$B$3:$PN$81,'Statiske ejendomme'!$A47,FALSE),\"\"))),\"\")","v":""},{"$f":"IFERROR(IF(P$12=Kredsudvælgelse!$Q$20,\"\",IF(Kredsudvælgelse!AG$2=1,IF(ISTEXT(DGET(Forespørgsel1[#All],\"\"&LEFT($F55,LEN($F55)-$C55)&\"\",Kredsudvælgelse!$Q$6:$R$7))=TRUE,DGET(Forespørgsel1[#All],\"\"&LEFT($F55,LEN($F55)-$C55)&\"\",Kredsudvælgelse!$Q$6:$R$7),DGET(Forespørgsel1[#All],\"\"&LEFT($F55,LEN($F55)-$C55)&\"\",Kredsudvælgelse!$Q$6:$R$7)/IF(ISNONTEXT($D55)=TRUE,1,DGET(Forespørgsel1[#All],\"\"&$D55&\"\",Kredsudvælgelse!$Q$6:$R$7))),IF(ISBLANK(HLOOKUP(P$12,'Statiske ejendomme'!$B$3:$PN$81,'Statiske ejendomme'!$A47,FALSE))=FALSE,HLOOKUP(P$12,'Statiske ejendomme'!$B$3:$PN$81,'Statiske ejendomme'!$A47,FALSE),\"\"))),\"\")","v":""},{"$f":"IFERROR(IF(Q$12=Kredsudvælgelse!$Q$20,\"\",IF(Kredsudvælgelse!AH$2=1,IF(ISTEXT(DGET(Forespørgsel1[#All],\"\"&LEFT($F55,LEN($F55)-$C55)&\"\",Kredsudvælgelse!$S$6:$T$7))=TRUE,DGET(Forespørgsel1[#All],\"\"&LEFT($F55,LEN($F55)-$C55)&\"\",Kredsudvælgelse!$S$6:$T$7),DGET(Forespørgsel1[#All],\"\"&LEFT($F55,LEN($F55)-$C55)&\"\",Kredsudvælgelse!$S$6:$T$7)/IF(ISNONTEXT($D55)=TRUE,1,DGET(Forespørgsel1[#All],\"\"&$D55&\"\",Kredsudvælgelse!$S$6:$T$7))),IF(ISBLANK(HLOOKUP(Q$12,'Statiske ejendomme'!$B$3:$PN$81,'Statiske ejendomme'!$A47,FALSE))=FALSE,HLOOKUP(Q$12,'Statiske ejendomme'!$B$3:$PN$81,'Statiske ejendomme'!$A47,FALSE),\"\"))),\"\")","v":""},{"$f":"IFERROR(IF(R$12=Kredsudvælgelse!$Q$20,\"\",IF(Kredsudvælgelse!AI$2=1,IF(ISTEXT(DGET(Forespørgsel1[#All],\"\"&LEFT($F55,LEN($F55)-$C55)&\"\",Kredsudvælgelse!$U$6:$V$7))=TRUE,DGET(Forespørgsel1[#All],\"\"&LEFT($F55,LEN($F55)-$C55)&\"\",Kredsudvælgelse!$U$6:$V$7),DGET(Forespørgsel1[#All],\"\"&LEFT($F55,LEN($F55)-$C55)&\"\",Kredsudvælgelse!$U$6:$V$7)/IF(ISNONTEXT($D55)=TRUE,1,DGET(Forespørgsel1[#All],\"\"&$D55&\"\",Kredsudvælgelse!$U$6:$V$7))),IF(ISBLANK(HLOOKUP(R$12,'Statiske ejendomme'!$B$3:$PN$81,'Statiske ejendomme'!$A47,FALSE))=FALSE,HLOOKUP(R$12,'Statiske ejendomme'!$B$3:$PN$81,'Statiske ejendomme'!$A47,FALSE),\"\"))),\"\")","v":""},{"$f":"IFERROR(IF(S$12=Kredsudvælgelse!$Q$20,\"\",IF(Kredsudvælgelse!AJ$2=1,IF(ISTEXT(DGET(Forespørgsel1[#All],\"\"&LEFT($F55,LEN($F55)-$C55)&\"\",Kredsudvælgelse!$W$6:$X$7))=TRUE,DGET(Forespørgsel1[#All],\"\"&LEFT($F55,LEN($F55)-$C55)&\"\",Kredsudvælgelse!$W$6:$X$7),DGET(Forespørgsel1[#All],\"\"&LEFT($F55,LEN($F55)-$C55)&\"\",Kredsudvælgelse!$W$6:$X$7)/IF(ISNONTEXT($D55)=TRUE,1,DGET(Forespørgsel1[#All],\"\"&$D55&\"\",Kredsudvælgelse!$W$6:$X$7))),IF(ISBLANK(HLOOKUP(S$12,'Statiske ejendomme'!$B$3:$PN$81,'Statiske ejendomme'!$A47,FALSE))=FALSE,HLOOKUP(S$12,'Statiske ejendomme'!$B$3:$PN$81,'Statiske ejendomme'!$A47,FALSE),\"\"))),\"\")","v":""},{"$f":"IFERROR(IF(T$12=Kredsudvælgelse!$Q$20,\"\",IF(Kredsudvælgelse!AK$2=1,IF(ISTEXT(DGET(Forespørgsel1[#All],\"\"&LEFT($F55,LEN($F55)-$C55)&\"\",Kredsudvælgelse!$W$6:$X$7))=TRUE,DGET(Forespørgsel1[#All],\"\"&LEFT($F55,LEN($F55)-$C55)&\"\",Kredsudvælgelse!$W$6:$X$7),DGET(Forespørgsel1[#All],\"\"&LEFT($F55,LEN($F55)-$C55)&\"\",Kredsudvælgelse!$W$6:$X$7)/IF(ISNONTEXT($D55)=TRUE,1,DGET(Forespørgsel1[#All],\"\"&$D55&\"\",Kredsudvælgelse!$W$6:$X$7))),IF(ISBLANK(HLOOKUP(T$12,'Statiske ejendomme'!$B$3:$PN$81,'Statiske ejendomme'!$A48,FALSE))=FALSE,HLOOKUP(T$12,'Statiske ejendomme'!$B$3:$PN$81,'Statiske ejendomme'!$A48,FALSE),\"\"))),\"\")","v":""}]
[{"$f":"Mink!E127","v":1},{"$f":"Mink!D127","v":1},{"$f":"Mink!A45","v":0},{"$f":"Mink!B45","v":"Producerede skind"},null,{"$f":"Mink!C45","v":"Fremstillingspris kr. pr. skind"},{"$f":"Mink!D45","v":318.01795630110246},{"$f":"Mink!E45","v":264.5099444935467},{"$f":"Mink!F45","v":""},{"$f":"Mink!G45","v":""},{"$f":"IFERROR(IF(K$12=Kredsudvælgelse!$Q$20,\"\",IF(Kredsudvælgelse!AB$2=1,IF(ISTEXT(DGET(Forespørgsel1[#All],\"\"&LEFT($F56,LEN($F56)-$C56)&\"\",Kredsudvælgelse!$Q$2:$R$3))=TRUE,DGET(Forespørgsel1[#All],\"\"&LEFT($F56,LEN($F56)-$C56)&\"\",Kredsudvælgelse!$Q$2:$R$3),DGET(Forespørgsel1[#All],\"\"&LEFT($F56,LEN($F56)-$C56)&\"\",Kredsudvælgelse!$Q$2:$R$3)/IF(ISNONTEXT($D56)=TRUE,1,DGET(Forespørgsel1[#All],\"\"&$D56&\"\",Kredsudvælgelse!$Q$2:$R$3))),IF(ISBLANK(HLOOKUP(K$12,'Statiske ejendomme'!$B$3:$PN$81,'Statiske ejendomme'!$A48,FALSE))=FALSE,HLOOKUP(K$12,'Statiske ejendomme'!$B$3:$PN$81,'Statiske ejendomme'!$A48,FALSE),\"\"))),\"\")","v":227.06108014776746},{"$f":"IFERROR(IF(L$12=Kredsudvælgelse!$Q$20,\"\",IF(Kredsudvælgelse!AC$2=1,IF(ISTEXT(DGET(Forespørgsel1[#All],\"\"&LEFT($F56,LEN($F56)-$C56)&\"\",Kredsudvælgelse!$S$2:$T$3))=TRUE,DGET(Forespørgsel1[#All],\"\"&LEFT($F56,LEN($F56)-$C56)&\"\",Kredsudvælgelse!$S$2:$T$3),DGET(Forespørgsel1[#All],\"\"&LEFT($F56,LEN($F56)-$C56)&\"\",Kredsudvælgelse!$S$2:$T$3)/IF(ISNONTEXT($D56)=TRUE,1,DGET(Forespørgsel1[#All],\"\"&$D56&\"\",Kredsudvælgelse!$S$2:$T$3))),IF(ISBLANK(HLOOKUP(L$12,'Statiske ejendomme'!$B$3:$PN$81,'Statiske ejendomme'!$A48,FALSE))=FALSE,HLOOKUP(L$12,'Statiske ejendomme'!$B$3:$PN$81,'Statiske ejendomme'!$A48,FALSE),\"\"))),\"\")","v":264.03458705701081},{"$f":"IFERROR(IF(M$12=Kredsudvælgelse!$Q$20,\"\",IF(Kredsudvælgelse!AD$2=1,IF(ISTEXT(DGET(Forespørgsel1[#All],\"\"&LEFT($F56,LEN($F56)-$C56)&\"\",Kredsudvælgelse!$U$2:$V$3))=TRUE,DGET(Forespørgsel1[#All],\"\"&LEFT($F56,LEN($F56)-$C56)&\"\",Kredsudvælgelse!$U$2:$V$3),DGET(Forespørgsel1[#All],\"\"&LEFT($F56,LEN($F56)-$C56)&\"\",Kredsudvælgelse!$U$2:$V$3)/IF(ISNONTEXT($D56)=TRUE,1,DGET(Forespørgsel1[#All],\"\"&$D56&\"\",Kredsudvælgelse!$U$2:$V$3))),IF(ISBLANK(HLOOKUP(M$12,'Statiske ejendomme'!$B$3:$PN$81,'Statiske ejendomme'!$A48,FALSE))=FALSE,HLOOKUP(M$12,'Statiske ejendomme'!$B$3:$PN$81,'Statiske ejendomme'!$A48,FALSE),\"\"))),\"\")","v":303.61312337902928},{"$f":"IFERROR(IF(N$12=Kredsudvælgelse!$Q$20,\"\",IF(Kredsudvælgelse!AE$2=1,IF(ISTEXT(DGET(Forespørgsel1[#All],\"\"&LEFT($F56,LEN($F56)-$C56)&\"\",Kredsudvælgelse!$W$2:$X$3))=TRUE,DGET(Forespørgsel1[#All],\"\"&LEFT($F56,LEN($F56)-$C56)&\"\",Kredsudvælgelse!$W$2:$X$3),DGET(Forespørgsel1[#All],\"\"&LEFT($F56,LEN($F56)-$C56)&\"\",Kredsudvælgelse!$W$2:$X$3)/IF(ISNONTEXT($D56)=TRUE,1,DGET(Forespørgsel1[#All],\"\"&$D56&\"\",Kredsudvælgelse!$W$2:$X$3))),IF(ISBLANK(HLOOKUP(N$12,'Statiske ejendomme'!$B$3:$PN$81,'Statiske ejendomme'!$A48,FALSE))=FALSE,HLOOKUP(N$12,'Statiske ejendomme'!$B$3:$PN$81,'Statiske ejendomme'!$A48,FALSE),\"\"))),\"\")","v":236.38344890109889},{"$f":"IFERROR(IF(O$12=Kredsudvælgelse!$Q$20,\"\",IF(Kredsudvælgelse!AF$2=1,IF(ISTEXT(DGET(Forespørgsel1[#All],\"\"&LEFT($F56,LEN($F56)-$C56)&\"\",Kredsudvælgelse!$Y$2:$Z$3))=TRUE,DGET(Forespørgsel1[#All],\"\"&LEFT($F56,LEN($F56)-$C56)&\"\",Kredsudvælgelse!$Y$2:$Z$3),DGET(Forespørgsel1[#All],\"\"&LEFT($F56,LEN($F56)-$C56)&\"\",Kredsudvælgelse!$Y$2:$Z$3)/IF(ISNONTEXT($D56)=TRUE,1,DGET(Forespørgsel1[#All],\"\"&$D56&\"\",Kredsudvælgelse!$Y$2:$Z$3))),IF(ISBLANK(HLOOKUP(O$12,'Statiske ejendomme'!$B$3:$PN$81,'Statiske ejendomme'!$A48,FALSE))=FALSE,HLOOKUP(O$12,'Statiske ejendomme'!$B$3:$PN$81,'Statiske ejendomme'!$A48,FALSE),\"\"))),\"\")","v":305.2287107647698},{"$f":"IFERROR(IF(P$12=Kredsudvælgelse!$Q$20,\"\",IF(Kredsudvælgelse!AG$2=1,IF(ISTEXT(DGET(Forespørgsel1[#All],\"\"&LEFT($F56,LEN($F56)-$C56)&\"\",Kredsudvælgelse!$Q$6:$R$7))=TRUE,DGET(Forespørgsel1[#All],\"\"&LEFT($F56,LEN($F56)-$C56)&\"\",Kredsudvælgelse!$Q$6:$R$7),DGET(Forespørgsel1[#All],\"\"&LEFT($F56,LEN($F56)-$C56)&\"\",Kredsudvælgelse!$Q$6:$R$7)/IF(ISNONTEXT($D56)=TRUE,1,DGET(Forespørgsel1[#All],\"\"&$D56&\"\",Kredsudvælgelse!$Q$6:$R$7))),IF(ISBLANK(HLOOKUP(P$12,'Statiske ejendomme'!$B$3:$PN$81,'Statiske ejendomme'!$A48,FALSE))=FALSE,HLOOKUP(P$12,'Statiske ejendomme'!$B$3:$PN$81,'Statiske ejendomme'!$A48,FALSE),\"\"))),\"\")","v":282.59627009246088},{"$f":"IFERROR(IF(Q$12=Kredsudvælgelse!$Q$20,\"\",IF(Kredsudvælgelse!AH$2=1,IF(ISTEXT(DGET(Forespørgsel1[#All],\"\"&LEFT($F56,LEN($F56)-$C56)&\"\",Kredsudvælgelse!$S$6:$T$7))=TRUE,DGET(Forespørgsel1[#All],\"\"&LEFT($F56,LEN($F56)-$C56)&\"\",Kredsudvælgelse!$S$6:$T$7),DGET(Forespørgsel1[#All],\"\"&LEFT($F56,LEN($F56)-$C56)&\"\",Kredsudvælgelse!$S$6:$T$7)/IF(ISNONTEXT($D56)=TRUE,1,DGET(Forespørgsel1[#All],\"\"&$D56&\"\",Kredsudvælgelse!$S$6:$T$7))),IF(ISBLANK(HLOOKUP(Q$12,'Statiske ejendomme'!$B$3:$PN$81,'Statiske ejendomme'!$A48,FALSE))=FALSE,HLOOKUP(Q$12,'Statiske ejendomme'!$B$3:$PN$81,'Statiske ejendomme'!$A48,FALSE),\"\"))),\"\")","v":271.2099194986223},{"$f":"IFERROR(IF(R$12=Kredsudvælgelse!$Q$20,\"\",IF(Kredsudvælgelse!AI$2=1,IF(ISTEXT(DGET(Forespørgsel1[#All],\"\"&LEFT($F56,LEN($F56)-$C56)&\"\",Kredsudvælgelse!$U$6:$V$7))=TRUE,DGET(Forespørgsel1[#All],\"\"&LEFT($F56,LEN($F56)-$C56)&\"\",Kredsudvælgelse!$U$6:$V$7),DGET(Forespørgsel1[#All],\"\"&LEFT($F56,LEN($F56)-$C56)&\"\",Kredsudvælgelse!$U$6:$V$7)/IF(ISNONTEXT($D56)=TRUE,1,DGET(Forespørgsel1[#All],\"\"&$D56&\"\",Kredsudvælgelse!$U$6:$V$7))),IF(ISBLANK(HLOOKUP(R$12,'Statiske ejendomme'!$B$3:$PN$81,'Statiske ejendomme'!$A48,FALSE))=FALSE,HLOOKUP(R$12,'Statiske ejendomme'!$B$3:$PN$81,'Statiske ejendomme'!$A48,FALSE),\"\"))),\"\")","v":254.71508408831983},{"$f":"IFERROR(IF(S$12=Kredsudvælgelse!$Q$20,\"\",IF(Kredsudvælgelse!AJ$2=1,IF(ISTEXT(DGET(Forespørgsel1[#All],\"\"&LEFT($F56,LEN($F56)-$C56)&\"\",Kredsudvælgelse!$W$6:$X$7))=TRUE,DGET(Forespørgsel1[#All],\"\"&LEFT($F56,LEN($F56)-$C56)&\"\",Kredsudvælgelse!$W$6:$X$7),DGET(Forespørgsel1[#All],\"\"&LEFT($F56,LEN($F56)-$C56)&\"\",Kredsudvælgelse!$W$6:$X$7)/IF(ISNONTEXT($D56)=TRUE,1,DGET(Forespørgsel1[#All],\"\"&$D56&\"\",Kredsudvælgelse!$W$6:$X$7))),IF(ISBLANK(HLOOKUP(S$12,'Statiske ejendomme'!$B$3:$PN$81,'Statiske ejendomme'!$A48,FALSE))=FALSE,HLOOKUP(S$12,'Statiske ejendomme'!$B$3:$PN$81,'Statiske ejendomme'!$A48,FALSE),\"\"))),\"\")","v":""},{"$f":"IFERROR(IF(T$12=Kredsudvælgelse!$Q$20,\"\",IF(Kredsudvælgelse!AK$2=1,IF(ISTEXT(DGET(Forespørgsel1[#All],\"\"&LEFT($F56,LEN($F56)-$C56)&\"\",Kredsudvælgelse!$W$6:$X$7))=TRUE,DGET(Forespørgsel1[#All],\"\"&LEFT($F56,LEN($F56)-$C56)&\"\",Kredsudvælgelse!$W$6:$X$7),DGET(Forespørgsel1[#All],\"\"&LEFT($F56,LEN($F56)-$C56)&\"\",Kredsudvælgelse!$W$6:$X$7)/IF(ISNONTEXT($D56)=TRUE,1,DGET(Forespørgsel1[#All],\"\"&$D56&\"\",Kredsudvælgelse!$W$6:$X$7))),IF(ISBLANK(HLOOKUP(T$12,'Statiske ejendomme'!$B$3:$PN$81,'Statiske ejendomme'!$A49,FALSE))=FALSE,HLOOKUP(T$12,'Statiske ejendomme'!$B$3:$PN$81,'Statiske ejendomme'!$A49,FALSE),\"\"))),\"\")","v":""}]
[{"$f":"Mink!E128","v":1},{"$f":"Mink!D128","v":1},{"$f":"Mink!A46","v":0},{"$f":"Mink!B46","v":0},null,{"$f":"Mink!C46","v":"Kr. pr. Skind"},{"$f":"Mink!D46","v":384.39759036144579},{"$f":"Mink!E46","v":420.8},{"$f":"Mink!F46","v":""},{"$f":"Mink!G46","v":""},{"$f":"IFERROR(IF(K$12=Kredsudvælgelse!$Q$20,\"\",IF(Kredsudvælgelse!AB$2=1,IF(ISTEXT(DGET(Forespørgsel1[#All],\"\"&LEFT($F57,LEN($F57)-$C57)&\"\",Kredsudvælgelse!$Q$2:$R$3))=TRUE,DGET(Forespørgsel1[#All],\"\"&LEFT($F57,LEN($F57)-$C57)&\"\",Kredsudvælgelse!$Q$2:$R$3),DGET(Forespørgsel1[#All],\"\"&LEFT($F57,LEN($F57)-$C57)&\"\",Kredsudvælgelse!$Q$2:$R$3)/IF(ISNONTEXT($D57)=TRUE,1,DGET(Forespørgsel1[#All],\"\"&$D57&\"\",Kredsudvælgelse!$Q$2:$R$3))),IF(ISBLANK(HLOOKUP(K$12,'Statiske ejendomme'!$B$3:$PN$81,'Statiske ejendomme'!$A49,FALSE))=FALSE,HLOOKUP(K$12,'Statiske ejendomme'!$B$3:$PN$81,'Statiske ejendomme'!$A49,FALSE),\"\"))),\"\")","v":418},{"$f":"IFERROR(IF(L$12=Kredsudvælgelse!$Q$20,\"\",IF(Kredsudvælgelse!AC$2=1,IF(ISTEXT(DGET(Forespørgsel1[#All],\"\"&LEFT($F57,LEN($F57)-$C57)&\"\",Kredsudvælgelse!$S$2:$T$3))=TRUE,DGET(Forespørgsel1[#All],\"\"&LEFT($F57,LEN($F57)-$C57)&\"\",Kredsudvælgelse!$S$2:$T$3),DGET(Forespørgsel1[#All],\"\"&LEFT($F57,LEN($F57)-$C57)&\"\",Kredsudvælgelse!$S$2:$T$3)/IF(ISNONTEXT($D57)=TRUE,1,DGET(Forespørgsel1[#All],\"\"&$D57&\"\",Kredsudvælgelse!$S$2:$T$3))),IF(ISBLANK(HLOOKUP(L$12,'Statiske ejendomme'!$B$3:$PN$81,'Statiske ejendomme'!$A49,FALSE))=FALSE,HLOOKUP(L$12,'Statiske ejendomme'!$B$3:$PN$81,'Statiske ejendomme'!$A49,FALSE),\"\"))),\"\")","v":463},{"$f":"IFERROR(IF(M$12=Kredsudvælgelse!$Q$20,\"\",IF(Kredsudvælgelse!AD$2=1,IF(ISTEXT(DGET(Forespørgsel1[#All],\"\"&LEFT($F57,LEN($F57)-$C57)&\"\",Kredsudvælgelse!$U$2:$V$3))=TRUE,DGET(Forespørgsel1[#All],\"\"&LEFT($F57,LEN($F57)-$C57)&\"\",Kredsudvælgelse!$U$2:$V$3),DGET(Forespørgsel1[#All],\"\"&LEFT($F57,LEN($F57)-$C57)&\"\",Kredsudvælgelse!$U$2:$V$3)/IF(ISNONTEXT($D57)=TRUE,1,DGET(Forespørgsel1[#All],\"\"&$D57&\"\",Kredsudvælgelse!$U$2:$V$3))),IF(ISBLANK(HLOOKUP(M$12,'Statiske ejendomme'!$B$3:$PN$81,'Statiske ejendomme'!$A49,FALSE))=FALSE,HLOOKUP(M$12,'Statiske ejendomme'!$B$3:$PN$81,'Statiske ejendomme'!$A49,FALSE),\"\"))),\"\")","v":503},{"$f":"IFERROR(IF(N$12=Kredsudvælgelse!$Q$20,\"\",IF(Kredsudvælgelse!AE$2=1,IF(ISTEXT(DGET(Forespørgsel1[#All],\"\"&LEFT($F57,LEN($F57)-$C57)&\"\",Kredsudvælgelse!$W$2:$X$3))=TRUE,DGET(Forespørgsel1[#All],\"\"&LEFT($F57,LEN($F57)-$C57)&\"\",Kredsudvælgelse!$W$2:$X$3),DGET(Forespørgsel1[#All],\"\"&LEFT($F57,LEN($F57)-$C57)&\"\",Kredsudvælgelse!$W$2:$X$3)/IF(ISNONTEXT($D57)=TRUE,1,DGET(Forespørgsel1[#All],\"\"&$D57&\"\",Kredsudvælgelse!$W$2:$X$3))),IF(ISBLANK(HLOOKUP(N$12,'Statiske ejendomme'!$B$3:$PN$81,'Statiske ejendomme'!$A49,FALSE))=FALSE,HLOOKUP(N$12,'Statiske ejendomme'!$B$3:$PN$81,'Statiske ejendomme'!$A49,FALSE),\"\"))),\"\")","v":362},{"$f":"IFERROR(IF(O$12=Kredsudvælgelse!$Q$20,\"\",IF(Kredsudvælgelse!AF$2=1,IF(ISTEXT(DGET(Forespørgsel1[#All],\"\"&LEFT($F57,LEN($F57)-$C57)&\"\",Kredsudvælgelse!$Y$2:$Z$3))=TRUE,DGET(Forespørgsel1[#All],\"\"&LEFT($F57,LEN($F57)-$C57)&\"\",Kredsudvælgelse!$Y$2:$Z$3),DGET(Forespørgsel1[#All],\"\"&LEFT($F57,LEN($F57)-$C57)&\"\",Kredsudvælgelse!$Y$2:$Z$3)/IF(ISNONTEXT($D57)=TRUE,1,DGET(Forespørgsel1[#All],\"\"&$D57&\"\",Kredsudvælgelse!$Y$2:$Z$3))),IF(ISBLANK(HLOOKUP(O$12,'Statiske ejendomme'!$B$3:$PN$81,'Statiske ejendomme'!$A49,FALSE))=FALSE,HLOOKUP(O$12,'Statiske ejendomme'!$B$3:$PN$81,'Statiske ejendomme'!$A49,FALSE),\"\"))),\"\")","v":424},{"$f":"IFERROR(IF(P$12=Kredsudvælgelse!$Q$20,\"\",IF(Kredsudvælgelse!AG$2=1,IF(ISTEXT(DGET(Forespørgsel1[#All],\"\"&LEFT($F57,LEN($F57)-$C57)&\"\",Kredsudvælgelse!$Q$6:$R$7))=TRUE,DGET(Forespørgsel1[#All],\"\"&LEFT($F57,LEN($F57)-$C57)&\"\",Kredsudvælgelse!$Q$6:$R$7),DGET(Forespørgsel1[#All],\"\"&LEFT($F57,LEN($F57)-$C57)&\"\",Kredsudvælgelse!$Q$6:$R$7)/IF(ISNONTEXT($D57)=TRUE,1,DGET(Forespørgsel1[#All],\"\"&$D57&\"\",Kredsudvælgelse!$Q$6:$R$7))),IF(ISBLANK(HLOOKUP(P$12,'Statiske ejendomme'!$B$3:$PN$81,'Statiske ejendomme'!$A49,FALSE))=FALSE,HLOOKUP(P$12,'Statiske ejendomme'!$B$3:$PN$81,'Statiske ejendomme'!$A49,FALSE),\"\"))),\"\")","v":424},{"$f":"IFERROR(IF(Q$12=Kredsudvælgelse!$Q$20,\"\",IF(Kredsudvælgelse!AH$2=1,IF(ISTEXT(DGET(Forespørgsel1[#All],\"\"&LEFT($F57,LEN($F57)-$C57)&\"\",Kredsudvælgelse!$S$6:$T$7))=TRUE,DGET(Forespørgsel1[#All],\"\"&LEFT($F57,LEN($F57)-$C57)&\"\",Kredsudvælgelse!$S$6:$T$7),DGET(Forespørgsel1[#All],\"\"&LEFT($F57,LEN($F57)-$C57)&\"\",Kredsudvælgelse!$S$6:$T$7)/IF(ISNONTEXT($D57)=TRUE,1,DGET(Forespørgsel1[#All],\"\"&$D57&\"\",Kredsudvælgelse!$S$6:$T$7))),IF(ISBLANK(HLOOKUP(Q$12,'Statiske ejendomme'!$B$3:$PN$81,'Statiske ejendomme'!$A49,FALSE))=FALSE,HLOOKUP(Q$12,'Statiske ejendomme'!$B$3:$PN$81,'Statiske ejendomme'!$A49,FALSE),\"\"))),\"\")","v":420},{"$f":"IFERROR(IF(R$12=Kredsudvælgelse!$Q$20,\"\",IF(Kredsudvælgelse!AI$2=1,IF(ISTEXT(DGET(Forespørgsel1[#All],\"\"&LEFT($F57,LEN($F57)-$C57)&\"\",Kredsudvælgelse!$U$6:$V$7))=TRUE,DGET(Forespørgsel1[#All],\"\"&LEFT($F57,LEN($F57)-$C57)&\"\",Kredsudvælgelse!$U$6:$V$7),DGET(Forespørgsel1[#All],\"\"&LEFT($F57,LEN($F57)-$C57)&\"\",Kredsudvælgelse!$U$6:$V$7)/IF(ISNONTEXT($D57)=TRUE,1,DGET(Forespørgsel1[#All],\"\"&$D57&\"\",Kredsudvælgelse!$U$6:$V$7))),IF(ISBLANK(HLOOKUP(R$12,'Statiske ejendomme'!$B$3:$PN$81,'Statiske ejendomme'!$A49,FALSE))=FALSE,HLOOKUP(R$12,'Statiske ejendomme'!$B$3:$PN$81,'Statiske ejendomme'!$A49,FALSE),\"\"))),\"\")","v":378},{"$f":"IFERROR(IF(S$12=Kredsudvælgelse!$Q$20,\"\",IF(Kredsudvælgelse!AJ$2=1,IF(ISTEXT(DGET(Forespørgsel1[#All],\"\"&LEFT($F57,LEN($F57)-$C57)&\"\",Kredsudvælgelse!$W$6:$X$7))=TRUE,DGET(Forespørgsel1[#All],\"\"&LEFT($F57,LEN($F57)-$C57)&\"\",Kredsudvælgelse!$W$6:$X$7),DGET(Forespørgsel1[#All],\"\"&LEFT($F57,LEN($F57)-$C57)&\"\",Kredsudvælgelse!$W$6:$X$7)/IF(ISNONTEXT($D57)=TRUE,1,DGET(Forespørgsel1[#All],\"\"&$D57&\"\",Kredsudvælgelse!$W$6:$X$7))),IF(ISBLANK(HLOOKUP(S$12,'Statiske ejendomme'!$B$3:$PN$81,'Statiske ejendomme'!$A49,FALSE))=FALSE,HLOOKUP(S$12,'Statiske ejendomme'!$B$3:$PN$81,'Statiske ejendomme'!$A49,FALSE),\"\"))),\"\")","v":""},{"$f":"IFERROR(IF(T$12=Kredsudvælgelse!$Q$20,\"\",IF(Kredsudvælgelse!AK$2=1,IF(ISTEXT(DGET(Forespørgsel1[#All],\"\"&LEFT($F57,LEN($F57)-$C57)&\"\",Kredsudvælgelse!$W$6:$X$7))=TRUE,DGET(Forespørgsel1[#All],\"\"&LEFT($F57,LEN($F57)-$C57)&\"\",Kredsudvælgelse!$W$6:$X$7),DGET(Forespørgsel1[#All],\"\"&LEFT($F57,LEN($F57)-$C57)&\"\",Kredsudvælgelse!$W$6:$X$7)/IF(ISNONTEXT($D57)=TRUE,1,DGET(Forespørgsel1[#All],\"\"&$D57&\"\",Kredsudvælgelse!$W$6:$X$7))),IF(ISBLANK(HLOOKUP(T$12,'Statiske ejendomme'!$B$3:$PN$81,'Statiske ejendomme'!$A50,FALSE))=FALSE,HLOOKUP(T$12,'Statiske ejendomme'!$B$3:$PN$81,'Statiske ejendomme'!$A50,FALSE),\"\"))),\"\")","v":""}]
[{"$f":"Mink!E129","v":1},{"$f":"Mink!D129","v":1},{"$f":"Mink!A47","v":0},{"$f":"Mink!B47","v":0},null,{"$f":"Mink!C47","v":"Producerede skind pr. tæve"},{"$f":"Mink!D47","v":5.3228915662650635},{"$f":"Mink!E47","v":5.88},{"$f":"Mink!F47","v":""},{"$f":"Mink!G47","v":""},{"$f":"IFERROR(IF(K$12=Kredsudvælgelse!$Q$20,\"\",IF(Kredsudvælgelse!AB$2=1,IF(ISTEXT(DGET(Forespørgsel1[#All],\"\"&LEFT($F58,LEN($F58)-$C58)&\"\",Kredsudvælgelse!$Q$2:$R$3))=TRUE,DGET(Forespørgsel1[#All],\"\"&LEFT($F58,LEN($F58)-$C58)&\"\",Kredsudvælgelse!$Q$2:$R$3),DGET(Forespørgsel1[#All],\"\"&LEFT($F58,LEN($F58)-$C58)&\"\",Kredsudvælgelse!$Q$2:$R$3)/IF(ISNONTEXT($D58)=TRUE,1,DGET(Forespørgsel1[#All],\"\"&$D58&\"\",Kredsudvælgelse!$Q$2:$R$3))),IF(ISBLANK(HLOOKUP(K$12,'Statiske ejendomme'!$B$3:$PN$81,'Statiske ejendomme'!$A50,FALSE))=FALSE,HLOOKUP(K$12,'Statiske ejendomme'!$B$3:$PN$81,'Statiske ejendomme'!$A50,FALSE),\"\"))),\"\")","v":6.2},{"$f":"IFERROR(IF(L$12=Kredsudvælgelse!$Q$20,\"\",IF(Kredsudvælgelse!AC$2=1,IF(ISTEXT(DGET(Forespørgsel1[#All],\"\"&LEFT($F58,LEN($F58)-$C58)&\"\",Kredsudvælgelse!$S$2:$T$3))=TRUE,DGET(Forespørgsel1[#All],\"\"&LEFT($F58,LEN($F58)-$C58)&\"\",Kredsudvælgelse!$S$2:$T$3),DGET(Forespørgsel1[#All],\"\"&LEFT($F58,LEN($F58)-$C58)&\"\",Kredsudvælgelse!$S$2:$T$3)/IF(ISNONTEXT($D58)=TRUE,1,DGET(Forespørgsel1[#All],\"\"&$D58&\"\",Kredsudvælgelse!$S$2:$T$3))),IF(ISBLANK(HLOOKUP(L$12,'Statiske ejendomme'!$B$3:$PN$81,'Statiske ejendomme'!$A50,FALSE))=FALSE,HLOOKUP(L$12,'Statiske ejendomme'!$B$3:$PN$81,'Statiske ejendomme'!$A50,FALSE),\"\"))),\"\")","v":5.3},{"$f":"IFERROR(IF(M$12=Kredsudvælgelse!$Q$20,\"\",IF(Kredsudvælgelse!AD$2=1,IF(ISTEXT(DGET(Forespørgsel1[#All],\"\"&LEFT($F58,LEN($F58)-$C58)&\"\",Kredsudvælgelse!$U$2:$V$3))=TRUE,DGET(Forespørgsel1[#All],\"\"&LEFT($F58,LEN($F58)-$C58)&\"\",Kredsudvælgelse!$U$2:$V$3),DGET(Forespørgsel1[#All],\"\"&LEFT($F58,LEN($F58)-$C58)&\"\",Kredsudvælgelse!$U$2:$V$3)/IF(ISNONTEXT($D58)=TRUE,1,DGET(Forespørgsel1[#All],\"\"&$D58&\"\",Kredsudvælgelse!$U$2:$V$3))),IF(ISBLANK(HLOOKUP(M$12,'Statiske ejendomme'!$B$3:$PN$81,'Statiske ejendomme'!$A50,FALSE))=FALSE,HLOOKUP(M$12,'Statiske ejendomme'!$B$3:$PN$81,'Statiske ejendomme'!$A50,FALSE),\"\"))),\"\")","v":5.7},{"$f":"IFERROR(IF(N$12=Kredsudvælgelse!$Q$20,\"\",IF(Kredsudvælgelse!AE$2=1,IF(ISTEXT(DGET(Forespørgsel1[#All],\"\"&LEFT($F58,LEN($F58)-$C58)&\"\",Kredsudvælgelse!$W$2:$X$3))=TRUE,DGET(Forespørgsel1[#All],\"\"&LEFT($F58,LEN($F58)-$C58)&\"\",Kredsudvælgelse!$W$2:$X$3),DGET(Forespørgsel1[#All],\"\"&LEFT($F58,LEN($F58)-$C58)&\"\",Kredsudvælgelse!$W$2:$X$3)/IF(ISNONTEXT($D58)=TRUE,1,DGET(Forespørgsel1[#All],\"\"&$D58&\"\",Kredsudvælgelse!$W$2:$X$3))),IF(ISBLANK(HLOOKUP(N$12,'Statiske ejendomme'!$B$3:$PN$81,'Statiske ejendomme'!$A50,FALSE))=FALSE,HLOOKUP(N$12,'Statiske ejendomme'!$B$3:$PN$81,'Statiske ejendomme'!$A50,FALSE),\"\"))),\"\")","v":5.4},{"$f":"IFERROR(IF(O$12=Kredsudvælgelse!$Q$20,\"\",IF(Kredsudvælgelse!AF$2=1,IF(ISTEXT(DGET(Forespørgsel1[#All],\"\"&LEFT($F58,LEN($F58)-$C58)&\"\",Kredsudvælgelse!$Y$2:$Z$3))=TRUE,DGET(Forespørgsel1[#All],\"\"&LEFT($F58,LEN($F58)-$C58)&\"\",Kredsudvælgelse!$Y$2:$Z$3),DGET(Forespørgsel1[#All],\"\"&LEFT($F58,LEN($F58)-$C58)&\"\",Kredsudvælgelse!$Y$2:$Z$3)/IF(ISNONTEXT($D58)=TRUE,1,DGET(Forespørgsel1[#All],\"\"&$D58&\"\",Kredsudvælgelse!$Y$2:$Z$3))),IF(ISBLANK(HLOOKUP(O$12,'Statiske ejendomme'!$B$3:$PN$81,'Statiske ejendomme'!$A50,FALSE))=FALSE,HLOOKUP(O$12,'Statiske ejendomme'!$B$3:$PN$81,'Statiske ejendomme'!$A50,FALSE),\"\"))),\"\")","v":6},{"$f":"IFERROR(IF(P$12=Kredsudvælgelse!$Q$20,\"\",IF(Kredsudvælgelse!AG$2=1,IF(ISTEXT(DGET(Forespørgsel1[#All],\"\"&LEFT($F58,LEN($F58)-$C58)&\"\",Kredsudvælgelse!$Q$6:$R$7))=TRUE,DGET(Forespørgsel1[#All],\"\"&LEFT($F58,LEN($F58)-$C58)&\"\",Kredsudvælgelse!$Q$6:$R$7),DGET(Forespørgsel1[#All],\"\"&LEFT($F58,LEN($F58)-$C58)&\"\",Kredsudvælgelse!$Q$6:$R$7)/IF(ISNONTEXT($D58)=TRUE,1,DGET(Forespørgsel1[#All],\"\"&$D58&\"\",Kredsudvælgelse!$Q$6:$R$7))),IF(ISBLANK(HLOOKUP(P$12,'Statiske ejendomme'!$B$3:$PN$81,'Statiske ejendomme'!$A50,FALSE))=FALSE,HLOOKUP(P$12,'Statiske ejendomme'!$B$3:$PN$81,'Statiske ejendomme'!$A50,FALSE),\"\"))),\"\")","v":5.4},{"$f":"IFERROR(IF(Q$12=Kredsudvælgelse!$Q$20,\"\",IF(Kredsudvælgelse!AH$2=1,IF(ISTEXT(DGET(Forespørgsel1[#All],\"\"&LEFT($F58,LEN($F58)-$C58)&\"\",Kredsudvælgelse!$S$6:$T$7))=TRUE,DGET(Forespørgsel1[#All],\"\"&LEFT($F58,LEN($F58)-$C58)&\"\",Kredsudvælgelse!$S$6:$T$7),DGET(Forespørgsel1[#All],\"\"&LEFT($F58,LEN($F58)-$C58)&\"\",Kredsudvælgelse!$S$6:$T$7)/IF(ISNONTEXT($D58)=TRUE,1,DGET(Forespørgsel1[#All],\"\"&$D58&\"\",Kredsudvælgelse!$S$6:$T$7))),IF(ISBLANK(HLOOKUP(Q$12,'Statiske ejendomme'!$B$3:$PN$81,'Statiske ejendomme'!$A50,FALSE))=FALSE,HLOOKUP(Q$12,'Statiske ejendomme'!$B$3:$PN$81,'Statiske ejendomme'!$A50,FALSE),\"\"))),\"\")","v":6.6},{"$f":"IFERROR(IF(R$12=Kredsudvælgelse!$Q$20,\"\",IF(Kredsudvælgelse!AI$2=1,IF(ISTEXT(DGET(Forespørgsel1[#All],\"\"&LEFT($F58,LEN($F58)-$C58)&\"\",Kredsudvælgelse!$U$6:$V$7))=TRUE,DGET(Forespørgsel1[#All],\"\"&LEFT($F58,LEN($F58)-$C58)&\"\",Kredsudvælgelse!$U$6:$V$7),DGET(Forespørgsel1[#All],\"\"&LEFT($F58,LEN($F58)-$C58)&\"\",Kredsudvælgelse!$U$6:$V$7)/IF(ISNONTEXT($D58)=TRUE,1,DGET(Forespørgsel1[#All],\"\"&$D58&\"\",Kredsudvælgelse!$U$6:$V$7))),IF(ISBLANK(HLOOKUP(R$12,'Statiske ejendomme'!$B$3:$PN$81,'Statiske ejendomme'!$A50,FALSE))=FALSE,HLOOKUP(R$12,'Statiske ejendomme'!$B$3:$PN$81,'Statiske ejendomme'!$A50,FALSE),\"\"))),\"\")","v":6.6},{"$f":"IFERROR(IF(S$12=Kredsudvælgelse!$Q$20,\"\",IF(Kredsudvælgelse!AJ$2=1,IF(ISTEXT(DGET(Forespørgsel1[#All],\"\"&LEFT($F58,LEN($F58)-$C58)&\"\",Kredsudvælgelse!$W$6:$X$7))=TRUE,DGET(Forespørgsel1[#All],\"\"&LEFT($F58,LEN($F58)-$C58)&\"\",Kredsudvælgelse!$W$6:$X$7),DGET(Forespørgsel1[#All],\"\"&LEFT($F58,LEN($F58)-$C58)&\"\",Kredsudvælgelse!$W$6:$X$7)/IF(ISNONTEXT($D58)=TRUE,1,DGET(Forespørgsel1[#All],\"\"&$D58&\"\",Kredsudvælgelse!$W$6:$X$7))),IF(ISBLANK(HLOOKUP(S$12,'Statiske ejendomme'!$B$3:$PN$81,'Statiske ejendomme'!$A50,FALSE))=FALSE,HLOOKUP(S$12,'Statiske ejendomme'!$B$3:$PN$81,'Statiske ejendomme'!$A50,FALSE),\"\"))),\"\")","v":""},{"$f":"IFERROR(IF(T$12=Kredsudvælgelse!$Q$20,\"\",IF(Kredsudvælgelse!AK$2=1,IF(ISTEXT(DGET(Forespørgsel1[#All],\"\"&LEFT($F58,LEN($F58)-$C58)&\"\",Kredsudvælgelse!$W$6:$X$7))=TRUE,DGET(Forespørgsel1[#All],\"\"&LEFT($F58,LEN($F58)-$C58)&\"\",Kredsudvælgelse!$W$6:$X$7),DGET(Forespørgsel1[#All],\"\"&LEFT($F58,LEN($F58)-$C58)&\"\",Kredsudvælgelse!$W$6:$X$7)/IF(ISNONTEXT($D58)=TRUE,1,DGET(Forespørgsel1[#All],\"\"&$D58&\"\",Kredsudvælgelse!$W$6:$X$7))),IF(ISBLANK(HLOOKUP(T$12,'Statiske ejendomme'!$B$3:$PN$81,'Statiske ejendomme'!$A51,FALSE))=FALSE,HLOOKUP(T$12,'Statiske ejendomme'!$B$3:$PN$81,'Statiske ejendomme'!$A51,FALSE),\"\"))),\"\")","v":""}]
[{"$f":"Mink!E130","v":1},{"$f":"Mink!D130","v":9},{"$f":"Mink!A48","v":0},{"$f":"Mink!B48","v":0},null,{"$f":"Mink!C48","v":0},{"$f":"Mink!D48","v":""},{"$f":"Mink!E48","v":""},{"$f":"Mink!F48","v":""},{"$f":"Mink!G48","v":""},{"$f":"IFERROR(IF(K$12=Kredsudvælgelse!$Q$20,\"\",IF(Kredsudvælgelse!AB$2=1,IF(ISTEXT(DGET(Forespørgsel1[#All],\"\"&LEFT($F59,LEN($F59)-$C59)&\"\",Kredsudvælgelse!$Q$2:$R$3))=TRUE,DGET(Forespørgsel1[#All],\"\"&LEFT($F59,LEN($F59)-$C59)&\"\",Kredsudvælgelse!$Q$2:$R$3),DGET(Forespørgsel1[#All],\"\"&LEFT($F59,LEN($F59)-$C59)&\"\",Kredsudvælgelse!$Q$2:$R$3)/IF(ISNONTEXT($D59)=TRUE,1,DGET(Forespørgsel1[#All],\"\"&$D59&\"\",Kredsudvælgelse!$Q$2:$R$3))),IF(ISBLANK(HLOOKUP(K$12,'Statiske ejendomme'!$B$3:$PN$81,'Statiske ejendomme'!$A51,FALSE))=FALSE,HLOOKUP(K$12,'Statiske ejendomme'!$B$3:$PN$81,'Statiske ejendomme'!$A51,FALSE),\"\"))),\"\")","v":""},{"$f":"IFERROR(IF(L$12=Kredsudvælgelse!$Q$20,\"\",IF(Kredsudvælgelse!AC$2=1,IF(ISTEXT(DGET(Forespørgsel1[#All],\"\"&LEFT($F59,LEN($F59)-$C59)&\"\",Kredsudvælgelse!$S$2:$T$3))=TRUE,DGET(Forespørgsel1[#All],\"\"&LEFT($F59,LEN($F59)-$C59)&\"\",Kredsudvælgelse!$S$2:$T$3),DGET(Forespørgsel1[#All],\"\"&LEFT($F59,LEN($F59)-$C59)&\"\",Kredsudvælgelse!$S$2:$T$3)/IF(ISNONTEXT($D59)=TRUE,1,DGET(Forespørgsel1[#All],\"\"&$D59&\"\",Kredsudvælgelse!$S$2:$T$3))),IF(ISBLANK(HLOOKUP(L$12,'Statiske ejendomme'!$B$3:$PN$81,'Statiske ejendomme'!$A51,FALSE))=FALSE,HLOOKUP(L$12,'Statiske ejendomme'!$B$3:$PN$81,'Statiske ejendomme'!$A51,FALSE),\"\"))),\"\")","v":""},{"$f":"IFERROR(IF(M$12=Kredsudvælgelse!$Q$20,\"\",IF(Kredsudvælgelse!AD$2=1,IF(ISTEXT(DGET(Forespørgsel1[#All],\"\"&LEFT($F59,LEN($F59)-$C59)&\"\",Kredsudvælgelse!$U$2:$V$3))=TRUE,DGET(Forespørgsel1[#All],\"\"&LEFT($F59,LEN($F59)-$C59)&\"\",Kredsudvælgelse!$U$2:$V$3),DGET(Forespørgsel1[#All],\"\"&LEFT($F59,LEN($F59)-$C59)&\"\",Kredsudvælgelse!$U$2:$V$3)/IF(ISNONTEXT($D59)=TRUE,1,DGET(Forespørgsel1[#All],\"\"&$D59&\"\",Kredsudvælgelse!$U$2:$V$3))),IF(ISBLANK(HLOOKUP(M$12,'Statiske ejendomme'!$B$3:$PN$81,'Statiske ejendomme'!$A51,FALSE))=FALSE,HLOOKUP(M$12,'Statiske ejendomme'!$B$3:$PN$81,'Statiske ejendomme'!$A51,FALSE),\"\"))),\"\")","v":""},{"$f":"IFERROR(IF(N$12=Kredsudvælgelse!$Q$20,\"\",IF(Kredsudvælgelse!AE$2=1,IF(ISTEXT(DGET(Forespørgsel1[#All],\"\"&LEFT($F59,LEN($F59)-$C59)&\"\",Kredsudvælgelse!$W$2:$X$3))=TRUE,DGET(Forespørgsel1[#All],\"\"&LEFT($F59,LEN($F59)-$C59)&\"\",Kredsudvælgelse!$W$2:$X$3),DGET(Forespørgsel1[#All],\"\"&LEFT($F59,LEN($F59)-$C59)&\"\",Kredsudvælgelse!$W$2:$X$3)/IF(ISNONTEXT($D59)=TRUE,1,DGET(Forespørgsel1[#All],\"\"&$D59&\"\",Kredsudvælgelse!$W$2:$X$3))),IF(ISBLANK(HLOOKUP(N$12,'Statiske ejendomme'!$B$3:$PN$81,'Statiske ejendomme'!$A51,FALSE))=FALSE,HLOOKUP(N$12,'Statiske ejendomme'!$B$3:$PN$81,'Statiske ejendomme'!$A51,FALSE),\"\"))),\"\")","v":""},{"$f":"IFERROR(IF(O$12=Kredsudvælgelse!$Q$20,\"\",IF(Kredsudvælgelse!AF$2=1,IF(ISTEXT(DGET(Forespørgsel1[#All],\"\"&LEFT($F59,LEN($F59)-$C59)&\"\",Kredsudvælgelse!$Y$2:$Z$3))=TRUE,DGET(Forespørgsel1[#All],\"\"&LEFT($F59,LEN($F59)-$C59)&\"\",Kredsudvælgelse!$Y$2:$Z$3),DGET(Forespørgsel1[#All],\"\"&LEFT($F59,LEN($F59)-$C59)&\"\",Kredsudvælgelse!$Y$2:$Z$3)/IF(ISNONTEXT($D59)=TRUE,1,DGET(Forespørgsel1[#All],\"\"&$D59&\"\",Kredsudvælgelse!$Y$2:$Z$3))),IF(ISBLANK(HLOOKUP(O$12,'Statiske ejendomme'!$B$3:$PN$81,'Statiske ejendomme'!$A51,FALSE))=FALSE,HLOOKUP(O$12,'Statiske ejendomme'!$B$3:$PN$81,'Statiske ejendomme'!$A51,FALSE),\"\"))),\"\")","v":""},{"$f":"IFERROR(IF(P$12=Kredsudvælgelse!$Q$20,\"\",IF(Kredsudvælgelse!AG$2=1,IF(ISTEXT(DGET(Forespørgsel1[#All],\"\"&LEFT($F59,LEN($F59)-$C59)&\"\",Kredsudvælgelse!$Q$6:$R$7))=TRUE,DGET(Forespørgsel1[#All],\"\"&LEFT($F59,LEN($F59)-$C59)&\"\",Kredsudvælgelse!$Q$6:$R$7),DGET(Forespørgsel1[#All],\"\"&LEFT($F59,LEN($F59)-$C59)&\"\",Kredsudvælgelse!$Q$6:$R$7)/IF(ISNONTEXT($D59)=TRUE,1,DGET(Forespørgsel1[#All],\"\"&$D59&\"\",Kredsudvælgelse!$Q$6:$R$7))),IF(ISBLANK(HLOOKUP(P$12,'Statiske ejendomme'!$B$3:$PN$81,'Statiske ejendomme'!$A51,FALSE))=FALSE,HLOOKUP(P$12,'Statiske ejendomme'!$B$3:$PN$81,'Statiske ejendomme'!$A51,FALSE),\"\"))),\"\")","v":""},{"$f":"IFERROR(IF(Q$12=Kredsudvælgelse!$Q$20,\"\",IF(Kredsudvælgelse!AH$2=1,IF(ISTEXT(DGET(Forespørgsel1[#All],\"\"&LEFT($F59,LEN($F59)-$C59)&\"\",Kredsudvælgelse!$S$6:$T$7))=TRUE,DGET(Forespørgsel1[#All],\"\"&LEFT($F59,LEN($F59)-$C59)&\"\",Kredsudvælgelse!$S$6:$T$7),DGET(Forespørgsel1[#All],\"\"&LEFT($F59,LEN($F59)-$C59)&\"\",Kredsudvælgelse!$S$6:$T$7)/IF(ISNONTEXT($D59)=TRUE,1,DGET(Forespørgsel1[#All],\"\"&$D59&\"\",Kredsudvælgelse!$S$6:$T$7))),IF(ISBLANK(HLOOKUP(Q$12,'Statiske ejendomme'!$B$3:$PN$81,'Statiske ejendomme'!$A51,FALSE))=FALSE,HLOOKUP(Q$12,'Statiske ejendomme'!$B$3:$PN$81,'Statiske ejendomme'!$A51,FALSE),\"\"))),\"\")","v":""},{"$f":"IFERROR(IF(R$12=Kredsudvælgelse!$Q$20,\"\",IF(Kredsudvælgelse!AI$2=1,IF(ISTEXT(DGET(Forespørgsel1[#All],\"\"&LEFT($F59,LEN($F59)-$C59)&\"\",Kredsudvælgelse!$U$6:$V$7))=TRUE,DGET(Forespørgsel1[#All],\"\"&LEFT($F59,LEN($F59)-$C59)&\"\",Kredsudvælgelse!$U$6:$V$7),DGET(Forespørgsel1[#All],\"\"&LEFT($F59,LEN($F59)-$C59)&\"\",Kredsudvælgelse!$U$6:$V$7)/IF(ISNONTEXT($D59)=TRUE,1,DGET(Forespørgsel1[#All],\"\"&$D59&\"\",Kredsudvælgelse!$U$6:$V$7))),IF(ISBLANK(HLOOKUP(R$12,'Statiske ejendomme'!$B$3:$PN$81,'Statiske ejendomme'!$A51,FALSE))=FALSE,HLOOKUP(R$12,'Statiske ejendomme'!$B$3:$PN$81,'Statiske ejendomme'!$A51,FALSE),\"\"))),\"\")","v":""},{"$f":"IFERROR(IF(S$12=Kredsudvælgelse!$Q$20,\"\",IF(Kredsudvælgelse!AJ$2=1,IF(ISTEXT(DGET(Forespørgsel1[#All],\"\"&LEFT($F59,LEN($F59)-$C59)&\"\",Kredsudvælgelse!$W$6:$X$7))=TRUE,DGET(Forespørgsel1[#All],\"\"&LEFT($F59,LEN($F59)-$C59)&\"\",Kredsudvælgelse!$W$6:$X$7),DGET(Forespørgsel1[#All],\"\"&LEFT($F59,LEN($F59)-$C59)&\"\",Kredsudvælgelse!$W$6:$X$7)/IF(ISNONTEXT($D59)=TRUE,1,DGET(Forespørgsel1[#All],\"\"&$D59&\"\",Kredsudvælgelse!$W$6:$X$7))),IF(ISBLANK(HLOOKUP(S$12,'Statiske ejendomme'!$B$3:$PN$81,'Statiske ejendomme'!$A51,FALSE))=FALSE,HLOOKUP(S$12,'Statiske ejendomme'!$B$3:$PN$81,'Statiske ejendomme'!$A51,FALSE),\"\"))),\"\")","v":""},{"$f":"IFERROR(IF(T$12=Kredsudvælgelse!$Q$20,\"\",IF(Kredsudvælgelse!AK$2=1,IF(ISTEXT(DGET(Forespørgsel1[#All],\"\"&LEFT($F59,LEN($F59)-$C59)&\"\",Kredsudvælgelse!$W$6:$X$7))=TRUE,DGET(Forespørgsel1[#All],\"\"&LEFT($F59,LEN($F59)-$C59)&\"\",Kredsudvælgelse!$W$6:$X$7),DGET(Forespørgsel1[#All],\"\"&LEFT($F59,LEN($F59)-$C59)&\"\",Kredsudvælgelse!$W$6:$X$7)/IF(ISNONTEXT($D59)=TRUE,1,DGET(Forespørgsel1[#All],\"\"&$D59&\"\",Kredsudvælgelse!$W$6:$X$7))),IF(ISBLANK(HLOOKUP(T$12,'Statiske ejendomme'!$B$3:$PN$81,'Statiske ejendomme'!$A52,FALSE))=FALSE,HLOOKUP(T$12,'Statiske ejendomme'!$B$3:$PN$81,'Statiske ejendomme'!$A52,FALSE),\"\"))),\"\")","v":""}]
[{"$f":"Mink!E131","v":1},{"$f":"Mink!D131","v":101},{"$f":"Mink!A49","v":0},{"$f":"Mink!B49","v":"Producerede skind"},null,{"$f":"Mink!C49","v":"Lønningsevne kr. pr. skind"},{"$f":"Mink!D49","v":133.95070180062336},{"$f":"Mink!E49","v":191.1585525383781},{"$f":"Mink!F49","v":""},{"$f":"Mink!G49","v":""},{"$f":"IFERROR(IF(K$12=Kredsudvælgelse!$Q$20,\"\",IF(Kredsudvælgelse!AB$2=1,IF(ISTEXT(DGET(Forespørgsel1[#All],\"\"&LEFT($F60,LEN($F60)-$C60)&\"\",Kredsudvælgelse!$Q$2:$R$3))=TRUE,DGET(Forespørgsel1[#All],\"\"&LEFT($F60,LEN($F60)-$C60)&\"\",Kredsudvælgelse!$Q$2:$R$3),DGET(Forespørgsel1[#All],\"\"&LEFT($F60,LEN($F60)-$C60)&\"\",Kredsudvælgelse!$Q$2:$R$3)/IF(ISNONTEXT($D60)=TRUE,1,DGET(Forespørgsel1[#All],\"\"&$D60&\"\",Kredsudvælgelse!$Q$2:$R$3))),IF(ISBLANK(HLOOKUP(K$12,'Statiske ejendomme'!$B$3:$PN$81,'Statiske ejendomme'!$A52,FALSE))=FALSE,HLOOKUP(K$12,'Statiske ejendomme'!$B$3:$PN$81,'Statiske ejendomme'!$A52,FALSE),\"\"))),\"\")","v":231.62089865081913},{"$f":"IFERROR(IF(L$12=Kredsudvælgelse!$Q$20,\"\",IF(Kredsudvælgelse!AC$2=1,IF(ISTEXT(DGET(Forespørgsel1[#All],\"\"&LEFT($F60,LEN($F60)-$C60)&\"\",Kredsudvælgelse!$S$2:$T$3))=TRUE,DGET(Forespørgsel1[#All],\"\"&LEFT($F60,LEN($F60)-$C60)&\"\",Kredsudvælgelse!$S$2:$T$3),DGET(Forespørgsel1[#All],\"\"&LEFT($F60,LEN($F60)-$C60)&\"\",Kredsudvælgelse!$S$2:$T$3)/IF(ISNONTEXT($D60)=TRUE,1,DGET(Forespørgsel1[#All],\"\"&$D60&\"\",Kredsudvælgelse!$S$2:$T$3))),IF(ISBLANK(HLOOKUP(L$12,'Statiske ejendomme'!$B$3:$PN$81,'Statiske ejendomme'!$A52,FALSE))=FALSE,HLOOKUP(L$12,'Statiske ejendomme'!$B$3:$PN$81,'Statiske ejendomme'!$A52,FALSE),\"\"))),\"\")","v":230.48765228556752},{"$f":"IFERROR(IF(M$12=Kredsudvælgelse!$Q$20,\"\",IF(Kredsudvælgelse!AD$2=1,IF(ISTEXT(DGET(Forespørgsel1[#All],\"\"&LEFT($F60,LEN($F60)-$C60)&\"\",Kredsudvælgelse!$U$2:$V$3))=TRUE,DGET(Forespørgsel1[#All],\"\"&LEFT($F60,LEN($F60)-$C60)&\"\",Kredsudvælgelse!$U$2:$V$3),DGET(Forespørgsel1[#All],\"\"&LEFT($F60,LEN($F60)-$C60)&\"\",Kredsudvælgelse!$U$2:$V$3)/IF(ISNONTEXT($D60)=TRUE,1,DGET(Forespørgsel1[#All],\"\"&$D60&\"\",Kredsudvælgelse!$U$2:$V$3))),IF(ISBLANK(HLOOKUP(M$12,'Statiske ejendomme'!$B$3:$PN$81,'Statiske ejendomme'!$A52,FALSE))=FALSE,HLOOKUP(M$12,'Statiske ejendomme'!$B$3:$PN$81,'Statiske ejendomme'!$A52,FALSE),\"\"))),\"\")","v":200.32500185253795},{"$f":"IFERROR(IF(N$12=Kredsudvælgelse!$Q$20,\"\",IF(Kredsudvælgelse!AE$2=1,IF(ISTEXT(DGET(Forespørgsel1[#All],\"\"&LEFT($F60,LEN($F60)-$C60)&\"\",Kredsudvælgelse!$W$2:$X$3))=TRUE,DGET(Forespørgsel1[#All],\"\"&LEFT($F60,LEN($F60)-$C60)&\"\",Kredsudvælgelse!$W$2:$X$3),DGET(Forespørgsel1[#All],\"\"&LEFT($F60,LEN($F60)-$C60)&\"\",Kredsudvælgelse!$W$2:$X$3)/IF(ISNONTEXT($D60)=TRUE,1,DGET(Forespørgsel1[#All],\"\"&$D60&\"\",Kredsudvælgelse!$W$2:$X$3))),IF(ISBLANK(HLOOKUP(N$12,'Statiske ejendomme'!$B$3:$PN$81,'Statiske ejendomme'!$A52,FALSE))=FALSE,HLOOKUP(N$12,'Statiske ejendomme'!$B$3:$PN$81,'Statiske ejendomme'!$A52,FALSE),\"\"))),\"\")","v":194.92056208791209},{"$f":"IFERROR(IF(O$12=Kredsudvælgelse!$Q$20,\"\",IF(Kredsudvælgelse!AF$2=1,IF(ISTEXT(DGET(Forespørgsel1[#All],\"\"&LEFT($F60,LEN($F60)-$C60)&\"\",Kredsudvælgelse!$Y$2:$Z$3))=TRUE,DGET(Forespørgsel1[#All],\"\"&LEFT($F60,LEN($F60)-$C60)&\"\",Kredsudvælgelse!$Y$2:$Z$3),DGET(Forespørgsel1[#All],\"\"&LEFT($F60,LEN($F60)-$C60)&\"\",Kredsudvælgelse!$Y$2:$Z$3)/IF(ISNONTEXT($D60)=TRUE,1,DGET(Forespørgsel1[#All],\"\"&$D60&\"\",Kredsudvælgelse!$Y$2:$Z$3))),IF(ISBLANK(HLOOKUP(O$12,'Statiske ejendomme'!$B$3:$PN$81,'Statiske ejendomme'!$A52,FALSE))=FALSE,HLOOKUP(O$12,'Statiske ejendomme'!$B$3:$PN$81,'Statiske ejendomme'!$A52,FALSE),\"\"))),\"\")","v":179.24167705690468},{"$f":"IFERROR(IF(P$12=Kredsudvælgelse!$Q$20,\"\",IF(Kredsudvælgelse!AG$2=1,IF(ISTEXT(DGET(Forespørgsel1[#All],\"\"&LEFT($F60,LEN($F60)-$C60)&\"\",Kredsudvælgelse!$Q$6:$R$7))=TRUE,DGET(Forespørgsel1[#All],\"\"&LEFT($F60,LEN($F60)-$C60)&\"\",Kredsudvælgelse!$Q$6:$R$7),DGET(Forespørgsel1[#All],\"\"&LEFT($F60,LEN($F60)-$C60)&\"\",Kredsudvælgelse!$Q$6:$R$7)/IF(ISNONTEXT($D60)=TRUE,1,DGET(Forespørgsel1[#All],\"\"&$D60&\"\",Kredsudvælgelse!$Q$6:$R$7))),IF(ISBLANK(HLOOKUP(P$12,'Statiske ejendomme'!$B$3:$PN$81,'Statiske ejendomme'!$A52,FALSE))=FALSE,HLOOKUP(P$12,'Statiske ejendomme'!$B$3:$PN$81,'Statiske ejendomme'!$A52,FALSE),\"\"))),\"\")","v":195.2039432788051},{"$f":"IFERROR(IF(Q$12=Kredsudvælgelse!$Q$20,\"\",IF(Kredsudvælgelse!AH$2=1,IF(ISTEXT(DGET(Forespørgsel1[#All],\"\"&LEFT($F60,LEN($F60)-$C60)&\"\",Kredsudvælgelse!$S$6:$T$7))=TRUE,DGET(Forespørgsel1[#All],\"\"&LEFT($F60,LEN($F60)-$C60)&\"\",Kredsudvælgelse!$S$6:$T$7),DGET(Forespørgsel1[#All],\"\"&LEFT($F60,LEN($F60)-$C60)&\"\",Kredsudvælgelse!$S$6:$T$7)/IF(ISNONTEXT($D60)=TRUE,1,DGET(Forespørgsel1[#All],\"\"&$D60&\"\",Kredsudvælgelse!$S$6:$T$7))),IF(ISBLANK(HLOOKUP(Q$12,'Statiske ejendomme'!$B$3:$PN$81,'Statiske ejendomme'!$A52,FALSE))=FALSE,HLOOKUP(Q$12,'Statiske ejendomme'!$B$3:$PN$81,'Statiske ejendomme'!$A52,FALSE),\"\"))),\"\")","v":169.14623156302341},{"$f":"IFERROR(IF(R$12=Kredsudvælgelse!$Q$20,\"\",IF(Kredsudvælgelse!AI$2=1,IF(ISTEXT(DGET(Forespørgsel1[#All],\"\"&LEFT($F60,LEN($F60)-$C60)&\"\",Kredsudvælgelse!$U$6:$V$7))=TRUE,DGET(Forespørgsel1[#All],\"\"&LEFT($F60,LEN($F60)-$C60)&\"\",Kredsudvælgelse!$U$6:$V$7),DGET(Forespørgsel1[#All],\"\"&LEFT($F60,LEN($F60)-$C60)&\"\",Kredsudvælgelse!$U$6:$V$7)/IF(ISNONTEXT($D60)=TRUE,1,DGET(Forespørgsel1[#All],\"\"&$D60&\"\",Kredsudvælgelse!$U$6:$V$7))),IF(ISBLANK(HLOOKUP(R$12,'Statiske ejendomme'!$B$3:$PN$81,'Statiske ejendomme'!$A52,FALSE))=FALSE,HLOOKUP(R$12,'Statiske ejendomme'!$B$3:$PN$81,'Statiske ejendomme'!$A52,FALSE),\"\"))),\"\")","v":166.48868089838876},{"$f":"IFERROR(IF(S$12=Kredsudvælgelse!$Q$20,\"\",IF(Kredsudvælgelse!AJ$2=1,IF(ISTEXT(DGET(Forespørgsel1[#All],\"\"&LEFT($F60,LEN($F60)-$C60)&\"\",Kredsudvælgelse!$W$6:$X$7))=TRUE,DGET(Forespørgsel1[#All],\"\"&LEFT($F60,LEN($F60)-$C60)&\"\",Kredsudvælgelse!$W$6:$X$7),DGET(Forespørgsel1[#All],\"\"&LEFT($F60,LEN($F60)-$C60)&\"\",Kredsudvælgelse!$W$6:$X$7)/IF(ISNONTEXT($D60)=TRUE,1,DGET(Forespørgsel1[#All],\"\"&$D60&\"\",Kredsudvælgelse!$W$6:$X$7))),IF(ISBLANK(HLOOKUP(S$12,'Statiske ejendomme'!$B$3:$PN$81,'Statiske ejendomme'!$A52,FALSE))=FALSE,HLOOKUP(S$12,'Statiske ejendomme'!$B$3:$PN$81,'Statiske ejendomme'!$A52,FALSE),\"\"))),\"\")","v":""},{"$f":"IFERROR(IF(T$12=Kredsudvælgelse!$Q$20,\"\",IF(Kredsudvælgelse!AK$2=1,IF(ISTEXT(DGET(Forespørgsel1[#All],\"\"&LEFT($F60,LEN($F60)-$C60)&\"\",Kredsudvælgelse!$W$6:$X$7))=TRUE,DGET(Forespørgsel1[#All],\"\"&LEFT($F60,LEN($F60)-$C60)&\"\",Kredsudvælgelse!$W$6:$X$7),DGET(Forespørgsel1[#All],\"\"&LEFT($F60,LEN($F60)-$C60)&\"\",Kredsudvælgelse!$W$6:$X$7)/IF(ISNONTEXT($D60)=TRUE,1,DGET(Forespørgsel1[#All],\"\"&$D60&\"\",Kredsudvælgelse!$W$6:$X$7))),IF(ISBLANK(HLOOKUP(T$12,'Statiske ejendomme'!$B$3:$PN$81,'Statiske ejendomme'!$A53,FALSE))=FALSE,HLOOKUP(T$12,'Statiske ejendomme'!$B$3:$PN$81,'Statiske ejendomme'!$A53,FALSE),\"\"))),\"\")","v":""}]
[{"$f":"Mink!E132","v":0},{"$f":"Mink!D132","v":0},{"$f":"Mink!A50","v":0},{"$f":"Mink!B50","v":0},null,{"$f":"Mink!C50","v":0},{"$f":"Mink!D50","v":0},{"$f":"Mink!E50","v":0},{"$f":"Mink!F50","v":""},{"$f":"Mink!G50","v":""},{"$f":"IFERROR(IF(K$12=Kredsudvælgelse!$Q$20,\"\",IF(Kredsudvælgelse!AB$2=1,IF(ISTEXT(DGET(Forespørgsel1[#All],\"\"&LEFT($F61,LEN($F61)-$C61)&\"\",Kredsudvælgelse!$Q$2:$R$3))=TRUE,DGET(Forespørgsel1[#All],\"\"&LEFT($F61,LEN($F61)-$C61)&\"\",Kredsudvælgelse!$Q$2:$R$3),DGET(Forespørgsel1[#All],\"\"&LEFT($F61,LEN($F61)-$C61)&\"\",Kredsudvælgelse!$Q$2:$R$3)/IF(ISNONTEXT($D61)=TRUE,1,DGET(Forespørgsel1[#All],\"\"&$D61&\"\",Kredsudvælgelse!$Q$2:$R$3))),IF(ISBLANK(HLOOKUP(K$12,'Statiske ejendomme'!$B$3:$PN$81,'Statiske ejendomme'!$A53,FALSE))=FALSE,HLOOKUP(K$12,'Statiske ejendomme'!$B$3:$PN$81,'Statiske ejendomme'!$A53,FALSE),\"\"))),\"\")","v":""},{"$f":"IFERROR(IF(L$12=Kredsudvælgelse!$Q$20,\"\",IF(Kredsudvælgelse!AC$2=1,IF(ISTEXT(DGET(Forespørgsel1[#All],\"\"&LEFT($F61,LEN($F61)-$C61)&\"\",Kredsudvælgelse!$S$2:$T$3))=TRUE,DGET(Forespørgsel1[#All],\"\"&LEFT($F61,LEN($F61)-$C61)&\"\",Kredsudvælgelse!$S$2:$T$3),DGET(Forespørgsel1[#All],\"\"&LEFT($F61,LEN($F61)-$C61)&\"\",Kredsudvælgelse!$S$2:$T$3)/IF(ISNONTEXT($D61)=TRUE,1,DGET(Forespørgsel1[#All],\"\"&$D61&\"\",Kredsudvælgelse!$S$2:$T$3))),IF(ISBLANK(HLOOKUP(L$12,'Statiske ejendomme'!$B$3:$PN$81,'Statiske ejendomme'!$A53,FALSE))=FALSE,HLOOKUP(L$12,'Statiske ejendomme'!$B$3:$PN$81,'Statiske ejendomme'!$A53,FALSE),\"\"))),\"\")","v":""},{"$f":"IFERROR(IF(M$12=Kredsudvælgelse!$Q$20,\"\",IF(Kredsudvælgelse!AD$2=1,IF(ISTEXT(DGET(Forespørgsel1[#All],\"\"&LEFT($F61,LEN($F61)-$C61)&\"\",Kredsudvælgelse!$U$2:$V$3))=TRUE,DGET(Forespørgsel1[#All],\"\"&LEFT($F61,LEN($F61)-$C61)&\"\",Kredsudvælgelse!$U$2:$V$3),DGET(Forespørgsel1[#All],\"\"&LEFT($F61,LEN($F61)-$C61)&\"\",Kredsudvælgelse!$U$2:$V$3)/IF(ISNONTEXT($D61)=TRUE,1,DGET(Forespørgsel1[#All],\"\"&$D61&\"\",Kredsudvælgelse!$U$2:$V$3))),IF(ISBLANK(HLOOKUP(M$12,'Statiske ejendomme'!$B$3:$PN$81,'Statiske ejendomme'!$A53,FALSE))=FALSE,HLOOKUP(M$12,'Statiske ejendomme'!$B$3:$PN$81,'Statiske ejendomme'!$A53,FALSE),\"\"))),\"\")","v":""},{"$f":"IFERROR(IF(N$12=Kredsudvælgelse!$Q$20,\"\",IF(Kredsudvælgelse!AE$2=1,IF(ISTEXT(DGET(Forespørgsel1[#All],\"\"&LEFT($F61,LEN($F61)-$C61)&\"\",Kredsudvælgelse!$W$2:$X$3))=TRUE,DGET(Forespørgsel1[#All],\"\"&LEFT($F61,LEN($F61)-$C61)&\"\",Kredsudvælgelse!$W$2:$X$3),DGET(Forespørgsel1[#All],\"\"&LEFT($F61,LEN($F61)-$C61)&\"\",Kredsudvælgelse!$W$2:$X$3)/IF(ISNONTEXT($D61)=TRUE,1,DGET(Forespørgsel1[#All],\"\"&$D61&\"\",Kredsudvælgelse!$W$2:$X$3))),IF(ISBLANK(HLOOKUP(N$12,'Statiske ejendomme'!$B$3:$PN$81,'Statiske ejendomme'!$A53,FALSE))=FALSE,HLOOKUP(N$12,'Statiske ejendomme'!$B$3:$PN$81,'Statiske ejendomme'!$A53,FALSE),\"\"))),\"\")","v":""},{"$f":"IFERROR(IF(O$12=Kredsudvælgelse!$Q$20,\"\",IF(Kredsudvælgelse!AF$2=1,IF(ISTEXT(DGET(Forespørgsel1[#All],\"\"&LEFT($F61,LEN($F61)-$C61)&\"\",Kredsudvælgelse!$Y$2:$Z$3))=TRUE,DGET(Forespørgsel1[#All],\"\"&LEFT($F61,LEN($F61)-$C61)&\"\",Kredsudvælgelse!$Y$2:$Z$3),DGET(Forespørgsel1[#All],\"\"&LEFT($F61,LEN($F61)-$C61)&\"\",Kredsudvælgelse!$Y$2:$Z$3)/IF(ISNONTEXT($D61)=TRUE,1,DGET(Forespørgsel1[#All],\"\"&$D61&\"\",Kredsudvælgelse!$Y$2:$Z$3))),IF(ISBLANK(HLOOKUP(O$12,'Statiske ejendomme'!$B$3:$PN$81,'Statiske ejendomme'!$A53,FALSE))=FALSE,HLOOKUP(O$12,'Statiske ejendomme'!$B$3:$PN$81,'Statiske ejendomme'!$A53,FALSE),\"\"))),\"\")","v":""},{"$f":"IFERROR(IF(P$12=Kredsudvælgelse!$Q$20,\"\",IF(Kredsudvælgelse!AG$2=1,IF(ISTEXT(DGET(Forespørgsel1[#All],\"\"&LEFT($F61,LEN($F61)-$C61)&\"\",Kredsudvælgelse!$Q$6:$R$7))=TRUE,DGET(Forespørgsel1[#All],\"\"&LEFT($F61,LEN($F61)-$C61)&\"\",Kredsudvælgelse!$Q$6:$R$7),DGET(Forespørgsel1[#All],\"\"&LEFT($F61,LEN($F61)-$C61)&\"\",Kredsudvælgelse!$Q$6:$R$7)/IF(ISNONTEXT($D61)=TRUE,1,DGET(Forespørgsel1[#All],\"\"&$D61&\"\",Kredsudvælgelse!$Q$6:$R$7))),IF(ISBLANK(HLOOKUP(P$12,'Statiske ejendomme'!$B$3:$PN$81,'Statiske ejendomme'!$A53,FALSE))=FALSE,HLOOKUP(P$12,'Statiske ejendomme'!$B$3:$PN$81,'Statiske ejendomme'!$A53,FALSE),\"\"))),\"\")","v":""},{"$f":"IFERROR(IF(Q$12=Kredsudvælgelse!$Q$20,\"\",IF(Kredsudvælgelse!AH$2=1,IF(ISTEXT(DGET(Forespørgsel1[#All],\"\"&LEFT($F61,LEN($F61)-$C61)&\"\",Kredsudvælgelse!$S$6:$T$7))=TRUE,DGET(Forespørgsel1[#All],\"\"&LEFT($F61,LEN($F61)-$C61)&\"\",Kredsudvælgelse!$S$6:$T$7),DGET(Forespørgsel1[#All],\"\"&LEFT($F61,LEN($F61)-$C61)&\"\",Kredsudvælgelse!$S$6:$T$7)/IF(ISNONTEXT($D61)=TRUE,1,DGET(Forespørgsel1[#All],\"\"&$D61&\"\",Kredsudvælgelse!$S$6:$T$7))),IF(ISBLANK(HLOOKUP(Q$12,'Statiske ejendomme'!$B$3:$PN$81,'Statiske ejendomme'!$A53,FALSE))=FALSE,HLOOKUP(Q$12,'Statiske ejendomme'!$B$3:$PN$81,'Statiske ejendomme'!$A53,FALSE),\"\"))),\"\")","v":""},{"$f":"IFERROR(IF(R$12=Kredsudvælgelse!$Q$20,\"\",IF(Kredsudvælgelse!AI$2=1,IF(ISTEXT(DGET(Forespørgsel1[#All],\"\"&LEFT($F61,LEN($F61)-$C61)&\"\",Kredsudvælgelse!$U$6:$V$7))=TRUE,DGET(Forespørgsel1[#All],\"\"&LEFT($F61,LEN($F61)-$C61)&\"\",Kredsudvælgelse!$U$6:$V$7),DGET(Forespørgsel1[#All],\"\"&LEFT($F61,LEN($F61)-$C61)&\"\",Kredsudvælgelse!$U$6:$V$7)/IF(ISNONTEXT($D61)=TRUE,1,DGET(Forespørgsel1[#All],\"\"&$D61&\"\",Kredsudvælgelse!$U$6:$V$7))),IF(ISBLANK(HLOOKUP(R$12,'Statiske ejendomme'!$B$3:$PN$81,'Statiske ejendomme'!$A53,FALSE))=FALSE,HLOOKUP(R$12,'Statiske ejendomme'!$B$3:$PN$81,'Statiske ejendomme'!$A53,FALSE),\"\"))),\"\")","v":""},{"$f":"IFERROR(IF(S$12=Kredsudvælgelse!$Q$20,\"\",IF(Kredsudvælgelse!AJ$2=1,IF(ISTEXT(DGET(Forespørgsel1[#All],\"\"&LEFT($F61,LEN($F61)-$C61)&\"\",Kredsudvælgelse!$W$6:$X$7))=TRUE,DGET(Forespørgsel1[#All],\"\"&LEFT($F61,LEN($F61)-$C61)&\"\",Kredsudvælgelse!$W$6:$X$7),DGET(Forespørgsel1[#All],\"\"&LEFT($F61,LEN($F61)-$C61)&\"\",Kredsudvælgelse!$W$6:$X$7)/IF(ISNONTEXT($D61)=TRUE,1,DGET(Forespørgsel1[#All],\"\"&$D61&\"\",Kredsudvælgelse!$W$6:$X$7))),IF(ISBLANK(HLOOKUP(S$12,'Statiske ejendomme'!$B$3:$PN$81,'Statiske ejendomme'!$A53,FALSE))=FALSE,HLOOKUP(S$12,'Statiske ejendomme'!$B$3:$PN$81,'Statiske ejendomme'!$A53,FALSE),\"\"))),\"\")","v":""},{"$f":"IFERROR(IF(T$12=Kredsudvælgelse!$Q$20,\"\",IF(Kredsudvælgelse!AK$2=1,IF(ISTEXT(DGET(Forespørgsel1[#All],\"\"&LEFT($F61,LEN($F61)-$C61)&\"\",Kredsudvælgelse!$W$6:$X$7))=TRUE,DGET(Forespørgsel1[#All],\"\"&LEFT($F61,LEN($F61)-$C61)&\"\",Kredsudvælgelse!$W$6:$X$7),DGET(Forespørgsel1[#All],\"\"&LEFT($F61,LEN($F61)-$C61)&\"\",Kredsudvælgelse!$W$6:$X$7)/IF(ISNONTEXT($D61)=TRUE,1,DGET(Forespørgsel1[#All],\"\"&$D61&\"\",Kredsudvælgelse!$W$6:$X$7))),IF(ISBLANK(HLOOKUP(T$12,'Statiske ejendomme'!$B$3:$PN$81,'Statiske ejendomme'!$A54,FALSE))=FALSE,HLOOKUP(T$12,'Statiske ejendomme'!$B$3:$PN$81,'Statiske ejendomme'!$A54,FALSE),\"\"))),\"\")","v":""}]
[{"$f":"Mink!E133","v":0},{"$f":"Mink!D133","v":0},{"$f":"Mink!A51","v":0},{"$f":"Mink!B51","v":0},null,{"$f":"Mink!C51","v":0},{"$f":"Mink!D51","v":0},{"$f":"Mink!E51","v":0},{"$f":"Mink!F51","v":""},{"$f":"Mink!G51","v":""},{"$f":"IFERROR(IF(K$12=Kredsudvælgelse!$Q$20,\"\",IF(Kredsudvælgelse!AB$2=1,IF(ISTEXT(DGET(Forespørgsel1[#All],\"\"&LEFT($F62,LEN($F62)-$C62)&\"\",Kredsudvælgelse!$Q$2:$R$3))=TRUE,DGET(Forespørgsel1[#All],\"\"&LEFT($F62,LEN($F62)-$C62)&\"\",Kredsudvælgelse!$Q$2:$R$3),DGET(Forespørgsel1[#All],\"\"&LEFT($F62,LEN($F62)-$C62)&\"\",Kredsudvælgelse!$Q$2:$R$3)/IF(ISNONTEXT($D62)=TRUE,1,DGET(Forespørgsel1[#All],\"\"&$D62&\"\",Kredsudvælgelse!$Q$2:$R$3))),IF(ISBLANK(HLOOKUP(K$12,'Statiske ejendomme'!$B$3:$PN$81,'Statiske ejendomme'!$A54,FALSE))=FALSE,HLOOKUP(K$12,'Statiske ejendomme'!$B$3:$PN$81,'Statiske ejendomme'!$A54,FALSE),\"\"))),\"\")","v":""},{"$f":"IFERROR(IF(L$12=Kredsudvælgelse!$Q$20,\"\",IF(Kredsudvælgelse!AC$2=1,IF(ISTEXT(DGET(Forespørgsel1[#All],\"\"&LEFT($F62,LEN($F62)-$C62)&\"\",Kredsudvælgelse!$S$2:$T$3))=TRUE,DGET(Forespørgsel1[#All],\"\"&LEFT($F62,LEN($F62)-$C62)&\"\",Kredsudvælgelse!$S$2:$T$3),DGET(Forespørgsel1[#All],\"\"&LEFT($F62,LEN($F62)-$C62)&\"\",Kredsudvælgelse!$S$2:$T$3)/IF(ISNONTEXT($D62)=TRUE,1,DGET(Forespørgsel1[#All],\"\"&$D62&\"\",Kredsudvælgelse!$S$2:$T$3))),IF(ISBLANK(HLOOKUP(L$12,'Statiske ejendomme'!$B$3:$PN$81,'Statiske ejendomme'!$A54,FALSE))=FALSE,HLOOKUP(L$12,'Statiske ejendomme'!$B$3:$PN$81,'Statiske ejendomme'!$A54,FALSE),\"\"))),\"\")","v":""},{"$f":"IFERROR(IF(M$12=Kredsudvælgelse!$Q$20,\"\",IF(Kredsudvælgelse!AD$2=1,IF(ISTEXT(DGET(Forespørgsel1[#All],\"\"&LEFT($F62,LEN($F62)-$C62)&\"\",Kredsudvælgelse!$U$2:$V$3))=TRUE,DGET(Forespørgsel1[#All],\"\"&LEFT($F62,LEN($F62)-$C62)&\"\",Kredsudvælgelse!$U$2:$V$3),DGET(Forespørgsel1[#All],\"\"&LEFT($F62,LEN($F62)-$C62)&\"\",Kredsudvælgelse!$U$2:$V$3)/IF(ISNONTEXT($D62)=TRUE,1,DGET(Forespørgsel1[#All],\"\"&$D62&\"\",Kredsudvælgelse!$U$2:$V$3))),IF(ISBLANK(HLOOKUP(M$12,'Statiske ejendomme'!$B$3:$PN$81,'Statiske ejendomme'!$A54,FALSE))=FALSE,HLOOKUP(M$12,'Statiske ejendomme'!$B$3:$PN$81,'Statiske ejendomme'!$A54,FALSE),\"\"))),\"\")","v":""},{"$f":"IFERROR(IF(N$12=Kredsudvælgelse!$Q$20,\"\",IF(Kredsudvælgelse!AE$2=1,IF(ISTEXT(DGET(Forespørgsel1[#All],\"\"&LEFT($F62,LEN($F62)-$C62)&\"\",Kredsudvælgelse!$W$2:$X$3))=TRUE,DGET(Forespørgsel1[#All],\"\"&LEFT($F62,LEN($F62)-$C62)&\"\",Kredsudvælgelse!$W$2:$X$3),DGET(Forespørgsel1[#All],\"\"&LEFT($F62,LEN($F62)-$C62)&\"\",Kredsudvælgelse!$W$2:$X$3)/IF(ISNONTEXT($D62)=TRUE,1,DGET(Forespørgsel1[#All],\"\"&$D62&\"\",Kredsudvælgelse!$W$2:$X$3))),IF(ISBLANK(HLOOKUP(N$12,'Statiske ejendomme'!$B$3:$PN$81,'Statiske ejendomme'!$A54,FALSE))=FALSE,HLOOKUP(N$12,'Statiske ejendomme'!$B$3:$PN$81,'Statiske ejendomme'!$A54,FALSE),\"\"))),\"\")","v":""},{"$f":"IFERROR(IF(O$12=Kredsudvælgelse!$Q$20,\"\",IF(Kredsudvælgelse!AF$2=1,IF(ISTEXT(DGET(Forespørgsel1[#All],\"\"&LEFT($F62,LEN($F62)-$C62)&\"\",Kredsudvælgelse!$Y$2:$Z$3))=TRUE,DGET(Forespørgsel1[#All],\"\"&LEFT($F62,LEN($F62)-$C62)&\"\",Kredsudvælgelse!$Y$2:$Z$3),DGET(Forespørgsel1[#All],\"\"&LEFT($F62,LEN($F62)-$C62)&\"\",Kredsudvælgelse!$Y$2:$Z$3)/IF(ISNONTEXT($D62)=TRUE,1,DGET(Forespørgsel1[#All],\"\"&$D62&\"\",Kredsudvælgelse!$Y$2:$Z$3))),IF(ISBLANK(HLOOKUP(O$12,'Statiske ejendomme'!$B$3:$PN$81,'Statiske ejendomme'!$A54,FALSE))=FALSE,HLOOKUP(O$12,'Statiske ejendomme'!$B$3:$PN$81,'Statiske ejendomme'!$A54,FALSE),\"\"))),\"\")","v":""},{"$f":"IFERROR(IF(P$12=Kredsudvælgelse!$Q$20,\"\",IF(Kredsudvælgelse!AG$2=1,IF(ISTEXT(DGET(Forespørgsel1[#All],\"\"&LEFT($F62,LEN($F62)-$C62)&\"\",Kredsudvælgelse!$Q$6:$R$7))=TRUE,DGET(Forespørgsel1[#All],\"\"&LEFT($F62,LEN($F62)-$C62)&\"\",Kredsudvælgelse!$Q$6:$R$7),DGET(Forespørgsel1[#All],\"\"&LEFT($F62,LEN($F62)-$C62)&\"\",Kredsudvælgelse!$Q$6:$R$7)/IF(ISNONTEXT($D62)=TRUE,1,DGET(Forespørgsel1[#All],\"\"&$D62&\"\",Kredsudvælgelse!$Q$6:$R$7))),IF(ISBLANK(HLOOKUP(P$12,'Statiske ejendomme'!$B$3:$PN$81,'Statiske ejendomme'!$A54,FALSE))=FALSE,HLOOKUP(P$12,'Statiske ejendomme'!$B$3:$PN$81,'Statiske ejendomme'!$A54,FALSE),\"\"))),\"\")","v":""},{"$f":"IFERROR(IF(Q$12=Kredsudvælgelse!$Q$20,\"\",IF(Kredsudvælgelse!AH$2=1,IF(ISTEXT(DGET(Forespørgsel1[#All],\"\"&LEFT($F62,LEN($F62)-$C62)&\"\",Kredsudvælgelse!$S$6:$T$7))=TRUE,DGET(Forespørgsel1[#All],\"\"&LEFT($F62,LEN($F62)-$C62)&\"\",Kredsudvælgelse!$S$6:$T$7),DGET(Forespørgsel1[#All],\"\"&LEFT($F62,LEN($F62)-$C62)&\"\",Kredsudvælgelse!$S$6:$T$7)/IF(ISNONTEXT($D62)=TRUE,1,DGET(Forespørgsel1[#All],\"\"&$D62&\"\",Kredsudvælgelse!$S$6:$T$7))),IF(ISBLANK(HLOOKUP(Q$12,'Statiske ejendomme'!$B$3:$PN$81,'Statiske ejendomme'!$A54,FALSE))=FALSE,HLOOKUP(Q$12,'Statiske ejendomme'!$B$3:$PN$81,'Statiske ejendomme'!$A54,FALSE),\"\"))),\"\")","v":""},{"$f":"IFERROR(IF(R$12=Kredsudvælgelse!$Q$20,\"\",IF(Kredsudvælgelse!AI$2=1,IF(ISTEXT(DGET(Forespørgsel1[#All],\"\"&LEFT($F62,LEN($F62)-$C62)&\"\",Kredsudvælgelse!$U$6:$V$7))=TRUE,DGET(Forespørgsel1[#All],\"\"&LEFT($F62,LEN($F62)-$C62)&\"\",Kredsudvælgelse!$U$6:$V$7),DGET(Forespørgsel1[#All],\"\"&LEFT($F62,LEN($F62)-$C62)&\"\",Kredsudvælgelse!$U$6:$V$7)/IF(ISNONTEXT($D62)=TRUE,1,DGET(Forespørgsel1[#All],\"\"&$D62&\"\",Kredsudvælgelse!$U$6:$V$7))),IF(ISBLANK(HLOOKUP(R$12,'Statiske ejendomme'!$B$3:$PN$81,'Statiske ejendomme'!$A54,FALSE))=FALSE,HLOOKUP(R$12,'Statiske ejendomme'!$B$3:$PN$81,'Statiske ejendomme'!$A54,FALSE),\"\"))),\"\")","v":""},{"$f":"IFERROR(IF(S$12=Kredsudvælgelse!$Q$20,\"\",IF(Kredsudvælgelse!AJ$2=1,IF(ISTEXT(DGET(Forespørgsel1[#All],\"\"&LEFT($F62,LEN($F62)-$C62)&\"\",Kredsudvælgelse!$W$6:$X$7))=TRUE,DGET(Forespørgsel1[#All],\"\"&LEFT($F62,LEN($F62)-$C62)&\"\",Kredsudvælgelse!$W$6:$X$7),DGET(Forespørgsel1[#All],\"\"&LEFT($F62,LEN($F62)-$C62)&\"\",Kredsudvælgelse!$W$6:$X$7)/IF(ISNONTEXT($D62)=TRUE,1,DGET(Forespørgsel1[#All],\"\"&$D62&\"\",Kredsudvælgelse!$W$6:$X$7))),IF(ISBLANK(HLOOKUP(S$12,'Statiske ejendomme'!$B$3:$PN$81,'Statiske ejendomme'!$A54,FALSE))=FALSE,HLOOKUP(S$12,'Statiske ejendomme'!$B$3:$PN$81,'Statiske ejendomme'!$A54,FALSE),\"\"))),\"\")","v":""},{"$f":"IFERROR(IF(T$12=Kredsudvælgelse!$Q$20,\"\",IF(Kredsudvælgelse!AK$2=1,IF(ISTEXT(DGET(Forespørgsel1[#All],\"\"&LEFT($F62,LEN($F62)-$C62)&\"\",Kredsudvælgelse!$W$6:$X$7))=TRUE,DGET(Forespørgsel1[#All],\"\"&LEFT($F62,LEN($F62)-$C62)&\"\",Kredsudvælgelse!$W$6:$X$7),DGET(Forespørgsel1[#All],\"\"&LEFT($F62,LEN($F62)-$C62)&\"\",Kredsudvælgelse!$W$6:$X$7)/IF(ISNONTEXT($D62)=TRUE,1,DGET(Forespørgsel1[#All],\"\"&$D62&\"\",Kredsudvælgelse!$W$6:$X$7))),IF(ISBLANK(HLOOKUP(T$12,'Statiske ejendomme'!$B$3:$PN$81,'Statiske ejendomme'!$A55,FALSE))=FALSE,HLOOKUP(T$12,'Statiske ejendomme'!$B$3:$PN$81,'Statiske ejendomme'!$A55,FALSE),\"\"))),\"\")","v":""}]
[{"$f":"Mink!E134","v":0},{"$f":"Mink!D134","v":0},{"$f":"Mink!A52","v":0},{"$f":"Mink!B52","v":0},null,{"$f":"Mink!C52","v":0},{"$f":"Mink!D52","v":0},{"$f":"Mink!E52","v":0},{"$f":"Mink!F52","v":""},{"$f":"Mink!G52","v":""},{"$f":"IFERROR(IF(K$12=Kredsudvælgelse!$Q$20,\"\",IF(Kredsudvælgelse!AB$2=1,IF(ISTEXT(DGET(Forespørgsel1[#All],\"\"&LEFT($F63,LEN($F63)-$C63)&\"\",Kredsudvælgelse!$Q$2:$R$3))=TRUE,DGET(Forespørgsel1[#All],\"\"&LEFT($F63,LEN($F63)-$C63)&\"\",Kredsudvælgelse!$Q$2:$R$3),DGET(Forespørgsel1[#All],\"\"&LEFT($F63,LEN($F63)-$C63)&\"\",Kredsudvælgelse!$Q$2:$R$3)/IF(ISNONTEXT($D63)=TRUE,1,DGET(Forespørgsel1[#All],\"\"&$D63&\"\",Kredsudvælgelse!$Q$2:$R$3))),IF(ISBLANK(HLOOKUP(K$12,'Statiske ejendomme'!$B$3:$PN$81,'Statiske ejendomme'!$A55,FALSE))=FALSE,HLOOKUP(K$12,'Statiske ejendomme'!$B$3:$PN$81,'Statiske ejendomme'!$A55,FALSE),\"\"))),\"\")","v":""},{"$f":"IFERROR(IF(L$12=Kredsudvælgelse!$Q$20,\"\",IF(Kredsudvælgelse!AC$2=1,IF(ISTEXT(DGET(Forespørgsel1[#All],\"\"&LEFT($F63,LEN($F63)-$C63)&\"\",Kredsudvælgelse!$S$2:$T$3))=TRUE,DGET(Forespørgsel1[#All],\"\"&LEFT($F63,LEN($F63)-$C63)&\"\",Kredsudvælgelse!$S$2:$T$3),DGET(Forespørgsel1[#All],\"\"&LEFT($F63,LEN($F63)-$C63)&\"\",Kredsudvælgelse!$S$2:$T$3)/IF(ISNONTEXT($D63)=TRUE,1,DGET(Forespørgsel1[#All],\"\"&$D63&\"\",Kredsudvælgelse!$S$2:$T$3))),IF(ISBLANK(HLOOKUP(L$12,'Statiske ejendomme'!$B$3:$PN$81,'Statiske ejendomme'!$A55,FALSE))=FALSE,HLOOKUP(L$12,'Statiske ejendomme'!$B$3:$PN$81,'Statiske ejendomme'!$A55,FALSE),\"\"))),\"\")","v":""},{"$f":"IFERROR(IF(M$12=Kredsudvælgelse!$Q$20,\"\",IF(Kredsudvælgelse!AD$2=1,IF(ISTEXT(DGET(Forespørgsel1[#All],\"\"&LEFT($F63,LEN($F63)-$C63)&\"\",Kredsudvælgelse!$U$2:$V$3))=TRUE,DGET(Forespørgsel1[#All],\"\"&LEFT($F63,LEN($F63)-$C63)&\"\",Kredsudvælgelse!$U$2:$V$3),DGET(Forespørgsel1[#All],\"\"&LEFT($F63,LEN($F63)-$C63)&\"\",Kredsudvælgelse!$U$2:$V$3)/IF(ISNONTEXT($D63)=TRUE,1,DGET(Forespørgsel1[#All],\"\"&$D63&\"\",Kredsudvælgelse!$U$2:$V$3))),IF(ISBLANK(HLOOKUP(M$12,'Statiske ejendomme'!$B$3:$PN$81,'Statiske ejendomme'!$A55,FALSE))=FALSE,HLOOKUP(M$12,'Statiske ejendomme'!$B$3:$PN$81,'Statiske ejendomme'!$A55,FALSE),\"\"))),\"\")","v":""},{"$f":"IFERROR(IF(N$12=Kredsudvælgelse!$Q$20,\"\",IF(Kredsudvælgelse!AE$2=1,IF(ISTEXT(DGET(Forespørgsel1[#All],\"\"&LEFT($F63,LEN($F63)-$C63)&\"\",Kredsudvælgelse!$W$2:$X$3))=TRUE,DGET(Forespørgsel1[#All],\"\"&LEFT($F63,LEN($F63)-$C63)&\"\",Kredsudvælgelse!$W$2:$X$3),DGET(Forespørgsel1[#All],\"\"&LEFT($F63,LEN($F63)-$C63)&\"\",Kredsudvælgelse!$W$2:$X$3)/IF(ISNONTEXT($D63)=TRUE,1,DGET(Forespørgsel1[#All],\"\"&$D63&\"\",Kredsudvælgelse!$W$2:$X$3))),IF(ISBLANK(HLOOKUP(N$12,'Statiske ejendomme'!$B$3:$PN$81,'Statiske ejendomme'!$A55,FALSE))=FALSE,HLOOKUP(N$12,'Statiske ejendomme'!$B$3:$PN$81,'Statiske ejendomme'!$A55,FALSE),\"\"))),\"\")","v":""},{"$f":"IFERROR(IF(O$12=Kredsudvælgelse!$Q$20,\"\",IF(Kredsudvælgelse!AF$2=1,IF(ISTEXT(DGET(Forespørgsel1[#All],\"\"&LEFT($F63,LEN($F63)-$C63)&\"\",Kredsudvælgelse!$Y$2:$Z$3))=TRUE,DGET(Forespørgsel1[#All],\"\"&LEFT($F63,LEN($F63)-$C63)&\"\",Kredsudvælgelse!$Y$2:$Z$3),DGET(Forespørgsel1[#All],\"\"&LEFT($F63,LEN($F63)-$C63)&\"\",Kredsudvælgelse!$Y$2:$Z$3)/IF(ISNONTEXT($D63)=TRUE,1,DGET(Forespørgsel1[#All],\"\"&$D63&\"\",Kredsudvælgelse!$Y$2:$Z$3))),IF(ISBLANK(HLOOKUP(O$12,'Statiske ejendomme'!$B$3:$PN$81,'Statiske ejendomme'!$A55,FALSE))=FALSE,HLOOKUP(O$12,'Statiske ejendomme'!$B$3:$PN$81,'Statiske ejendomme'!$A55,FALSE),\"\"))),\"\")","v":""},{"$f":"IFERROR(IF(P$12=Kredsudvælgelse!$Q$20,\"\",IF(Kredsudvælgelse!AG$2=1,IF(ISTEXT(DGET(Forespørgsel1[#All],\"\"&LEFT($F63,LEN($F63)-$C63)&\"\",Kredsudvælgelse!$Q$6:$R$7))=TRUE,DGET(Forespørgsel1[#All],\"\"&LEFT($F63,LEN($F63)-$C63)&\"\",Kredsudvælgelse!$Q$6:$R$7),DGET(Forespørgsel1[#All],\"\"&LEFT($F63,LEN($F63)-$C63)&\"\",Kredsudvælgelse!$Q$6:$R$7)/IF(ISNONTEXT($D63)=TRUE,1,DGET(Forespørgsel1[#All],\"\"&$D63&\"\",Kredsudvælgelse!$Q$6:$R$7))),IF(ISBLANK(HLOOKUP(P$12,'Statiske ejendomme'!$B$3:$PN$81,'Statiske ejendomme'!$A55,FALSE))=FALSE,HLOOKUP(P$12,'Statiske ejendomme'!$B$3:$PN$81,'Statiske ejendomme'!$A55,FALSE),\"\"))),\"\")","v":""},{"$f":"IFERROR(IF(Q$12=Kredsudvælgelse!$Q$20,\"\",IF(Kredsudvælgelse!AH$2=1,IF(ISTEXT(DGET(Forespørgsel1[#All],\"\"&LEFT($F63,LEN($F63)-$C63)&\"\",Kredsudvælgelse!$S$6:$T$7))=TRUE,DGET(Forespørgsel1[#All],\"\"&LEFT($F63,LEN($F63)-$C63)&\"\",Kredsudvælgelse!$S$6:$T$7),DGET(Forespørgsel1[#All],\"\"&LEFT($F63,LEN($F63)-$C63)&\"\",Kredsudvælgelse!$S$6:$T$7)/IF(ISNONTEXT($D63)=TRUE,1,DGET(Forespørgsel1[#All],\"\"&$D63&\"\",Kredsudvælgelse!$S$6:$T$7))),IF(ISBLANK(HLOOKUP(Q$12,'Statiske ejendomme'!$B$3:$PN$81,'Statiske ejendomme'!$A55,FALSE))=FALSE,HLOOKUP(Q$12,'Statiske ejendomme'!$B$3:$PN$81,'Statiske ejendomme'!$A55,FALSE),\"\"))),\"\")","v":""},{"$f":"IFERROR(IF(R$12=Kredsudvælgelse!$Q$20,\"\",IF(Kredsudvælgelse!AI$2=1,IF(ISTEXT(DGET(Forespørgsel1[#All],\"\"&LEFT($F63,LEN($F63)-$C63)&\"\",Kredsudvælgelse!$U$6:$V$7))=TRUE,DGET(Forespørgsel1[#All],\"\"&LEFT($F63,LEN($F63)-$C63)&\"\",Kredsudvælgelse!$U$6:$V$7),DGET(Forespørgsel1[#All],\"\"&LEFT($F63,LEN($F63)-$C63)&\"\",Kredsudvælgelse!$U$6:$V$7)/IF(ISNONTEXT($D63)=TRUE,1,DGET(Forespørgsel1[#All],\"\"&$D63&\"\",Kredsudvælgelse!$U$6:$V$7))),IF(ISBLANK(HLOOKUP(R$12,'Statiske ejendomme'!$B$3:$PN$81,'Statiske ejendomme'!$A55,FALSE))=FALSE,HLOOKUP(R$12,'Statiske ejendomme'!$B$3:$PN$81,'Statiske ejendomme'!$A55,FALSE),\"\"))),\"\")","v":""},{"$f":"IFERROR(IF(S$12=Kredsudvælgelse!$Q$20,\"\",IF(Kredsudvælgelse!AJ$2=1,IF(ISTEXT(DGET(Forespørgsel1[#All],\"\"&LEFT($F63,LEN($F63)-$C63)&\"\",Kredsudvælgelse!$W$6:$X$7))=TRUE,DGET(Forespørgsel1[#All],\"\"&LEFT($F63,LEN($F63)-$C63)&\"\",Kredsudvælgelse!$W$6:$X$7),DGET(Forespørgsel1[#All],\"\"&LEFT($F63,LEN($F63)-$C63)&\"\",Kredsudvælgelse!$W$6:$X$7)/IF(ISNONTEXT($D63)=TRUE,1,DGET(Forespørgsel1[#All],\"\"&$D63&\"\",Kredsudvælgelse!$W$6:$X$7))),IF(ISBLANK(HLOOKUP(S$12,'Statiske ejendomme'!$B$3:$PN$81,'Statiske ejendomme'!$A55,FALSE))=FALSE,HLOOKUP(S$12,'Statiske ejendomme'!$B$3:$PN$81,'Statiske ejendomme'!$A55,FALSE),\"\"))),\"\")","v":""},{"$f":"IFERROR(IF(T$12=Kredsudvælgelse!$Q$20,\"\",IF(Kredsudvælgelse!AK$2=1,IF(ISTEXT(DGET(Forespørgsel1[#All],\"\"&LEFT($F63,LEN($F63)-$C63)&\"\",Kredsudvælgelse!$W$6:$X$7))=TRUE,DGET(Forespørgsel1[#All],\"\"&LEFT($F63,LEN($F63)-$C63)&\"\",Kredsudvælgelse!$W$6:$X$7),DGET(Forespørgsel1[#All],\"\"&LEFT($F63,LEN($F63)-$C63)&\"\",Kredsudvælgelse!$W$6:$X$7)/IF(ISNONTEXT($D63)=TRUE,1,DGET(Forespørgsel1[#All],\"\"&$D63&\"\",Kredsudvælgelse!$W$6:$X$7))),IF(ISBLANK(HLOOKUP(T$12,'Statiske ejendomme'!$B$3:$PN$81,'Statiske ejendomme'!$A56,FALSE))=FALSE,HLOOKUP(T$12,'Statiske ejendomme'!$B$3:$PN$81,'Statiske ejendomme'!$A56,FALSE),\"\"))),\"\")","v":""}]
[{"$f":"Mink!E135","v":0},{"$f":"Mink!D135","v":0},{"$f":"Mink!A53","v":0},{"$f":"Mink!B53","v":0},null,{"$f":"Mink!C53","v":0},{"$f":"Mink!D53","v":0},{"$f":"Mink!E53","v":0},{"$f":"Mink!F53","v":""},{"$f":"Mink!G53","v":""},{"$f":"IFERROR(IF(K$12=Kredsudvælgelse!$Q$20,\"\",IF(Kredsudvælgelse!AB$2=1,IF(ISTEXT(DGET(Forespørgsel1[#All],\"\"&LEFT($F64,LEN($F64)-$C64)&\"\",Kredsudvælgelse!$Q$2:$R$3))=TRUE,DGET(Forespørgsel1[#All],\"\"&LEFT($F64,LEN($F64)-$C64)&\"\",Kredsudvælgelse!$Q$2:$R$3),DGET(Forespørgsel1[#All],\"\"&LEFT($F64,LEN($F64)-$C64)&\"\",Kredsudvælgelse!$Q$2:$R$3)/IF(ISNONTEXT($D64)=TRUE,1,DGET(Forespørgsel1[#All],\"\"&$D64&\"\",Kredsudvælgelse!$Q$2:$R$3))),IF(ISBLANK(HLOOKUP(K$12,'Statiske ejendomme'!$B$3:$PN$81,'Statiske ejendomme'!$A56,FALSE))=FALSE,HLOOKUP(K$12,'Statiske ejendomme'!$B$3:$PN$81,'Statiske ejendomme'!$A56,FALSE),\"\"))),\"\")","v":""},{"$f":"IFERROR(IF(L$12=Kredsudvælgelse!$Q$20,\"\",IF(Kredsudvælgelse!AC$2=1,IF(ISTEXT(DGET(Forespørgsel1[#All],\"\"&LEFT($F64,LEN($F64)-$C64)&\"\",Kredsudvælgelse!$S$2:$T$3))=TRUE,DGET(Forespørgsel1[#All],\"\"&LEFT($F64,LEN($F64)-$C64)&\"\",Kredsudvælgelse!$S$2:$T$3),DGET(Forespørgsel1[#All],\"\"&LEFT($F64,LEN($F64)-$C64)&\"\",Kredsudvælgelse!$S$2:$T$3)/IF(ISNONTEXT($D64)=TRUE,1,DGET(Forespørgsel1[#All],\"\"&$D64&\"\",Kredsudvælgelse!$S$2:$T$3))),IF(ISBLANK(HLOOKUP(L$12,'Statiske ejendomme'!$B$3:$PN$81,'Statiske ejendomme'!$A56,FALSE))=FALSE,HLOOKUP(L$12,'Statiske ejendomme'!$B$3:$PN$81,'Statiske ejendomme'!$A56,FALSE),\"\"))),\"\")","v":""},{"$f":"IFERROR(IF(M$12=Kredsudvælgelse!$Q$20,\"\",IF(Kredsudvælgelse!AD$2=1,IF(ISTEXT(DGET(Forespørgsel1[#All],\"\"&LEFT($F64,LEN($F64)-$C64)&\"\",Kredsudvælgelse!$U$2:$V$3))=TRUE,DGET(Forespørgsel1[#All],\"\"&LEFT($F64,LEN($F64)-$C64)&\"\",Kredsudvælgelse!$U$2:$V$3),DGET(Forespørgsel1[#All],\"\"&LEFT($F64,LEN($F64)-$C64)&\"\",Kredsudvælgelse!$U$2:$V$3)/IF(ISNONTEXT($D64)=TRUE,1,DGET(Forespørgsel1[#All],\"\"&$D64&\"\",Kredsudvælgelse!$U$2:$V$3))),IF(ISBLANK(HLOOKUP(M$12,'Statiske ejendomme'!$B$3:$PN$81,'Statiske ejendomme'!$A56,FALSE))=FALSE,HLOOKUP(M$12,'Statiske ejendomme'!$B$3:$PN$81,'Statiske ejendomme'!$A56,FALSE),\"\"))),\"\")","v":""},{"$f":"IFERROR(IF(N$12=Kredsudvælgelse!$Q$20,\"\",IF(Kredsudvælgelse!AE$2=1,IF(ISTEXT(DGET(Forespørgsel1[#All],\"\"&LEFT($F64,LEN($F64)-$C64)&\"\",Kredsudvælgelse!$W$2:$X$3))=TRUE,DGET(Forespørgsel1[#All],\"\"&LEFT($F64,LEN($F64)-$C64)&\"\",Kredsudvælgelse!$W$2:$X$3),DGET(Forespørgsel1[#All],\"\"&LEFT($F64,LEN($F64)-$C64)&\"\",Kredsudvælgelse!$W$2:$X$3)/IF(ISNONTEXT($D64)=TRUE,1,DGET(Forespørgsel1[#All],\"\"&$D64&\"\",Kredsudvælgelse!$W$2:$X$3))),IF(ISBLANK(HLOOKUP(N$12,'Statiske ejendomme'!$B$3:$PN$81,'Statiske ejendomme'!$A56,FALSE))=FALSE,HLOOKUP(N$12,'Statiske ejendomme'!$B$3:$PN$81,'Statiske ejendomme'!$A56,FALSE),\"\"))),\"\")","v":""},{"$f":"IFERROR(IF(O$12=Kredsudvælgelse!$Q$20,\"\",IF(Kredsudvælgelse!AF$2=1,IF(ISTEXT(DGET(Forespørgsel1[#All],\"\"&LEFT($F64,LEN($F64)-$C64)&\"\",Kredsudvælgelse!$Y$2:$Z$3))=TRUE,DGET(Forespørgsel1[#All],\"\"&LEFT($F64,LEN($F64)-$C64)&\"\",Kredsudvælgelse!$Y$2:$Z$3),DGET(Forespørgsel1[#All],\"\"&LEFT($F64,LEN($F64)-$C64)&\"\",Kredsudvælgelse!$Y$2:$Z$3)/IF(ISNONTEXT($D64)=TRUE,1,DGET(Forespørgsel1[#All],\"\"&$D64&\"\",Kredsudvælgelse!$Y$2:$Z$3))),IF(ISBLANK(HLOOKUP(O$12,'Statiske ejendomme'!$B$3:$PN$81,'Statiske ejendomme'!$A56,FALSE))=FALSE,HLOOKUP(O$12,'Statiske ejendomme'!$B$3:$PN$81,'Statiske ejendomme'!$A56,FALSE),\"\"))),\"\")","v":""},{"$f":"IFERROR(IF(P$12=Kredsudvælgelse!$Q$20,\"\",IF(Kredsudvælgelse!AG$2=1,IF(ISTEXT(DGET(Forespørgsel1[#All],\"\"&LEFT($F64,LEN($F64)-$C64)&\"\",Kredsudvælgelse!$Q$6:$R$7))=TRUE,DGET(Forespørgsel1[#All],\"\"&LEFT($F64,LEN($F64)-$C64)&\"\",Kredsudvælgelse!$Q$6:$R$7),DGET(Forespørgsel1[#All],\"\"&LEFT($F64,LEN($F64)-$C64)&\"\",Kredsudvælgelse!$Q$6:$R$7)/IF(ISNONTEXT($D64)=TRUE,1,DGET(Forespørgsel1[#All],\"\"&$D64&\"\",Kredsudvælgelse!$Q$6:$R$7))),IF(ISBLANK(HLOOKUP(P$12,'Statiske ejendomme'!$B$3:$PN$81,'Statiske ejendomme'!$A56,FALSE))=FALSE,HLOOKUP(P$12,'Statiske ejendomme'!$B$3:$PN$81,'Statiske ejendomme'!$A56,FALSE),\"\"))),\"\")","v":""},{"$f":"IFERROR(IF(Q$12=Kredsudvælgelse!$Q$20,\"\",IF(Kredsudvælgelse!AH$2=1,IF(ISTEXT(DGET(Forespørgsel1[#All],\"\"&LEFT($F64,LEN($F64)-$C64)&\"\",Kredsudvælgelse!$S$6:$T$7))=TRUE,DGET(Forespørgsel1[#All],\"\"&LEFT($F64,LEN($F64)-$C64)&\"\",Kredsudvælgelse!$S$6:$T$7),DGET(Forespørgsel1[#All],\"\"&LEFT($F64,LEN($F64)-$C64)&\"\",Kredsudvælgelse!$S$6:$T$7)/IF(ISNONTEXT($D64)=TRUE,1,DGET(Forespørgsel1[#All],\"\"&$D64&\"\",Kredsudvælgelse!$S$6:$T$7))),IF(ISBLANK(HLOOKUP(Q$12,'Statiske ejendomme'!$B$3:$PN$81,'Statiske ejendomme'!$A56,FALSE))=FALSE,HLOOKUP(Q$12,'Statiske ejendomme'!$B$3:$PN$81,'Statiske ejendomme'!$A56,FALSE),\"\"))),\"\")","v":""},{"$f":"IFERROR(IF(R$12=Kredsudvælgelse!$Q$20,\"\",IF(Kredsudvælgelse!AI$2=1,IF(ISTEXT(DGET(Forespørgsel1[#All],\"\"&LEFT($F64,LEN($F64)-$C64)&\"\",Kredsudvælgelse!$U$6:$V$7))=TRUE,DGET(Forespørgsel1[#All],\"\"&LEFT($F64,LEN($F64)-$C64)&\"\",Kredsudvælgelse!$U$6:$V$7),DGET(Forespørgsel1[#All],\"\"&LEFT($F64,LEN($F64)-$C64)&\"\",Kredsudvælgelse!$U$6:$V$7)/IF(ISNONTEXT($D64)=TRUE,1,DGET(Forespørgsel1[#All],\"\"&$D64&\"\",Kredsudvælgelse!$U$6:$V$7))),IF(ISBLANK(HLOOKUP(R$12,'Statiske ejendomme'!$B$3:$PN$81,'Statiske ejendomme'!$A56,FALSE))=FALSE,HLOOKUP(R$12,'Statiske ejendomme'!$B$3:$PN$81,'Statiske ejendomme'!$A56,FALSE),\"\"))),\"\")","v":""},{"$f":"IFERROR(IF(S$12=Kredsudvælgelse!$Q$20,\"\",IF(Kredsudvælgelse!AJ$2=1,IF(ISTEXT(DGET(Forespørgsel1[#All],\"\"&LEFT($F64,LEN($F64)-$C64)&\"\",Kredsudvælgelse!$W$6:$X$7))=TRUE,DGET(Forespørgsel1[#All],\"\"&LEFT($F64,LEN($F64)-$C64)&\"\",Kredsudvælgelse!$W$6:$X$7),DGET(Forespørgsel1[#All],\"\"&LEFT($F64,LEN($F64)-$C64)&\"\",Kredsudvælgelse!$W$6:$X$7)/IF(ISNONTEXT($D64)=TRUE,1,DGET(Forespørgsel1[#All],\"\"&$D64&\"\",Kredsudvælgelse!$W$6:$X$7))),IF(ISBLANK(HLOOKUP(S$12,'Statiske ejendomme'!$B$3:$PN$81,'Statiske ejendomme'!$A56,FALSE))=FALSE,HLOOKUP(S$12,'Statiske ejendomme'!$B$3:$PN$81,'Statiske ejendomme'!$A56,FALSE),\"\"))),\"\")","v":""},{"$f":"IFERROR(IF(T$12=Kredsudvælgelse!$Q$20,\"\",IF(Kredsudvælgelse!AK$2=1,IF(ISTEXT(DGET(Forespørgsel1[#All],\"\"&LEFT($F64,LEN($F64)-$C64)&\"\",Kredsudvælgelse!$W$6:$X$7))=TRUE,DGET(Forespørgsel1[#All],\"\"&LEFT($F64,LEN($F64)-$C64)&\"\",Kredsudvælgelse!$W$6:$X$7),DGET(Forespørgsel1[#All],\"\"&LEFT($F64,LEN($F64)-$C64)&\"\",Kredsudvælgelse!$W$6:$X$7)/IF(ISNONTEXT($D64)=TRUE,1,DGET(Forespørgsel1[#All],\"\"&$D64&\"\",Kredsudvælgelse!$W$6:$X$7))),IF(ISBLANK(HLOOKUP(T$12,'Statiske ejendomme'!$B$3:$PN$81,'Statiske ejendomme'!$A57,FALSE))=FALSE,HLOOKUP(T$12,'Statiske ejendomme'!$B$3:$PN$81,'Statiske ejendomme'!$A57,FALSE),\"\"))),\"\")","v":""}]
[{"$f":"Mink!E136","v":0},{"$f":"Mink!D136","v":0},{"$f":"Mink!A54","v":0},{"$f":"Mink!B54","v":0},null,{"$f":"Mink!C54","v":0},{"$f":"Mink!D54","v":0},{"$f":"Mink!E54","v":0},{"$f":"Mink!F54","v":0},{"$f":"Mink!G54","v":0},{"$f":"IFERROR(IF(K$12=Kredsudvælgelse!$Q$20,\"\",IF(Kredsudvælgelse!AB$2=1,IF(ISTEXT(DGET(Forespørgsel1[#All],\"\"&LEFT($F65,LEN($F65)-$C65)&\"\",Kredsudvælgelse!$Q$2:$R$3))=TRUE,DGET(Forespørgsel1[#All],\"\"&LEFT($F65,LEN($F65)-$C65)&\"\",Kredsudvælgelse!$Q$2:$R$3),DGET(Forespørgsel1[#All],\"\"&LEFT($F65,LEN($F65)-$C65)&\"\",Kredsudvælgelse!$Q$2:$R$3)/IF(ISNONTEXT($D65)=TRUE,1,DGET(Forespørgsel1[#All],\"\"&$D65&\"\",Kredsudvælgelse!$Q$2:$R$3))),IF(ISBLANK(HLOOKUP(K$12,'Statiske ejendomme'!$B$3:$PN$81,'Statiske ejendomme'!$A57,FALSE))=FALSE,HLOOKUP(K$12,'Statiske ejendomme'!$B$3:$PN$81,'Statiske ejendomme'!$A57,FALSE),\"\"))),\"\")","v":""},{"$f":"IFERROR(IF(L$12=Kredsudvælgelse!$Q$20,\"\",IF(Kredsudvælgelse!AC$2=1,IF(ISTEXT(DGET(Forespørgsel1[#All],\"\"&LEFT($F65,LEN($F65)-$C65)&\"\",Kredsudvælgelse!$S$2:$T$3))=TRUE,DGET(Forespørgsel1[#All],\"\"&LEFT($F65,LEN($F65)-$C65)&\"\",Kredsudvælgelse!$S$2:$T$3),DGET(Forespørgsel1[#All],\"\"&LEFT($F65,LEN($F65)-$C65)&\"\",Kredsudvælgelse!$S$2:$T$3)/IF(ISNONTEXT($D65)=TRUE,1,DGET(Forespørgsel1[#All],\"\"&$D65&\"\",Kredsudvælgelse!$S$2:$T$3))),IF(ISBLANK(HLOOKUP(L$12,'Statiske ejendomme'!$B$3:$PN$81,'Statiske ejendomme'!$A57,FALSE))=FALSE,HLOOKUP(L$12,'Statiske ejendomme'!$B$3:$PN$81,'Statiske ejendomme'!$A57,FALSE),\"\"))),\"\")","v":""},{"$f":"IFERROR(IF(M$12=Kredsudvælgelse!$Q$20,\"\",IF(Kredsudvælgelse!AD$2=1,IF(ISTEXT(DGET(Forespørgsel1[#All],\"\"&LEFT($F65,LEN($F65)-$C65)&\"\",Kredsudvælgelse!$U$2:$V$3))=TRUE,DGET(Forespørgsel1[#All],\"\"&LEFT($F65,LEN($F65)-$C65)&\"\",Kredsudvælgelse!$U$2:$V$3),DGET(Forespørgsel1[#All],\"\"&LEFT($F65,LEN($F65)-$C65)&\"\",Kredsudvælgelse!$U$2:$V$3)/IF(ISNONTEXT($D65)=TRUE,1,DGET(Forespørgsel1[#All],\"\"&$D65&\"\",Kredsudvælgelse!$U$2:$V$3))),IF(ISBLANK(HLOOKUP(M$12,'Statiske ejendomme'!$B$3:$PN$81,'Statiske ejendomme'!$A57,FALSE))=FALSE,HLOOKUP(M$12,'Statiske ejendomme'!$B$3:$PN$81,'Statiske ejendomme'!$A57,FALSE),\"\"))),\"\")","v":""},{"$f":"IFERROR(IF(N$12=Kredsudvælgelse!$Q$20,\"\",IF(Kredsudvælgelse!AE$2=1,IF(ISTEXT(DGET(Forespørgsel1[#All],\"\"&LEFT($F65,LEN($F65)-$C65)&\"\",Kredsudvælgelse!$W$2:$X$3))=TRUE,DGET(Forespørgsel1[#All],\"\"&LEFT($F65,LEN($F65)-$C65)&\"\",Kredsudvælgelse!$W$2:$X$3),DGET(Forespørgsel1[#All],\"\"&LEFT($F65,LEN($F65)-$C65)&\"\",Kredsudvælgelse!$W$2:$X$3)/IF(ISNONTEXT($D65)=TRUE,1,DGET(Forespørgsel1[#All],\"\"&$D65&\"\",Kredsudvælgelse!$W$2:$X$3))),IF(ISBLANK(HLOOKUP(N$12,'Statiske ejendomme'!$B$3:$PN$81,'Statiske ejendomme'!$A57,FALSE))=FALSE,HLOOKUP(N$12,'Statiske ejendomme'!$B$3:$PN$81,'Statiske ejendomme'!$A57,FALSE),\"\"))),\"\")","v":""},{"$f":"IFERROR(IF(O$12=Kredsudvælgelse!$Q$20,\"\",IF(Kredsudvælgelse!AF$2=1,IF(ISTEXT(DGET(Forespørgsel1[#All],\"\"&LEFT($F65,LEN($F65)-$C65)&\"\",Kredsudvælgelse!$Y$2:$Z$3))=TRUE,DGET(Forespørgsel1[#All],\"\"&LEFT($F65,LEN($F65)-$C65)&\"\",Kredsudvælgelse!$Y$2:$Z$3),DGET(Forespørgsel1[#All],\"\"&LEFT($F65,LEN($F65)-$C65)&\"\",Kredsudvælgelse!$Y$2:$Z$3)/IF(ISNONTEXT($D65)=TRUE,1,DGET(Forespørgsel1[#All],\"\"&$D65&\"\",Kredsudvælgelse!$Y$2:$Z$3))),IF(ISBLANK(HLOOKUP(O$12,'Statiske ejendomme'!$B$3:$PN$81,'Statiske ejendomme'!$A57,FALSE))=FALSE,HLOOKUP(O$12,'Statiske ejendomme'!$B$3:$PN$81,'Statiske ejendomme'!$A57,FALSE),\"\"))),\"\")","v":""},{"$f":"IFERROR(IF(P$12=Kredsudvælgelse!$Q$20,\"\",IF(Kredsudvælgelse!AG$2=1,IF(ISTEXT(DGET(Forespørgsel1[#All],\"\"&LEFT($F65,LEN($F65)-$C65)&\"\",Kredsudvælgelse!$Q$6:$R$7))=TRUE,DGET(Forespørgsel1[#All],\"\"&LEFT($F65,LEN($F65)-$C65)&\"\",Kredsudvælgelse!$Q$6:$R$7),DGET(Forespørgsel1[#All],\"\"&LEFT($F65,LEN($F65)-$C65)&\"\",Kredsudvælgelse!$Q$6:$R$7)/IF(ISNONTEXT($D65)=TRUE,1,DGET(Forespørgsel1[#All],\"\"&$D65&\"\",Kredsudvælgelse!$Q$6:$R$7))),IF(ISBLANK(HLOOKUP(P$12,'Statiske ejendomme'!$B$3:$PN$81,'Statiske ejendomme'!$A57,FALSE))=FALSE,HLOOKUP(P$12,'Statiske ejendomme'!$B$3:$PN$81,'Statiske ejendomme'!$A57,FALSE),\"\"))),\"\")","v":""},{"$f":"IFERROR(IF(Q$12=Kredsudvælgelse!$Q$20,\"\",IF(Kredsudvælgelse!AH$2=1,IF(ISTEXT(DGET(Forespørgsel1[#All],\"\"&LEFT($F65,LEN($F65)-$C65)&\"\",Kredsudvælgelse!$S$6:$T$7))=TRUE,DGET(Forespørgsel1[#All],\"\"&LEFT($F65,LEN($F65)-$C65)&\"\",Kredsudvælgelse!$S$6:$T$7),DGET(Forespørgsel1[#All],\"\"&LEFT($F65,LEN($F65)-$C65)&\"\",Kredsudvælgelse!$S$6:$T$7)/IF(ISNONTEXT($D65)=TRUE,1,DGET(Forespørgsel1[#All],\"\"&$D65&\"\",Kredsudvælgelse!$S$6:$T$7))),IF(ISBLANK(HLOOKUP(Q$12,'Statiske ejendomme'!$B$3:$PN$81,'Statiske ejendomme'!$A57,FALSE))=FALSE,HLOOKUP(Q$12,'Statiske ejendomme'!$B$3:$PN$81,'Statiske ejendomme'!$A57,FALSE),\"\"))),\"\")","v":""},{"$f":"IFERROR(IF(R$12=Kredsudvælgelse!$Q$20,\"\",IF(Kredsudvælgelse!AI$2=1,IF(ISTEXT(DGET(Forespørgsel1[#All],\"\"&LEFT($F65,LEN($F65)-$C65)&\"\",Kredsudvælgelse!$U$6:$V$7))=TRUE,DGET(Forespørgsel1[#All],\"\"&LEFT($F65,LEN($F65)-$C65)&\"\",Kredsudvælgelse!$U$6:$V$7),DGET(Forespørgsel1[#All],\"\"&LEFT($F65,LEN($F65)-$C65)&\"\",Kredsudvælgelse!$U$6:$V$7)/IF(ISNONTEXT($D65)=TRUE,1,DGET(Forespørgsel1[#All],\"\"&$D65&\"\",Kredsudvælgelse!$U$6:$V$7))),IF(ISBLANK(HLOOKUP(R$12,'Statiske ejendomme'!$B$3:$PN$81,'Statiske ejendomme'!$A57,FALSE))=FALSE,HLOOKUP(R$12,'Statiske ejendomme'!$B$3:$PN$81,'Statiske ejendomme'!$A57,FALSE),\"\"))),\"\")","v":""},{"$f":"IFERROR(IF(S$12=Kredsudvælgelse!$Q$20,\"\",IF(Kredsudvælgelse!AJ$2=1,IF(ISTEXT(DGET(Forespørgsel1[#All],\"\"&LEFT($F65,LEN($F65)-$C65)&\"\",Kredsudvælgelse!$W$6:$X$7))=TRUE,DGET(Forespørgsel1[#All],\"\"&LEFT($F65,LEN($F65)-$C65)&\"\",Kredsudvælgelse!$W$6:$X$7),DGET(Forespørgsel1[#All],\"\"&LEFT($F65,LEN($F65)-$C65)&\"\",Kredsudvælgelse!$W$6:$X$7)/IF(ISNONTEXT($D65)=TRUE,1,DGET(Forespørgsel1[#All],\"\"&$D65&\"\",Kredsudvælgelse!$W$6:$X$7))),IF(ISBLANK(HLOOKUP(S$12,'Statiske ejendomme'!$B$3:$PN$81,'Statiske ejendomme'!$A57,FALSE))=FALSE,HLOOKUP(S$12,'Statiske ejendomme'!$B$3:$PN$81,'Statiske ejendomme'!$A57,FALSE),\"\"))),\"\")","v":""},{"$f":"IFERROR(IF(T$12=Kredsudvælgelse!$Q$20,\"\",IF(Kredsudvælgelse!AK$2=1,IF(ISTEXT(DGET(Forespørgsel1[#All],\"\"&LEFT($F65,LEN($F65)-$C65)&\"\",Kredsudvælgelse!$W$6:$X$7))=TRUE,DGET(Forespørgsel1[#All],\"\"&LEFT($F65,LEN($F65)-$C65)&\"\",Kredsudvælgelse!$W$6:$X$7),DGET(Forespørgsel1[#All],\"\"&LEFT($F65,LEN($F65)-$C65)&\"\",Kredsudvælgelse!$W$6:$X$7)/IF(ISNONTEXT($D65)=TRUE,1,DGET(Forespørgsel1[#All],\"\"&$D65&\"\",Kredsudvælgelse!$W$6:$X$7))),IF(ISBLANK(HLOOKUP(T$12,'Statiske ejendomme'!$B$3:$PN$81,'Statiske ejendomme'!$A58,FALSE))=FALSE,HLOOKUP(T$12,'Statiske ejendomme'!$B$3:$PN$81,'Statiske ejendomme'!$A58,FALSE),\"\"))),\"\")","v":""}]
[{"$f":"Mink!E137","v":0},{"$f":"Mink!D137","v":0},{"$f":"Mink!A55","v":0},{"$f":"Mink!B55","v":0},null,{"$f":"Mink!C55","v":0},{"$f":"Mink!D55","v":0},{"$f":"Mink!E55","v":0},{"$f":"Mink!F55","v":0},{"$f":"Mink!G55","v":0},{"$f":"IFERROR(IF(K$12=Kredsudvælgelse!$Q$20,\"\",IF(Kredsudvælgelse!AB$2=1,IF(ISTEXT(DGET(Forespørgsel1[#All],\"\"&LEFT($F66,LEN($F66)-$C66)&\"\",Kredsudvælgelse!$Q$2:$R$3))=TRUE,DGET(Forespørgsel1[#All],\"\"&LEFT($F66,LEN($F66)-$C66)&\"\",Kredsudvælgelse!$Q$2:$R$3),DGET(Forespørgsel1[#All],\"\"&LEFT($F66,LEN($F66)-$C66)&\"\",Kredsudvælgelse!$Q$2:$R$3)/IF(ISNONTEXT($D66)=TRUE,1,DGET(Forespørgsel1[#All],\"\"&$D66&\"\",Kredsudvælgelse!$Q$2:$R$3))),IF(ISBLANK(HLOOKUP(K$12,'Statiske ejendomme'!$B$3:$PN$81,'Statiske ejendomme'!$A58,FALSE))=FALSE,HLOOKUP(K$12,'Statiske ejendomme'!$B$3:$PN$81,'Statiske ejendomme'!$A58,FALSE),\"\"))),\"\")","v":""},{"$f":"IFERROR(IF(L$12=Kredsudvælgelse!$Q$20,\"\",IF(Kredsudvælgelse!AC$2=1,IF(ISTEXT(DGET(Forespørgsel1[#All],\"\"&LEFT($F66,LEN($F66)-$C66)&\"\",Kredsudvælgelse!$S$2:$T$3))=TRUE,DGET(Forespørgsel1[#All],\"\"&LEFT($F66,LEN($F66)-$C66)&\"\",Kredsudvælgelse!$S$2:$T$3),DGET(Forespørgsel1[#All],\"\"&LEFT($F66,LEN($F66)-$C66)&\"\",Kredsudvælgelse!$S$2:$T$3)/IF(ISNONTEXT($D66)=TRUE,1,DGET(Forespørgsel1[#All],\"\"&$D66&\"\",Kredsudvælgelse!$S$2:$T$3))),IF(ISBLANK(HLOOKUP(L$12,'Statiske ejendomme'!$B$3:$PN$81,'Statiske ejendomme'!$A58,FALSE))=FALSE,HLOOKUP(L$12,'Statiske ejendomme'!$B$3:$PN$81,'Statiske ejendomme'!$A58,FALSE),\"\"))),\"\")","v":""},{"$f":"IFERROR(IF(M$12=Kredsudvælgelse!$Q$20,\"\",IF(Kredsudvælgelse!AD$2=1,IF(ISTEXT(DGET(Forespørgsel1[#All],\"\"&LEFT($F66,LEN($F66)-$C66)&\"\",Kredsudvælgelse!$U$2:$V$3))=TRUE,DGET(Forespørgsel1[#All],\"\"&LEFT($F66,LEN($F66)-$C66)&\"\",Kredsudvælgelse!$U$2:$V$3),DGET(Forespørgsel1[#All],\"\"&LEFT($F66,LEN($F66)-$C66)&\"\",Kredsudvælgelse!$U$2:$V$3)/IF(ISNONTEXT($D66)=TRUE,1,DGET(Forespørgsel1[#All],\"\"&$D66&\"\",Kredsudvælgelse!$U$2:$V$3))),IF(ISBLANK(HLOOKUP(M$12,'Statiske ejendomme'!$B$3:$PN$81,'Statiske ejendomme'!$A58,FALSE))=FALSE,HLOOKUP(M$12,'Statiske ejendomme'!$B$3:$PN$81,'Statiske ejendomme'!$A58,FALSE),\"\"))),\"\")","v":""},{"$f":"IFERROR(IF(N$12=Kredsudvælgelse!$Q$20,\"\",IF(Kredsudvælgelse!AE$2=1,IF(ISTEXT(DGET(Forespørgsel1[#All],\"\"&LEFT($F66,LEN($F66)-$C66)&\"\",Kredsudvælgelse!$W$2:$X$3))=TRUE,DGET(Forespørgsel1[#All],\"\"&LEFT($F66,LEN($F66)-$C66)&\"\",Kredsudvælgelse!$W$2:$X$3),DGET(Forespørgsel1[#All],\"\"&LEFT($F66,LEN($F66)-$C66)&\"\",Kredsudvælgelse!$W$2:$X$3)/IF(ISNONTEXT($D66)=TRUE,1,DGET(Forespørgsel1[#All],\"\"&$D66&\"\",Kredsudvælgelse!$W$2:$X$3))),IF(ISBLANK(HLOOKUP(N$12,'Statiske ejendomme'!$B$3:$PN$81,'Statiske ejendomme'!$A58,FALSE))=FALSE,HLOOKUP(N$12,'Statiske ejendomme'!$B$3:$PN$81,'Statiske ejendomme'!$A58,FALSE),\"\"))),\"\")","v":""},{"$f":"IFERROR(IF(O$12=Kredsudvælgelse!$Q$20,\"\",IF(Kredsudvælgelse!AF$2=1,IF(ISTEXT(DGET(Forespørgsel1[#All],\"\"&LEFT($F66,LEN($F66)-$C66)&\"\",Kredsudvælgelse!$Y$2:$Z$3))=TRUE,DGET(Forespørgsel1[#All],\"\"&LEFT($F66,LEN($F66)-$C66)&\"\",Kredsudvælgelse!$Y$2:$Z$3),DGET(Forespørgsel1[#All],\"\"&LEFT($F66,LEN($F66)-$C66)&\"\",Kredsudvælgelse!$Y$2:$Z$3)/IF(ISNONTEXT($D66)=TRUE,1,DGET(Forespørgsel1[#All],\"\"&$D66&\"\",Kredsudvælgelse!$Y$2:$Z$3))),IF(ISBLANK(HLOOKUP(O$12,'Statiske ejendomme'!$B$3:$PN$81,'Statiske ejendomme'!$A58,FALSE))=FALSE,HLOOKUP(O$12,'Statiske ejendomme'!$B$3:$PN$81,'Statiske ejendomme'!$A58,FALSE),\"\"))),\"\")","v":""},{"$f":"IFERROR(IF(P$12=Kredsudvælgelse!$Q$20,\"\",IF(Kredsudvælgelse!AG$2=1,IF(ISTEXT(DGET(Forespørgsel1[#All],\"\"&LEFT($F66,LEN($F66)-$C66)&\"\",Kredsudvælgelse!$Q$6:$R$7))=TRUE,DGET(Forespørgsel1[#All],\"\"&LEFT($F66,LEN($F66)-$C66)&\"\",Kredsudvælgelse!$Q$6:$R$7),DGET(Forespørgsel1[#All],\"\"&LEFT($F66,LEN($F66)-$C66)&\"\",Kredsudvælgelse!$Q$6:$R$7)/IF(ISNONTEXT($D66)=TRUE,1,DGET(Forespørgsel1[#All],\"\"&$D66&\"\",Kredsudvælgelse!$Q$6:$R$7))),IF(ISBLANK(HLOOKUP(P$12,'Statiske ejendomme'!$B$3:$PN$81,'Statiske ejendomme'!$A58,FALSE))=FALSE,HLOOKUP(P$12,'Statiske ejendomme'!$B$3:$PN$81,'Statiske ejendomme'!$A58,FALSE),\"\"))),\"\")","v":""},{"$f":"IFERROR(IF(Q$12=Kredsudvælgelse!$Q$20,\"\",IF(Kredsudvælgelse!AH$2=1,IF(ISTEXT(DGET(Forespørgsel1[#All],\"\"&LEFT($F66,LEN($F66)-$C66)&\"\",Kredsudvælgelse!$S$6:$T$7))=TRUE,DGET(Forespørgsel1[#All],\"\"&LEFT($F66,LEN($F66)-$C66)&\"\",Kredsudvælgelse!$S$6:$T$7),DGET(Forespørgsel1[#All],\"\"&LEFT($F66,LEN($F66)-$C66)&\"\",Kredsudvælgelse!$S$6:$T$7)/IF(ISNONTEXT($D66)=TRUE,1,DGET(Forespørgsel1[#All],\"\"&$D66&\"\",Kredsudvælgelse!$S$6:$T$7))),IF(ISBLANK(HLOOKUP(Q$12,'Statiske ejendomme'!$B$3:$PN$81,'Statiske ejendomme'!$A58,FALSE))=FALSE,HLOOKUP(Q$12,'Statiske ejendomme'!$B$3:$PN$81,'Statiske ejendomme'!$A58,FALSE),\"\"))),\"\")","v":""},{"$f":"IFERROR(IF(R$12=Kredsudvælgelse!$Q$20,\"\",IF(Kredsudvælgelse!AI$2=1,IF(ISTEXT(DGET(Forespørgsel1[#All],\"\"&LEFT($F66,LEN($F66)-$C66)&\"\",Kredsudvælgelse!$U$6:$V$7))=TRUE,DGET(Forespørgsel1[#All],\"\"&LEFT($F66,LEN($F66)-$C66)&\"\",Kredsudvælgelse!$U$6:$V$7),DGET(Forespørgsel1[#All],\"\"&LEFT($F66,LEN($F66)-$C66)&\"\",Kredsudvælgelse!$U$6:$V$7)/IF(ISNONTEXT($D66)=TRUE,1,DGET(Forespørgsel1[#All],\"\"&$D66&\"\",Kredsudvælgelse!$U$6:$V$7))),IF(ISBLANK(HLOOKUP(R$12,'Statiske ejendomme'!$B$3:$PN$81,'Statiske ejendomme'!$A58,FALSE))=FALSE,HLOOKUP(R$12,'Statiske ejendomme'!$B$3:$PN$81,'Statiske ejendomme'!$A58,FALSE),\"\"))),\"\")","v":""},{"$f":"IFERROR(IF(S$12=Kredsudvælgelse!$Q$20,\"\",IF(Kredsudvælgelse!AJ$2=1,IF(ISTEXT(DGET(Forespørgsel1[#All],\"\"&LEFT($F66,LEN($F66)-$C66)&\"\",Kredsudvælgelse!$W$6:$X$7))=TRUE,DGET(Forespørgsel1[#All],\"\"&LEFT($F66,LEN($F66)-$C66)&\"\",Kredsudvælgelse!$W$6:$X$7),DGET(Forespørgsel1[#All],\"\"&LEFT($F66,LEN($F66)-$C66)&\"\",Kredsudvælgelse!$W$6:$X$7)/IF(ISNONTEXT($D66)=TRUE,1,DGET(Forespørgsel1[#All],\"\"&$D66&\"\",Kredsudvælgelse!$W$6:$X$7))),IF(ISBLANK(HLOOKUP(S$12,'Statiske ejendomme'!$B$3:$PN$81,'Statiske ejendomme'!$A58,FALSE))=FALSE,HLOOKUP(S$12,'Statiske ejendomme'!$B$3:$PN$81,'Statiske ejendomme'!$A58,FALSE),\"\"))),\"\")","v":""},{"$f":"IFERROR(IF(T$12=Kredsudvælgelse!$Q$20,\"\",IF(Kredsudvælgelse!AK$2=1,IF(ISTEXT(DGET(Forespørgsel1[#All],\"\"&LEFT($F66,LEN($F66)-$C66)&\"\",Kredsudvælgelse!$W$6:$X$7))=TRUE,DGET(Forespørgsel1[#All],\"\"&LEFT($F66,LEN($F66)-$C66)&\"\",Kredsudvælgelse!$W$6:$X$7),DGET(Forespørgsel1[#All],\"\"&LEFT($F66,LEN($F66)-$C66)&\"\",Kredsudvælgelse!$W$6:$X$7)/IF(ISNONTEXT($D66)=TRUE,1,DGET(Forespørgsel1[#All],\"\"&$D66&\"\",Kredsudvælgelse!$W$6:$X$7))),IF(ISBLANK(HLOOKUP(T$12,'Statiske ejendomme'!$B$3:$PN$81,'Statiske ejendomme'!$A59,FALSE))=FALSE,HLOOKUP(T$12,'Statiske ejendomme'!$B$3:$PN$81,'Statiske ejendomme'!$A59,FALSE),\"\"))),\"\")","v":""}]
[{"$f":"Mink!E138","v":0},{"$f":"Mink!D138","v":0},{"$f":"Mink!A56","v":0},{"$f":"Mink!B56","v":0},null,{"$f":"Mink!C56","v":0},{"$f":"Mink!D56","v":0},{"$f":"Mink!E56","v":0},{"$f":"Mink!F56","v":0},{"$f":"Mink!G56","v":0},{"$f":"IFERROR(IF(K$12=Kredsudvælgelse!$Q$20,\"\",IF(Kredsudvælgelse!AB$2=1,IF(ISTEXT(DGET(Forespørgsel1[#All],\"\"&LEFT($F67,LEN($F67)-$C67)&\"\",Kredsudvælgelse!$Q$2:$R$3))=TRUE,DGET(Forespørgsel1[#All],\"\"&LEFT($F67,LEN($F67)-$C67)&\"\",Kredsudvælgelse!$Q$2:$R$3),DGET(Forespørgsel1[#All],\"\"&LEFT($F67,LEN($F67)-$C67)&\"\",Kredsudvælgelse!$Q$2:$R$3)/IF(ISNONTEXT($D67)=TRUE,1,DGET(Forespørgsel1[#All],\"\"&$D67&\"\",Kredsudvælgelse!$Q$2:$R$3))),IF(ISBLANK(HLOOKUP(K$12,'Statiske ejendomme'!$B$3:$PN$81,'Statiske ejendomme'!$A59,FALSE))=FALSE,HLOOKUP(K$12,'Statiske ejendomme'!$B$3:$PN$81,'Statiske ejendomme'!$A59,FALSE),\"\"))),\"\")","v":""},{"$f":"IFERROR(IF(L$12=Kredsudvælgelse!$Q$20,\"\",IF(Kredsudvælgelse!AC$2=1,IF(ISTEXT(DGET(Forespørgsel1[#All],\"\"&LEFT($F67,LEN($F67)-$C67)&\"\",Kredsudvælgelse!$S$2:$T$3))=TRUE,DGET(Forespørgsel1[#All],\"\"&LEFT($F67,LEN($F67)-$C67)&\"\",Kredsudvælgelse!$S$2:$T$3),DGET(Forespørgsel1[#All],\"\"&LEFT($F67,LEN($F67)-$C67)&\"\",Kredsudvælgelse!$S$2:$T$3)/IF(ISNONTEXT($D67)=TRUE,1,DGET(Forespørgsel1[#All],\"\"&$D67&\"\",Kredsudvælgelse!$S$2:$T$3))),IF(ISBLANK(HLOOKUP(L$12,'Statiske ejendomme'!$B$3:$PN$81,'Statiske ejendomme'!$A59,FALSE))=FALSE,HLOOKUP(L$12,'Statiske ejendomme'!$B$3:$PN$81,'Statiske ejendomme'!$A59,FALSE),\"\"))),\"\")","v":""},{"$f":"IFERROR(IF(M$12=Kredsudvælgelse!$Q$20,\"\",IF(Kredsudvælgelse!AD$2=1,IF(ISTEXT(DGET(Forespørgsel1[#All],\"\"&LEFT($F67,LEN($F67)-$C67)&\"\",Kredsudvælgelse!$U$2:$V$3))=TRUE,DGET(Forespørgsel1[#All],\"\"&LEFT($F67,LEN($F67)-$C67)&\"\",Kredsudvælgelse!$U$2:$V$3),DGET(Forespørgsel1[#All],\"\"&LEFT($F67,LEN($F67)-$C67)&\"\",Kredsudvælgelse!$U$2:$V$3)/IF(ISNONTEXT($D67)=TRUE,1,DGET(Forespørgsel1[#All],\"\"&$D67&\"\",Kredsudvælgelse!$U$2:$V$3))),IF(ISBLANK(HLOOKUP(M$12,'Statiske ejendomme'!$B$3:$PN$81,'Statiske ejendomme'!$A59,FALSE))=FALSE,HLOOKUP(M$12,'Statiske ejendomme'!$B$3:$PN$81,'Statiske ejendomme'!$A59,FALSE),\"\"))),\"\")","v":""},{"$f":"IFERROR(IF(N$12=Kredsudvælgelse!$Q$20,\"\",IF(Kredsudvælgelse!AE$2=1,IF(ISTEXT(DGET(Forespørgsel1[#All],\"\"&LEFT($F67,LEN($F67)-$C67)&\"\",Kredsudvælgelse!$W$2:$X$3))=TRUE,DGET(Forespørgsel1[#All],\"\"&LEFT($F67,LEN($F67)-$C67)&\"\",Kredsudvælgelse!$W$2:$X$3),DGET(Forespørgsel1[#All],\"\"&LEFT($F67,LEN($F67)-$C67)&\"\",Kredsudvælgelse!$W$2:$X$3)/IF(ISNONTEXT($D67)=TRUE,1,DGET(Forespørgsel1[#All],\"\"&$D67&\"\",Kredsudvælgelse!$W$2:$X$3))),IF(ISBLANK(HLOOKUP(N$12,'Statiske ejendomme'!$B$3:$PN$81,'Statiske ejendomme'!$A59,FALSE))=FALSE,HLOOKUP(N$12,'Statiske ejendomme'!$B$3:$PN$81,'Statiske ejendomme'!$A59,FALSE),\"\"))),\"\")","v":""},{"$f":"IFERROR(IF(O$12=Kredsudvælgelse!$Q$20,\"\",IF(Kredsudvælgelse!AF$2=1,IF(ISTEXT(DGET(Forespørgsel1[#All],\"\"&LEFT($F67,LEN($F67)-$C67)&\"\",Kredsudvælgelse!$Y$2:$Z$3))=TRUE,DGET(Forespørgsel1[#All],\"\"&LEFT($F67,LEN($F67)-$C67)&\"\",Kredsudvælgelse!$Y$2:$Z$3),DGET(Forespørgsel1[#All],\"\"&LEFT($F67,LEN($F67)-$C67)&\"\",Kredsudvælgelse!$Y$2:$Z$3)/IF(ISNONTEXT($D67)=TRUE,1,DGET(Forespørgsel1[#All],\"\"&$D67&\"\",Kredsudvælgelse!$Y$2:$Z$3))),IF(ISBLANK(HLOOKUP(O$12,'Statiske ejendomme'!$B$3:$PN$81,'Statiske ejendomme'!$A59,FALSE))=FALSE,HLOOKUP(O$12,'Statiske ejendomme'!$B$3:$PN$81,'Statiske ejendomme'!$A59,FALSE),\"\"))),\"\")","v":""},{"$f":"IFERROR(IF(P$12=Kredsudvælgelse!$Q$20,\"\",IF(Kredsudvælgelse!AG$2=1,IF(ISTEXT(DGET(Forespørgsel1[#All],\"\"&LEFT($F67,LEN($F67)-$C67)&\"\",Kredsudvælgelse!$Q$6:$R$7))=TRUE,DGET(Forespørgsel1[#All],\"\"&LEFT($F67,LEN($F67)-$C67)&\"\",Kredsudvælgelse!$Q$6:$R$7),DGET(Forespørgsel1[#All],\"\"&LEFT($F67,LEN($F67)-$C67)&\"\",Kredsudvælgelse!$Q$6:$R$7)/IF(ISNONTEXT($D67)=TRUE,1,DGET(Forespørgsel1[#All],\"\"&$D67&\"\",Kredsudvælgelse!$Q$6:$R$7))),IF(ISBLANK(HLOOKUP(P$12,'Statiske ejendomme'!$B$3:$PN$81,'Statiske ejendomme'!$A59,FALSE))=FALSE,HLOOKUP(P$12,'Statiske ejendomme'!$B$3:$PN$81,'Statiske ejendomme'!$A59,FALSE),\"\"))),\"\")","v":""},{"$f":"IFERROR(IF(Q$12=Kredsudvælgelse!$Q$20,\"\",IF(Kredsudvælgelse!AH$2=1,IF(ISTEXT(DGET(Forespørgsel1[#All],\"\"&LEFT($F67,LEN($F67)-$C67)&\"\",Kredsudvælgelse!$S$6:$T$7))=TRUE,DGET(Forespørgsel1[#All],\"\"&LEFT($F67,LEN($F67)-$C67)&\"\",Kredsudvælgelse!$S$6:$T$7),DGET(Forespørgsel1[#All],\"\"&LEFT($F67,LEN($F67)-$C67)&\"\",Kredsudvælgelse!$S$6:$T$7)/IF(ISNONTEXT($D67)=TRUE,1,DGET(Forespørgsel1[#All],\"\"&$D67&\"\",Kredsudvælgelse!$S$6:$T$7))),IF(ISBLANK(HLOOKUP(Q$12,'Statiske ejendomme'!$B$3:$PN$81,'Statiske ejendomme'!$A59,FALSE))=FALSE,HLOOKUP(Q$12,'Statiske ejendomme'!$B$3:$PN$81,'Statiske ejendomme'!$A59,FALSE),\"\"))),\"\")","v":""},{"$f":"IFERROR(IF(R$12=Kredsudvælgelse!$Q$20,\"\",IF(Kredsudvælgelse!AI$2=1,IF(ISTEXT(DGET(Forespørgsel1[#All],\"\"&LEFT($F67,LEN($F67)-$C67)&\"\",Kredsudvælgelse!$U$6:$V$7))=TRUE,DGET(Forespørgsel1[#All],\"\"&LEFT($F67,LEN($F67)-$C67)&\"\",Kredsudvælgelse!$U$6:$V$7),DGET(Forespørgsel1[#All],\"\"&LEFT($F67,LEN($F67)-$C67)&\"\",Kredsudvælgelse!$U$6:$V$7)/IF(ISNONTEXT($D67)=TRUE,1,DGET(Forespørgsel1[#All],\"\"&$D67&\"\",Kredsudvælgelse!$U$6:$V$7))),IF(ISBLANK(HLOOKUP(R$12,'Statiske ejendomme'!$B$3:$PN$81,'Statiske ejendomme'!$A59,FALSE))=FALSE,HLOOKUP(R$12,'Statiske ejendomme'!$B$3:$PN$81,'Statiske ejendomme'!$A59,FALSE),\"\"))),\"\")","v":""},{"$f":"IFERROR(IF(S$12=Kredsudvælgelse!$Q$20,\"\",IF(Kredsudvælgelse!AJ$2=1,IF(ISTEXT(DGET(Forespørgsel1[#All],\"\"&LEFT($F67,LEN($F67)-$C67)&\"\",Kredsudvælgelse!$W$6:$X$7))=TRUE,DGET(Forespørgsel1[#All],\"\"&LEFT($F67,LEN($F67)-$C67)&\"\",Kredsudvælgelse!$W$6:$X$7),DGET(Forespørgsel1[#All],\"\"&LEFT($F67,LEN($F67)-$C67)&\"\",Kredsudvælgelse!$W$6:$X$7)/IF(ISNONTEXT($D67)=TRUE,1,DGET(Forespørgsel1[#All],\"\"&$D67&\"\",Kredsudvælgelse!$W$6:$X$7))),IF(ISBLANK(HLOOKUP(S$12,'Statiske ejendomme'!$B$3:$PN$81,'Statiske ejendomme'!$A59,FALSE))=FALSE,HLOOKUP(S$12,'Statiske ejendomme'!$B$3:$PN$81,'Statiske ejendomme'!$A59,FALSE),\"\"))),\"\")","v":""},{"$f":"IFERROR(IF(T$12=Kredsudvælgelse!$Q$20,\"\",IF(Kredsudvælgelse!AK$2=1,IF(ISTEXT(DGET(Forespørgsel1[#All],\"\"&LEFT($F67,LEN($F67)-$C67)&\"\",Kredsudvælgelse!$W$6:$X$7))=TRUE,DGET(Forespørgsel1[#All],\"\"&LEFT($F67,LEN($F67)-$C67)&\"\",Kredsudvælgelse!$W$6:$X$7),DGET(Forespørgsel1[#All],\"\"&LEFT($F67,LEN($F67)-$C67)&\"\",Kredsudvælgelse!$W$6:$X$7)/IF(ISNONTEXT($D67)=TRUE,1,DGET(Forespørgsel1[#All],\"\"&$D67&\"\",Kredsudvælgelse!$W$6:$X$7))),IF(ISBLANK(HLOOKUP(T$12,'Statiske ejendomme'!$B$3:$PN$81,'Statiske ejendomme'!$A60,FALSE))=FALSE,HLOOKUP(T$12,'Statiske ejendomme'!$B$3:$PN$81,'Statiske ejendomme'!$A60,FALSE),\"\"))),\"\")","v":""}]
[{"$f":"Mink!E139","v":0},{"$f":"Mink!D139","v":0},{"$f":"Mink!A57","v":0},{"$f":"Mink!B57","v":0},null,{"$f":"Mink!C57","v":0},{"$f":"Mink!D57","v":0},{"$f":"Mink!E57","v":0},{"$f":"Mink!F57","v":0},{"$f":"Mink!G57","v":0},{"$f":"IFERROR(IF(K$12=Kredsudvælgelse!$Q$20,\"\",IF(Kredsudvælgelse!AB$2=1,IF(ISTEXT(DGET(Forespørgsel1[#All],\"\"&LEFT($F68,LEN($F68)-$C68)&\"\",Kredsudvælgelse!$Q$2:$R$3))=TRUE,DGET(Forespørgsel1[#All],\"\"&LEFT($F68,LEN($F68)-$C68)&\"\",Kredsudvælgelse!$Q$2:$R$3),DGET(Forespørgsel1[#All],\"\"&LEFT($F68,LEN($F68)-$C68)&\"\",Kredsudvælgelse!$Q$2:$R$3)/IF(ISNONTEXT($D68)=TRUE,1,DGET(Forespørgsel1[#All],\"\"&$D68&\"\",Kredsudvælgelse!$Q$2:$R$3))),IF(ISBLANK(HLOOKUP(K$12,'Statiske ejendomme'!$B$3:$PN$81,'Statiske ejendomme'!$A60,FALSE))=FALSE,HLOOKUP(K$12,'Statiske ejendomme'!$B$3:$PN$81,'Statiske ejendomme'!$A60,FALSE),\"\"))),\"\")","v":""},{"$f":"IFERROR(IF(L$12=Kredsudvælgelse!$Q$20,\"\",IF(Kredsudvælgelse!AC$2=1,IF(ISTEXT(DGET(Forespørgsel1[#All],\"\"&LEFT($F68,LEN($F68)-$C68)&\"\",Kredsudvælgelse!$S$2:$T$3))=TRUE,DGET(Forespørgsel1[#All],\"\"&LEFT($F68,LEN($F68)-$C68)&\"\",Kredsudvælgelse!$S$2:$T$3),DGET(Forespørgsel1[#All],\"\"&LEFT($F68,LEN($F68)-$C68)&\"\",Kredsudvælgelse!$S$2:$T$3)/IF(ISNONTEXT($D68)=TRUE,1,DGET(Forespørgsel1[#All],\"\"&$D68&\"\",Kredsudvælgelse!$S$2:$T$3))),IF(ISBLANK(HLOOKUP(L$12,'Statiske ejendomme'!$B$3:$PN$81,'Statiske ejendomme'!$A60,FALSE))=FALSE,HLOOKUP(L$12,'Statiske ejendomme'!$B$3:$PN$81,'Statiske ejendomme'!$A60,FALSE),\"\"))),\"\")","v":""},{"$f":"IFERROR(IF(M$12=Kredsudvælgelse!$Q$20,\"\",IF(Kredsudvælgelse!AD$2=1,IF(ISTEXT(DGET(Forespørgsel1[#All],\"\"&LEFT($F68,LEN($F68)-$C68)&\"\",Kredsudvælgelse!$U$2:$V$3))=TRUE,DGET(Forespørgsel1[#All],\"\"&LEFT($F68,LEN($F68)-$C68)&\"\",Kredsudvælgelse!$U$2:$V$3),DGET(Forespørgsel1[#All],\"\"&LEFT($F68,LEN($F68)-$C68)&\"\",Kredsudvælgelse!$U$2:$V$3)/IF(ISNONTEXT($D68)=TRUE,1,DGET(Forespørgsel1[#All],\"\"&$D68&\"\",Kredsudvælgelse!$U$2:$V$3))),IF(ISBLANK(HLOOKUP(M$12,'Statiske ejendomme'!$B$3:$PN$81,'Statiske ejendomme'!$A60,FALSE))=FALSE,HLOOKUP(M$12,'Statiske ejendomme'!$B$3:$PN$81,'Statiske ejendomme'!$A60,FALSE),\"\"))),\"\")","v":""},{"$f":"IFERROR(IF(N$12=Kredsudvælgelse!$Q$20,\"\",IF(Kredsudvælgelse!AE$2=1,IF(ISTEXT(DGET(Forespørgsel1[#All],\"\"&LEFT($F68,LEN($F68)-$C68)&\"\",Kredsudvælgelse!$W$2:$X$3))=TRUE,DGET(Forespørgsel1[#All],\"\"&LEFT($F68,LEN($F68)-$C68)&\"\",Kredsudvælgelse!$W$2:$X$3),DGET(Forespørgsel1[#All],\"\"&LEFT($F68,LEN($F68)-$C68)&\"\",Kredsudvælgelse!$W$2:$X$3)/IF(ISNONTEXT($D68)=TRUE,1,DGET(Forespørgsel1[#All],\"\"&$D68&\"\",Kredsudvælgelse!$W$2:$X$3))),IF(ISBLANK(HLOOKUP(N$12,'Statiske ejendomme'!$B$3:$PN$81,'Statiske ejendomme'!$A60,FALSE))=FALSE,HLOOKUP(N$12,'Statiske ejendomme'!$B$3:$PN$81,'Statiske ejendomme'!$A60,FALSE),\"\"))),\"\")","v":""},{"$f":"IFERROR(IF(O$12=Kredsudvælgelse!$Q$20,\"\",IF(Kredsudvælgelse!AF$2=1,IF(ISTEXT(DGET(Forespørgsel1[#All],\"\"&LEFT($F68,LEN($F68)-$C68)&\"\",Kredsudvælgelse!$Y$2:$Z$3))=TRUE,DGET(Forespørgsel1[#All],\"\"&LEFT($F68,LEN($F68)-$C68)&\"\",Kredsudvælgelse!$Y$2:$Z$3),DGET(Forespørgsel1[#All],\"\"&LEFT($F68,LEN($F68)-$C68)&\"\",Kredsudvælgelse!$Y$2:$Z$3)/IF(ISNONTEXT($D68)=TRUE,1,DGET(Forespørgsel1[#All],\"\"&$D68&\"\",Kredsudvælgelse!$Y$2:$Z$3))),IF(ISBLANK(HLOOKUP(O$12,'Statiske ejendomme'!$B$3:$PN$81,'Statiske ejendomme'!$A60,FALSE))=FALSE,HLOOKUP(O$12,'Statiske ejendomme'!$B$3:$PN$81,'Statiske ejendomme'!$A60,FALSE),\"\"))),\"\")","v":""},{"$f":"IFERROR(IF(P$12=Kredsudvælgelse!$Q$20,\"\",IF(Kredsudvælgelse!AG$2=1,IF(ISTEXT(DGET(Forespørgsel1[#All],\"\"&LEFT($F68,LEN($F68)-$C68)&\"\",Kredsudvælgelse!$Q$6:$R$7))=TRUE,DGET(Forespørgsel1[#All],\"\"&LEFT($F68,LEN($F68)-$C68)&\"\",Kredsudvælgelse!$Q$6:$R$7),DGET(Forespørgsel1[#All],\"\"&LEFT($F68,LEN($F68)-$C68)&\"\",Kredsudvælgelse!$Q$6:$R$7)/IF(ISNONTEXT($D68)=TRUE,1,DGET(Forespørgsel1[#All],\"\"&$D68&\"\",Kredsudvælgelse!$Q$6:$R$7))),IF(ISBLANK(HLOOKUP(P$12,'Statiske ejendomme'!$B$3:$PN$81,'Statiske ejendomme'!$A60,FALSE))=FALSE,HLOOKUP(P$12,'Statiske ejendomme'!$B$3:$PN$81,'Statiske ejendomme'!$A60,FALSE),\"\"))),\"\")","v":""},{"$f":"IFERROR(IF(Q$12=Kredsudvælgelse!$Q$20,\"\",IF(Kredsudvælgelse!AH$2=1,IF(ISTEXT(DGET(Forespørgsel1[#All],\"\"&LEFT($F68,LEN($F68)-$C68)&\"\",Kredsudvælgelse!$S$6:$T$7))=TRUE,DGET(Forespørgsel1[#All],\"\"&LEFT($F68,LEN($F68)-$C68)&\"\",Kredsudvælgelse!$S$6:$T$7),DGET(Forespørgsel1[#All],\"\"&LEFT($F68,LEN($F68)-$C68)&\"\",Kredsudvælgelse!$S$6:$T$7)/IF(ISNONTEXT($D68)=TRUE,1,DGET(Forespørgsel1[#All],\"\"&$D68&\"\",Kredsudvælgelse!$S$6:$T$7))),IF(ISBLANK(HLOOKUP(Q$12,'Statiske ejendomme'!$B$3:$PN$81,'Statiske ejendomme'!$A60,FALSE))=FALSE,HLOOKUP(Q$12,'Statiske ejendomme'!$B$3:$PN$81,'Statiske ejendomme'!$A60,FALSE),\"\"))),\"\")","v":""},{"$f":"IFERROR(IF(R$12=Kredsudvælgelse!$Q$20,\"\",IF(Kredsudvælgelse!AI$2=1,IF(ISTEXT(DGET(Forespørgsel1[#All],\"\"&LEFT($F68,LEN($F68)-$C68)&\"\",Kredsudvælgelse!$U$6:$V$7))=TRUE,DGET(Forespørgsel1[#All],\"\"&LEFT($F68,LEN($F68)-$C68)&\"\",Kredsudvælgelse!$U$6:$V$7),DGET(Forespørgsel1[#All],\"\"&LEFT($F68,LEN($F68)-$C68)&\"\",Kredsudvælgelse!$U$6:$V$7)/IF(ISNONTEXT($D68)=TRUE,1,DGET(Forespørgsel1[#All],\"\"&$D68&\"\",Kredsudvælgelse!$U$6:$V$7))),IF(ISBLANK(HLOOKUP(R$12,'Statiske ejendomme'!$B$3:$PN$81,'Statiske ejendomme'!$A60,FALSE))=FALSE,HLOOKUP(R$12,'Statiske ejendomme'!$B$3:$PN$81,'Statiske ejendomme'!$A60,FALSE),\"\"))),\"\")","v":""},{"$f":"IFERROR(IF(S$12=Kredsudvælgelse!$Q$20,\"\",IF(Kredsudvælgelse!AJ$2=1,IF(ISTEXT(DGET(Forespørgsel1[#All],\"\"&LEFT($F68,LEN($F68)-$C68)&\"\",Kredsudvælgelse!$W$6:$X$7))=TRUE,DGET(Forespørgsel1[#All],\"\"&LEFT($F68,LEN($F68)-$C68)&\"\",Kredsudvælgelse!$W$6:$X$7),DGET(Forespørgsel1[#All],\"\"&LEFT($F68,LEN($F68)-$C68)&\"\",Kredsudvælgelse!$W$6:$X$7)/IF(ISNONTEXT($D68)=TRUE,1,DGET(Forespørgsel1[#All],\"\"&$D68&\"\",Kredsudvælgelse!$W$6:$X$7))),IF(ISBLANK(HLOOKUP(S$12,'Statiske ejendomme'!$B$3:$PN$81,'Statiske ejendomme'!$A60,FALSE))=FALSE,HLOOKUP(S$12,'Statiske ejendomme'!$B$3:$PN$81,'Statiske ejendomme'!$A60,FALSE),\"\"))),\"\")","v":""},{"$f":"IFERROR(IF(T$12=Kredsudvælgelse!$Q$20,\"\",IF(Kredsudvælgelse!AK$2=1,IF(ISTEXT(DGET(Forespørgsel1[#All],\"\"&LEFT($F68,LEN($F68)-$C68)&\"\",Kredsudvælgelse!$W$6:$X$7))=TRUE,DGET(Forespørgsel1[#All],\"\"&LEFT($F68,LEN($F68)-$C68)&\"\",Kredsudvælgelse!$W$6:$X$7),DGET(Forespørgsel1[#All],\"\"&LEFT($F68,LEN($F68)-$C68)&\"\",Kredsudvælgelse!$W$6:$X$7)/IF(ISNONTEXT($D68)=TRUE,1,DGET(Forespørgsel1[#All],\"\"&$D68&\"\",Kredsudvælgelse!$W$6:$X$7))),IF(ISBLANK(HLOOKUP(T$12,'Statiske ejendomme'!$B$3:$PN$81,'Statiske ejendomme'!$A61,FALSE))=FALSE,HLOOKUP(T$12,'Statiske ejendomme'!$B$3:$PN$81,'Statiske ejendomme'!$A61,FALSE),\"\"))),\"\")","v":""}]
[{"$f":"Mink!E140","v":0},{"$f":"Mink!D140","v":0},{"$f":"Mink!A58","v":0},{"$f":"Mink!B58","v":0},null,{"$f":"Mink!C58","v":0},{"$f":"Mink!D58","v":0},{"$f":"Mink!E58","v":0},{"$f":"Mink!F58","v":0},{"$f":"Mink!G58","v":0},{"$f":"IFERROR(IF(K$12=Kredsudvælgelse!$Q$20,\"\",IF(Kredsudvælgelse!AB$2=1,IF(ISTEXT(DGET(Forespørgsel1[#All],\"\"&LEFT($F69,LEN($F69)-$C69)&\"\",Kredsudvælgelse!$Q$2:$R$3))=TRUE,DGET(Forespørgsel1[#All],\"\"&LEFT($F69,LEN($F69)-$C69)&\"\",Kredsudvælgelse!$Q$2:$R$3),DGET(Forespørgsel1[#All],\"\"&LEFT($F69,LEN($F69)-$C69)&\"\",Kredsudvælgelse!$Q$2:$R$3)/IF(ISNONTEXT($D69)=TRUE,1,DGET(Forespørgsel1[#All],\"\"&$D69&\"\",Kredsudvælgelse!$Q$2:$R$3))),IF(ISBLANK(HLOOKUP(K$12,'Statiske ejendomme'!$B$3:$PN$81,'Statiske ejendomme'!$A61,FALSE))=FALSE,HLOOKUP(K$12,'Statiske ejendomme'!$B$3:$PN$81,'Statiske ejendomme'!$A61,FALSE),\"\"))),\"\")","v":""},{"$f":"IFERROR(IF(L$12=Kredsudvælgelse!$Q$20,\"\",IF(Kredsudvælgelse!AC$2=1,IF(ISTEXT(DGET(Forespørgsel1[#All],\"\"&LEFT($F69,LEN($F69)-$C69)&\"\",Kredsudvælgelse!$S$2:$T$3))=TRUE,DGET(Forespørgsel1[#All],\"\"&LEFT($F69,LEN($F69)-$C69)&\"\",Kredsudvælgelse!$S$2:$T$3),DGET(Forespørgsel1[#All],\"\"&LEFT($F69,LEN($F69)-$C69)&\"\",Kredsudvælgelse!$S$2:$T$3)/IF(ISNONTEXT($D69)=TRUE,1,DGET(Forespørgsel1[#All],\"\"&$D69&\"\",Kredsudvælgelse!$S$2:$T$3))),IF(ISBLANK(HLOOKUP(L$12,'Statiske ejendomme'!$B$3:$PN$81,'Statiske ejendomme'!$A61,FALSE))=FALSE,HLOOKUP(L$12,'Statiske ejendomme'!$B$3:$PN$81,'Statiske ejendomme'!$A61,FALSE),\"\"))),\"\")","v":""},{"$f":"IFERROR(IF(M$12=Kredsudvælgelse!$Q$20,\"\",IF(Kredsudvælgelse!AD$2=1,IF(ISTEXT(DGET(Forespørgsel1[#All],\"\"&LEFT($F69,LEN($F69)-$C69)&\"\",Kredsudvælgelse!$U$2:$V$3))=TRUE,DGET(Forespørgsel1[#All],\"\"&LEFT($F69,LEN($F69)-$C69)&\"\",Kredsudvælgelse!$U$2:$V$3),DGET(Forespørgsel1[#All],\"\"&LEFT($F69,LEN($F69)-$C69)&\"\",Kredsudvælgelse!$U$2:$V$3)/IF(ISNONTEXT($D69)=TRUE,1,DGET(Forespørgsel1[#All],\"\"&$D69&\"\",Kredsudvælgelse!$U$2:$V$3))),IF(ISBLANK(HLOOKUP(M$12,'Statiske ejendomme'!$B$3:$PN$81,'Statiske ejendomme'!$A61,FALSE))=FALSE,HLOOKUP(M$12,'Statiske ejendomme'!$B$3:$PN$81,'Statiske ejendomme'!$A61,FALSE),\"\"))),\"\")","v":""},{"$f":"IFERROR(IF(N$12=Kredsudvælgelse!$Q$20,\"\",IF(Kredsudvælgelse!AE$2=1,IF(ISTEXT(DGET(Forespørgsel1[#All],\"\"&LEFT($F69,LEN($F69)-$C69)&\"\",Kredsudvælgelse!$W$2:$X$3))=TRUE,DGET(Forespørgsel1[#All],\"\"&LEFT($F69,LEN($F69)-$C69)&\"\",Kredsudvælgelse!$W$2:$X$3),DGET(Forespørgsel1[#All],\"\"&LEFT($F69,LEN($F69)-$C69)&\"\",Kredsudvælgelse!$W$2:$X$3)/IF(ISNONTEXT($D69)=TRUE,1,DGET(Forespørgsel1[#All],\"\"&$D69&\"\",Kredsudvælgelse!$W$2:$X$3))),IF(ISBLANK(HLOOKUP(N$12,'Statiske ejendomme'!$B$3:$PN$81,'Statiske ejendomme'!$A61,FALSE))=FALSE,HLOOKUP(N$12,'Statiske ejendomme'!$B$3:$PN$81,'Statiske ejendomme'!$A61,FALSE),\"\"))),\"\")","v":""},{"$f":"IFERROR(IF(O$12=Kredsudvælgelse!$Q$20,\"\",IF(Kredsudvælgelse!AF$2=1,IF(ISTEXT(DGET(Forespørgsel1[#All],\"\"&LEFT($F69,LEN($F69)-$C69)&\"\",Kredsudvælgelse!$Y$2:$Z$3))=TRUE,DGET(Forespørgsel1[#All],\"\"&LEFT($F69,LEN($F69)-$C69)&\"\",Kredsudvælgelse!$Y$2:$Z$3),DGET(Forespørgsel1[#All],\"\"&LEFT($F69,LEN($F69)-$C69)&\"\",Kredsudvælgelse!$Y$2:$Z$3)/IF(ISNONTEXT($D69)=TRUE,1,DGET(Forespørgsel1[#All],\"\"&$D69&\"\",Kredsudvælgelse!$Y$2:$Z$3))),IF(ISBLANK(HLOOKUP(O$12,'Statiske ejendomme'!$B$3:$PN$81,'Statiske ejendomme'!$A61,FALSE))=FALSE,HLOOKUP(O$12,'Statiske ejendomme'!$B$3:$PN$81,'Statiske ejendomme'!$A61,FALSE),\"\"))),\"\")","v":""},{"$f":"IFERROR(IF(P$12=Kredsudvælgelse!$Q$20,\"\",IF(Kredsudvælgelse!AG$2=1,IF(ISTEXT(DGET(Forespørgsel1[#All],\"\"&LEFT($F69,LEN($F69)-$C69)&\"\",Kredsudvælgelse!$Q$6:$R$7))=TRUE,DGET(Forespørgsel1[#All],\"\"&LEFT($F69,LEN($F69)-$C69)&\"\",Kredsudvælgelse!$Q$6:$R$7),DGET(Forespørgsel1[#All],\"\"&LEFT($F69,LEN($F69)-$C69)&\"\",Kredsudvælgelse!$Q$6:$R$7)/IF(ISNONTEXT($D69)=TRUE,1,DGET(Forespørgsel1[#All],\"\"&$D69&\"\",Kredsudvælgelse!$Q$6:$R$7))),IF(ISBLANK(HLOOKUP(P$12,'Statiske ejendomme'!$B$3:$PN$81,'Statiske ejendomme'!$A61,FALSE))=FALSE,HLOOKUP(P$12,'Statiske ejendomme'!$B$3:$PN$81,'Statiske ejendomme'!$A61,FALSE),\"\"))),\"\")","v":""},{"$f":"IFERROR(IF(Q$12=Kredsudvælgelse!$Q$20,\"\",IF(Kredsudvælgelse!AH$2=1,IF(ISTEXT(DGET(Forespørgsel1[#All],\"\"&LEFT($F69,LEN($F69)-$C69)&\"\",Kredsudvælgelse!$S$6:$T$7))=TRUE,DGET(Forespørgsel1[#All],\"\"&LEFT($F69,LEN($F69)-$C69)&\"\",Kredsudvælgelse!$S$6:$T$7),DGET(Forespørgsel1[#All],\"\"&LEFT($F69,LEN($F69)-$C69)&\"\",Kredsudvælgelse!$S$6:$T$7)/IF(ISNONTEXT($D69)=TRUE,1,DGET(Forespørgsel1[#All],\"\"&$D69&\"\",Kredsudvælgelse!$S$6:$T$7))),IF(ISBLANK(HLOOKUP(Q$12,'Statiske ejendomme'!$B$3:$PN$81,'Statiske ejendomme'!$A61,FALSE))=FALSE,HLOOKUP(Q$12,'Statiske ejendomme'!$B$3:$PN$81,'Statiske ejendomme'!$A61,FALSE),\"\"))),\"\")","v":""},{"$f":"IFERROR(IF(R$12=Kredsudvælgelse!$Q$20,\"\",IF(Kredsudvælgelse!AI$2=1,IF(ISTEXT(DGET(Forespørgsel1[#All],\"\"&LEFT($F69,LEN($F69)-$C69)&\"\",Kredsudvælgelse!$U$6:$V$7))=TRUE,DGET(Forespørgsel1[#All],\"\"&LEFT($F69,LEN($F69)-$C69)&\"\",Kredsudvælgelse!$U$6:$V$7),DGET(Forespørgsel1[#All],\"\"&LEFT($F69,LEN($F69)-$C69)&\"\",Kredsudvælgelse!$U$6:$V$7)/IF(ISNONTEXT($D69)=TRUE,1,DGET(Forespørgsel1[#All],\"\"&$D69&\"\",Kredsudvælgelse!$U$6:$V$7))),IF(ISBLANK(HLOOKUP(R$12,'Statiske ejendomme'!$B$3:$PN$81,'Statiske ejendomme'!$A61,FALSE))=FALSE,HLOOKUP(R$12,'Statiske ejendomme'!$B$3:$PN$81,'Statiske ejendomme'!$A61,FALSE),\"\"))),\"\")","v":""},{"$f":"IFERROR(IF(S$12=Kredsudvælgelse!$Q$20,\"\",IF(Kredsudvælgelse!AJ$2=1,IF(ISTEXT(DGET(Forespørgsel1[#All],\"\"&LEFT($F69,LEN($F69)-$C69)&\"\",Kredsudvælgelse!$W$6:$X$7))=TRUE,DGET(Forespørgsel1[#All],\"\"&LEFT($F69,LEN($F69)-$C69)&\"\",Kredsudvælgelse!$W$6:$X$7),DGET(Forespørgsel1[#All],\"\"&LEFT($F69,LEN($F69)-$C69)&\"\",Kredsudvælgelse!$W$6:$X$7)/IF(ISNONTEXT($D69)=TRUE,1,DGET(Forespørgsel1[#All],\"\"&$D69&\"\",Kredsudvælgelse!$W$6:$X$7))),IF(ISBLANK(HLOOKUP(S$12,'Statiske ejendomme'!$B$3:$PN$81,'Statiske ejendomme'!$A61,FALSE))=FALSE,HLOOKUP(S$12,'Statiske ejendomme'!$B$3:$PN$81,'Statiske ejendomme'!$A61,FALSE),\"\"))),\"\")","v":""},{"$f":"IFERROR(IF(T$12=Kredsudvælgelse!$Q$20,\"\",IF(Kredsudvælgelse!AK$2=1,IF(ISTEXT(DGET(Forespørgsel1[#All],\"\"&LEFT($F69,LEN($F69)-$C69)&\"\",Kredsudvælgelse!$W$6:$X$7))=TRUE,DGET(Forespørgsel1[#All],\"\"&LEFT($F69,LEN($F69)-$C69)&\"\",Kredsudvælgelse!$W$6:$X$7),DGET(Forespørgsel1[#All],\"\"&LEFT($F69,LEN($F69)-$C69)&\"\",Kredsudvælgelse!$W$6:$X$7)/IF(ISNONTEXT($D69)=TRUE,1,DGET(Forespørgsel1[#All],\"\"&$D69&\"\",Kredsudvælgelse!$W$6:$X$7))),IF(ISBLANK(HLOOKUP(T$12,'Statiske ejendomme'!$B$3:$PN$81,'Statiske ejendomme'!$A62,FALSE))=FALSE,HLOOKUP(T$12,'Statiske ejendomme'!$B$3:$PN$81,'Statiske ejendomme'!$A62,FALSE),\"\"))),\"\")","v":""}]
[{"$f":"Mink!E141","v":0},{"$f":"Mink!D141","v":0},{"$f":"Mink!A59","v":0},{"$f":"Mink!B59","v":0},null,{"$f":"Mink!C59","v":0},{"$f":"Mink!D59","v":0},{"$f":"Mink!E59","v":0},{"$f":"Mink!F59","v":0},{"$f":"Mink!G59","v":0},{"$f":"IFERROR(IF(K$12=Kredsudvælgelse!$Q$20,\"\",IF(Kredsudvælgelse!AB$2=1,IF(ISTEXT(DGET(Forespørgsel1[#All],\"\"&LEFT($F70,LEN($F70)-$C70)&\"\",Kredsudvælgelse!$Q$2:$R$3))=TRUE,DGET(Forespørgsel1[#All],\"\"&LEFT($F70,LEN($F70)-$C70)&\"\",Kredsudvælgelse!$Q$2:$R$3),DGET(Forespørgsel1[#All],\"\"&LEFT($F70,LEN($F70)-$C70)&\"\",Kredsudvælgelse!$Q$2:$R$3)/IF(ISNONTEXT($D70)=TRUE,1,DGET(Forespørgsel1[#All],\"\"&$D70&\"\",Kredsudvælgelse!$Q$2:$R$3))),IF(ISBLANK(HLOOKUP(K$12,'Statiske ejendomme'!$B$3:$PN$81,'Statiske ejendomme'!$A62,FALSE))=FALSE,HLOOKUP(K$12,'Statiske ejendomme'!$B$3:$PN$81,'Statiske ejendomme'!$A62,FALSE),\"\"))),\"\")","v":""},{"$f":"IFERROR(IF(L$12=Kredsudvælgelse!$Q$20,\"\",IF(Kredsudvælgelse!AC$2=1,IF(ISTEXT(DGET(Forespørgsel1[#All],\"\"&LEFT($F70,LEN($F70)-$C70)&\"\",Kredsudvælgelse!$S$2:$T$3))=TRUE,DGET(Forespørgsel1[#All],\"\"&LEFT($F70,LEN($F70)-$C70)&\"\",Kredsudvælgelse!$S$2:$T$3),DGET(Forespørgsel1[#All],\"\"&LEFT($F70,LEN($F70)-$C70)&\"\",Kredsudvælgelse!$S$2:$T$3)/IF(ISNONTEXT($D70)=TRUE,1,DGET(Forespørgsel1[#All],\"\"&$D70&\"\",Kredsudvælgelse!$S$2:$T$3))),IF(ISBLANK(HLOOKUP(L$12,'Statiske ejendomme'!$B$3:$PN$81,'Statiske ejendomme'!$A62,FALSE))=FALSE,HLOOKUP(L$12,'Statiske ejendomme'!$B$3:$PN$81,'Statiske ejendomme'!$A62,FALSE),\"\"))),\"\")","v":""},{"$f":"IFERROR(IF(M$12=Kredsudvælgelse!$Q$20,\"\",IF(Kredsudvælgelse!AD$2=1,IF(ISTEXT(DGET(Forespørgsel1[#All],\"\"&LEFT($F70,LEN($F70)-$C70)&\"\",Kredsudvælgelse!$U$2:$V$3))=TRUE,DGET(Forespørgsel1[#All],\"\"&LEFT($F70,LEN($F70)-$C70)&\"\",Kredsudvælgelse!$U$2:$V$3),DGET(Forespørgsel1[#All],\"\"&LEFT($F70,LEN($F70)-$C70)&\"\",Kredsudvælgelse!$U$2:$V$3)/IF(ISNONTEXT($D70)=TRUE,1,DGET(Forespørgsel1[#All],\"\"&$D70&\"\",Kredsudvælgelse!$U$2:$V$3))),IF(ISBLANK(HLOOKUP(M$12,'Statiske ejendomme'!$B$3:$PN$81,'Statiske ejendomme'!$A62,FALSE))=FALSE,HLOOKUP(M$12,'Statiske ejendomme'!$B$3:$PN$81,'Statiske ejendomme'!$A62,FALSE),\"\"))),\"\")","v":""},{"$f":"IFERROR(IF(N$12=Kredsudvælgelse!$Q$20,\"\",IF(Kredsudvælgelse!AE$2=1,IF(ISTEXT(DGET(Forespørgsel1[#All],\"\"&LEFT($F70,LEN($F70)-$C70)&\"\",Kredsudvælgelse!$W$2:$X$3))=TRUE,DGET(Forespørgsel1[#All],\"\"&LEFT($F70,LEN($F70)-$C70)&\"\",Kredsudvælgelse!$W$2:$X$3),DGET(Forespørgsel1[#All],\"\"&LEFT($F70,LEN($F70)-$C70)&\"\",Kredsudvælgelse!$W$2:$X$3)/IF(ISNONTEXT($D70)=TRUE,1,DGET(Forespørgsel1[#All],\"\"&$D70&\"\",Kredsudvælgelse!$W$2:$X$3))),IF(ISBLANK(HLOOKUP(N$12,'Statiske ejendomme'!$B$3:$PN$81,'Statiske ejendomme'!$A62,FALSE))=FALSE,HLOOKUP(N$12,'Statiske ejendomme'!$B$3:$PN$81,'Statiske ejendomme'!$A62,FALSE),\"\"))),\"\")","v":""},{"$f":"IFERROR(IF(O$12=Kredsudvælgelse!$Q$20,\"\",IF(Kredsudvælgelse!AF$2=1,IF(ISTEXT(DGET(Forespørgsel1[#All],\"\"&LEFT($F70,LEN($F70)-$C70)&\"\",Kredsudvælgelse!$Y$2:$Z$3))=TRUE,DGET(Forespørgsel1[#All],\"\"&LEFT($F70,LEN($F70)-$C70)&\"\",Kredsudvælgelse!$Y$2:$Z$3),DGET(Forespørgsel1[#All],\"\"&LEFT($F70,LEN($F70)-$C70)&\"\",Kredsudvælgelse!$Y$2:$Z$3)/IF(ISNONTEXT($D70)=TRUE,1,DGET(Forespørgsel1[#All],\"\"&$D70&\"\",Kredsudvælgelse!$Y$2:$Z$3))),IF(ISBLANK(HLOOKUP(O$12,'Statiske ejendomme'!$B$3:$PN$81,'Statiske ejendomme'!$A62,FALSE))=FALSE,HLOOKUP(O$12,'Statiske ejendomme'!$B$3:$PN$81,'Statiske ejendomme'!$A62,FALSE),\"\"))),\"\")","v":""},{"$f":"IFERROR(IF(P$12=Kredsudvælgelse!$Q$20,\"\",IF(Kredsudvælgelse!AG$2=1,IF(ISTEXT(DGET(Forespørgsel1[#All],\"\"&LEFT($F70,LEN($F70)-$C70)&\"\",Kredsudvælgelse!$Q$6:$R$7))=TRUE,DGET(Forespørgsel1[#All],\"\"&LEFT($F70,LEN($F70)-$C70)&\"\",Kredsudvælgelse!$Q$6:$R$7),DGET(Forespørgsel1[#All],\"\"&LEFT($F70,LEN($F70)-$C70)&\"\",Kredsudvælgelse!$Q$6:$R$7)/IF(ISNONTEXT($D70)=TRUE,1,DGET(Forespørgsel1[#All],\"\"&$D70&\"\",Kredsudvælgelse!$Q$6:$R$7))),IF(ISBLANK(HLOOKUP(P$12,'Statiske ejendomme'!$B$3:$PN$81,'Statiske ejendomme'!$A62,FALSE))=FALSE,HLOOKUP(P$12,'Statiske ejendomme'!$B$3:$PN$81,'Statiske ejendomme'!$A62,FALSE),\"\"))),\"\")","v":""},{"$f":"IFERROR(IF(Q$12=Kredsudvælgelse!$Q$20,\"\",IF(Kredsudvælgelse!AH$2=1,IF(ISTEXT(DGET(Forespørgsel1[#All],\"\"&LEFT($F70,LEN($F70)-$C70)&\"\",Kredsudvælgelse!$S$6:$T$7))=TRUE,DGET(Forespørgsel1[#All],\"\"&LEFT($F70,LEN($F70)-$C70)&\"\",Kredsudvælgelse!$S$6:$T$7),DGET(Forespørgsel1[#All],\"\"&LEFT($F70,LEN($F70)-$C70)&\"\",Kredsudvælgelse!$S$6:$T$7)/IF(ISNONTEXT($D70)=TRUE,1,DGET(Forespørgsel1[#All],\"\"&$D70&\"\",Kredsudvælgelse!$S$6:$T$7))),IF(ISBLANK(HLOOKUP(Q$12,'Statiske ejendomme'!$B$3:$PN$81,'Statiske ejendomme'!$A62,FALSE))=FALSE,HLOOKUP(Q$12,'Statiske ejendomme'!$B$3:$PN$81,'Statiske ejendomme'!$A62,FALSE),\"\"))),\"\")","v":""},{"$f":"IFERROR(IF(R$12=Kredsudvælgelse!$Q$20,\"\",IF(Kredsudvælgelse!AI$2=1,IF(ISTEXT(DGET(Forespørgsel1[#All],\"\"&LEFT($F70,LEN($F70)-$C70)&\"\",Kredsudvælgelse!$U$6:$V$7))=TRUE,DGET(Forespørgsel1[#All],\"\"&LEFT($F70,LEN($F70)-$C70)&\"\",Kredsudvælgelse!$U$6:$V$7),DGET(Forespørgsel1[#All],\"\"&LEFT($F70,LEN($F70)-$C70)&\"\",Kredsudvælgelse!$U$6:$V$7)/IF(ISNONTEXT($D70)=TRUE,1,DGET(Forespørgsel1[#All],\"\"&$D70&\"\",Kredsudvælgelse!$U$6:$V$7))),IF(ISBLANK(HLOOKUP(R$12,'Statiske ejendomme'!$B$3:$PN$81,'Statiske ejendomme'!$A62,FALSE))=FALSE,HLOOKUP(R$12,'Statiske ejendomme'!$B$3:$PN$81,'Statiske ejendomme'!$A62,FALSE),\"\"))),\"\")","v":""},{"$f":"IFERROR(IF(S$12=Kredsudvælgelse!$Q$20,\"\",IF(Kredsudvælgelse!AJ$2=1,IF(ISTEXT(DGET(Forespørgsel1[#All],\"\"&LEFT($F70,LEN($F70)-$C70)&\"\",Kredsudvælgelse!$W$6:$X$7))=TRUE,DGET(Forespørgsel1[#All],\"\"&LEFT($F70,LEN($F70)-$C70)&\"\",Kredsudvælgelse!$W$6:$X$7),DGET(Forespørgsel1[#All],\"\"&LEFT($F70,LEN($F70)-$C70)&\"\",Kredsudvælgelse!$W$6:$X$7)/IF(ISNONTEXT($D70)=TRUE,1,DGET(Forespørgsel1[#All],\"\"&$D70&\"\",Kredsudvælgelse!$W$6:$X$7))),IF(ISBLANK(HLOOKUP(S$12,'Statiske ejendomme'!$B$3:$PN$81,'Statiske ejendomme'!$A62,FALSE))=FALSE,HLOOKUP(S$12,'Statiske ejendomme'!$B$3:$PN$81,'Statiske ejendomme'!$A62,FALSE),\"\"))),\"\")","v":""},{"$f":"IFERROR(IF(T$12=Kredsudvælgelse!$Q$20,\"\",IF(Kredsudvælgelse!AK$2=1,IF(ISTEXT(DGET(Forespørgsel1[#All],\"\"&LEFT($F70,LEN($F70)-$C70)&\"\",Kredsudvælgelse!$W$6:$X$7))=TRUE,DGET(Forespørgsel1[#All],\"\"&LEFT($F70,LEN($F70)-$C70)&\"\",Kredsudvælgelse!$W$6:$X$7),DGET(Forespørgsel1[#All],\"\"&LEFT($F70,LEN($F70)-$C70)&\"\",Kredsudvælgelse!$W$6:$X$7)/IF(ISNONTEXT($D70)=TRUE,1,DGET(Forespørgsel1[#All],\"\"&$D70&\"\",Kredsudvælgelse!$W$6:$X$7))),IF(ISBLANK(HLOOKUP(T$12,'Statiske ejendomme'!$B$3:$PN$81,'Statiske ejendomme'!$A63,FALSE))=FALSE,HLOOKUP(T$12,'Statiske ejendomme'!$B$3:$PN$81,'Statiske ejendomme'!$A63,FALSE),\"\"))),\"\")","v":""}]
[{"$f":"Mink!E142","v":0},{"$f":"Mink!D142","v":0},{"$f":"Mink!A60","v":0},{"$f":"Mink!B60","v":0},null,{"$f":"Mink!C60","v":0},{"$f":"Mink!D60","v":0},{"$f":"Mink!E60","v":0},{"$f":"Mink!F60","v":0},{"$f":"Mink!G60","v":0},{"$f":"IFERROR(IF(K$12=Kredsudvælgelse!$Q$20,\"\",IF(Kredsudvælgelse!AB$2=1,IF(ISTEXT(DGET(Forespørgsel1[#All],\"\"&LEFT($F71,LEN($F71)-$C71)&\"\",Kredsudvælgelse!$Q$2:$R$3))=TRUE,DGET(Forespørgsel1[#All],\"\"&LEFT($F71,LEN($F71)-$C71)&\"\",Kredsudvælgelse!$Q$2:$R$3),DGET(Forespørgsel1[#All],\"\"&LEFT($F71,LEN($F71)-$C71)&\"\",Kredsudvælgelse!$Q$2:$R$3)/IF(ISNONTEXT($D71)=TRUE,1,DGET(Forespørgsel1[#All],\"\"&$D71&\"\",Kredsudvælgelse!$Q$2:$R$3))),IF(ISBLANK(HLOOKUP(K$12,'Statiske ejendomme'!$B$3:$PN$81,'Statiske ejendomme'!$A63,FALSE))=FALSE,HLOOKUP(K$12,'Statiske ejendomme'!$B$3:$PN$81,'Statiske ejendomme'!$A63,FALSE),\"\"))),\"\")","v":""},{"$f":"IFERROR(IF(L$12=Kredsudvælgelse!$Q$20,\"\",IF(Kredsudvælgelse!AC$2=1,IF(ISTEXT(DGET(Forespørgsel1[#All],\"\"&LEFT($F71,LEN($F71)-$C71)&\"\",Kredsudvælgelse!$S$2:$T$3))=TRUE,DGET(Forespørgsel1[#All],\"\"&LEFT($F71,LEN($F71)-$C71)&\"\",Kredsudvælgelse!$S$2:$T$3),DGET(Forespørgsel1[#All],\"\"&LEFT($F71,LEN($F71)-$C71)&\"\",Kredsudvælgelse!$S$2:$T$3)/IF(ISNONTEXT($D71)=TRUE,1,DGET(Forespørgsel1[#All],\"\"&$D71&\"\",Kredsudvælgelse!$S$2:$T$3))),IF(ISBLANK(HLOOKUP(L$12,'Statiske ejendomme'!$B$3:$PN$81,'Statiske ejendomme'!$A63,FALSE))=FALSE,HLOOKUP(L$12,'Statiske ejendomme'!$B$3:$PN$81,'Statiske ejendomme'!$A63,FALSE),\"\"))),\"\")","v":""},{"$f":"IFERROR(IF(M$12=Kredsudvælgelse!$Q$20,\"\",IF(Kredsudvælgelse!AD$2=1,IF(ISTEXT(DGET(Forespørgsel1[#All],\"\"&LEFT($F71,LEN($F71)-$C71)&\"\",Kredsudvælgelse!$U$2:$V$3))=TRUE,DGET(Forespørgsel1[#All],\"\"&LEFT($F71,LEN($F71)-$C71)&\"\",Kredsudvælgelse!$U$2:$V$3),DGET(Forespørgsel1[#All],\"\"&LEFT($F71,LEN($F71)-$C71)&\"\",Kredsudvælgelse!$U$2:$V$3)/IF(ISNONTEXT($D71)=TRUE,1,DGET(Forespørgsel1[#All],\"\"&$D71&\"\",Kredsudvælgelse!$U$2:$V$3))),IF(ISBLANK(HLOOKUP(M$12,'Statiske ejendomme'!$B$3:$PN$81,'Statiske ejendomme'!$A63,FALSE))=FALSE,HLOOKUP(M$12,'Statiske ejendomme'!$B$3:$PN$81,'Statiske ejendomme'!$A63,FALSE),\"\"))),\"\")","v":""},{"$f":"IFERROR(IF(N$12=Kredsudvælgelse!$Q$20,\"\",IF(Kredsudvælgelse!AE$2=1,IF(ISTEXT(DGET(Forespørgsel1[#All],\"\"&LEFT($F71,LEN($F71)-$C71)&\"\",Kredsudvælgelse!$W$2:$X$3))=TRUE,DGET(Forespørgsel1[#All],\"\"&LEFT($F71,LEN($F71)-$C71)&\"\",Kredsudvælgelse!$W$2:$X$3),DGET(Forespørgsel1[#All],\"\"&LEFT($F71,LEN($F71)-$C71)&\"\",Kredsudvælgelse!$W$2:$X$3)/IF(ISNONTEXT($D71)=TRUE,1,DGET(Forespørgsel1[#All],\"\"&$D71&\"\",Kredsudvælgelse!$W$2:$X$3))),IF(ISBLANK(HLOOKUP(N$12,'Statiske ejendomme'!$B$3:$PN$81,'Statiske ejendomme'!$A63,FALSE))=FALSE,HLOOKUP(N$12,'Statiske ejendomme'!$B$3:$PN$81,'Statiske ejendomme'!$A63,FALSE),\"\"))),\"\")","v":""},{"$f":"IFERROR(IF(O$12=Kredsudvælgelse!$Q$20,\"\",IF(Kredsudvælgelse!AF$2=1,IF(ISTEXT(DGET(Forespørgsel1[#All],\"\"&LEFT($F71,LEN($F71)-$C71)&\"\",Kredsudvælgelse!$Y$2:$Z$3))=TRUE,DGET(Forespørgsel1[#All],\"\"&LEFT($F71,LEN($F71)-$C71)&\"\",Kredsudvælgelse!$Y$2:$Z$3),DGET(Forespørgsel1[#All],\"\"&LEFT($F71,LEN($F71)-$C71)&\"\",Kredsudvælgelse!$Y$2:$Z$3)/IF(ISNONTEXT($D71)=TRUE,1,DGET(Forespørgsel1[#All],\"\"&$D71&\"\",Kredsudvælgelse!$Y$2:$Z$3))),IF(ISBLANK(HLOOKUP(O$12,'Statiske ejendomme'!$B$3:$PN$81,'Statiske ejendomme'!$A63,FALSE))=FALSE,HLOOKUP(O$12,'Statiske ejendomme'!$B$3:$PN$81,'Statiske ejendomme'!$A63,FALSE),\"\"))),\"\")","v":""},{"$f":"IFERROR(IF(P$12=Kredsudvælgelse!$Q$20,\"\",IF(Kredsudvælgelse!AG$2=1,IF(ISTEXT(DGET(Forespørgsel1[#All],\"\"&LEFT($F71,LEN($F71)-$C71)&\"\",Kredsudvælgelse!$Q$6:$R$7))=TRUE,DGET(Forespørgsel1[#All],\"\"&LEFT($F71,LEN($F71)-$C71)&\"\",Kredsudvælgelse!$Q$6:$R$7),DGET(Forespørgsel1[#All],\"\"&LEFT($F71,LEN($F71)-$C71)&\"\",Kredsudvælgelse!$Q$6:$R$7)/IF(ISNONTEXT($D71)=TRUE,1,DGET(Forespørgsel1[#All],\"\"&$D71&\"\",Kredsudvælgelse!$Q$6:$R$7))),IF(ISBLANK(HLOOKUP(P$12,'Statiske ejendomme'!$B$3:$PN$81,'Statiske ejendomme'!$A63,FALSE))=FALSE,HLOOKUP(P$12,'Statiske ejendomme'!$B$3:$PN$81,'Statiske ejendomme'!$A63,FALSE),\"\"))),\"\")","v":""},{"$f":"IFERROR(IF(Q$12=Kredsudvælgelse!$Q$20,\"\",IF(Kredsudvælgelse!AH$2=1,IF(ISTEXT(DGET(Forespørgsel1[#All],\"\"&LEFT($F71,LEN($F71)-$C71)&\"\",Kredsudvælgelse!$S$6:$T$7))=TRUE,DGET(Forespørgsel1[#All],\"\"&LEFT($F71,LEN($F71)-$C71)&\"\",Kredsudvælgelse!$S$6:$T$7),DGET(Forespørgsel1[#All],\"\"&LEFT($F71,LEN($F71)-$C71)&\"\",Kredsudvælgelse!$S$6:$T$7)/IF(ISNONTEXT($D71)=TRUE,1,DGET(Forespørgsel1[#All],\"\"&$D71&\"\",Kredsudvælgelse!$S$6:$T$7))),IF(ISBLANK(HLOOKUP(Q$12,'Statiske ejendomme'!$B$3:$PN$81,'Statiske ejendomme'!$A63,FALSE))=FALSE,HLOOKUP(Q$12,'Statiske ejendomme'!$B$3:$PN$81,'Statiske ejendomme'!$A63,FALSE),\"\"))),\"\")","v":""},{"$f":"IFERROR(IF(R$12=Kredsudvælgelse!$Q$20,\"\",IF(Kredsudvælgelse!AI$2=1,IF(ISTEXT(DGET(Forespørgsel1[#All],\"\"&LEFT($F71,LEN($F71)-$C71)&\"\",Kredsudvælgelse!$U$6:$V$7))=TRUE,DGET(Forespørgsel1[#All],\"\"&LEFT($F71,LEN($F71)-$C71)&\"\",Kredsudvælgelse!$U$6:$V$7),DGET(Forespørgsel1[#All],\"\"&LEFT($F71,LEN($F71)-$C71)&\"\",Kredsudvælgelse!$U$6:$V$7)/IF(ISNONTEXT($D71)=TRUE,1,DGET(Forespørgsel1[#All],\"\"&$D71&\"\",Kredsudvælgelse!$U$6:$V$7))),IF(ISBLANK(HLOOKUP(R$12,'Statiske ejendomme'!$B$3:$PN$81,'Statiske ejendomme'!$A63,FALSE))=FALSE,HLOOKUP(R$12,'Statiske ejendomme'!$B$3:$PN$81,'Statiske ejendomme'!$A63,FALSE),\"\"))),\"\")","v":""},{"$f":"IFERROR(IF(S$12=Kredsudvælgelse!$Q$20,\"\",IF(Kredsudvælgelse!AJ$2=1,IF(ISTEXT(DGET(Forespørgsel1[#All],\"\"&LEFT($F71,LEN($F71)-$C71)&\"\",Kredsudvælgelse!$W$6:$X$7))=TRUE,DGET(Forespørgsel1[#All],\"\"&LEFT($F71,LEN($F71)-$C71)&\"\",Kredsudvælgelse!$W$6:$X$7),DGET(Forespørgsel1[#All],\"\"&LEFT($F71,LEN($F71)-$C71)&\"\",Kredsudvælgelse!$W$6:$X$7)/IF(ISNONTEXT($D71)=TRUE,1,DGET(Forespørgsel1[#All],\"\"&$D71&\"\",Kredsudvælgelse!$W$6:$X$7))),IF(ISBLANK(HLOOKUP(S$12,'Statiske ejendomme'!$B$3:$PN$81,'Statiske ejendomme'!$A63,FALSE))=FALSE,HLOOKUP(S$12,'Statiske ejendomme'!$B$3:$PN$81,'Statiske ejendomme'!$A63,FALSE),\"\"))),\"\")","v":""},{"$f":"IFERROR(IF(T$12=Kredsudvælgelse!$Q$20,\"\",IF(Kredsudvælgelse!AK$2=1,IF(ISTEXT(DGET(Forespørgsel1[#All],\"\"&LEFT($F71,LEN($F71)-$C71)&\"\",Kredsudvælgelse!$W$6:$X$7))=TRUE,DGET(Forespørgsel1[#All],\"\"&LEFT($F71,LEN($F71)-$C71)&\"\",Kredsudvælgelse!$W$6:$X$7),DGET(Forespørgsel1[#All],\"\"&LEFT($F71,LEN($F71)-$C71)&\"\",Kredsudvælgelse!$W$6:$X$7)/IF(ISNONTEXT($D71)=TRUE,1,DGET(Forespørgsel1[#All],\"\"&$D71&\"\",Kredsudvælgelse!$W$6:$X$7))),IF(ISBLANK(HLOOKUP(T$12,'Statiske ejendomme'!$B$3:$PN$81,'Statiske ejendomme'!$A64,FALSE))=FALSE,HLOOKUP(T$12,'Statiske ejendomme'!$B$3:$PN$81,'Statiske ejendomme'!$A64,FALSE),\"\"))),\"\")","v":""}]
[{"$f":"Mink!E143","v":0},{"$f":"Mink!D143","v":0},{"$f":"Mink!A61","v":0},{"$f":"Mink!B61","v":0},null,{"$f":"Mink!C61","v":0},{"$f":"Mink!D61","v":0},{"$f":"Mink!E61","v":0},{"$f":"Mink!F61","v":0},{"$f":"Mink!G61","v":0},{"$f":"IFERROR(IF(K$12=Kredsudvælgelse!$Q$20,\"\",IF(Kredsudvælgelse!AB$2=1,IF(ISTEXT(DGET(Forespørgsel1[#All],\"\"&LEFT($F72,LEN($F72)-$C72)&\"\",Kredsudvælgelse!$Q$2:$R$3))=TRUE,DGET(Forespørgsel1[#All],\"\"&LEFT($F72,LEN($F72)-$C72)&\"\",Kredsudvælgelse!$Q$2:$R$3),DGET(Forespørgsel1[#All],\"\"&LEFT($F72,LEN($F72)-$C72)&\"\",Kredsudvælgelse!$Q$2:$R$3)/IF(ISNONTEXT($D72)=TRUE,1,DGET(Forespørgsel1[#All],\"\"&$D72&\"\",Kredsudvælgelse!$Q$2:$R$3))),IF(ISBLANK(HLOOKUP(K$12,'Statiske ejendomme'!$B$3:$PN$81,'Statiske ejendomme'!$A64,FALSE))=FALSE,HLOOKUP(K$12,'Statiske ejendomme'!$B$3:$PN$81,'Statiske ejendomme'!$A64,FALSE),\"\"))),\"\")","v":""},{"$f":"IFERROR(IF(L$12=Kredsudvælgelse!$Q$20,\"\",IF(Kredsudvælgelse!AC$2=1,IF(ISTEXT(DGET(Forespørgsel1[#All],\"\"&LEFT($F72,LEN($F72)-$C72)&\"\",Kredsudvælgelse!$S$2:$T$3))=TRUE,DGET(Forespørgsel1[#All],\"\"&LEFT($F72,LEN($F72)-$C72)&\"\",Kredsudvælgelse!$S$2:$T$3),DGET(Forespørgsel1[#All],\"\"&LEFT($F72,LEN($F72)-$C72)&\"\",Kredsudvælgelse!$S$2:$T$3)/IF(ISNONTEXT($D72)=TRUE,1,DGET(Forespørgsel1[#All],\"\"&$D72&\"\",Kredsudvælgelse!$S$2:$T$3))),IF(ISBLANK(HLOOKUP(L$12,'Statiske ejendomme'!$B$3:$PN$81,'Statiske ejendomme'!$A64,FALSE))=FALSE,HLOOKUP(L$12,'Statiske ejendomme'!$B$3:$PN$81,'Statiske ejendomme'!$A64,FALSE),\"\"))),\"\")","v":""},{"$f":"IFERROR(IF(M$12=Kredsudvælgelse!$Q$20,\"\",IF(Kredsudvælgelse!AD$2=1,IF(ISTEXT(DGET(Forespørgsel1[#All],\"\"&LEFT($F72,LEN($F72)-$C72)&\"\",Kredsudvælgelse!$U$2:$V$3))=TRUE,DGET(Forespørgsel1[#All],\"\"&LEFT($F72,LEN($F72)-$C72)&\"\",Kredsudvælgelse!$U$2:$V$3),DGET(Forespørgsel1[#All],\"\"&LEFT($F72,LEN($F72)-$C72)&\"\",Kredsudvælgelse!$U$2:$V$3)/IF(ISNONTEXT($D72)=TRUE,1,DGET(Forespørgsel1[#All],\"\"&$D72&\"\",Kredsudvælgelse!$U$2:$V$3))),IF(ISBLANK(HLOOKUP(M$12,'Statiske ejendomme'!$B$3:$PN$81,'Statiske ejendomme'!$A64,FALSE))=FALSE,HLOOKUP(M$12,'Statiske ejendomme'!$B$3:$PN$81,'Statiske ejendomme'!$A64,FALSE),\"\"))),\"\")","v":""},{"$f":"IFERROR(IF(N$12=Kredsudvælgelse!$Q$20,\"\",IF(Kredsudvælgelse!AE$2=1,IF(ISTEXT(DGET(Forespørgsel1[#All],\"\"&LEFT($F72,LEN($F72)-$C72)&\"\",Kredsudvælgelse!$W$2:$X$3))=TRUE,DGET(Forespørgsel1[#All],\"\"&LEFT($F72,LEN($F72)-$C72)&\"\",Kredsudvælgelse!$W$2:$X$3),DGET(Forespørgsel1[#All],\"\"&LEFT($F72,LEN($F72)-$C72)&\"\",Kredsudvælgelse!$W$2:$X$3)/IF(ISNONTEXT($D72)=TRUE,1,DGET(Forespørgsel1[#All],\"\"&$D72&\"\",Kredsudvælgelse!$W$2:$X$3))),IF(ISBLANK(HLOOKUP(N$12,'Statiske ejendomme'!$B$3:$PN$81,'Statiske ejendomme'!$A64,FALSE))=FALSE,HLOOKUP(N$12,'Statiske ejendomme'!$B$3:$PN$81,'Statiske ejendomme'!$A64,FALSE),\"\"))),\"\")","v":""},{"$f":"IFERROR(IF(O$12=Kredsudvælgelse!$Q$20,\"\",IF(Kredsudvælgelse!AF$2=1,IF(ISTEXT(DGET(Forespørgsel1[#All],\"\"&LEFT($F72,LEN($F72)-$C72)&\"\",Kredsudvælgelse!$Y$2:$Z$3))=TRUE,DGET(Forespørgsel1[#All],\"\"&LEFT($F72,LEN($F72)-$C72)&\"\",Kredsudvælgelse!$Y$2:$Z$3),DGET(Forespørgsel1[#All],\"\"&LEFT($F72,LEN($F72)-$C72)&\"\",Kredsudvælgelse!$Y$2:$Z$3)/IF(ISNONTEXT($D72)=TRUE,1,DGET(Forespørgsel1[#All],\"\"&$D72&\"\",Kredsudvælgelse!$Y$2:$Z$3))),IF(ISBLANK(HLOOKUP(O$12,'Statiske ejendomme'!$B$3:$PN$81,'Statiske ejendomme'!$A64,FALSE))=FALSE,HLOOKUP(O$12,'Statiske ejendomme'!$B$3:$PN$81,'Statiske ejendomme'!$A64,FALSE),\"\"))),\"\")","v":""},{"$f":"IFERROR(IF(P$12=Kredsudvælgelse!$Q$20,\"\",IF(Kredsudvælgelse!AG$2=1,IF(ISTEXT(DGET(Forespørgsel1[#All],\"\"&LEFT($F72,LEN($F72)-$C72)&\"\",Kredsudvælgelse!$Q$6:$R$7))=TRUE,DGET(Forespørgsel1[#All],\"\"&LEFT($F72,LEN($F72)-$C72)&\"\",Kredsudvælgelse!$Q$6:$R$7),DGET(Forespørgsel1[#All],\"\"&LEFT($F72,LEN($F72)-$C72)&\"\",Kredsudvælgelse!$Q$6:$R$7)/IF(ISNONTEXT($D72)=TRUE,1,DGET(Forespørgsel1[#All],\"\"&$D72&\"\",Kredsudvælgelse!$Q$6:$R$7))),IF(ISBLANK(HLOOKUP(P$12,'Statiske ejendomme'!$B$3:$PN$81,'Statiske ejendomme'!$A64,FALSE))=FALSE,HLOOKUP(P$12,'Statiske ejendomme'!$B$3:$PN$81,'Statiske ejendomme'!$A64,FALSE),\"\"))),\"\")","v":""},{"$f":"IFERROR(IF(Q$12=Kredsudvælgelse!$Q$20,\"\",IF(Kredsudvælgelse!AH$2=1,IF(ISTEXT(DGET(Forespørgsel1[#All],\"\"&LEFT($F72,LEN($F72)-$C72)&\"\",Kredsudvælgelse!$S$6:$T$7))=TRUE,DGET(Forespørgsel1[#All],\"\"&LEFT($F72,LEN($F72)-$C72)&\"\",Kredsudvælgelse!$S$6:$T$7),DGET(Forespørgsel1[#All],\"\"&LEFT($F72,LEN($F72)-$C72)&\"\",Kredsudvælgelse!$S$6:$T$7)/IF(ISNONTEXT($D72)=TRUE,1,DGET(Forespørgsel1[#All],\"\"&$D72&\"\",Kredsudvælgelse!$S$6:$T$7))),IF(ISBLANK(HLOOKUP(Q$12,'Statiske ejendomme'!$B$3:$PN$81,'Statiske ejendomme'!$A64,FALSE))=FALSE,HLOOKUP(Q$12,'Statiske ejendomme'!$B$3:$PN$81,'Statiske ejendomme'!$A64,FALSE),\"\"))),\"\")","v":""},{"$f":"IFERROR(IF(R$12=Kredsudvælgelse!$Q$20,\"\",IF(Kredsudvælgelse!AI$2=1,IF(ISTEXT(DGET(Forespørgsel1[#All],\"\"&LEFT($F72,LEN($F72)-$C72)&\"\",Kredsudvælgelse!$U$6:$V$7))=TRUE,DGET(Forespørgsel1[#All],\"\"&LEFT($F72,LEN($F72)-$C72)&\"\",Kredsudvælgelse!$U$6:$V$7),DGET(Forespørgsel1[#All],\"\"&LEFT($F72,LEN($F72)-$C72)&\"\",Kredsudvælgelse!$U$6:$V$7)/IF(ISNONTEXT($D72)=TRUE,1,DGET(Forespørgsel1[#All],\"\"&$D72&\"\",Kredsudvælgelse!$U$6:$V$7))),IF(ISBLANK(HLOOKUP(R$12,'Statiske ejendomme'!$B$3:$PN$81,'Statiske ejendomme'!$A64,FALSE))=FALSE,HLOOKUP(R$12,'Statiske ejendomme'!$B$3:$PN$81,'Statiske ejendomme'!$A64,FALSE),\"\"))),\"\")","v":""},{"$f":"IFERROR(IF(S$12=Kredsudvælgelse!$Q$20,\"\",IF(Kredsudvælgelse!AJ$2=1,IF(ISTEXT(DGET(Forespørgsel1[#All],\"\"&LEFT($F72,LEN($F72)-$C72)&\"\",Kredsudvælgelse!$W$6:$X$7))=TRUE,DGET(Forespørgsel1[#All],\"\"&LEFT($F72,LEN($F72)-$C72)&\"\",Kredsudvælgelse!$W$6:$X$7),DGET(Forespørgsel1[#All],\"\"&LEFT($F72,LEN($F72)-$C72)&\"\",Kredsudvælgelse!$W$6:$X$7)/IF(ISNONTEXT($D72)=TRUE,1,DGET(Forespørgsel1[#All],\"\"&$D72&\"\",Kredsudvælgelse!$W$6:$X$7))),IF(ISBLANK(HLOOKUP(S$12,'Statiske ejendomme'!$B$3:$PN$81,'Statiske ejendomme'!$A64,FALSE))=FALSE,HLOOKUP(S$12,'Statiske ejendomme'!$B$3:$PN$81,'Statiske ejendomme'!$A64,FALSE),\"\"))),\"\")","v":""},{"$f":"IFERROR(IF(T$12=Kredsudvælgelse!$Q$20,\"\",IF(Kredsudvælgelse!AK$2=1,IF(ISTEXT(DGET(Forespørgsel1[#All],\"\"&LEFT($F72,LEN($F72)-$C72)&\"\",Kredsudvælgelse!$W$6:$X$7))=TRUE,DGET(Forespørgsel1[#All],\"\"&LEFT($F72,LEN($F72)-$C72)&\"\",Kredsudvælgelse!$W$6:$X$7),DGET(Forespørgsel1[#All],\"\"&LEFT($F72,LEN($F72)-$C72)&\"\",Kredsudvælgelse!$W$6:$X$7)/IF(ISNONTEXT($D72)=TRUE,1,DGET(Forespørgsel1[#All],\"\"&$D72&\"\",Kredsudvælgelse!$W$6:$X$7))),IF(ISBLANK(HLOOKUP(T$12,'Statiske ejendomme'!$B$3:$PN$81,'Statiske ejendomme'!$A65,FALSE))=FALSE,HLOOKUP(T$12,'Statiske ejendomme'!$B$3:$PN$81,'Statiske ejendomme'!$A65,FALSE),\"\"))),\"\")","v":""}]
[{"$f":"Mink!E144","v":0},{"$f":"Mink!D144","v":0},{"$f":"Mink!A62","v":0},{"$f":"Mink!B62","v":0},null,{"$f":"Mink!C62","v":0},{"$f":"Mink!D62","v":0},{"$f":"Mink!E62","v":0},{"$f":"Mink!F62","v":0},{"$f":"Mink!G62","v":0},{"$f":"IFERROR(IF(K$12=Kredsudvælgelse!$Q$20,\"\",IF(Kredsudvælgelse!AB$2=1,IF(ISTEXT(DGET(Forespørgsel1[#All],\"\"&LEFT($F73,LEN($F73)-$C73)&\"\",Kredsudvælgelse!$Q$2:$R$3))=TRUE,DGET(Forespørgsel1[#All],\"\"&LEFT($F73,LEN($F73)-$C73)&\"\",Kredsudvælgelse!$Q$2:$R$3),DGET(Forespørgsel1[#All],\"\"&LEFT($F73,LEN($F73)-$C73)&\"\",Kredsudvælgelse!$Q$2:$R$3)/IF(ISNONTEXT($D73)=TRUE,1,DGET(Forespørgsel1[#All],\"\"&$D73&\"\",Kredsudvælgelse!$Q$2:$R$3))),IF(ISBLANK(HLOOKUP(K$12,'Statiske ejendomme'!$B$3:$PN$81,'Statiske ejendomme'!$A65,FALSE))=FALSE,HLOOKUP(K$12,'Statiske ejendomme'!$B$3:$PN$81,'Statiske ejendomme'!$A65,FALSE),\"\"))),\"\")","v":""},{"$f":"IFERROR(IF(L$12=Kredsudvælgelse!$Q$20,\"\",IF(Kredsudvælgelse!AC$2=1,IF(ISTEXT(DGET(Forespørgsel1[#All],\"\"&LEFT($F73,LEN($F73)-$C73)&\"\",Kredsudvælgelse!$S$2:$T$3))=TRUE,DGET(Forespørgsel1[#All],\"\"&LEFT($F73,LEN($F73)-$C73)&\"\",Kredsudvælgelse!$S$2:$T$3),DGET(Forespørgsel1[#All],\"\"&LEFT($F73,LEN($F73)-$C73)&\"\",Kredsudvælgelse!$S$2:$T$3)/IF(ISNONTEXT($D73)=TRUE,1,DGET(Forespørgsel1[#All],\"\"&$D73&\"\",Kredsudvælgelse!$S$2:$T$3))),IF(ISBLANK(HLOOKUP(L$12,'Statiske ejendomme'!$B$3:$PN$81,'Statiske ejendomme'!$A65,FALSE))=FALSE,HLOOKUP(L$12,'Statiske ejendomme'!$B$3:$PN$81,'Statiske ejendomme'!$A65,FALSE),\"\"))),\"\")","v":""},{"$f":"IFERROR(IF(M$12=Kredsudvælgelse!$Q$20,\"\",IF(Kredsudvælgelse!AD$2=1,IF(ISTEXT(DGET(Forespørgsel1[#All],\"\"&LEFT($F73,LEN($F73)-$C73)&\"\",Kredsudvælgelse!$U$2:$V$3))=TRUE,DGET(Forespørgsel1[#All],\"\"&LEFT($F73,LEN($F73)-$C73)&\"\",Kredsudvælgelse!$U$2:$V$3),DGET(Forespørgsel1[#All],\"\"&LEFT($F73,LEN($F73)-$C73)&\"\",Kredsudvælgelse!$U$2:$V$3)/IF(ISNONTEXT($D73)=TRUE,1,DGET(Forespørgsel1[#All],\"\"&$D73&\"\",Kredsudvælgelse!$U$2:$V$3))),IF(ISBLANK(HLOOKUP(M$12,'Statiske ejendomme'!$B$3:$PN$81,'Statiske ejendomme'!$A65,FALSE))=FALSE,HLOOKUP(M$12,'Statiske ejendomme'!$B$3:$PN$81,'Statiske ejendomme'!$A65,FALSE),\"\"))),\"\")","v":""},{"$f":"IFERROR(IF(N$12=Kredsudvælgelse!$Q$20,\"\",IF(Kredsudvælgelse!AE$2=1,IF(ISTEXT(DGET(Forespørgsel1[#All],\"\"&LEFT($F73,LEN($F73)-$C73)&\"\",Kredsudvælgelse!$W$2:$X$3))=TRUE,DGET(Forespørgsel1[#All],\"\"&LEFT($F73,LEN($F73)-$C73)&\"\",Kredsudvælgelse!$W$2:$X$3),DGET(Forespørgsel1[#All],\"\"&LEFT($F73,LEN($F73)-$C73)&\"\",Kredsudvælgelse!$W$2:$X$3)/IF(ISNONTEXT($D73)=TRUE,1,DGET(Forespørgsel1[#All],\"\"&$D73&\"\",Kredsudvælgelse!$W$2:$X$3))),IF(ISBLANK(HLOOKUP(N$12,'Statiske ejendomme'!$B$3:$PN$81,'Statiske ejendomme'!$A65,FALSE))=FALSE,HLOOKUP(N$12,'Statiske ejendomme'!$B$3:$PN$81,'Statiske ejendomme'!$A65,FALSE),\"\"))),\"\")","v":""},{"$f":"IFERROR(IF(O$12=Kredsudvælgelse!$Q$20,\"\",IF(Kredsudvælgelse!AF$2=1,IF(ISTEXT(DGET(Forespørgsel1[#All],\"\"&LEFT($F73,LEN($F73)-$C73)&\"\",Kredsudvælgelse!$Y$2:$Z$3))=TRUE,DGET(Forespørgsel1[#All],\"\"&LEFT($F73,LEN($F73)-$C73)&\"\",Kredsudvælgelse!$Y$2:$Z$3),DGET(Forespørgsel1[#All],\"\"&LEFT($F73,LEN($F73)-$C73)&\"\",Kredsudvælgelse!$Y$2:$Z$3)/IF(ISNONTEXT($D73)=TRUE,1,DGET(Forespørgsel1[#All],\"\"&$D73&\"\",Kredsudvælgelse!$Y$2:$Z$3))),IF(ISBLANK(HLOOKUP(O$12,'Statiske ejendomme'!$B$3:$PN$81,'Statiske ejendomme'!$A65,FALSE))=FALSE,HLOOKUP(O$12,'Statiske ejendomme'!$B$3:$PN$81,'Statiske ejendomme'!$A65,FALSE),\"\"))),\"\")","v":""},{"$f":"IFERROR(IF(P$12=Kredsudvælgelse!$Q$20,\"\",IF(Kredsudvælgelse!AG$2=1,IF(ISTEXT(DGET(Forespørgsel1[#All],\"\"&LEFT($F73,LEN($F73)-$C73)&\"\",Kredsudvælgelse!$Q$6:$R$7))=TRUE,DGET(Forespørgsel1[#All],\"\"&LEFT($F73,LEN($F73)-$C73)&\"\",Kredsudvælgelse!$Q$6:$R$7),DGET(Forespørgsel1[#All],\"\"&LEFT($F73,LEN($F73)-$C73)&\"\",Kredsudvælgelse!$Q$6:$R$7)/IF(ISNONTEXT($D73)=TRUE,1,DGET(Forespørgsel1[#All],\"\"&$D73&\"\",Kredsudvælgelse!$Q$6:$R$7))),IF(ISBLANK(HLOOKUP(P$12,'Statiske ejendomme'!$B$3:$PN$81,'Statiske ejendomme'!$A65,FALSE))=FALSE,HLOOKUP(P$12,'Statiske ejendomme'!$B$3:$PN$81,'Statiske ejendomme'!$A65,FALSE),\"\"))),\"\")","v":""},{"$f":"IFERROR(IF(Q$12=Kredsudvælgelse!$Q$20,\"\",IF(Kredsudvælgelse!AH$2=1,IF(ISTEXT(DGET(Forespørgsel1[#All],\"\"&LEFT($F73,LEN($F73)-$C73)&\"\",Kredsudvælgelse!$S$6:$T$7))=TRUE,DGET(Forespørgsel1[#All],\"\"&LEFT($F73,LEN($F73)-$C73)&\"\",Kredsudvælgelse!$S$6:$T$7),DGET(Forespørgsel1[#All],\"\"&LEFT($F73,LEN($F73)-$C73)&\"\",Kredsudvælgelse!$S$6:$T$7)/IF(ISNONTEXT($D73)=TRUE,1,DGET(Forespørgsel1[#All],\"\"&$D73&\"\",Kredsudvælgelse!$S$6:$T$7))),IF(ISBLANK(HLOOKUP(Q$12,'Statiske ejendomme'!$B$3:$PN$81,'Statiske ejendomme'!$A65,FALSE))=FALSE,HLOOKUP(Q$12,'Statiske ejendomme'!$B$3:$PN$81,'Statiske ejendomme'!$A65,FALSE),\"\"))),\"\")","v":""},{"$f":"IFERROR(IF(R$12=Kredsudvælgelse!$Q$20,\"\",IF(Kredsudvælgelse!AI$2=1,IF(ISTEXT(DGET(Forespørgsel1[#All],\"\"&LEFT($F73,LEN($F73)-$C73)&\"\",Kredsudvælgelse!$U$6:$V$7))=TRUE,DGET(Forespørgsel1[#All],\"\"&LEFT($F73,LEN($F73)-$C73)&\"\",Kredsudvælgelse!$U$6:$V$7),DGET(Forespørgsel1[#All],\"\"&LEFT($F73,LEN($F73)-$C73)&\"\",Kredsudvælgelse!$U$6:$V$7)/IF(ISNONTEXT($D73)=TRUE,1,DGET(Forespørgsel1[#All],\"\"&$D73&\"\",Kredsudvælgelse!$U$6:$V$7))),IF(ISBLANK(HLOOKUP(R$12,'Statiske ejendomme'!$B$3:$PN$81,'Statiske ejendomme'!$A65,FALSE))=FALSE,HLOOKUP(R$12,'Statiske ejendomme'!$B$3:$PN$81,'Statiske ejendomme'!$A65,FALSE),\"\"))),\"\")","v":""},{"$f":"IFERROR(IF(S$12=Kredsudvælgelse!$Q$20,\"\",IF(Kredsudvælgelse!AJ$2=1,IF(ISTEXT(DGET(Forespørgsel1[#All],\"\"&LEFT($F73,LEN($F73)-$C73)&\"\",Kredsudvælgelse!$W$6:$X$7))=TRUE,DGET(Forespørgsel1[#All],\"\"&LEFT($F73,LEN($F73)-$C73)&\"\",Kredsudvælgelse!$W$6:$X$7),DGET(Forespørgsel1[#All],\"\"&LEFT($F73,LEN($F73)-$C73)&\"\",Kredsudvælgelse!$W$6:$X$7)/IF(ISNONTEXT($D73)=TRUE,1,DGET(Forespørgsel1[#All],\"\"&$D73&\"\",Kredsudvælgelse!$W$6:$X$7))),IF(ISBLANK(HLOOKUP(S$12,'Statiske ejendomme'!$B$3:$PN$81,'Statiske ejendomme'!$A65,FALSE))=FALSE,HLOOKUP(S$12,'Statiske ejendomme'!$B$3:$PN$81,'Statiske ejendomme'!$A65,FALSE),\"\"))),\"\")","v":""},{"$f":"IFERROR(IF(T$12=Kredsudvælgelse!$Q$20,\"\",IF(Kredsudvælgelse!AK$2=1,IF(ISTEXT(DGET(Forespørgsel1[#All],\"\"&LEFT($F73,LEN($F73)-$C73)&\"\",Kredsudvælgelse!$W$6:$X$7))=TRUE,DGET(Forespørgsel1[#All],\"\"&LEFT($F73,LEN($F73)-$C73)&\"\",Kredsudvælgelse!$W$6:$X$7),DGET(Forespørgsel1[#All],\"\"&LEFT($F73,LEN($F73)-$C73)&\"\",Kredsudvælgelse!$W$6:$X$7)/IF(ISNONTEXT($D73)=TRUE,1,DGET(Forespørgsel1[#All],\"\"&$D73&\"\",Kredsudvælgelse!$W$6:$X$7))),IF(ISBLANK(HLOOKUP(T$12,'Statiske ejendomme'!$B$3:$PN$81,'Statiske ejendomme'!$A66,FALSE))=FALSE,HLOOKUP(T$12,'Statiske ejendomme'!$B$3:$PN$81,'Statiske ejendomme'!$A66,FALSE),\"\"))),\"\")","v":""}]
[{"$f":"Mink!E145","v":0},{"$f":"Mink!D145","v":0},{"$f":"Mink!A63","v":0},{"$f":"Mink!B63","v":0},null,{"$f":"Mink!C63","v":0},{"$f":"Mink!D63","v":0},{"$f":"Mink!E63","v":0},{"$f":"Mink!F63","v":0},{"$f":"Mink!G63","v":0},{"$f":"IFERROR(IF(K$12=Kredsudvælgelse!$Q$20,\"\",IF(Kredsudvælgelse!AB$2=1,IF(ISTEXT(DGET(Forespørgsel1[#All],\"\"&LEFT($F74,LEN($F74)-$C74)&\"\",Kredsudvælgelse!$Q$2:$R$3))=TRUE,DGET(Forespørgsel1[#All],\"\"&LEFT($F74,LEN($F74)-$C74)&\"\",Kredsudvælgelse!$Q$2:$R$3),DGET(Forespørgsel1[#All],\"\"&LEFT($F74,LEN($F74)-$C74)&\"\",Kredsudvælgelse!$Q$2:$R$3)/IF(ISNONTEXT($D74)=TRUE,1,DGET(Forespørgsel1[#All],\"\"&$D74&\"\",Kredsudvælgelse!$Q$2:$R$3))),IF(ISBLANK(HLOOKUP(K$12,'Statiske ejendomme'!$B$3:$PN$81,'Statiske ejendomme'!$A66,FALSE))=FALSE,HLOOKUP(K$12,'Statiske ejendomme'!$B$3:$PN$81,'Statiske ejendomme'!$A66,FALSE),\"\"))),\"\")","v":""},{"$f":"IFERROR(IF(L$12=Kredsudvælgelse!$Q$20,\"\",IF(Kredsudvælgelse!AC$2=1,IF(ISTEXT(DGET(Forespørgsel1[#All],\"\"&LEFT($F74,LEN($F74)-$C74)&\"\",Kredsudvælgelse!$S$2:$T$3))=TRUE,DGET(Forespørgsel1[#All],\"\"&LEFT($F74,LEN($F74)-$C74)&\"\",Kredsudvælgelse!$S$2:$T$3),DGET(Forespørgsel1[#All],\"\"&LEFT($F74,LEN($F74)-$C74)&\"\",Kredsudvælgelse!$S$2:$T$3)/IF(ISNONTEXT($D74)=TRUE,1,DGET(Forespørgsel1[#All],\"\"&$D74&\"\",Kredsudvælgelse!$S$2:$T$3))),IF(ISBLANK(HLOOKUP(L$12,'Statiske ejendomme'!$B$3:$PN$81,'Statiske ejendomme'!$A66,FALSE))=FALSE,HLOOKUP(L$12,'Statiske ejendomme'!$B$3:$PN$81,'Statiske ejendomme'!$A66,FALSE),\"\"))),\"\")","v":""},{"$f":"IFERROR(IF(M$12=Kredsudvælgelse!$Q$20,\"\",IF(Kredsudvælgelse!AD$2=1,IF(ISTEXT(DGET(Forespørgsel1[#All],\"\"&LEFT($F74,LEN($F74)-$C74)&\"\",Kredsudvælgelse!$U$2:$V$3))=TRUE,DGET(Forespørgsel1[#All],\"\"&LEFT($F74,LEN($F74)-$C74)&\"\",Kredsudvælgelse!$U$2:$V$3),DGET(Forespørgsel1[#All],\"\"&LEFT($F74,LEN($F74)-$C74)&\"\",Kredsudvælgelse!$U$2:$V$3)/IF(ISNONTEXT($D74)=TRUE,1,DGET(Forespørgsel1[#All],\"\"&$D74&\"\",Kredsudvælgelse!$U$2:$V$3))),IF(ISBLANK(HLOOKUP(M$12,'Statiske ejendomme'!$B$3:$PN$81,'Statiske ejendomme'!$A66,FALSE))=FALSE,HLOOKUP(M$12,'Statiske ejendomme'!$B$3:$PN$81,'Statiske ejendomme'!$A66,FALSE),\"\"))),\"\")","v":""},{"$f":"IFERROR(IF(N$12=Kredsudvælgelse!$Q$20,\"\",IF(Kredsudvælgelse!AE$2=1,IF(ISTEXT(DGET(Forespørgsel1[#All],\"\"&LEFT($F74,LEN($F74)-$C74)&\"\",Kredsudvælgelse!$W$2:$X$3))=TRUE,DGET(Forespørgsel1[#All],\"\"&LEFT($F74,LEN($F74)-$C74)&\"\",Kredsudvælgelse!$W$2:$X$3),DGET(Forespørgsel1[#All],\"\"&LEFT($F74,LEN($F74)-$C74)&\"\",Kredsudvælgelse!$W$2:$X$3)/IF(ISNONTEXT($D74)=TRUE,1,DGET(Forespørgsel1[#All],\"\"&$D74&\"\",Kredsudvælgelse!$W$2:$X$3))),IF(ISBLANK(HLOOKUP(N$12,'Statiske ejendomme'!$B$3:$PN$81,'Statiske ejendomme'!$A66,FALSE))=FALSE,HLOOKUP(N$12,'Statiske ejendomme'!$B$3:$PN$81,'Statiske ejendomme'!$A66,FALSE),\"\"))),\"\")","v":""},{"$f":"IFERROR(IF(O$12=Kredsudvælgelse!$Q$20,\"\",IF(Kredsudvælgelse!AF$2=1,IF(ISTEXT(DGET(Forespørgsel1[#All],\"\"&LEFT($F74,LEN($F74)-$C74)&\"\",Kredsudvælgelse!$Y$2:$Z$3))=TRUE,DGET(Forespørgsel1[#All],\"\"&LEFT($F74,LEN($F74)-$C74)&\"\",Kredsudvælgelse!$Y$2:$Z$3),DGET(Forespørgsel1[#All],\"\"&LEFT($F74,LEN($F74)-$C74)&\"\",Kredsudvælgelse!$Y$2:$Z$3)/IF(ISNONTEXT($D74)=TRUE,1,DGET(Forespørgsel1[#All],\"\"&$D74&\"\",Kredsudvælgelse!$Y$2:$Z$3))),IF(ISBLANK(HLOOKUP(O$12,'Statiske ejendomme'!$B$3:$PN$81,'Statiske ejendomme'!$A66,FALSE))=FALSE,HLOOKUP(O$12,'Statiske ejendomme'!$B$3:$PN$81,'Statiske ejendomme'!$A66,FALSE),\"\"))),\"\")","v":""},{"$f":"IFERROR(IF(P$12=Kredsudvælgelse!$Q$20,\"\",IF(Kredsudvælgelse!AG$2=1,IF(ISTEXT(DGET(Forespørgsel1[#All],\"\"&LEFT($F74,LEN($F74)-$C74)&\"\",Kredsudvælgelse!$Q$6:$R$7))=TRUE,DGET(Forespørgsel1[#All],\"\"&LEFT($F74,LEN($F74)-$C74)&\"\",Kredsudvælgelse!$Q$6:$R$7),DGET(Forespørgsel1[#All],\"\"&LEFT($F74,LEN($F74)-$C74)&\"\",Kredsudvælgelse!$Q$6:$R$7)/IF(ISNONTEXT($D74)=TRUE,1,DGET(Forespørgsel1[#All],\"\"&$D74&\"\",Kredsudvælgelse!$Q$6:$R$7))),IF(ISBLANK(HLOOKUP(P$12,'Statiske ejendomme'!$B$3:$PN$81,'Statiske ejendomme'!$A66,FALSE))=FALSE,HLOOKUP(P$12,'Statiske ejendomme'!$B$3:$PN$81,'Statiske ejendomme'!$A66,FALSE),\"\"))),\"\")","v":""},{"$f":"IFERROR(IF(Q$12=Kredsudvælgelse!$Q$20,\"\",IF(Kredsudvælgelse!AH$2=1,IF(ISTEXT(DGET(Forespørgsel1[#All],\"\"&LEFT($F74,LEN($F74)-$C74)&\"\",Kredsudvælgelse!$S$6:$T$7))=TRUE,DGET(Forespørgsel1[#All],\"\"&LEFT($F74,LEN($F74)-$C74)&\"\",Kredsudvælgelse!$S$6:$T$7),DGET(Forespørgsel1[#All],\"\"&LEFT($F74,LEN($F74)-$C74)&\"\",Kredsudvælgelse!$S$6:$T$7)/IF(ISNONTEXT($D74)=TRUE,1,DGET(Forespørgsel1[#All],\"\"&$D74&\"\",Kredsudvælgelse!$S$6:$T$7))),IF(ISBLANK(HLOOKUP(Q$12,'Statiske ejendomme'!$B$3:$PN$81,'Statiske ejendomme'!$A66,FALSE))=FALSE,HLOOKUP(Q$12,'Statiske ejendomme'!$B$3:$PN$81,'Statiske ejendomme'!$A66,FALSE),\"\"))),\"\")","v":""},{"$f":"IFERROR(IF(R$12=Kredsudvælgelse!$Q$20,\"\",IF(Kredsudvælgelse!AI$2=1,IF(ISTEXT(DGET(Forespørgsel1[#All],\"\"&LEFT($F74,LEN($F74)-$C74)&\"\",Kredsudvælgelse!$U$6:$V$7))=TRUE,DGET(Forespørgsel1[#All],\"\"&LEFT($F74,LEN($F74)-$C74)&\"\",Kredsudvælgelse!$U$6:$V$7),DGET(Forespørgsel1[#All],\"\"&LEFT($F74,LEN($F74)-$C74)&\"\",Kredsudvælgelse!$U$6:$V$7)/IF(ISNONTEXT($D74)=TRUE,1,DGET(Forespørgsel1[#All],\"\"&$D74&\"\",Kredsudvælgelse!$U$6:$V$7))),IF(ISBLANK(HLOOKUP(R$12,'Statiske ejendomme'!$B$3:$PN$81,'Statiske ejendomme'!$A66,FALSE))=FALSE,HLOOKUP(R$12,'Statiske ejendomme'!$B$3:$PN$81,'Statiske ejendomme'!$A66,FALSE),\"\"))),\"\")","v":""},{"$f":"IFERROR(IF(S$12=Kredsudvælgelse!$Q$20,\"\",IF(Kredsudvælgelse!AJ$2=1,IF(ISTEXT(DGET(Forespørgsel1[#All],\"\"&LEFT($F74,LEN($F74)-$C74)&\"\",Kredsudvælgelse!$W$6:$X$7))=TRUE,DGET(Forespørgsel1[#All],\"\"&LEFT($F74,LEN($F74)-$C74)&\"\",Kredsudvælgelse!$W$6:$X$7),DGET(Forespørgsel1[#All],\"\"&LEFT($F74,LEN($F74)-$C74)&\"\",Kredsudvælgelse!$W$6:$X$7)/IF(ISNONTEXT($D74)=TRUE,1,DGET(Forespørgsel1[#All],\"\"&$D74&\"\",Kredsudvælgelse!$W$6:$X$7))),IF(ISBLANK(HLOOKUP(S$12,'Statiske ejendomme'!$B$3:$PN$81,'Statiske ejendomme'!$A66,FALSE))=FALSE,HLOOKUP(S$12,'Statiske ejendomme'!$B$3:$PN$81,'Statiske ejendomme'!$A66,FALSE),\"\"))),\"\")","v":""},{"$f":"IFERROR(IF(T$12=Kredsudvælgelse!$Q$20,\"\",IF(Kredsudvælgelse!AK$2=1,IF(ISTEXT(DGET(Forespørgsel1[#All],\"\"&LEFT($F74,LEN($F74)-$C74)&\"\",Kredsudvælgelse!$W$6:$X$7))=TRUE,DGET(Forespørgsel1[#All],\"\"&LEFT($F74,LEN($F74)-$C74)&\"\",Kredsudvælgelse!$W$6:$X$7),DGET(Forespørgsel1[#All],\"\"&LEFT($F74,LEN($F74)-$C74)&\"\",Kredsudvælgelse!$W$6:$X$7)/IF(ISNONTEXT($D74)=TRUE,1,DGET(Forespørgsel1[#All],\"\"&$D74&\"\",Kredsudvælgelse!$W$6:$X$7))),IF(ISBLANK(HLOOKUP(T$12,'Statiske ejendomme'!$B$3:$PN$81,'Statiske ejendomme'!$A67,FALSE))=FALSE,HLOOKUP(T$12,'Statiske ejendomme'!$B$3:$PN$81,'Statiske ejendomme'!$A67,FALSE),\"\"))),\"\")","v":""}]
[{"$f":"Mink!E146","v":0},{"$f":"Mink!D146","v":0},{"$f":"Mink!A64","v":0},{"$f":"Mink!B64","v":0},null,{"$f":"Mink!C64","v":0},{"$f":"Mink!D64","v":0},{"$f":"Mink!E64","v":0},{"$f":"Mink!F64","v":0},{"$f":"Mink!G64","v":0},{"$f":"IFERROR(IF(K$12=Kredsudvælgelse!$Q$20,\"\",IF(Kredsudvælgelse!AB$2=1,IF(ISTEXT(DGET(Forespørgsel1[#All],\"\"&LEFT($F75,LEN($F75)-$C75)&\"\",Kredsudvælgelse!$Q$2:$R$3))=TRUE,DGET(Forespørgsel1[#All],\"\"&LEFT($F75,LEN($F75)-$C75)&\"\",Kredsudvælgelse!$Q$2:$R$3),DGET(Forespørgsel1[#All],\"\"&LEFT($F75,LEN($F75)-$C75)&\"\",Kredsudvælgelse!$Q$2:$R$3)/IF(ISNONTEXT($D75)=TRUE,1,DGET(Forespørgsel1[#All],\"\"&$D75&\"\",Kredsudvælgelse!$Q$2:$R$3))),IF(ISBLANK(HLOOKUP(K$12,'Statiske ejendomme'!$B$3:$PN$81,'Statiske ejendomme'!$A67,FALSE))=FALSE,HLOOKUP(K$12,'Statiske ejendomme'!$B$3:$PN$81,'Statiske ejendomme'!$A67,FALSE),\"\"))),\"\")","v":""},{"$f":"IFERROR(IF(L$12=Kredsudvælgelse!$Q$20,\"\",IF(Kredsudvælgelse!AC$2=1,IF(ISTEXT(DGET(Forespørgsel1[#All],\"\"&LEFT($F75,LEN($F75)-$C75)&\"\",Kredsudvælgelse!$S$2:$T$3))=TRUE,DGET(Forespørgsel1[#All],\"\"&LEFT($F75,LEN($F75)-$C75)&\"\",Kredsudvælgelse!$S$2:$T$3),DGET(Forespørgsel1[#All],\"\"&LEFT($F75,LEN($F75)-$C75)&\"\",Kredsudvælgelse!$S$2:$T$3)/IF(ISNONTEXT($D75)=TRUE,1,DGET(Forespørgsel1[#All],\"\"&$D75&\"\",Kredsudvælgelse!$S$2:$T$3))),IF(ISBLANK(HLOOKUP(L$12,'Statiske ejendomme'!$B$3:$PN$81,'Statiske ejendomme'!$A67,FALSE))=FALSE,HLOOKUP(L$12,'Statiske ejendomme'!$B$3:$PN$81,'Statiske ejendomme'!$A67,FALSE),\"\"))),\"\")","v":""},{"$f":"IFERROR(IF(M$12=Kredsudvælgelse!$Q$20,\"\",IF(Kredsudvælgelse!AD$2=1,IF(ISTEXT(DGET(Forespørgsel1[#All],\"\"&LEFT($F75,LEN($F75)-$C75)&\"\",Kredsudvælgelse!$U$2:$V$3))=TRUE,DGET(Forespørgsel1[#All],\"\"&LEFT($F75,LEN($F75)-$C75)&\"\",Kredsudvælgelse!$U$2:$V$3),DGET(Forespørgsel1[#All],\"\"&LEFT($F75,LEN($F75)-$C75)&\"\",Kredsudvælgelse!$U$2:$V$3)/IF(ISNONTEXT($D75)=TRUE,1,DGET(Forespørgsel1[#All],\"\"&$D75&\"\",Kredsudvælgelse!$U$2:$V$3))),IF(ISBLANK(HLOOKUP(M$12,'Statiske ejendomme'!$B$3:$PN$81,'Statiske ejendomme'!$A67,FALSE))=FALSE,HLOOKUP(M$12,'Statiske ejendomme'!$B$3:$PN$81,'Statiske ejendomme'!$A67,FALSE),\"\"))),\"\")","v":""},{"$f":"IFERROR(IF(N$12=Kredsudvælgelse!$Q$20,\"\",IF(Kredsudvælgelse!AE$2=1,IF(ISTEXT(DGET(Forespørgsel1[#All],\"\"&LEFT($F75,LEN($F75)-$C75)&\"\",Kredsudvælgelse!$W$2:$X$3))=TRUE,DGET(Forespørgsel1[#All],\"\"&LEFT($F75,LEN($F75)-$C75)&\"\",Kredsudvælgelse!$W$2:$X$3),DGET(Forespørgsel1[#All],\"\"&LEFT($F75,LEN($F75)-$C75)&\"\",Kredsudvælgelse!$W$2:$X$3)/IF(ISNONTEXT($D75)=TRUE,1,DGET(Forespørgsel1[#All],\"\"&$D75&\"\",Kredsudvælgelse!$W$2:$X$3))),IF(ISBLANK(HLOOKUP(N$12,'Statiske ejendomme'!$B$3:$PN$81,'Statiske ejendomme'!$A67,FALSE))=FALSE,HLOOKUP(N$12,'Statiske ejendomme'!$B$3:$PN$81,'Statiske ejendomme'!$A67,FALSE),\"\"))),\"\")","v":""},{"$f":"IFERROR(IF(O$12=Kredsudvælgelse!$Q$20,\"\",IF(Kredsudvælgelse!AF$2=1,IF(ISTEXT(DGET(Forespørgsel1[#All],\"\"&LEFT($F75,LEN($F75)-$C75)&\"\",Kredsudvælgelse!$Y$2:$Z$3))=TRUE,DGET(Forespørgsel1[#All],\"\"&LEFT($F75,LEN($F75)-$C75)&\"\",Kredsudvælgelse!$Y$2:$Z$3),DGET(Forespørgsel1[#All],\"\"&LEFT($F75,LEN($F75)-$C75)&\"\",Kredsudvælgelse!$Y$2:$Z$3)/IF(ISNONTEXT($D75)=TRUE,1,DGET(Forespørgsel1[#All],\"\"&$D75&\"\",Kredsudvælgelse!$Y$2:$Z$3))),IF(ISBLANK(HLOOKUP(O$12,'Statiske ejendomme'!$B$3:$PN$81,'Statiske ejendomme'!$A67,FALSE))=FALSE,HLOOKUP(O$12,'Statiske ejendomme'!$B$3:$PN$81,'Statiske ejendomme'!$A67,FALSE),\"\"))),\"\")","v":""},{"$f":"IFERROR(IF(P$12=Kredsudvælgelse!$Q$20,\"\",IF(Kredsudvælgelse!AG$2=1,IF(ISTEXT(DGET(Forespørgsel1[#All],\"\"&LEFT($F75,LEN($F75)-$C75)&\"\",Kredsudvælgelse!$Q$6:$R$7))=TRUE,DGET(Forespørgsel1[#All],\"\"&LEFT($F75,LEN($F75)-$C75)&\"\",Kredsudvælgelse!$Q$6:$R$7),DGET(Forespørgsel1[#All],\"\"&LEFT($F75,LEN($F75)-$C75)&\"\",Kredsudvælgelse!$Q$6:$R$7)/IF(ISNONTEXT($D75)=TRUE,1,DGET(Forespørgsel1[#All],\"\"&$D75&\"\",Kredsudvælgelse!$Q$6:$R$7))),IF(ISBLANK(HLOOKUP(P$12,'Statiske ejendomme'!$B$3:$PN$81,'Statiske ejendomme'!$A67,FALSE))=FALSE,HLOOKUP(P$12,'Statiske ejendomme'!$B$3:$PN$81,'Statiske ejendomme'!$A67,FALSE),\"\"))),\"\")","v":""},{"$f":"IFERROR(IF(Q$12=Kredsudvælgelse!$Q$20,\"\",IF(Kredsudvælgelse!AH$2=1,IF(ISTEXT(DGET(Forespørgsel1[#All],\"\"&LEFT($F75,LEN($F75)-$C75)&\"\",Kredsudvælgelse!$S$6:$T$7))=TRUE,DGET(Forespørgsel1[#All],\"\"&LEFT($F75,LEN($F75)-$C75)&\"\",Kredsudvælgelse!$S$6:$T$7),DGET(Forespørgsel1[#All],\"\"&LEFT($F75,LEN($F75)-$C75)&\"\",Kredsudvælgelse!$S$6:$T$7)/IF(ISNONTEXT($D75)=TRUE,1,DGET(Forespørgsel1[#All],\"\"&$D75&\"\",Kredsudvælgelse!$S$6:$T$7))),IF(ISBLANK(HLOOKUP(Q$12,'Statiske ejendomme'!$B$3:$PN$81,'Statiske ejendomme'!$A67,FALSE))=FALSE,HLOOKUP(Q$12,'Statiske ejendomme'!$B$3:$PN$81,'Statiske ejendomme'!$A67,FALSE),\"\"))),\"\")","v":""},{"$f":"IFERROR(IF(R$12=Kredsudvælgelse!$Q$20,\"\",IF(Kredsudvælgelse!AI$2=1,IF(ISTEXT(DGET(Forespørgsel1[#All],\"\"&LEFT($F75,LEN($F75)-$C75)&\"\",Kredsudvælgelse!$U$6:$V$7))=TRUE,DGET(Forespørgsel1[#All],\"\"&LEFT($F75,LEN($F75)-$C75)&\"\",Kredsudvælgelse!$U$6:$V$7),DGET(Forespørgsel1[#All],\"\"&LEFT($F75,LEN($F75)-$C75)&\"\",Kredsudvælgelse!$U$6:$V$7)/IF(ISNONTEXT($D75)=TRUE,1,DGET(Forespørgsel1[#All],\"\"&$D75&\"\",Kredsudvælgelse!$U$6:$V$7))),IF(ISBLANK(HLOOKUP(R$12,'Statiske ejendomme'!$B$3:$PN$81,'Statiske ejendomme'!$A67,FALSE))=FALSE,HLOOKUP(R$12,'Statiske ejendomme'!$B$3:$PN$81,'Statiske ejendomme'!$A67,FALSE),\"\"))),\"\")","v":""},{"$f":"IFERROR(IF(S$12=Kredsudvælgelse!$Q$20,\"\",IF(Kredsudvælgelse!AJ$2=1,IF(ISTEXT(DGET(Forespørgsel1[#All],\"\"&LEFT($F75,LEN($F75)-$C75)&\"\",Kredsudvælgelse!$W$6:$X$7))=TRUE,DGET(Forespørgsel1[#All],\"\"&LEFT($F75,LEN($F75)-$C75)&\"\",Kredsudvælgelse!$W$6:$X$7),DGET(Forespørgsel1[#All],\"\"&LEFT($F75,LEN($F75)-$C75)&\"\",Kredsudvælgelse!$W$6:$X$7)/IF(ISNONTEXT($D75)=TRUE,1,DGET(Forespørgsel1[#All],\"\"&$D75&\"\",Kredsudvælgelse!$W$6:$X$7))),IF(ISBLANK(HLOOKUP(S$12,'Statiske ejendomme'!$B$3:$PN$81,'Statiske ejendomme'!$A67,FALSE))=FALSE,HLOOKUP(S$12,'Statiske ejendomme'!$B$3:$PN$81,'Statiske ejendomme'!$A67,FALSE),\"\"))),\"\")","v":""},{"$f":"IFERROR(IF(T$12=Kredsudvælgelse!$Q$20,\"\",IF(Kredsudvælgelse!AK$2=1,IF(ISTEXT(DGET(Forespørgsel1[#All],\"\"&LEFT($F75,LEN($F75)-$C75)&\"\",Kredsudvælgelse!$W$6:$X$7))=TRUE,DGET(Forespørgsel1[#All],\"\"&LEFT($F75,LEN($F75)-$C75)&\"\",Kredsudvælgelse!$W$6:$X$7),DGET(Forespørgsel1[#All],\"\"&LEFT($F75,LEN($F75)-$C75)&\"\",Kredsudvælgelse!$W$6:$X$7)/IF(ISNONTEXT($D75)=TRUE,1,DGET(Forespørgsel1[#All],\"\"&$D75&\"\",Kredsudvælgelse!$W$6:$X$7))),IF(ISBLANK(HLOOKUP(T$12,'Statiske ejendomme'!$B$3:$PN$81,'Statiske ejendomme'!$A68,FALSE))=FALSE,HLOOKUP(T$12,'Statiske ejendomme'!$B$3:$PN$81,'Statiske ejendomme'!$A68,FALSE),\"\"))),\"\")","v":""}]
[{"$f":"Mink!E147","v":0},{"$f":"Mink!D147","v":0},{"$f":"Mink!A65","v":0},{"$f":"Mink!B65","v":0},null,{"$f":"Mink!C65","v":0},{"$f":"Mink!D65","v":0},{"$f":"Mink!E65","v":0},{"$f":"Mink!F65","v":0},{"$f":"Mink!G65","v":0},{"$f":"IFERROR(IF(K$12=Kredsudvælgelse!$Q$20,\"\",IF(Kredsudvælgelse!AB$2=1,IF(ISTEXT(DGET(Forespørgsel1[#All],\"\"&LEFT($F76,LEN($F76)-$C76)&\"\",Kredsudvælgelse!$Q$2:$R$3))=TRUE,DGET(Forespørgsel1[#All],\"\"&LEFT($F76,LEN($F76)-$C76)&\"\",Kredsudvælgelse!$Q$2:$R$3),DGET(Forespørgsel1[#All],\"\"&LEFT($F76,LEN($F76)-$C76)&\"\",Kredsudvælgelse!$Q$2:$R$3)/IF(ISNONTEXT($D76)=TRUE,1,DGET(Forespørgsel1[#All],\"\"&$D76&\"\",Kredsudvælgelse!$Q$2:$R$3))),IF(ISBLANK(HLOOKUP(K$12,'Statiske ejendomme'!$B$3:$PN$81,'Statiske ejendomme'!$A68,FALSE))=FALSE,HLOOKUP(K$12,'Statiske ejendomme'!$B$3:$PN$81,'Statiske ejendomme'!$A68,FALSE),\"\"))),\"\")","v":""},{"$f":"IFERROR(IF(L$12=Kredsudvælgelse!$Q$20,\"\",IF(Kredsudvælgelse!AC$2=1,IF(ISTEXT(DGET(Forespørgsel1[#All],\"\"&LEFT($F76,LEN($F76)-$C76)&\"\",Kredsudvælgelse!$S$2:$T$3))=TRUE,DGET(Forespørgsel1[#All],\"\"&LEFT($F76,LEN($F76)-$C76)&\"\",Kredsudvælgelse!$S$2:$T$3),DGET(Forespørgsel1[#All],\"\"&LEFT($F76,LEN($F76)-$C76)&\"\",Kredsudvælgelse!$S$2:$T$3)/IF(ISNONTEXT($D76)=TRUE,1,DGET(Forespørgsel1[#All],\"\"&$D76&\"\",Kredsudvælgelse!$S$2:$T$3))),IF(ISBLANK(HLOOKUP(L$12,'Statiske ejendomme'!$B$3:$PN$81,'Statiske ejendomme'!$A68,FALSE))=FALSE,HLOOKUP(L$12,'Statiske ejendomme'!$B$3:$PN$81,'Statiske ejendomme'!$A68,FALSE),\"\"))),\"\")","v":""},{"$f":"IFERROR(IF(M$12=Kredsudvælgelse!$Q$20,\"\",IF(Kredsudvælgelse!AD$2=1,IF(ISTEXT(DGET(Forespørgsel1[#All],\"\"&LEFT($F76,LEN($F76)-$C76)&\"\",Kredsudvælgelse!$U$2:$V$3))=TRUE,DGET(Forespørgsel1[#All],\"\"&LEFT($F76,LEN($F76)-$C76)&\"\",Kredsudvælgelse!$U$2:$V$3),DGET(Forespørgsel1[#All],\"\"&LEFT($F76,LEN($F76)-$C76)&\"\",Kredsudvælgelse!$U$2:$V$3)/IF(ISNONTEXT($D76)=TRUE,1,DGET(Forespørgsel1[#All],\"\"&$D76&\"\",Kredsudvælgelse!$U$2:$V$3))),IF(ISBLANK(HLOOKUP(M$12,'Statiske ejendomme'!$B$3:$PN$81,'Statiske ejendomme'!$A68,FALSE))=FALSE,HLOOKUP(M$12,'Statiske ejendomme'!$B$3:$PN$81,'Statiske ejendomme'!$A68,FALSE),\"\"))),\"\")","v":""},{"$f":"IFERROR(IF(N$12=Kredsudvælgelse!$Q$20,\"\",IF(Kredsudvælgelse!AE$2=1,IF(ISTEXT(DGET(Forespørgsel1[#All],\"\"&LEFT($F76,LEN($F76)-$C76)&\"\",Kredsudvælgelse!$W$2:$X$3))=TRUE,DGET(Forespørgsel1[#All],\"\"&LEFT($F76,LEN($F76)-$C76)&\"\",Kredsudvælgelse!$W$2:$X$3),DGET(Forespørgsel1[#All],\"\"&LEFT($F76,LEN($F76)-$C76)&\"\",Kredsudvælgelse!$W$2:$X$3)/IF(ISNONTEXT($D76)=TRUE,1,DGET(Forespørgsel1[#All],\"\"&$D76&\"\",Kredsudvælgelse!$W$2:$X$3))),IF(ISBLANK(HLOOKUP(N$12,'Statiske ejendomme'!$B$3:$PN$81,'Statiske ejendomme'!$A68,FALSE))=FALSE,HLOOKUP(N$12,'Statiske ejendomme'!$B$3:$PN$81,'Statiske ejendomme'!$A68,FALSE),\"\"))),\"\")","v":""},{"$f":"IFERROR(IF(O$12=Kredsudvælgelse!$Q$20,\"\",IF(Kredsudvælgelse!AF$2=1,IF(ISTEXT(DGET(Forespørgsel1[#All],\"\"&LEFT($F76,LEN($F76)-$C76)&\"\",Kredsudvælgelse!$Y$2:$Z$3))=TRUE,DGET(Forespørgsel1[#All],\"\"&LEFT($F76,LEN($F76)-$C76)&\"\",Kredsudvælgelse!$Y$2:$Z$3),DGET(Forespørgsel1[#All],\"\"&LEFT($F76,LEN($F76)-$C76)&\"\",Kredsudvælgelse!$Y$2:$Z$3)/IF(ISNONTEXT($D76)=TRUE,1,DGET(Forespørgsel1[#All],\"\"&$D76&\"\",Kredsudvælgelse!$Y$2:$Z$3))),IF(ISBLANK(HLOOKUP(O$12,'Statiske ejendomme'!$B$3:$PN$81,'Statiske ejendomme'!$A68,FALSE))=FALSE,HLOOKUP(O$12,'Statiske ejendomme'!$B$3:$PN$81,'Statiske ejendomme'!$A68,FALSE),\"\"))),\"\")","v":""},{"$f":"IFERROR(IF(P$12=Kredsudvælgelse!$Q$20,\"\",IF(Kredsudvælgelse!AG$2=1,IF(ISTEXT(DGET(Forespørgsel1[#All],\"\"&LEFT($F76,LEN($F76)-$C76)&\"\",Kredsudvælgelse!$Q$6:$R$7))=TRUE,DGET(Forespørgsel1[#All],\"\"&LEFT($F76,LEN($F76)-$C76)&\"\",Kredsudvælgelse!$Q$6:$R$7),DGET(Forespørgsel1[#All],\"\"&LEFT($F76,LEN($F76)-$C76)&\"\",Kredsudvælgelse!$Q$6:$R$7)/IF(ISNONTEXT($D76)=TRUE,1,DGET(Forespørgsel1[#All],\"\"&$D76&\"\",Kredsudvælgelse!$Q$6:$R$7))),IF(ISBLANK(HLOOKUP(P$12,'Statiske ejendomme'!$B$3:$PN$81,'Statiske ejendomme'!$A68,FALSE))=FALSE,HLOOKUP(P$12,'Statiske ejendomme'!$B$3:$PN$81,'Statiske ejendomme'!$A68,FALSE),\"\"))),\"\")","v":""},{"$f":"IFERROR(IF(Q$12=Kredsudvælgelse!$Q$20,\"\",IF(Kredsudvælgelse!AH$2=1,IF(ISTEXT(DGET(Forespørgsel1[#All],\"\"&LEFT($F76,LEN($F76)-$C76)&\"\",Kredsudvælgelse!$S$6:$T$7))=TRUE,DGET(Forespørgsel1[#All],\"\"&LEFT($F76,LEN($F76)-$C76)&\"\",Kredsudvælgelse!$S$6:$T$7),DGET(Forespørgsel1[#All],\"\"&LEFT($F76,LEN($F76)-$C76)&\"\",Kredsudvælgelse!$S$6:$T$7)/IF(ISNONTEXT($D76)=TRUE,1,DGET(Forespørgsel1[#All],\"\"&$D76&\"\",Kredsudvælgelse!$S$6:$T$7))),IF(ISBLANK(HLOOKUP(Q$12,'Statiske ejendomme'!$B$3:$PN$81,'Statiske ejendomme'!$A68,FALSE))=FALSE,HLOOKUP(Q$12,'Statiske ejendomme'!$B$3:$PN$81,'Statiske ejendomme'!$A68,FALSE),\"\"))),\"\")","v":""},{"$f":"IFERROR(IF(R$12=Kredsudvælgelse!$Q$20,\"\",IF(Kredsudvælgelse!AI$2=1,IF(ISTEXT(DGET(Forespørgsel1[#All],\"\"&LEFT($F76,LEN($F76)-$C76)&\"\",Kredsudvælgelse!$U$6:$V$7))=TRUE,DGET(Forespørgsel1[#All],\"\"&LEFT($F76,LEN($F76)-$C76)&\"\",Kredsudvælgelse!$U$6:$V$7),DGET(Forespørgsel1[#All],\"\"&LEFT($F76,LEN($F76)-$C76)&\"\",Kredsudvælgelse!$U$6:$V$7)/IF(ISNONTEXT($D76)=TRUE,1,DGET(Forespørgsel1[#All],\"\"&$D76&\"\",Kredsudvælgelse!$U$6:$V$7))),IF(ISBLANK(HLOOKUP(R$12,'Statiske ejendomme'!$B$3:$PN$81,'Statiske ejendomme'!$A68,FALSE))=FALSE,HLOOKUP(R$12,'Statiske ejendomme'!$B$3:$PN$81,'Statiske ejendomme'!$A68,FALSE),\"\"))),\"\")","v":""},{"$f":"IFERROR(IF(S$12=Kredsudvælgelse!$Q$20,\"\",IF(Kredsudvælgelse!AJ$2=1,IF(ISTEXT(DGET(Forespørgsel1[#All],\"\"&LEFT($F76,LEN($F76)-$C76)&\"\",Kredsudvælgelse!$W$6:$X$7))=TRUE,DGET(Forespørgsel1[#All],\"\"&LEFT($F76,LEN($F76)-$C76)&\"\",Kredsudvælgelse!$W$6:$X$7),DGET(Forespørgsel1[#All],\"\"&LEFT($F76,LEN($F76)-$C76)&\"\",Kredsudvælgelse!$W$6:$X$7)/IF(ISNONTEXT($D76)=TRUE,1,DGET(Forespørgsel1[#All],\"\"&$D76&\"\",Kredsudvælgelse!$W$6:$X$7))),IF(ISBLANK(HLOOKUP(S$12,'Statiske ejendomme'!$B$3:$PN$81,'Statiske ejendomme'!$A68,FALSE))=FALSE,HLOOKUP(S$12,'Statiske ejendomme'!$B$3:$PN$81,'Statiske ejendomme'!$A68,FALSE),\"\"))),\"\")","v":""},{"$f":"IFERROR(IF(T$12=Kredsudvælgelse!$Q$20,\"\",IF(Kredsudvælgelse!AK$2=1,IF(ISTEXT(DGET(Forespørgsel1[#All],\"\"&LEFT($F76,LEN($F76)-$C76)&\"\",Kredsudvælgelse!$W$6:$X$7))=TRUE,DGET(Forespørgsel1[#All],\"\"&LEFT($F76,LEN($F76)-$C76)&\"\",Kredsudvælgelse!$W$6:$X$7),DGET(Forespørgsel1[#All],\"\"&LEFT($F76,LEN($F76)-$C76)&\"\",Kredsudvælgelse!$W$6:$X$7)/IF(ISNONTEXT($D76)=TRUE,1,DGET(Forespørgsel1[#All],\"\"&$D76&\"\",Kredsudvælgelse!$W$6:$X$7))),IF(ISBLANK(HLOOKUP(T$12,'Statiske ejendomme'!$B$3:$PN$81,'Statiske ejendomme'!$A69,FALSE))=FALSE,HLOOKUP(T$12,'Statiske ejendomme'!$B$3:$PN$81,'Statiske ejendomme'!$A69,FALSE),\"\"))),\"\")","v":""}]
[{"$f":"Mink!E148","v":0},{"$f":"Mink!D148","v":0},{"$f":"Mink!A66","v":0},{"$f":"Mink!B66","v":0},null,{"$f":"Mink!C66","v":0},{"$f":"Mink!D66","v":0},{"$f":"Mink!E66","v":0},{"$f":"Mink!F66","v":0},{"$f":"Mink!G66","v":0},{"$f":"IFERROR(IF(K$12=Kredsudvælgelse!$Q$20,\"\",IF(Kredsudvælgelse!AB$2=1,IF(ISTEXT(DGET(Forespørgsel1[#All],\"\"&LEFT($F77,LEN($F77)-$C77)&\"\",Kredsudvælgelse!$Q$2:$R$3))=TRUE,DGET(Forespørgsel1[#All],\"\"&LEFT($F77,LEN($F77)-$C77)&\"\",Kredsudvælgelse!$Q$2:$R$3),DGET(Forespørgsel1[#All],\"\"&LEFT($F77,LEN($F77)-$C77)&\"\",Kredsudvælgelse!$Q$2:$R$3)/IF(ISNONTEXT($D77)=TRUE,1,DGET(Forespørgsel1[#All],\"\"&$D77&\"\",Kredsudvælgelse!$Q$2:$R$3))),IF(ISBLANK(HLOOKUP(K$12,'Statiske ejendomme'!$B$3:$PN$81,'Statiske ejendomme'!$A69,FALSE))=FALSE,HLOOKUP(K$12,'Statiske ejendomme'!$B$3:$PN$81,'Statiske ejendomme'!$A69,FALSE),\"\"))),\"\")","v":""},{"$f":"IFERROR(IF(L$12=Kredsudvælgelse!$Q$20,\"\",IF(Kredsudvælgelse!AC$2=1,IF(ISTEXT(DGET(Forespørgsel1[#All],\"\"&LEFT($F77,LEN($F77)-$C77)&\"\",Kredsudvælgelse!$S$2:$T$3))=TRUE,DGET(Forespørgsel1[#All],\"\"&LEFT($F77,LEN($F77)-$C77)&\"\",Kredsudvælgelse!$S$2:$T$3),DGET(Forespørgsel1[#All],\"\"&LEFT($F77,LEN($F77)-$C77)&\"\",Kredsudvælgelse!$S$2:$T$3)/IF(ISNONTEXT($D77)=TRUE,1,DGET(Forespørgsel1[#All],\"\"&$D77&\"\",Kredsudvælgelse!$S$2:$T$3))),IF(ISBLANK(HLOOKUP(L$12,'Statiske ejendomme'!$B$3:$PN$81,'Statiske ejendomme'!$A69,FALSE))=FALSE,HLOOKUP(L$12,'Statiske ejendomme'!$B$3:$PN$81,'Statiske ejendomme'!$A69,FALSE),\"\"))),\"\")","v":""},{"$f":"IFERROR(IF(M$12=Kredsudvælgelse!$Q$20,\"\",IF(Kredsudvælgelse!AD$2=1,IF(ISTEXT(DGET(Forespørgsel1[#All],\"\"&LEFT($F77,LEN($F77)-$C77)&\"\",Kredsudvælgelse!$U$2:$V$3))=TRUE,DGET(Forespørgsel1[#All],\"\"&LEFT($F77,LEN($F77)-$C77)&\"\",Kredsudvælgelse!$U$2:$V$3),DGET(Forespørgsel1[#All],\"\"&LEFT($F77,LEN($F77)-$C77)&\"\",Kredsudvælgelse!$U$2:$V$3)/IF(ISNONTEXT($D77)=TRUE,1,DGET(Forespørgsel1[#All],\"\"&$D77&\"\",Kredsudvælgelse!$U$2:$V$3))),IF(ISBLANK(HLOOKUP(M$12,'Statiske ejendomme'!$B$3:$PN$81,'Statiske ejendomme'!$A69,FALSE))=FALSE,HLOOKUP(M$12,'Statiske ejendomme'!$B$3:$PN$81,'Statiske ejendomme'!$A69,FALSE),\"\"))),\"\")","v":""},{"$f":"IFERROR(IF(N$12=Kredsudvælgelse!$Q$20,\"\",IF(Kredsudvælgelse!AE$2=1,IF(ISTEXT(DGET(Forespørgsel1[#All],\"\"&LEFT($F77,LEN($F77)-$C77)&\"\",Kredsudvælgelse!$W$2:$X$3))=TRUE,DGET(Forespørgsel1[#All],\"\"&LEFT($F77,LEN($F77)-$C77)&\"\",Kredsudvælgelse!$W$2:$X$3),DGET(Forespørgsel1[#All],\"\"&LEFT($F77,LEN($F77)-$C77)&\"\",Kredsudvælgelse!$W$2:$X$3)/IF(ISNONTEXT($D77)=TRUE,1,DGET(Forespørgsel1[#All],\"\"&$D77&\"\",Kredsudvælgelse!$W$2:$X$3))),IF(ISBLANK(HLOOKUP(N$12,'Statiske ejendomme'!$B$3:$PN$81,'Statiske ejendomme'!$A69,FALSE))=FALSE,HLOOKUP(N$12,'Statiske ejendomme'!$B$3:$PN$81,'Statiske ejendomme'!$A69,FALSE),\"\"))),\"\")","v":""},{"$f":"IFERROR(IF(O$12=Kredsudvælgelse!$Q$20,\"\",IF(Kredsudvælgelse!AF$2=1,IF(ISTEXT(DGET(Forespørgsel1[#All],\"\"&LEFT($F77,LEN($F77)-$C77)&\"\",Kredsudvælgelse!$Y$2:$Z$3))=TRUE,DGET(Forespørgsel1[#All],\"\"&LEFT($F77,LEN($F77)-$C77)&\"\",Kredsudvælgelse!$Y$2:$Z$3),DGET(Forespørgsel1[#All],\"\"&LEFT($F77,LEN($F77)-$C77)&\"\",Kredsudvælgelse!$Y$2:$Z$3)/IF(ISNONTEXT($D77)=TRUE,1,DGET(Forespørgsel1[#All],\"\"&$D77&\"\",Kredsudvælgelse!$Y$2:$Z$3))),IF(ISBLANK(HLOOKUP(O$12,'Statiske ejendomme'!$B$3:$PN$81,'Statiske ejendomme'!$A69,FALSE))=FALSE,HLOOKUP(O$12,'Statiske ejendomme'!$B$3:$PN$81,'Statiske ejendomme'!$A69,FALSE),\"\"))),\"\")","v":""},{"$f":"IFERROR(IF(P$12=Kredsudvælgelse!$Q$20,\"\",IF(Kredsudvælgelse!AG$2=1,IF(ISTEXT(DGET(Forespørgsel1[#All],\"\"&LEFT($F77,LEN($F77)-$C77)&\"\",Kredsudvælgelse!$Q$6:$R$7))=TRUE,DGET(Forespørgsel1[#All],\"\"&LEFT($F77,LEN($F77)-$C77)&\"\",Kredsudvælgelse!$Q$6:$R$7),DGET(Forespørgsel1[#All],\"\"&LEFT($F77,LEN($F77)-$C77)&\"\",Kredsudvælgelse!$Q$6:$R$7)/IF(ISNONTEXT($D77)=TRUE,1,DGET(Forespørgsel1[#All],\"\"&$D77&\"\",Kredsudvælgelse!$Q$6:$R$7))),IF(ISBLANK(HLOOKUP(P$12,'Statiske ejendomme'!$B$3:$PN$81,'Statiske ejendomme'!$A69,FALSE))=FALSE,HLOOKUP(P$12,'Statiske ejendomme'!$B$3:$PN$81,'Statiske ejendomme'!$A69,FALSE),\"\"))),\"\")","v":""},{"$f":"IFERROR(IF(Q$12=Kredsudvælgelse!$Q$20,\"\",IF(Kredsudvælgelse!AH$2=1,IF(ISTEXT(DGET(Forespørgsel1[#All],\"\"&LEFT($F77,LEN($F77)-$C77)&\"\",Kredsudvælgelse!$S$6:$T$7))=TRUE,DGET(Forespørgsel1[#All],\"\"&LEFT($F77,LEN($F77)-$C77)&\"\",Kredsudvælgelse!$S$6:$T$7),DGET(Forespørgsel1[#All],\"\"&LEFT($F77,LEN($F77)-$C77)&\"\",Kredsudvælgelse!$S$6:$T$7)/IF(ISNONTEXT($D77)=TRUE,1,DGET(Forespørgsel1[#All],\"\"&$D77&\"\",Kredsudvælgelse!$S$6:$T$7))),IF(ISBLANK(HLOOKUP(Q$12,'Statiske ejendomme'!$B$3:$PN$81,'Statiske ejendomme'!$A69,FALSE))=FALSE,HLOOKUP(Q$12,'Statiske ejendomme'!$B$3:$PN$81,'Statiske ejendomme'!$A69,FALSE),\"\"))),\"\")","v":""},{"$f":"IFERROR(IF(R$12=Kredsudvælgelse!$Q$20,\"\",IF(Kredsudvælgelse!AI$2=1,IF(ISTEXT(DGET(Forespørgsel1[#All],\"\"&LEFT($F77,LEN($F77)-$C77)&\"\",Kredsudvælgelse!$U$6:$V$7))=TRUE,DGET(Forespørgsel1[#All],\"\"&LEFT($F77,LEN($F77)-$C77)&\"\",Kredsudvælgelse!$U$6:$V$7),DGET(Forespørgsel1[#All],\"\"&LEFT($F77,LEN($F77)-$C77)&\"\",Kredsudvælgelse!$U$6:$V$7)/IF(ISNONTEXT($D77)=TRUE,1,DGET(Forespørgsel1[#All],\"\"&$D77&\"\",Kredsudvælgelse!$U$6:$V$7))),IF(ISBLANK(HLOOKUP(R$12,'Statiske ejendomme'!$B$3:$PN$81,'Statiske ejendomme'!$A69,FALSE))=FALSE,HLOOKUP(R$12,'Statiske ejendomme'!$B$3:$PN$81,'Statiske ejendomme'!$A69,FALSE),\"\"))),\"\")","v":""},{"$f":"IFERROR(IF(S$12=Kredsudvælgelse!$Q$20,\"\",IF(Kredsudvælgelse!AJ$2=1,IF(ISTEXT(DGET(Forespørgsel1[#All],\"\"&LEFT($F77,LEN($F77)-$C77)&\"\",Kredsudvælgelse!$W$6:$X$7))=TRUE,DGET(Forespørgsel1[#All],\"\"&LEFT($F77,LEN($F77)-$C77)&\"\",Kredsudvælgelse!$W$6:$X$7),DGET(Forespørgsel1[#All],\"\"&LEFT($F77,LEN($F77)-$C77)&\"\",Kredsudvælgelse!$W$6:$X$7)/IF(ISNONTEXT($D77)=TRUE,1,DGET(Forespørgsel1[#All],\"\"&$D77&\"\",Kredsudvælgelse!$W$6:$X$7))),IF(ISBLANK(HLOOKUP(S$12,'Statiske ejendomme'!$B$3:$PN$81,'Statiske ejendomme'!$A69,FALSE))=FALSE,HLOOKUP(S$12,'Statiske ejendomme'!$B$3:$PN$81,'Statiske ejendomme'!$A69,FALSE),\"\"))),\"\")","v":""},{"$f":"IFERROR(IF(T$12=Kredsudvælgelse!$Q$20,\"\",IF(Kredsudvælgelse!AK$2=1,IF(ISTEXT(DGET(Forespørgsel1[#All],\"\"&LEFT($F77,LEN($F77)-$C77)&\"\",Kredsudvælgelse!$W$6:$X$7))=TRUE,DGET(Forespørgsel1[#All],\"\"&LEFT($F77,LEN($F77)-$C77)&\"\",Kredsudvælgelse!$W$6:$X$7),DGET(Forespørgsel1[#All],\"\"&LEFT($F77,LEN($F77)-$C77)&\"\",Kredsudvælgelse!$W$6:$X$7)/IF(ISNONTEXT($D77)=TRUE,1,DGET(Forespørgsel1[#All],\"\"&$D77&\"\",Kredsudvælgelse!$W$6:$X$7))),IF(ISBLANK(HLOOKUP(T$12,'Statiske ejendomme'!$B$3:$PN$81,'Statiske ejendomme'!$A70,FALSE))=FALSE,HLOOKUP(T$12,'Statiske ejendomme'!$B$3:$PN$81,'Statiske ejendomme'!$A70,FALSE),\"\"))),\"\")","v":""}]
[{"$f":"Mink!E149","v":0},{"$f":"Mink!D149","v":0},{"$f":"Mink!A67","v":0},{"$f":"Mink!B67","v":0},null,{"$f":"Mink!C67","v":0},{"$f":"Mink!D67","v":0},{"$f":"Mink!E67","v":0},{"$f":"Mink!F67","v":0},{"$f":"Mink!G67","v":0},{"$f":"IFERROR(IF(K$12=Kredsudvælgelse!$Q$20,\"\",IF(Kredsudvælgelse!AB$2=1,IF(ISTEXT(DGET(Forespørgsel1[#All],\"\"&LEFT($F78,LEN($F78)-$C78)&\"\",Kredsudvælgelse!$Q$2:$R$3))=TRUE,DGET(Forespørgsel1[#All],\"\"&LEFT($F78,LEN($F78)-$C78)&\"\",Kredsudvælgelse!$Q$2:$R$3),DGET(Forespørgsel1[#All],\"\"&LEFT($F78,LEN($F78)-$C78)&\"\",Kredsudvælgelse!$Q$2:$R$3)/IF(ISNONTEXT($D78)=TRUE,1,DGET(Forespørgsel1[#All],\"\"&$D78&\"\",Kredsudvælgelse!$Q$2:$R$3))),IF(ISBLANK(HLOOKUP(K$12,'Statiske ejendomme'!$B$3:$PN$81,'Statiske ejendomme'!$A70,FALSE))=FALSE,HLOOKUP(K$12,'Statiske ejendomme'!$B$3:$PN$81,'Statiske ejendomme'!$A70,FALSE),\"\"))),\"\")","v":""},{"$f":"IFERROR(IF(L$12=Kredsudvælgelse!$Q$20,\"\",IF(Kredsudvælgelse!AC$2=1,IF(ISTEXT(DGET(Forespørgsel1[#All],\"\"&LEFT($F78,LEN($F78)-$C78)&\"\",Kredsudvælgelse!$S$2:$T$3))=TRUE,DGET(Forespørgsel1[#All],\"\"&LEFT($F78,LEN($F78)-$C78)&\"\",Kredsudvælgelse!$S$2:$T$3),DGET(Forespørgsel1[#All],\"\"&LEFT($F78,LEN($F78)-$C78)&\"\",Kredsudvælgelse!$S$2:$T$3)/IF(ISNONTEXT($D78)=TRUE,1,DGET(Forespørgsel1[#All],\"\"&$D78&\"\",Kredsudvælgelse!$S$2:$T$3))),IF(ISBLANK(HLOOKUP(L$12,'Statiske ejendomme'!$B$3:$PN$81,'Statiske ejendomme'!$A70,FALSE))=FALSE,HLOOKUP(L$12,'Statiske ejendomme'!$B$3:$PN$81,'Statiske ejendomme'!$A70,FALSE),\"\"))),\"\")","v":""},{"$f":"IFERROR(IF(M$12=Kredsudvælgelse!$Q$20,\"\",IF(Kredsudvælgelse!AD$2=1,IF(ISTEXT(DGET(Forespørgsel1[#All],\"\"&LEFT($F78,LEN($F78)-$C78)&\"\",Kredsudvælgelse!$U$2:$V$3))=TRUE,DGET(Forespørgsel1[#All],\"\"&LEFT($F78,LEN($F78)-$C78)&\"\",Kredsudvælgelse!$U$2:$V$3),DGET(Forespørgsel1[#All],\"\"&LEFT($F78,LEN($F78)-$C78)&\"\",Kredsudvælgelse!$U$2:$V$3)/IF(ISNONTEXT($D78)=TRUE,1,DGET(Forespørgsel1[#All],\"\"&$D78&\"\",Kredsudvælgelse!$U$2:$V$3))),IF(ISBLANK(HLOOKUP(M$12,'Statiske ejendomme'!$B$3:$PN$81,'Statiske ejendomme'!$A70,FALSE))=FALSE,HLOOKUP(M$12,'Statiske ejendomme'!$B$3:$PN$81,'Statiske ejendomme'!$A70,FALSE),\"\"))),\"\")","v":""},{"$f":"IFERROR(IF(N$12=Kredsudvælgelse!$Q$20,\"\",IF(Kredsudvælgelse!AE$2=1,IF(ISTEXT(DGET(Forespørgsel1[#All],\"\"&LEFT($F78,LEN($F78)-$C78)&\"\",Kredsudvælgelse!$W$2:$X$3))=TRUE,DGET(Forespørgsel1[#All],\"\"&LEFT($F78,LEN($F78)-$C78)&\"\",Kredsudvælgelse!$W$2:$X$3),DGET(Forespørgsel1[#All],\"\"&LEFT($F78,LEN($F78)-$C78)&\"\",Kredsudvælgelse!$W$2:$X$3)/IF(ISNONTEXT($D78)=TRUE,1,DGET(Forespørgsel1[#All],\"\"&$D78&\"\",Kredsudvælgelse!$W$2:$X$3))),IF(ISBLANK(HLOOKUP(N$12,'Statiske ejendomme'!$B$3:$PN$81,'Statiske ejendomme'!$A70,FALSE))=FALSE,HLOOKUP(N$12,'Statiske ejendomme'!$B$3:$PN$81,'Statiske ejendomme'!$A70,FALSE),\"\"))),\"\")","v":""},{"$f":"IFERROR(IF(O$12=Kredsudvælgelse!$Q$20,\"\",IF(Kredsudvælgelse!AF$2=1,IF(ISTEXT(DGET(Forespørgsel1[#All],\"\"&LEFT($F78,LEN($F78)-$C78)&\"\",Kredsudvælgelse!$Y$2:$Z$3))=TRUE,DGET(Forespørgsel1[#All],\"\"&LEFT($F78,LEN($F78)-$C78)&\"\",Kredsudvælgelse!$Y$2:$Z$3),DGET(Forespørgsel1[#All],\"\"&LEFT($F78,LEN($F78)-$C78)&\"\",Kredsudvælgelse!$Y$2:$Z$3)/IF(ISNONTEXT($D78)=TRUE,1,DGET(Forespørgsel1[#All],\"\"&$D78&\"\",Kredsudvælgelse!$Y$2:$Z$3))),IF(ISBLANK(HLOOKUP(O$12,'Statiske ejendomme'!$B$3:$PN$81,'Statiske ejendomme'!$A70,FALSE))=FALSE,HLOOKUP(O$12,'Statiske ejendomme'!$B$3:$PN$81,'Statiske ejendomme'!$A70,FALSE),\"\"))),\"\")","v":""},{"$f":"IFERROR(IF(P$12=Kredsudvælgelse!$Q$20,\"\",IF(Kredsudvælgelse!AG$2=1,IF(ISTEXT(DGET(Forespørgsel1[#All],\"\"&LEFT($F78,LEN($F78)-$C78)&\"\",Kredsudvælgelse!$Q$6:$R$7))=TRUE,DGET(Forespørgsel1[#All],\"\"&LEFT($F78,LEN($F78)-$C78)&\"\",Kredsudvælgelse!$Q$6:$R$7),DGET(Forespørgsel1[#All],\"\"&LEFT($F78,LEN($F78)-$C78)&\"\",Kredsudvælgelse!$Q$6:$R$7)/IF(ISNONTEXT($D78)=TRUE,1,DGET(Forespørgsel1[#All],\"\"&$D78&\"\",Kredsudvælgelse!$Q$6:$R$7))),IF(ISBLANK(HLOOKUP(P$12,'Statiske ejendomme'!$B$3:$PN$81,'Statiske ejendomme'!$A70,FALSE))=FALSE,HLOOKUP(P$12,'Statiske ejendomme'!$B$3:$PN$81,'Statiske ejendomme'!$A70,FALSE),\"\"))),\"\")","v":""},{"$f":"IFERROR(IF(Q$12=Kredsudvælgelse!$Q$20,\"\",IF(Kredsudvælgelse!AH$2=1,IF(ISTEXT(DGET(Forespørgsel1[#All],\"\"&LEFT($F78,LEN($F78)-$C78)&\"\",Kredsudvælgelse!$S$6:$T$7))=TRUE,DGET(Forespørgsel1[#All],\"\"&LEFT($F78,LEN($F78)-$C78)&\"\",Kredsudvælgelse!$S$6:$T$7),DGET(Forespørgsel1[#All],\"\"&LEFT($F78,LEN($F78)-$C78)&\"\",Kredsudvælgelse!$S$6:$T$7)/IF(ISNONTEXT($D78)=TRUE,1,DGET(Forespørgsel1[#All],\"\"&$D78&\"\",Kredsudvælgelse!$S$6:$T$7))),IF(ISBLANK(HLOOKUP(Q$12,'Statiske ejendomme'!$B$3:$PN$81,'Statiske ejendomme'!$A70,FALSE))=FALSE,HLOOKUP(Q$12,'Statiske ejendomme'!$B$3:$PN$81,'Statiske ejendomme'!$A70,FALSE),\"\"))),\"\")","v":""},{"$f":"IFERROR(IF(R$12=Kredsudvælgelse!$Q$20,\"\",IF(Kredsudvælgelse!AI$2=1,IF(ISTEXT(DGET(Forespørgsel1[#All],\"\"&LEFT($F78,LEN($F78)-$C78)&\"\",Kredsudvælgelse!$U$6:$V$7))=TRUE,DGET(Forespørgsel1[#All],\"\"&LEFT($F78,LEN($F78)-$C78)&\"\",Kredsudvælgelse!$U$6:$V$7),DGET(Forespørgsel1[#All],\"\"&LEFT($F78,LEN($F78)-$C78)&\"\",Kredsudvælgelse!$U$6:$V$7)/IF(ISNONTEXT($D78)=TRUE,1,DGET(Forespørgsel1[#All],\"\"&$D78&\"\",Kredsudvælgelse!$U$6:$V$7))),IF(ISBLANK(HLOOKUP(R$12,'Statiske ejendomme'!$B$3:$PN$81,'Statiske ejendomme'!$A70,FALSE))=FALSE,HLOOKUP(R$12,'Statiske ejendomme'!$B$3:$PN$81,'Statiske ejendomme'!$A70,FALSE),\"\"))),\"\")","v":""},{"$f":"IFERROR(IF(S$12=Kredsudvælgelse!$Q$20,\"\",IF(Kredsudvælgelse!AJ$2=1,IF(ISTEXT(DGET(Forespørgsel1[#All],\"\"&LEFT($F78,LEN($F78)-$C78)&\"\",Kredsudvælgelse!$W$6:$X$7))=TRUE,DGET(Forespørgsel1[#All],\"\"&LEFT($F78,LEN($F78)-$C78)&\"\",Kredsudvælgelse!$W$6:$X$7),DGET(Forespørgsel1[#All],\"\"&LEFT($F78,LEN($F78)-$C78)&\"\",Kredsudvælgelse!$W$6:$X$7)/IF(ISNONTEXT($D78)=TRUE,1,DGET(Forespørgsel1[#All],\"\"&$D78&\"\",Kredsudvælgelse!$W$6:$X$7))),IF(ISBLANK(HLOOKUP(S$12,'Statiske ejendomme'!$B$3:$PN$81,'Statiske ejendomme'!$A70,FALSE))=FALSE,HLOOKUP(S$12,'Statiske ejendomme'!$B$3:$PN$81,'Statiske ejendomme'!$A70,FALSE),\"\"))),\"\")","v":""},{"$f":"IFERROR(IF(T$12=Kredsudvælgelse!$Q$20,\"\",IF(Kredsudvælgelse!AK$2=1,IF(ISTEXT(DGET(Forespørgsel1[#All],\"\"&LEFT($F78,LEN($F78)-$C78)&\"\",Kredsudvælgelse!$W$6:$X$7))=TRUE,DGET(Forespørgsel1[#All],\"\"&LEFT($F78,LEN($F78)-$C78)&\"\",Kredsudvælgelse!$W$6:$X$7),DGET(Forespørgsel1[#All],\"\"&LEFT($F78,LEN($F78)-$C78)&\"\",Kredsudvælgelse!$W$6:$X$7)/IF(ISNONTEXT($D78)=TRUE,1,DGET(Forespørgsel1[#All],\"\"&$D78&\"\",Kredsudvælgelse!$W$6:$X$7))),IF(ISBLANK(HLOOKUP(T$12,'Statiske ejendomme'!$B$3:$PN$81,'Statiske ejendomme'!$A71,FALSE))=FALSE,HLOOKUP(T$12,'Statiske ejendomme'!$B$3:$PN$81,'Statiske ejendomme'!$A71,FALSE),\"\"))),\"\")","v":""}]
[{"$f":"Mink!E150","v":0},{"$f":"Mink!D150","v":0},{"$f":"Mink!A68","v":0},{"$f":"Mink!B68","v":0},null,{"$f":"Mink!C68","v":0},{"$f":"Mink!D68","v":0},{"$f":"Mink!E68","v":0},{"$f":"Mink!F68","v":0},{"$f":"Mink!G68","v":0},{"$f":"IFERROR(IF(K$12=Kredsudvælgelse!$Q$20,\"\",IF(Kredsudvælgelse!AB$2=1,IF(ISTEXT(DGET(Forespørgsel1[#All],\"\"&LEFT($F79,LEN($F79)-$C79)&\"\",Kredsudvælgelse!$Q$2:$R$3))=TRUE,DGET(Forespørgsel1[#All],\"\"&LEFT($F79,LEN($F79)-$C79)&\"\",Kredsudvælgelse!$Q$2:$R$3),DGET(Forespørgsel1[#All],\"\"&LEFT($F79,LEN($F79)-$C79)&\"\",Kredsudvælgelse!$Q$2:$R$3)/IF(ISNONTEXT($D79)=TRUE,1,DGET(Forespørgsel1[#All],\"\"&$D79&\"\",Kredsudvælgelse!$Q$2:$R$3))),IF(ISBLANK(HLOOKUP(K$12,'Statiske ejendomme'!$B$3:$PN$81,'Statiske ejendomme'!$A71,FALSE))=FALSE,HLOOKUP(K$12,'Statiske ejendomme'!$B$3:$PN$81,'Statiske ejendomme'!$A71,FALSE),\"\"))),\"\")","v":""},{"$f":"IFERROR(IF(L$12=Kredsudvælgelse!$Q$20,\"\",IF(Kredsudvælgelse!AC$2=1,IF(ISTEXT(DGET(Forespørgsel1[#All],\"\"&LEFT($F79,LEN($F79)-$C79)&\"\",Kredsudvælgelse!$S$2:$T$3))=TRUE,DGET(Forespørgsel1[#All],\"\"&LEFT($F79,LEN($F79)-$C79)&\"\",Kredsudvælgelse!$S$2:$T$3),DGET(Forespørgsel1[#All],\"\"&LEFT($F79,LEN($F79)-$C79)&\"\",Kredsudvælgelse!$S$2:$T$3)/IF(ISNONTEXT($D79)=TRUE,1,DGET(Forespørgsel1[#All],\"\"&$D79&\"\",Kredsudvælgelse!$S$2:$T$3))),IF(ISBLANK(HLOOKUP(L$12,'Statiske ejendomme'!$B$3:$PN$81,'Statiske ejendomme'!$A71,FALSE))=FALSE,HLOOKUP(L$12,'Statiske ejendomme'!$B$3:$PN$81,'Statiske ejendomme'!$A71,FALSE),\"\"))),\"\")","v":""},{"$f":"IFERROR(IF(M$12=Kredsudvælgelse!$Q$20,\"\",IF(Kredsudvælgelse!AD$2=1,IF(ISTEXT(DGET(Forespørgsel1[#All],\"\"&LEFT($F79,LEN($F79)-$C79)&\"\",Kredsudvælgelse!$U$2:$V$3))=TRUE,DGET(Forespørgsel1[#All],\"\"&LEFT($F79,LEN($F79)-$C79)&\"\",Kredsudvælgelse!$U$2:$V$3),DGET(Forespørgsel1[#All],\"\"&LEFT($F79,LEN($F79)-$C79)&\"\",Kredsudvælgelse!$U$2:$V$3)/IF(ISNONTEXT($D79)=TRUE,1,DGET(Forespørgsel1[#All],\"\"&$D79&\"\",Kredsudvælgelse!$U$2:$V$3))),IF(ISBLANK(HLOOKUP(M$12,'Statiske ejendomme'!$B$3:$PN$81,'Statiske ejendomme'!$A71,FALSE))=FALSE,HLOOKUP(M$12,'Statiske ejendomme'!$B$3:$PN$81,'Statiske ejendomme'!$A71,FALSE),\"\"))),\"\")","v":""},{"$f":"IFERROR(IF(N$12=Kredsudvælgelse!$Q$20,\"\",IF(Kredsudvælgelse!AE$2=1,IF(ISTEXT(DGET(Forespørgsel1[#All],\"\"&LEFT($F79,LEN($F79)-$C79)&\"\",Kredsudvælgelse!$W$2:$X$3))=TRUE,DGET(Forespørgsel1[#All],\"\"&LEFT($F79,LEN($F79)-$C79)&\"\",Kredsudvælgelse!$W$2:$X$3),DGET(Forespørgsel1[#All],\"\"&LEFT($F79,LEN($F79)-$C79)&\"\",Kredsudvælgelse!$W$2:$X$3)/IF(ISNONTEXT($D79)=TRUE,1,DGET(Forespørgsel1[#All],\"\"&$D79&\"\",Kredsudvælgelse!$W$2:$X$3))),IF(ISBLANK(HLOOKUP(N$12,'Statiske ejendomme'!$B$3:$PN$81,'Statiske ejendomme'!$A71,FALSE))=FALSE,HLOOKUP(N$12,'Statiske ejendomme'!$B$3:$PN$81,'Statiske ejendomme'!$A71,FALSE),\"\"))),\"\")","v":""},{"$f":"IFERROR(IF(O$12=Kredsudvælgelse!$Q$20,\"\",IF(Kredsudvælgelse!AF$2=1,IF(ISTEXT(DGET(Forespørgsel1[#All],\"\"&LEFT($F79,LEN($F79)-$C79)&\"\",Kredsudvælgelse!$Y$2:$Z$3))=TRUE,DGET(Forespørgsel1[#All],\"\"&LEFT($F79,LEN($F79)-$C79)&\"\",Kredsudvælgelse!$Y$2:$Z$3),DGET(Forespørgsel1[#All],\"\"&LEFT($F79,LEN($F79)-$C79)&\"\",Kredsudvælgelse!$Y$2:$Z$3)/IF(ISNONTEXT($D79)=TRUE,1,DGET(Forespørgsel1[#All],\"\"&$D79&\"\",Kredsudvælgelse!$Y$2:$Z$3))),IF(ISBLANK(HLOOKUP(O$12,'Statiske ejendomme'!$B$3:$PN$81,'Statiske ejendomme'!$A71,FALSE))=FALSE,HLOOKUP(O$12,'Statiske ejendomme'!$B$3:$PN$81,'Statiske ejendomme'!$A71,FALSE),\"\"))),\"\")","v":""},{"$f":"IFERROR(IF(P$12=Kredsudvælgelse!$Q$20,\"\",IF(Kredsudvælgelse!AG$2=1,IF(ISTEXT(DGET(Forespørgsel1[#All],\"\"&LEFT($F79,LEN($F79)-$C79)&\"\",Kredsudvælgelse!$Q$6:$R$7))=TRUE,DGET(Forespørgsel1[#All],\"\"&LEFT($F79,LEN($F79)-$C79)&\"\",Kredsudvælgelse!$Q$6:$R$7),DGET(Forespørgsel1[#All],\"\"&LEFT($F79,LEN($F79)-$C79)&\"\",Kredsudvælgelse!$Q$6:$R$7)/IF(ISNONTEXT($D79)=TRUE,1,DGET(Forespørgsel1[#All],\"\"&$D79&\"\",Kredsudvælgelse!$Q$6:$R$7))),IF(ISBLANK(HLOOKUP(P$12,'Statiske ejendomme'!$B$3:$PN$81,'Statiske ejendomme'!$A71,FALSE))=FALSE,HLOOKUP(P$12,'Statiske ejendomme'!$B$3:$PN$81,'Statiske ejendomme'!$A71,FALSE),\"\"))),\"\")","v":""},{"$f":"IFERROR(IF(Q$12=Kredsudvælgelse!$Q$20,\"\",IF(Kredsudvælgelse!AH$2=1,IF(ISTEXT(DGET(Forespørgsel1[#All],\"\"&LEFT($F79,LEN($F79)-$C79)&\"\",Kredsudvælgelse!$S$6:$T$7))=TRUE,DGET(Forespørgsel1[#All],\"\"&LEFT($F79,LEN($F79)-$C79)&\"\",Kredsudvælgelse!$S$6:$T$7),DGET(Forespørgsel1[#All],\"\"&LEFT($F79,LEN($F79)-$C79)&\"\",Kredsudvælgelse!$S$6:$T$7)/IF(ISNONTEXT($D79)=TRUE,1,DGET(Forespørgsel1[#All],\"\"&$D79&\"\",Kredsudvælgelse!$S$6:$T$7))),IF(ISBLANK(HLOOKUP(Q$12,'Statiske ejendomme'!$B$3:$PN$81,'Statiske ejendomme'!$A71,FALSE))=FALSE,HLOOKUP(Q$12,'Statiske ejendomme'!$B$3:$PN$81,'Statiske ejendomme'!$A71,FALSE),\"\"))),\"\")","v":""},{"$f":"IFERROR(IF(R$12=Kredsudvælgelse!$Q$20,\"\",IF(Kredsudvælgelse!AI$2=1,IF(ISTEXT(DGET(Forespørgsel1[#All],\"\"&LEFT($F79,LEN($F79)-$C79)&\"\",Kredsudvælgelse!$U$6:$V$7))=TRUE,DGET(Forespørgsel1[#All],\"\"&LEFT($F79,LEN($F79)-$C79)&\"\",Kredsudvælgelse!$U$6:$V$7),DGET(Forespørgsel1[#All],\"\"&LEFT($F79,LEN($F79)-$C79)&\"\",Kredsudvælgelse!$U$6:$V$7)/IF(ISNONTEXT($D79)=TRUE,1,DGET(Forespørgsel1[#All],\"\"&$D79&\"\",Kredsudvælgelse!$U$6:$V$7))),IF(ISBLANK(HLOOKUP(R$12,'Statiske ejendomme'!$B$3:$PN$81,'Statiske ejendomme'!$A71,FALSE))=FALSE,HLOOKUP(R$12,'Statiske ejendomme'!$B$3:$PN$81,'Statiske ejendomme'!$A71,FALSE),\"\"))),\"\")","v":""},{"$f":"IFERROR(IF(S$12=Kredsudvælgelse!$Q$20,\"\",IF(Kredsudvælgelse!AJ$2=1,IF(ISTEXT(DGET(Forespørgsel1[#All],\"\"&LEFT($F79,LEN($F79)-$C79)&\"\",Kredsudvælgelse!$W$6:$X$7))=TRUE,DGET(Forespørgsel1[#All],\"\"&LEFT($F79,LEN($F79)-$C79)&\"\",Kredsudvælgelse!$W$6:$X$7),DGET(Forespørgsel1[#All],\"\"&LEFT($F79,LEN($F79)-$C79)&\"\",Kredsudvælgelse!$W$6:$X$7)/IF(ISNONTEXT($D79)=TRUE,1,DGET(Forespørgsel1[#All],\"\"&$D79&\"\",Kredsudvælgelse!$W$6:$X$7))),IF(ISBLANK(HLOOKUP(S$12,'Statiske ejendomme'!$B$3:$PN$81,'Statiske ejendomme'!$A71,FALSE))=FALSE,HLOOKUP(S$12,'Statiske ejendomme'!$B$3:$PN$81,'Statiske ejendomme'!$A71,FALSE),\"\"))),\"\")","v":""},{"$f":"IFERROR(IF(T$12=Kredsudvælgelse!$Q$20,\"\",IF(Kredsudvælgelse!AK$2=1,IF(ISTEXT(DGET(Forespørgsel1[#All],\"\"&LEFT($F79,LEN($F79)-$C79)&\"\",Kredsudvælgelse!$W$6:$X$7))=TRUE,DGET(Forespørgsel1[#All],\"\"&LEFT($F79,LEN($F79)-$C79)&\"\",Kredsudvælgelse!$W$6:$X$7),DGET(Forespørgsel1[#All],\"\"&LEFT($F79,LEN($F79)-$C79)&\"\",Kredsudvælgelse!$W$6:$X$7)/IF(ISNONTEXT($D79)=TRUE,1,DGET(Forespørgsel1[#All],\"\"&$D79&\"\",Kredsudvælgelse!$W$6:$X$7))),IF(ISBLANK(HLOOKUP(T$12,'Statiske ejendomme'!$B$3:$PN$81,'Statiske ejendomme'!$A72,FALSE))=FALSE,HLOOKUP(T$12,'Statiske ejendomme'!$B$3:$PN$81,'Statiske ejendomme'!$A72,FALSE),\"\"))),\"\")","v":""}]
[{"$f":"Mink!E151","v":0},{"$f":"Mink!D151","v":0},{"$f":"Mink!A69","v":0},{"$f":"Mink!B69","v":0},null,{"$f":"Mink!C69","v":0},{"$f":"Mink!D69","v":0},{"$f":"Mink!E69","v":0},{"$f":"Mink!F69","v":0},{"$f":"Mink!G69","v":0},{"$f":"IFERROR(IF(K$12=Kredsudvælgelse!$Q$20,\"\",IF(Kredsudvælgelse!AB$2=1,IF(ISTEXT(DGET(Forespørgsel1[#All],\"\"&LEFT($F80,LEN($F80)-$C80)&\"\",Kredsudvælgelse!$Q$2:$R$3))=TRUE,DGET(Forespørgsel1[#All],\"\"&LEFT($F80,LEN($F80)-$C80)&\"\",Kredsudvælgelse!$Q$2:$R$3),DGET(Forespørgsel1[#All],\"\"&LEFT($F80,LEN($F80)-$C80)&\"\",Kredsudvælgelse!$Q$2:$R$3)/IF(ISNONTEXT($D80)=TRUE,1,DGET(Forespørgsel1[#All],\"\"&$D80&\"\",Kredsudvælgelse!$Q$2:$R$3))),IF(ISBLANK(HLOOKUP(K$12,'Statiske ejendomme'!$B$3:$PN$81,'Statiske ejendomme'!$A72,FALSE))=FALSE,HLOOKUP(K$12,'Statiske ejendomme'!$B$3:$PN$81,'Statiske ejendomme'!$A72,FALSE),\"\"))),\"\")","v":""},{"$f":"IFERROR(IF(L$12=Kredsudvælgelse!$Q$20,\"\",IF(Kredsudvælgelse!AC$2=1,IF(ISTEXT(DGET(Forespørgsel1[#All],\"\"&LEFT($F80,LEN($F80)-$C80)&\"\",Kredsudvælgelse!$S$2:$T$3))=TRUE,DGET(Forespørgsel1[#All],\"\"&LEFT($F80,LEN($F80)-$C80)&\"\",Kredsudvælgelse!$S$2:$T$3),DGET(Forespørgsel1[#All],\"\"&LEFT($F80,LEN($F80)-$C80)&\"\",Kredsudvælgelse!$S$2:$T$3)/IF(ISNONTEXT($D80)=TRUE,1,DGET(Forespørgsel1[#All],\"\"&$D80&\"\",Kredsudvælgelse!$S$2:$T$3))),IF(ISBLANK(HLOOKUP(L$12,'Statiske ejendomme'!$B$3:$PN$81,'Statiske ejendomme'!$A72,FALSE))=FALSE,HLOOKUP(L$12,'Statiske ejendomme'!$B$3:$PN$81,'Statiske ejendomme'!$A72,FALSE),\"\"))),\"\")","v":""},{"$f":"IFERROR(IF(M$12=Kredsudvælgelse!$Q$20,\"\",IF(Kredsudvælgelse!AD$2=1,IF(ISTEXT(DGET(Forespørgsel1[#All],\"\"&LEFT($F80,LEN($F80)-$C80)&\"\",Kredsudvælgelse!$U$2:$V$3))=TRUE,DGET(Forespørgsel1[#All],\"\"&LEFT($F80,LEN($F80)-$C80)&\"\",Kredsudvælgelse!$U$2:$V$3),DGET(Forespørgsel1[#All],\"\"&LEFT($F80,LEN($F80)-$C80)&\"\",Kredsudvælgelse!$U$2:$V$3)/IF(ISNONTEXT($D80)=TRUE,1,DGET(Forespørgsel1[#All],\"\"&$D80&\"\",Kredsudvælgelse!$U$2:$V$3))),IF(ISBLANK(HLOOKUP(M$12,'Statiske ejendomme'!$B$3:$PN$81,'Statiske ejendomme'!$A72,FALSE))=FALSE,HLOOKUP(M$12,'Statiske ejendomme'!$B$3:$PN$81,'Statiske ejendomme'!$A72,FALSE),\"\"))),\"\")","v":""},{"$f":"IFERROR(IF(N$12=Kredsudvælgelse!$Q$20,\"\",IF(Kredsudvælgelse!AE$2=1,IF(ISTEXT(DGET(Forespørgsel1[#All],\"\"&LEFT($F80,LEN($F80)-$C80)&\"\",Kredsudvælgelse!$W$2:$X$3))=TRUE,DGET(Forespørgsel1[#All],\"\"&LEFT($F80,LEN($F80)-$C80)&\"\",Kredsudvælgelse!$W$2:$X$3),DGET(Forespørgsel1[#All],\"\"&LEFT($F80,LEN($F80)-$C80)&\"\",Kredsudvælgelse!$W$2:$X$3)/IF(ISNONTEXT($D80)=TRUE,1,DGET(Forespørgsel1[#All],\"\"&$D80&\"\",Kredsudvælgelse!$W$2:$X$3))),IF(ISBLANK(HLOOKUP(N$12,'Statiske ejendomme'!$B$3:$PN$81,'Statiske ejendomme'!$A72,FALSE))=FALSE,HLOOKUP(N$12,'Statiske ejendomme'!$B$3:$PN$81,'Statiske ejendomme'!$A72,FALSE),\"\"))),\"\")","v":""},{"$f":"IFERROR(IF(O$12=Kredsudvælgelse!$Q$20,\"\",IF(Kredsudvælgelse!AF$2=1,IF(ISTEXT(DGET(Forespørgsel1[#All],\"\"&LEFT($F80,LEN($F80)-$C80)&\"\",Kredsudvælgelse!$Y$2:$Z$3))=TRUE,DGET(Forespørgsel1[#All],\"\"&LEFT($F80,LEN($F80)-$C80)&\"\",Kredsudvælgelse!$Y$2:$Z$3),DGET(Forespørgsel1[#All],\"\"&LEFT($F80,LEN($F80)-$C80)&\"\",Kredsudvælgelse!$Y$2:$Z$3)/IF(ISNONTEXT($D80)=TRUE,1,DGET(Forespørgsel1[#All],\"\"&$D80&\"\",Kredsudvælgelse!$Y$2:$Z$3))),IF(ISBLANK(HLOOKUP(O$12,'Statiske ejendomme'!$B$3:$PN$81,'Statiske ejendomme'!$A72,FALSE))=FALSE,HLOOKUP(O$12,'Statiske ejendomme'!$B$3:$PN$81,'Statiske ejendomme'!$A72,FALSE),\"\"))),\"\")","v":""},{"$f":"IFERROR(IF(P$12=Kredsudvælgelse!$Q$20,\"\",IF(Kredsudvælgelse!AG$2=1,IF(ISTEXT(DGET(Forespørgsel1[#All],\"\"&LEFT($F80,LEN($F80)-$C80)&\"\",Kredsudvælgelse!$Q$6:$R$7))=TRUE,DGET(Forespørgsel1[#All],\"\"&LEFT($F80,LEN($F80)-$C80)&\"\",Kredsudvælgelse!$Q$6:$R$7),DGET(Forespørgsel1[#All],\"\"&LEFT($F80,LEN($F80)-$C80)&\"\",Kredsudvælgelse!$Q$6:$R$7)/IF(ISNONTEXT($D80)=TRUE,1,DGET(Forespørgsel1[#All],\"\"&$D80&\"\",Kredsudvælgelse!$Q$6:$R$7))),IF(ISBLANK(HLOOKUP(P$12,'Statiske ejendomme'!$B$3:$PN$81,'Statiske ejendomme'!$A72,FALSE))=FALSE,HLOOKUP(P$12,'Statiske ejendomme'!$B$3:$PN$81,'Statiske ejendomme'!$A72,FALSE),\"\"))),\"\")","v":""},{"$f":"IFERROR(IF(Q$12=Kredsudvælgelse!$Q$20,\"\",IF(Kredsudvælgelse!AH$2=1,IF(ISTEXT(DGET(Forespørgsel1[#All],\"\"&LEFT($F80,LEN($F80)-$C80)&\"\",Kredsudvælgelse!$S$6:$T$7))=TRUE,DGET(Forespørgsel1[#All],\"\"&LEFT($F80,LEN($F80)-$C80)&\"\",Kredsudvælgelse!$S$6:$T$7),DGET(Forespørgsel1[#All],\"\"&LEFT($F80,LEN($F80)-$C80)&\"\",Kredsudvælgelse!$S$6:$T$7)/IF(ISNONTEXT($D80)=TRUE,1,DGET(Forespørgsel1[#All],\"\"&$D80&\"\",Kredsudvælgelse!$S$6:$T$7))),IF(ISBLANK(HLOOKUP(Q$12,'Statiske ejendomme'!$B$3:$PN$81,'Statiske ejendomme'!$A72,FALSE))=FALSE,HLOOKUP(Q$12,'Statiske ejendomme'!$B$3:$PN$81,'Statiske ejendomme'!$A72,FALSE),\"\"))),\"\")","v":""},{"$f":"IFERROR(IF(R$12=Kredsudvælgelse!$Q$20,\"\",IF(Kredsudvælgelse!AI$2=1,IF(ISTEXT(DGET(Forespørgsel1[#All],\"\"&LEFT($F80,LEN($F80)-$C80)&\"\",Kredsudvælgelse!$U$6:$V$7))=TRUE,DGET(Forespørgsel1[#All],\"\"&LEFT($F80,LEN($F80)-$C80)&\"\",Kredsudvælgelse!$U$6:$V$7),DGET(Forespørgsel1[#All],\"\"&LEFT($F80,LEN($F80)-$C80)&\"\",Kredsudvælgelse!$U$6:$V$7)/IF(ISNONTEXT($D80)=TRUE,1,DGET(Forespørgsel1[#All],\"\"&$D80&\"\",Kredsudvælgelse!$U$6:$V$7))),IF(ISBLANK(HLOOKUP(R$12,'Statiske ejendomme'!$B$3:$PN$81,'Statiske ejendomme'!$A72,FALSE))=FALSE,HLOOKUP(R$12,'Statiske ejendomme'!$B$3:$PN$81,'Statiske ejendomme'!$A72,FALSE),\"\"))),\"\")","v":""},{"$f":"IFERROR(IF(S$12=Kredsudvælgelse!$Q$20,\"\",IF(Kredsudvælgelse!AJ$2=1,IF(ISTEXT(DGET(Forespørgsel1[#All],\"\"&LEFT($F80,LEN($F80)-$C80)&\"\",Kredsudvælgelse!$W$6:$X$7))=TRUE,DGET(Forespørgsel1[#All],\"\"&LEFT($F80,LEN($F80)-$C80)&\"\",Kredsudvælgelse!$W$6:$X$7),DGET(Forespørgsel1[#All],\"\"&LEFT($F80,LEN($F80)-$C80)&\"\",Kredsudvælgelse!$W$6:$X$7)/IF(ISNONTEXT($D80)=TRUE,1,DGET(Forespørgsel1[#All],\"\"&$D80&\"\",Kredsudvælgelse!$W$6:$X$7))),IF(ISBLANK(HLOOKUP(S$12,'Statiske ejendomme'!$B$3:$PN$81,'Statiske ejendomme'!$A72,FALSE))=FALSE,HLOOKUP(S$12,'Statiske ejendomme'!$B$3:$PN$81,'Statiske ejendomme'!$A72,FALSE),\"\"))),\"\")","v":""},{"$f":"IFERROR(IF(T$12=Kredsudvælgelse!$Q$20,\"\",IF(Kredsudvælgelse!AK$2=1,IF(ISTEXT(DGET(Forespørgsel1[#All],\"\"&LEFT($F80,LEN($F80)-$C80)&\"\",Kredsudvælgelse!$W$6:$X$7))=TRUE,DGET(Forespørgsel1[#All],\"\"&LEFT($F80,LEN($F80)-$C80)&\"\",Kredsudvælgelse!$W$6:$X$7),DGET(Forespørgsel1[#All],\"\"&LEFT($F80,LEN($F80)-$C80)&\"\",Kredsudvælgelse!$W$6:$X$7)/IF(ISNONTEXT($D80)=TRUE,1,DGET(Forespørgsel1[#All],\"\"&$D80&\"\",Kredsudvælgelse!$W$6:$X$7))),IF(ISBLANK(HLOOKUP(T$12,'Statiske ejendomme'!$B$3:$PN$81,'Statiske ejendomme'!$A73,FALSE))=FALSE,HLOOKUP(T$12,'Statiske ejendomme'!$B$3:$PN$81,'Statiske ejendomme'!$A73,FALSE),\"\"))),\"\")","v":""}]
[{"$f":"Mink!E152","v":0},{"$f":"Mink!D152","v":0},null,{"$f":"Mink!B70","v":0},null,{"$f":"Mink!C70","v":0},{"$f":"Mink!D70","v":0},{"$f":"Mink!E70","v":0},{"$f":"Mink!F70","v":0},{"$f":"Mink!G70","v":0},{"$f":"IFERROR(IF(K$12=Kredsudvælgelse!$Q$20,\"\",IF(Kredsudvælgelse!AB$2=1,IF(ISTEXT(DGET(Forespørgsel1[#All],\"\"&LEFT($F81,LEN($F81)-$C81)&\"\",Kredsudvælgelse!$Q$2:$R$3))=TRUE,DGET(Forespørgsel1[#All],\"\"&LEFT($F81,LEN($F81)-$C81)&\"\",Kredsudvælgelse!$Q$2:$R$3),DGET(Forespørgsel1[#All],\"\"&LEFT($F81,LEN($F81)-$C81)&\"\",Kredsudvælgelse!$Q$2:$R$3)/IF(ISNONTEXT($D81)=TRUE,1,DGET(Forespørgsel1[#All],\"\"&$D81&\"\",Kredsudvælgelse!$Q$2:$R$3))),IF(ISBLANK(HLOOKUP(K$12,'Statiske ejendomme'!$B$3:$PN$81,'Statiske ejendomme'!$A73,FALSE))=FALSE,HLOOKUP(K$12,'Statiske ejendomme'!$B$3:$PN$81,'Statiske ejendomme'!$A73,FALSE),\"\"))),\"\")","v":""},{"$f":"IFERROR(IF(L$12=Kredsudvælgelse!$Q$20,\"\",IF(Kredsudvælgelse!AC$2=1,IF(ISTEXT(DGET(Forespørgsel1[#All],\"\"&LEFT($F81,LEN($F81)-$C81)&\"\",Kredsudvælgelse!$S$2:$T$3))=TRUE,DGET(Forespørgsel1[#All],\"\"&LEFT($F81,LEN($F81)-$C81)&\"\",Kredsudvælgelse!$S$2:$T$3),DGET(Forespørgsel1[#All],\"\"&LEFT($F81,LEN($F81)-$C81)&\"\",Kredsudvælgelse!$S$2:$T$3)/IF(ISNONTEXT($D81)=TRUE,1,DGET(Forespørgsel1[#All],\"\"&$D81&\"\",Kredsudvælgelse!$S$2:$T$3))),IF(ISBLANK(HLOOKUP(L$12,'Statiske ejendomme'!$B$3:$PN$81,'Statiske ejendomme'!$A73,FALSE))=FALSE,HLOOKUP(L$12,'Statiske ejendomme'!$B$3:$PN$81,'Statiske ejendomme'!$A73,FALSE),\"\"))),\"\")","v":""},{"$f":"IFERROR(IF(M$12=Kredsudvælgelse!$Q$20,\"\",IF(Kredsudvælgelse!AD$2=1,IF(ISTEXT(DGET(Forespørgsel1[#All],\"\"&LEFT($F81,LEN($F81)-$C81)&\"\",Kredsudvælgelse!$U$2:$V$3))=TRUE,DGET(Forespørgsel1[#All],\"\"&LEFT($F81,LEN($F81)-$C81)&\"\",Kredsudvælgelse!$U$2:$V$3),DGET(Forespørgsel1[#All],\"\"&LEFT($F81,LEN($F81)-$C81)&\"\",Kredsudvælgelse!$U$2:$V$3)/IF(ISNONTEXT($D81)=TRUE,1,DGET(Forespørgsel1[#All],\"\"&$D81&\"\",Kredsudvælgelse!$U$2:$V$3))),IF(ISBLANK(HLOOKUP(M$12,'Statiske ejendomme'!$B$3:$PN$81,'Statiske ejendomme'!$A73,FALSE))=FALSE,HLOOKUP(M$12,'Statiske ejendomme'!$B$3:$PN$81,'Statiske ejendomme'!$A73,FALSE),\"\"))),\"\")","v":""},{"$f":"IFERROR(IF(N$12=Kredsudvælgelse!$Q$20,\"\",IF(Kredsudvælgelse!AE$2=1,IF(ISTEXT(DGET(Forespørgsel1[#All],\"\"&LEFT($F81,LEN($F81)-$C81)&\"\",Kredsudvælgelse!$W$2:$X$3))=TRUE,DGET(Forespørgsel1[#All],\"\"&LEFT($F81,LEN($F81)-$C81)&\"\",Kredsudvælgelse!$W$2:$X$3),DGET(Forespørgsel1[#All],\"\"&LEFT($F81,LEN($F81)-$C81)&\"\",Kredsudvælgelse!$W$2:$X$3)/IF(ISNONTEXT($D81)=TRUE,1,DGET(Forespørgsel1[#All],\"\"&$D81&\"\",Kredsudvælgelse!$W$2:$X$3))),IF(ISBLANK(HLOOKUP(N$12,'Statiske ejendomme'!$B$3:$PN$81,'Statiske ejendomme'!$A73,FALSE))=FALSE,HLOOKUP(N$12,'Statiske ejendomme'!$B$3:$PN$81,'Statiske ejendomme'!$A73,FALSE),\"\"))),\"\")","v":""},{"$f":"IFERROR(IF(O$12=Kredsudvælgelse!$Q$20,\"\",IF(Kredsudvælgelse!AF$2=1,IF(ISTEXT(DGET(Forespørgsel1[#All],\"\"&LEFT($F81,LEN($F81)-$C81)&\"\",Kredsudvælgelse!$Y$2:$Z$3))=TRUE,DGET(Forespørgsel1[#All],\"\"&LEFT($F81,LEN($F81)-$C81)&\"\",Kredsudvælgelse!$Y$2:$Z$3),DGET(Forespørgsel1[#All],\"\"&LEFT($F81,LEN($F81)-$C81)&\"\",Kredsudvælgelse!$Y$2:$Z$3)/IF(ISNONTEXT($D81)=TRUE,1,DGET(Forespørgsel1[#All],\"\"&$D81&\"\",Kredsudvælgelse!$Y$2:$Z$3))),IF(ISBLANK(HLOOKUP(O$12,'Statiske ejendomme'!$B$3:$PN$81,'Statiske ejendomme'!$A73,FALSE))=FALSE,HLOOKUP(O$12,'Statiske ejendomme'!$B$3:$PN$81,'Statiske ejendomme'!$A73,FALSE),\"\"))),\"\")","v":""},{"$f":"IFERROR(IF(P$12=Kredsudvælgelse!$Q$20,\"\",IF(Kredsudvælgelse!AG$2=1,IF(ISTEXT(DGET(Forespørgsel1[#All],\"\"&LEFT($F81,LEN($F81)-$C81)&\"\",Kredsudvælgelse!$Q$6:$R$7))=TRUE,DGET(Forespørgsel1[#All],\"\"&LEFT($F81,LEN($F81)-$C81)&\"\",Kredsudvælgelse!$Q$6:$R$7),DGET(Forespørgsel1[#All],\"\"&LEFT($F81,LEN($F81)-$C81)&\"\",Kredsudvælgelse!$Q$6:$R$7)/IF(ISNONTEXT($D81)=TRUE,1,DGET(Forespørgsel1[#All],\"\"&$D81&\"\",Kredsudvælgelse!$Q$6:$R$7))),IF(ISBLANK(HLOOKUP(P$12,'Statiske ejendomme'!$B$3:$PN$81,'Statiske ejendomme'!$A73,FALSE))=FALSE,HLOOKUP(P$12,'Statiske ejendomme'!$B$3:$PN$81,'Statiske ejendomme'!$A73,FALSE),\"\"))),\"\")","v":""},{"$f":"IFERROR(IF(Q$12=Kredsudvælgelse!$Q$20,\"\",IF(Kredsudvælgelse!AH$2=1,IF(ISTEXT(DGET(Forespørgsel1[#All],\"\"&LEFT($F81,LEN($F81)-$C81)&\"\",Kredsudvælgelse!$S$6:$T$7))=TRUE,DGET(Forespørgsel1[#All],\"\"&LEFT($F81,LEN($F81)-$C81)&\"\",Kredsudvælgelse!$S$6:$T$7),DGET(Forespørgsel1[#All],\"\"&LEFT($F81,LEN($F81)-$C81)&\"\",Kredsudvælgelse!$S$6:$T$7)/IF(ISNONTEXT($D81)=TRUE,1,DGET(Forespørgsel1[#All],\"\"&$D81&\"\",Kredsudvælgelse!$S$6:$T$7))),IF(ISBLANK(HLOOKUP(Q$12,'Statiske ejendomme'!$B$3:$PN$81,'Statiske ejendomme'!$A73,FALSE))=FALSE,HLOOKUP(Q$12,'Statiske ejendomme'!$B$3:$PN$81,'Statiske ejendomme'!$A73,FALSE),\"\"))),\"\")","v":""},{"$f":"IFERROR(IF(R$12=Kredsudvælgelse!$Q$20,\"\",IF(Kredsudvælgelse!AI$2=1,IF(ISTEXT(DGET(Forespørgsel1[#All],\"\"&LEFT($F81,LEN($F81)-$C81)&\"\",Kredsudvælgelse!$U$6:$V$7))=TRUE,DGET(Forespørgsel1[#All],\"\"&LEFT($F81,LEN($F81)-$C81)&\"\",Kredsudvælgelse!$U$6:$V$7),DGET(Forespørgsel1[#All],\"\"&LEFT($F81,LEN($F81)-$C81)&\"\",Kredsudvælgelse!$U$6:$V$7)/IF(ISNONTEXT($D81)=TRUE,1,DGET(Forespørgsel1[#All],\"\"&$D81&\"\",Kredsudvælgelse!$U$6:$V$7))),IF(ISBLANK(HLOOKUP(R$12,'Statiske ejendomme'!$B$3:$PN$81,'Statiske ejendomme'!$A73,FALSE))=FALSE,HLOOKUP(R$12,'Statiske ejendomme'!$B$3:$PN$81,'Statiske ejendomme'!$A73,FALSE),\"\"))),\"\")","v":""},{"$f":"IFERROR(IF(S$12=Kredsudvælgelse!$Q$20,\"\",IF(Kredsudvælgelse!AJ$2=1,IF(ISTEXT(DGET(Forespørgsel1[#All],\"\"&LEFT($F81,LEN($F81)-$C81)&\"\",Kredsudvælgelse!$W$6:$X$7))=TRUE,DGET(Forespørgsel1[#All],\"\"&LEFT($F81,LEN($F81)-$C81)&\"\",Kredsudvælgelse!$W$6:$X$7),DGET(Forespørgsel1[#All],\"\"&LEFT($F81,LEN($F81)-$C81)&\"\",Kredsudvælgelse!$W$6:$X$7)/IF(ISNONTEXT($D81)=TRUE,1,DGET(Forespørgsel1[#All],\"\"&$D81&\"\",Kredsudvælgelse!$W$6:$X$7))),IF(ISBLANK(HLOOKUP(S$12,'Statiske ejendomme'!$B$3:$PN$81,'Statiske ejendomme'!$A73,FALSE))=FALSE,HLOOKUP(S$12,'Statiske ejendomme'!$B$3:$PN$81,'Statiske ejendomme'!$A73,FALSE),\"\"))),\"\")","v":""},{"$f":"IFERROR(IF(T$12=Kredsudvælgelse!$Q$20,\"\",IF(Kredsudvælgelse!AK$2=1,IF(ISTEXT(DGET(Forespørgsel1[#All],\"\"&LEFT($F81,LEN($F81)-$C81)&\"\",Kredsudvælgelse!$W$6:$X$7))=TRUE,DGET(Forespørgsel1[#All],\"\"&LEFT($F81,LEN($F81)-$C81)&\"\",Kredsudvælgelse!$W$6:$X$7),DGET(Forespørgsel1[#All],\"\"&LEFT($F81,LEN($F81)-$C81)&\"\",Kredsudvælgelse!$W$6:$X$7)/IF(ISNONTEXT($D81)=TRUE,1,DGET(Forespørgsel1[#All],\"\"&$D81&\"\",Kredsudvælgelse!$W$6:$X$7))),IF(ISBLANK(HLOOKUP(T$12,'Statiske ejendomme'!$B$3:$PN$81,'Statiske ejendomme'!$A74,FALSE))=FALSE,HLOOKUP(T$12,'Statiske ejendomme'!$B$3:$PN$81,'Statiske ejendomme'!$A74,FALSE),\"\"))),\"\")","v":""}]
[{"$f":"Mink!E153","v":0},{"$f":"Mink!D153","v":0},{"$f":"IFERROR(IF(AND(#REF!=2,#REF!=2),#REF!,IF(#REF!=3,Mink!G151,IF(AND(#REF!=2,#REF!=3),#REF!,IF(AND(#REF!=2,#REF!=4),#REF!,IF(#REF!=4,#REF!,\"\"))))),\"fejl\")","v":"fejl"},{"$f":"Mink!B71","v":0},null,{"$f":"Mink!C71","v":0},{"$f":"Mink!D71","v":0},{"$f":"Mink!E71","v":0},{"$f":"Mink!F71","v":0},{"$f":"Mink!G71","v":0},{"$f":"IFERROR(IF(K$12=Kredsudvælgelse!$Q$20,\"\",IF(Kredsudvælgelse!AB$2=1,IF(ISTEXT(DGET(Forespørgsel1[#All],\"\"&LEFT($F82,LEN($F82)-$C82)&\"\",Kredsudvælgelse!$Q$2:$R$3))=TRUE,DGET(Forespørgsel1[#All],\"\"&LEFT($F82,LEN($F82)-$C82)&\"\",Kredsudvælgelse!$Q$2:$R$3),DGET(Forespørgsel1[#All],\"\"&LEFT($F82,LEN($F82)-$C82)&\"\",Kredsudvælgelse!$Q$2:$R$3)/IF(ISNONTEXT($D82)=TRUE,1,DGET(Forespørgsel1[#All],\"\"&$D82&\"\",Kredsudvælgelse!$Q$2:$R$3))),IF(ISBLANK(HLOOKUP(K$12,'Statiske ejendomme'!$B$3:$PN$81,'Statiske ejendomme'!$A74,FALSE))=FALSE,HLOOKUP(K$12,'Statiske ejendomme'!$B$3:$PN$81,'Statiske ejendomme'!$A74,FALSE),\"\"))),\"\")","v":""},{"$f":"IFERROR(IF(L$12=Kredsudvælgelse!$Q$20,\"\",IF(Kredsudvælgelse!AC$2=1,IF(ISTEXT(DGET(Forespørgsel1[#All],\"\"&LEFT($F82,LEN($F82)-$C82)&\"\",Kredsudvælgelse!$S$2:$T$3))=TRUE,DGET(Forespørgsel1[#All],\"\"&LEFT($F82,LEN($F82)-$C82)&\"\",Kredsudvælgelse!$S$2:$T$3),DGET(Forespørgsel1[#All],\"\"&LEFT($F82,LEN($F82)-$C82)&\"\",Kredsudvælgelse!$S$2:$T$3)/IF(ISNONTEXT($D82)=TRUE,1,DGET(Forespørgsel1[#All],\"\"&$D82&\"\",Kredsudvælgelse!$S$2:$T$3))),IF(ISBLANK(HLOOKUP(L$12,'Statiske ejendomme'!$B$3:$PN$81,'Statiske ejendomme'!$A74,FALSE))=FALSE,HLOOKUP(L$12,'Statiske ejendomme'!$B$3:$PN$81,'Statiske ejendomme'!$A74,FALSE),\"\"))),\"\")","v":""},{"$f":"IFERROR(IF(M$12=Kredsudvælgelse!$Q$20,\"\",IF(Kredsudvælgelse!AD$2=1,IF(ISTEXT(DGET(Forespørgsel1[#All],\"\"&LEFT($F82,LEN($F82)-$C82)&\"\",Kredsudvælgelse!$U$2:$V$3))=TRUE,DGET(Forespørgsel1[#All],\"\"&LEFT($F82,LEN($F82)-$C82)&\"\",Kredsudvælgelse!$U$2:$V$3),DGET(Forespørgsel1[#All],\"\"&LEFT($F82,LEN($F82)-$C82)&\"\",Kredsudvælgelse!$U$2:$V$3)/IF(ISNONTEXT($D82)=TRUE,1,DGET(Forespørgsel1[#All],\"\"&$D82&\"\",Kredsudvælgelse!$U$2:$V$3))),IF(ISBLANK(HLOOKUP(M$12,'Statiske ejendomme'!$B$3:$PN$81,'Statiske ejendomme'!$A74,FALSE))=FALSE,HLOOKUP(M$12,'Statiske ejendomme'!$B$3:$PN$81,'Statiske ejendomme'!$A74,FALSE),\"\"))),\"\")","v":""},{"$f":"IFERROR(IF(N$12=Kredsudvælgelse!$Q$20,\"\",IF(Kredsudvælgelse!AE$2=1,IF(ISTEXT(DGET(Forespørgsel1[#All],\"\"&LEFT($F82,LEN($F82)-$C82)&\"\",Kredsudvælgelse!$W$2:$X$3))=TRUE,DGET(Forespørgsel1[#All],\"\"&LEFT($F82,LEN($F82)-$C82)&\"\",Kredsudvælgelse!$W$2:$X$3),DGET(Forespørgsel1[#All],\"\"&LEFT($F82,LEN($F82)-$C82)&\"\",Kredsudvælgelse!$W$2:$X$3)/IF(ISNONTEXT($D82)=TRUE,1,DGET(Forespørgsel1[#All],\"\"&$D82&\"\",Kredsudvælgelse!$W$2:$X$3))),IF(ISBLANK(HLOOKUP(N$12,'Statiske ejendomme'!$B$3:$PN$81,'Statiske ejendomme'!$A74,FALSE))=FALSE,HLOOKUP(N$12,'Statiske ejendomme'!$B$3:$PN$81,'Statiske ejendomme'!$A74,FALSE),\"\"))),\"\")","v":""},{"$f":"IFERROR(IF(O$12=Kredsudvælgelse!$Q$20,\"\",IF(Kredsudvælgelse!AF$2=1,IF(ISTEXT(DGET(Forespørgsel1[#All],\"\"&LEFT($F82,LEN($F82)-$C82)&\"\",Kredsudvælgelse!$Y$2:$Z$3))=TRUE,DGET(Forespørgsel1[#All],\"\"&LEFT($F82,LEN($F82)-$C82)&\"\",Kredsudvælgelse!$Y$2:$Z$3),DGET(Forespørgsel1[#All],\"\"&LEFT($F82,LEN($F82)-$C82)&\"\",Kredsudvælgelse!$Y$2:$Z$3)/IF(ISNONTEXT($D82)=TRUE,1,DGET(Forespørgsel1[#All],\"\"&$D82&\"\",Kredsudvælgelse!$Y$2:$Z$3))),IF(ISBLANK(HLOOKUP(O$12,'Statiske ejendomme'!$B$3:$PN$81,'Statiske ejendomme'!$A74,FALSE))=FALSE,HLOOKUP(O$12,'Statiske ejendomme'!$B$3:$PN$81,'Statiske ejendomme'!$A74,FALSE),\"\"))),\"\")","v":""},{"$f":"IFERROR(IF(P$12=Kredsudvælgelse!$Q$20,\"\",IF(Kredsudvælgelse!AG$2=1,IF(ISTEXT(DGET(Forespørgsel1[#All],\"\"&LEFT($F82,LEN($F82)-$C82)&\"\",Kredsudvælgelse!$Q$6:$R$7))=TRUE,DGET(Forespørgsel1[#All],\"\"&LEFT($F82,LEN($F82)-$C82)&\"\",Kredsudvælgelse!$Q$6:$R$7),DGET(Forespørgsel1[#All],\"\"&LEFT($F82,LEN($F82)-$C82)&\"\",Kredsudvælgelse!$Q$6:$R$7)/IF(ISNONTEXT($D82)=TRUE,1,DGET(Forespørgsel1[#All],\"\"&$D82&\"\",Kredsudvælgelse!$Q$6:$R$7))),IF(ISBLANK(HLOOKUP(P$12,'Statiske ejendomme'!$B$3:$PN$81,'Statiske ejendomme'!$A74,FALSE))=FALSE,HLOOKUP(P$12,'Statiske ejendomme'!$B$3:$PN$81,'Statiske ejendomme'!$A74,FALSE),\"\"))),\"\")","v":""},{"$f":"IFERROR(IF(Q$12=Kredsudvælgelse!$Q$20,\"\",IF(Kredsudvælgelse!AH$2=1,IF(ISTEXT(DGET(Forespørgsel1[#All],\"\"&LEFT($F82,LEN($F82)-$C82)&\"\",Kredsudvælgelse!$S$6:$T$7))=TRUE,DGET(Forespørgsel1[#All],\"\"&LEFT($F82,LEN($F82)-$C82)&\"\",Kredsudvælgelse!$S$6:$T$7),DGET(Forespørgsel1[#All],\"\"&LEFT($F82,LEN($F82)-$C82)&\"\",Kredsudvælgelse!$S$6:$T$7)/IF(ISNONTEXT($D82)=TRUE,1,DGET(Forespørgsel1[#All],\"\"&$D82&\"\",Kredsudvælgelse!$S$6:$T$7))),IF(ISBLANK(HLOOKUP(Q$12,'Statiske ejendomme'!$B$3:$PN$81,'Statiske ejendomme'!$A74,FALSE))=FALSE,HLOOKUP(Q$12,'Statiske ejendomme'!$B$3:$PN$81,'Statiske ejendomme'!$A74,FALSE),\"\"))),\"\")","v":""},{"$f":"IFERROR(IF(R$12=Kredsudvælgelse!$Q$20,\"\",IF(Kredsudvælgelse!AI$2=1,IF(ISTEXT(DGET(Forespørgsel1[#All],\"\"&LEFT($F82,LEN($F82)-$C82)&\"\",Kredsudvælgelse!$U$6:$V$7))=TRUE,DGET(Forespørgsel1[#All],\"\"&LEFT($F82,LEN($F82)-$C82)&\"\",Kredsudvælgelse!$U$6:$V$7),DGET(Forespørgsel1[#All],\"\"&LEFT($F82,LEN($F82)-$C82)&\"\",Kredsudvælgelse!$U$6:$V$7)/IF(ISNONTEXT($D82)=TRUE,1,DGET(Forespørgsel1[#All],\"\"&$D82&\"\",Kredsudvælgelse!$U$6:$V$7))),IF(ISBLANK(HLOOKUP(R$12,'Statiske ejendomme'!$B$3:$PN$81,'Statiske ejendomme'!$A74,FALSE))=FALSE,HLOOKUP(R$12,'Statiske ejendomme'!$B$3:$PN$81,'Statiske ejendomme'!$A74,FALSE),\"\"))),\"\")","v":""},{"$f":"IFERROR(IF(S$12=Kredsudvælgelse!$Q$20,\"\",IF(Kredsudvælgelse!AJ$2=1,IF(ISTEXT(DGET(Forespørgsel1[#All],\"\"&LEFT($F82,LEN($F82)-$C82)&\"\",Kredsudvælgelse!$W$6:$X$7))=TRUE,DGET(Forespørgsel1[#All],\"\"&LEFT($F82,LEN($F82)-$C82)&\"\",Kredsudvælgelse!$W$6:$X$7),DGET(Forespørgsel1[#All],\"\"&LEFT($F82,LEN($F82)-$C82)&\"\",Kredsudvælgelse!$W$6:$X$7)/IF(ISNONTEXT($D82)=TRUE,1,DGET(Forespørgsel1[#All],\"\"&$D82&\"\",Kredsudvælgelse!$W$6:$X$7))),IF(ISBLANK(HLOOKUP(S$12,'Statiske ejendomme'!$B$3:$PN$81,'Statiske ejendomme'!$A74,FALSE))=FALSE,HLOOKUP(S$12,'Statiske ejendomme'!$B$3:$PN$81,'Statiske ejendomme'!$A74,FALSE),\"\"))),\"\")","v":""},{"$f":"IFERROR(IF(T$12=Kredsudvælgelse!$Q$20,\"\",IF(Kredsudvælgelse!AK$2=1,IF(ISTEXT(DGET(Forespørgsel1[#All],\"\"&LEFT($F82,LEN($F82)-$C82)&\"\",Kredsudvælgelse!$W$6:$X$7))=TRUE,DGET(Forespørgsel1[#All],\"\"&LEFT($F82,LEN($F82)-$C82)&\"\",Kredsudvælgelse!$W$6:$X$7),DGET(Forespørgsel1[#All],\"\"&LEFT($F82,LEN($F82)-$C82)&\"\",Kredsudvælgelse!$W$6:$X$7)/IF(ISNONTEXT($D82)=TRUE,1,DGET(Forespørgsel1[#All],\"\"&$D82&\"\",Kredsudvælgelse!$W$6:$X$7))),IF(ISBLANK(HLOOKUP(T$12,'Statiske ejendomme'!$B$3:$PN$81,'Statiske ejendomme'!$A75,FALSE))=FALSE,HLOOKUP(T$12,'Statiske ejendomme'!$B$3:$PN$81,'Statiske ejendomme'!$A75,FALSE),\"\"))),\"\")","v":""}]
[{"$f":"Mink!E154","v":0},{"$f":"Mink!D154","v":0},{"$f":"IFERROR(IF(AND(#REF!=2,#REF!=2),#REF!,IF(#REF!=3,Mink!A72,IF(AND(#REF!=2,#REF!=3),#REF!,IF(AND(#REF!=2,#REF!=4),#REF!,IF(#REF!=4,#REF!,\"\"))))),\"fejl\")","v":"fejl"},{"$f":"Mink!B72","v":0},null,{"$f":"Mink!C72","v":0},{"$f":"Mink!D72","v":0},{"$f":"Mink!E72","v":0},{"$f":"Mink!F72","v":0},{"$f":"Mink!G72","v":0},{"$f":"IFERROR(IF(K$12=Kredsudvælgelse!$Q$20,\"\",IF(Kredsudvælgelse!AB$2=1,IF(ISTEXT(DGET(Forespørgsel1[#All],\"\"&LEFT($F83,LEN($F83)-$C83)&\"\",Kredsudvælgelse!$Q$2:$R$3))=TRUE,DGET(Forespørgsel1[#All],\"\"&LEFT($F83,LEN($F83)-$C83)&\"\",Kredsudvælgelse!$Q$2:$R$3),DGET(Forespørgsel1[#All],\"\"&LEFT($F83,LEN($F83)-$C83)&\"\",Kredsudvælgelse!$Q$2:$R$3)/IF(ISNONTEXT($D83)=TRUE,1,DGET(Forespørgsel1[#All],\"\"&$D83&\"\",Kredsudvælgelse!$Q$2:$R$3))),IF(ISBLANK(HLOOKUP(K$12,'Statiske ejendomme'!$B$3:$PN$81,'Statiske ejendomme'!$A75,FALSE))=FALSE,HLOOKUP(K$12,'Statiske ejendomme'!$B$3:$PN$81,'Statiske ejendomme'!$A75,FALSE),\"\"))),\"\")","v":""},{"$f":"IFERROR(IF(L$12=Kredsudvælgelse!$Q$20,\"\",IF(Kredsudvælgelse!AC$2=1,IF(ISTEXT(DGET(Forespørgsel1[#All],\"\"&LEFT($F83,LEN($F83)-$C83)&\"\",Kredsudvælgelse!$S$2:$T$3))=TRUE,DGET(Forespørgsel1[#All],\"\"&LEFT($F83,LEN($F83)-$C83)&\"\",Kredsudvælgelse!$S$2:$T$3),DGET(Forespørgsel1[#All],\"\"&LEFT($F83,LEN($F83)-$C83)&\"\",Kredsudvælgelse!$S$2:$T$3)/IF(ISNONTEXT($D83)=TRUE,1,DGET(Forespørgsel1[#All],\"\"&$D83&\"\",Kredsudvælgelse!$S$2:$T$3))),IF(ISBLANK(HLOOKUP(L$12,'Statiske ejendomme'!$B$3:$PN$81,'Statiske ejendomme'!$A75,FALSE))=FALSE,HLOOKUP(L$12,'Statiske ejendomme'!$B$3:$PN$81,'Statiske ejendomme'!$A75,FALSE),\"\"))),\"\")","v":""},{"$f":"IFERROR(IF(M$12=Kredsudvælgelse!$Q$20,\"\",IF(Kredsudvælgelse!AD$2=1,IF(ISTEXT(DGET(Forespørgsel1[#All],\"\"&LEFT($F83,LEN($F83)-$C83)&\"\",Kredsudvælgelse!$U$2:$V$3))=TRUE,DGET(Forespørgsel1[#All],\"\"&LEFT($F83,LEN($F83)-$C83)&\"\",Kredsudvælgelse!$U$2:$V$3),DGET(Forespørgsel1[#All],\"\"&LEFT($F83,LEN($F83)-$C83)&\"\",Kredsudvælgelse!$U$2:$V$3)/IF(ISNONTEXT($D83)=TRUE,1,DGET(Forespørgsel1[#All],\"\"&$D83&\"\",Kredsudvælgelse!$U$2:$V$3))),IF(ISBLANK(HLOOKUP(M$12,'Statiske ejendomme'!$B$3:$PN$81,'Statiske ejendomme'!$A75,FALSE))=FALSE,HLOOKUP(M$12,'Statiske ejendomme'!$B$3:$PN$81,'Statiske ejendomme'!$A75,FALSE),\"\"))),\"\")","v":""},{"$f":"IFERROR(IF(N$12=Kredsudvælgelse!$Q$20,\"\",IF(Kredsudvælgelse!AE$2=1,IF(ISTEXT(DGET(Forespørgsel1[#All],\"\"&LEFT($F83,LEN($F83)-$C83)&\"\",Kredsudvælgelse!$W$2:$X$3))=TRUE,DGET(Forespørgsel1[#All],\"\"&LEFT($F83,LEN($F83)-$C83)&\"\",Kredsudvælgelse!$W$2:$X$3),DGET(Forespørgsel1[#All],\"\"&LEFT($F83,LEN($F83)-$C83)&\"\",Kredsudvælgelse!$W$2:$X$3)/IF(ISNONTEXT($D83)=TRUE,1,DGET(Forespørgsel1[#All],\"\"&$D83&\"\",Kredsudvælgelse!$W$2:$X$3))),IF(ISBLANK(HLOOKUP(N$12,'Statiske ejendomme'!$B$3:$PN$81,'Statiske ejendomme'!$A75,FALSE))=FALSE,HLOOKUP(N$12,'Statiske ejendomme'!$B$3:$PN$81,'Statiske ejendomme'!$A75,FALSE),\"\"))),\"\")","v":""},{"$f":"IFERROR(IF(O$12=Kredsudvælgelse!$Q$20,\"\",IF(Kredsudvælgelse!AF$2=1,IF(ISTEXT(DGET(Forespørgsel1[#All],\"\"&LEFT($F83,LEN($F83)-$C83)&\"\",Kredsudvælgelse!$Y$2:$Z$3))=TRUE,DGET(Forespørgsel1[#All],\"\"&LEFT($F83,LEN($F83)-$C83)&\"\",Kredsudvælgelse!$Y$2:$Z$3),DGET(Forespørgsel1[#All],\"\"&LEFT($F83,LEN($F83)-$C83)&\"\",Kredsudvælgelse!$Y$2:$Z$3)/IF(ISNONTEXT($D83)=TRUE,1,DGET(Forespørgsel1[#All],\"\"&$D83&\"\",Kredsudvælgelse!$Y$2:$Z$3))),IF(ISBLANK(HLOOKUP(O$12,'Statiske ejendomme'!$B$3:$PN$81,'Statiske ejendomme'!$A75,FALSE))=FALSE,HLOOKUP(O$12,'Statiske ejendomme'!$B$3:$PN$81,'Statiske ejendomme'!$A75,FALSE),\"\"))),\"\")","v":""},{"$f":"IFERROR(IF(P$12=Kredsudvælgelse!$Q$20,\"\",IF(Kredsudvælgelse!AG$2=1,IF(ISTEXT(DGET(Forespørgsel1[#All],\"\"&LEFT($F83,LEN($F83)-$C83)&\"\",Kredsudvælgelse!$Q$6:$R$7))=TRUE,DGET(Forespørgsel1[#All],\"\"&LEFT($F83,LEN($F83)-$C83)&\"\",Kredsudvælgelse!$Q$6:$R$7),DGET(Forespørgsel1[#All],\"\"&LEFT($F83,LEN($F83)-$C83)&\"\",Kredsudvælgelse!$Q$6:$R$7)/IF(ISNONTEXT($D83)=TRUE,1,DGET(Forespørgsel1[#All],\"\"&$D83&\"\",Kredsudvælgelse!$Q$6:$R$7))),IF(ISBLANK(HLOOKUP(P$12,'Statiske ejendomme'!$B$3:$PN$81,'Statiske ejendomme'!$A75,FALSE))=FALSE,HLOOKUP(P$12,'Statiske ejendomme'!$B$3:$PN$81,'Statiske ejendomme'!$A75,FALSE),\"\"))),\"\")","v":""},{"$f":"IFERROR(IF(Q$12=Kredsudvælgelse!$Q$20,\"\",IF(Kredsudvælgelse!AH$2=1,IF(ISTEXT(DGET(Forespørgsel1[#All],\"\"&LEFT($F83,LEN($F83)-$C83)&\"\",Kredsudvælgelse!$S$6:$T$7))=TRUE,DGET(Forespørgsel1[#All],\"\"&LEFT($F83,LEN($F83)-$C83)&\"\",Kredsudvælgelse!$S$6:$T$7),DGET(Forespørgsel1[#All],\"\"&LEFT($F83,LEN($F83)-$C83)&\"\",Kredsudvælgelse!$S$6:$T$7)/IF(ISNONTEXT($D83)=TRUE,1,DGET(Forespørgsel1[#All],\"\"&$D83&\"\",Kredsudvælgelse!$S$6:$T$7))),IF(ISBLANK(HLOOKUP(Q$12,'Statiske ejendomme'!$B$3:$PN$81,'Statiske ejendomme'!$A75,FALSE))=FALSE,HLOOKUP(Q$12,'Statiske ejendomme'!$B$3:$PN$81,'Statiske ejendomme'!$A75,FALSE),\"\"))),\"\")","v":""},{"$f":"IFERROR(IF(R$12=Kredsudvælgelse!$Q$20,\"\",IF(Kredsudvælgelse!AI$2=1,IF(ISTEXT(DGET(Forespørgsel1[#All],\"\"&LEFT($F83,LEN($F83)-$C83)&\"\",Kredsudvælgelse!$U$6:$V$7))=TRUE,DGET(Forespørgsel1[#All],\"\"&LEFT($F83,LEN($F83)-$C83)&\"\",Kredsudvælgelse!$U$6:$V$7),DGET(Forespørgsel1[#All],\"\"&LEFT($F83,LEN($F83)-$C83)&\"\",Kredsudvælgelse!$U$6:$V$7)/IF(ISNONTEXT($D83)=TRUE,1,DGET(Forespørgsel1[#All],\"\"&$D83&\"\",Kredsudvælgelse!$U$6:$V$7))),IF(ISBLANK(HLOOKUP(R$12,'Statiske ejendomme'!$B$3:$PN$81,'Statiske ejendomme'!$A75,FALSE))=FALSE,HLOOKUP(R$12,'Statiske ejendomme'!$B$3:$PN$81,'Statiske ejendomme'!$A75,FALSE),\"\"))),\"\")","v":""},{"$f":"IFERROR(IF(S$12=Kredsudvælgelse!$Q$20,\"\",IF(Kredsudvælgelse!AJ$2=1,IF(ISTEXT(DGET(Forespørgsel1[#All],\"\"&LEFT($F83,LEN($F83)-$C83)&\"\",Kredsudvælgelse!$W$6:$X$7))=TRUE,DGET(Forespørgsel1[#All],\"\"&LEFT($F83,LEN($F83)-$C83)&\"\",Kredsudvælgelse!$W$6:$X$7),DGET(Forespørgsel1[#All],\"\"&LEFT($F83,LEN($F83)-$C83)&\"\",Kredsudvælgelse!$W$6:$X$7)/IF(ISNONTEXT($D83)=TRUE,1,DGET(Forespørgsel1[#All],\"\"&$D83&\"\",Kredsudvælgelse!$W$6:$X$7))),IF(ISBLANK(HLOOKUP(S$12,'Statiske ejendomme'!$B$3:$PN$81,'Statiske ejendomme'!$A75,FALSE))=FALSE,HLOOKUP(S$12,'Statiske ejendomme'!$B$3:$PN$81,'Statiske ejendomme'!$A75,FALSE),\"\"))),\"\")","v":""},{"$f":"IFERROR(IF(T$12=Kredsudvælgelse!$Q$20,\"\",IF(Kredsudvælgelse!AK$2=1,IF(ISTEXT(DGET(Forespørgsel1[#All],\"\"&LEFT($F83,LEN($F83)-$C83)&\"\",Kredsudvælgelse!$W$6:$X$7))=TRUE,DGET(Forespørgsel1[#All],\"\"&LEFT($F83,LEN($F83)-$C83)&\"\",Kredsudvælgelse!$W$6:$X$7),DGET(Forespørgsel1[#All],\"\"&LEFT($F83,LEN($F83)-$C83)&\"\",Kredsudvælgelse!$W$6:$X$7)/IF(ISNONTEXT($D83)=TRUE,1,DGET(Forespørgsel1[#All],\"\"&$D83&\"\",Kredsudvælgelse!$W$6:$X$7))),IF(ISBLANK(HLOOKUP(T$12,'Statiske ejendomme'!$B$3:$PN$81,'Statiske ejendomme'!$A76,FALSE))=FALSE,HLOOKUP(T$12,'Statiske ejendomme'!$B$3:$PN$81,'Statiske ejendomme'!$A76,FALSE),\"\"))),\"\")","v":""}]
[{"$f":"Mink!E155","v":0},{"$f":"Mink!D155","v":0},{"$f":"IFERROR(IF(AND(#REF!=2,#REF!=2),#REF!,IF(#REF!=3,Mink!A73,IF(AND(#REF!=2,#REF!=3),#REF!,IF(AND(#REF!=2,#REF!=4),#REF!,IF(#REF!=4,#REF!,\"\"))))),\"fejl\")","v":"fejl"},{"$f":"Mink!B73","v":0},null,{"$f":"Mink!C73","v":0},{"$f":"Mink!D73","v":0},{"$f":"Mink!E73","v":0},{"$f":"Mink!F73","v":0},{"$f":"Mink!G73","v":0},{"$f":"IFERROR(IF(K$12=Kredsudvælgelse!$Q$20,\"\",IF(Kredsudvælgelse!AB$2=1,IF(ISTEXT(DGET(Forespørgsel1[#All],\"\"&LEFT($F84,LEN($F84)-$C84)&\"\",Kredsudvælgelse!$Q$2:$R$3))=TRUE,DGET(Forespørgsel1[#All],\"\"&LEFT($F84,LEN($F84)-$C84)&\"\",Kredsudvælgelse!$Q$2:$R$3),DGET(Forespørgsel1[#All],\"\"&LEFT($F84,LEN($F84)-$C84)&\"\",Kredsudvælgelse!$Q$2:$R$3)/IF(ISNONTEXT($D84)=TRUE,1,DGET(Forespørgsel1[#All],\"\"&$D84&\"\",Kredsudvælgelse!$Q$2:$R$3))),IF(ISBLANK(HLOOKUP(K$12,'Statiske ejendomme'!$B$3:$PN$81,'Statiske ejendomme'!$A76,FALSE))=FALSE,HLOOKUP(K$12,'Statiske ejendomme'!$B$3:$PN$81,'Statiske ejendomme'!$A76,FALSE),\"\"))),\"\")","v":""},{"$f":"IFERROR(IF(L$12=Kredsudvælgelse!$Q$20,\"\",IF(Kredsudvælgelse!AC$2=1,IF(ISTEXT(DGET(Forespørgsel1[#All],\"\"&LEFT($F84,LEN($F84)-$C84)&\"\",Kredsudvælgelse!$S$2:$T$3))=TRUE,DGET(Forespørgsel1[#All],\"\"&LEFT($F84,LEN($F84)-$C84)&\"\",Kredsudvælgelse!$S$2:$T$3),DGET(Forespørgsel1[#All],\"\"&LEFT($F84,LEN($F84)-$C84)&\"\",Kredsudvælgelse!$S$2:$T$3)/IF(ISNONTEXT($D84)=TRUE,1,DGET(Forespørgsel1[#All],\"\"&$D84&\"\",Kredsudvælgelse!$S$2:$T$3))),IF(ISBLANK(HLOOKUP(L$12,'Statiske ejendomme'!$B$3:$PN$81,'Statiske ejendomme'!$A76,FALSE))=FALSE,HLOOKUP(L$12,'Statiske ejendomme'!$B$3:$PN$81,'Statiske ejendomme'!$A76,FALSE),\"\"))),\"\")","v":""},{"$f":"IFERROR(IF(M$12=Kredsudvælgelse!$Q$20,\"\",IF(Kredsudvælgelse!AD$2=1,IF(ISTEXT(DGET(Forespørgsel1[#All],\"\"&LEFT($F84,LEN($F84)-$C84)&\"\",Kredsudvælgelse!$U$2:$V$3))=TRUE,DGET(Forespørgsel1[#All],\"\"&LEFT($F84,LEN($F84)-$C84)&\"\",Kredsudvælgelse!$U$2:$V$3),DGET(Forespørgsel1[#All],\"\"&LEFT($F84,LEN($F84)-$C84)&\"\",Kredsudvælgelse!$U$2:$V$3)/IF(ISNONTEXT($D84)=TRUE,1,DGET(Forespørgsel1[#All],\"\"&$D84&\"\",Kredsudvælgelse!$U$2:$V$3))),IF(ISBLANK(HLOOKUP(M$12,'Statiske ejendomme'!$B$3:$PN$81,'Statiske ejendomme'!$A76,FALSE))=FALSE,HLOOKUP(M$12,'Statiske ejendomme'!$B$3:$PN$81,'Statiske ejendomme'!$A76,FALSE),\"\"))),\"\")","v":""},{"$f":"IFERROR(IF(N$12=Kredsudvælgelse!$Q$20,\"\",IF(Kredsudvælgelse!AE$2=1,IF(ISTEXT(DGET(Forespørgsel1[#All],\"\"&LEFT($F84,LEN($F84)-$C84)&\"\",Kredsudvælgelse!$W$2:$X$3))=TRUE,DGET(Forespørgsel1[#All],\"\"&LEFT($F84,LEN($F84)-$C84)&\"\",Kredsudvælgelse!$W$2:$X$3),DGET(Forespørgsel1[#All],\"\"&LEFT($F84,LEN($F84)-$C84)&\"\",Kredsudvælgelse!$W$2:$X$3)/IF(ISNONTEXT($D84)=TRUE,1,DGET(Forespørgsel1[#All],\"\"&$D84&\"\",Kredsudvælgelse!$W$2:$X$3))),IF(ISBLANK(HLOOKUP(N$12,'Statiske ejendomme'!$B$3:$PN$81,'Statiske ejendomme'!$A76,FALSE))=FALSE,HLOOKUP(N$12,'Statiske ejendomme'!$B$3:$PN$81,'Statiske ejendomme'!$A76,FALSE),\"\"))),\"\")","v":""},{"$f":"IFERROR(IF(O$12=Kredsudvælgelse!$Q$20,\"\",IF(Kredsudvælgelse!AF$2=1,IF(ISTEXT(DGET(Forespørgsel1[#All],\"\"&LEFT($F84,LEN($F84)-$C84)&\"\",Kredsudvælgelse!$Y$2:$Z$3))=TRUE,DGET(Forespørgsel1[#All],\"\"&LEFT($F84,LEN($F84)-$C84)&\"\",Kredsudvælgelse!$Y$2:$Z$3),DGET(Forespørgsel1[#All],\"\"&LEFT($F84,LEN($F84)-$C84)&\"\",Kredsudvælgelse!$Y$2:$Z$3)/IF(ISNONTEXT($D84)=TRUE,1,DGET(Forespørgsel1[#All],\"\"&$D84&\"\",Kredsudvælgelse!$Y$2:$Z$3))),IF(ISBLANK(HLOOKUP(O$12,'Statiske ejendomme'!$B$3:$PN$81,'Statiske ejendomme'!$A76,FALSE))=FALSE,HLOOKUP(O$12,'Statiske ejendomme'!$B$3:$PN$81,'Statiske ejendomme'!$A76,FALSE),\"\"))),\"\")","v":""},{"$f":"IFERROR(IF(P$12=Kredsudvælgelse!$Q$20,\"\",IF(Kredsudvælgelse!AG$2=1,IF(ISTEXT(DGET(Forespørgsel1[#All],\"\"&LEFT($F84,LEN($F84)-$C84)&\"\",Kredsudvælgelse!$Q$6:$R$7))=TRUE,DGET(Forespørgsel1[#All],\"\"&LEFT($F84,LEN($F84)-$C84)&\"\",Kredsudvælgelse!$Q$6:$R$7),DGET(Forespørgsel1[#All],\"\"&LEFT($F84,LEN($F84)-$C84)&\"\",Kredsudvælgelse!$Q$6:$R$7)/IF(ISNONTEXT($D84)=TRUE,1,DGET(Forespørgsel1[#All],\"\"&$D84&\"\",Kredsudvælgelse!$Q$6:$R$7))),IF(ISBLANK(HLOOKUP(P$12,'Statiske ejendomme'!$B$3:$PN$81,'Statiske ejendomme'!$A76,FALSE))=FALSE,HLOOKUP(P$12,'Statiske ejendomme'!$B$3:$PN$81,'Statiske ejendomme'!$A76,FALSE),\"\"))),\"\")","v":""},{"$f":"IFERROR(IF(Q$12=Kredsudvælgelse!$Q$20,\"\",IF(Kredsudvælgelse!AH$2=1,IF(ISTEXT(DGET(Forespørgsel1[#All],\"\"&LEFT($F84,LEN($F84)-$C84)&\"\",Kredsudvælgelse!$S$6:$T$7))=TRUE,DGET(Forespørgsel1[#All],\"\"&LEFT($F84,LEN($F84)-$C84)&\"\",Kredsudvælgelse!$S$6:$T$7),DGET(Forespørgsel1[#All],\"\"&LEFT($F84,LEN($F84)-$C84)&\"\",Kredsudvælgelse!$S$6:$T$7)/IF(ISNONTEXT($D84)=TRUE,1,DGET(Forespørgsel1[#All],\"\"&$D84&\"\",Kredsudvælgelse!$S$6:$T$7))),IF(ISBLANK(HLOOKUP(Q$12,'Statiske ejendomme'!$B$3:$PN$81,'Statiske ejendomme'!$A76,FALSE))=FALSE,HLOOKUP(Q$12,'Statiske ejendomme'!$B$3:$PN$81,'Statiske ejendomme'!$A76,FALSE),\"\"))),\"\")","v":""},{"$f":"IFERROR(IF(R$12=Kredsudvælgelse!$Q$20,\"\",IF(Kredsudvælgelse!AI$2=1,IF(ISTEXT(DGET(Forespørgsel1[#All],\"\"&LEFT($F84,LEN($F84)-$C84)&\"\",Kredsudvælgelse!$U$6:$V$7))=TRUE,DGET(Forespørgsel1[#All],\"\"&LEFT($F84,LEN($F84)-$C84)&\"\",Kredsudvælgelse!$U$6:$V$7),DGET(Forespørgsel1[#All],\"\"&LEFT($F84,LEN($F84)-$C84)&\"\",Kredsudvælgelse!$U$6:$V$7)/IF(ISNONTEXT($D84)=TRUE,1,DGET(Forespørgsel1[#All],\"\"&$D84&\"\",Kredsudvælgelse!$U$6:$V$7))),IF(ISBLANK(HLOOKUP(R$12,'Statiske ejendomme'!$B$3:$PN$81,'Statiske ejendomme'!$A76,FALSE))=FALSE,HLOOKUP(R$12,'Statiske ejendomme'!$B$3:$PN$81,'Statiske ejendomme'!$A76,FALSE),\"\"))),\"\")","v":""},{"$f":"IFERROR(IF(S$12=Kredsudvælgelse!$Q$20,\"\",IF(Kredsudvælgelse!AJ$2=1,IF(ISTEXT(DGET(Forespørgsel1[#All],\"\"&LEFT($F84,LEN($F84)-$C84)&\"\",Kredsudvælgelse!$W$6:$X$7))=TRUE,DGET(Forespørgsel1[#All],\"\"&LEFT($F84,LEN($F84)-$C84)&\"\",Kredsudvælgelse!$W$6:$X$7),DGET(Forespørgsel1[#All],\"\"&LEFT($F84,LEN($F84)-$C84)&\"\",Kredsudvælgelse!$W$6:$X$7)/IF(ISNONTEXT($D84)=TRUE,1,DGET(Forespørgsel1[#All],\"\"&$D84&\"\",Kredsudvælgelse!$W$6:$X$7))),IF(ISBLANK(HLOOKUP(S$12,'Statiske ejendomme'!$B$3:$PN$81,'Statiske ejendomme'!$A76,FALSE))=FALSE,HLOOKUP(S$12,'Statiske ejendomme'!$B$3:$PN$81,'Statiske ejendomme'!$A76,FALSE),\"\"))),\"\")","v":""},{"$f":"IFERROR(IF(T$12=Kredsudvælgelse!$Q$20,\"\",IF(Kredsudvælgelse!AK$2=1,IF(ISTEXT(DGET(Forespørgsel1[#All],\"\"&LEFT($F84,LEN($F84)-$C84)&\"\",Kredsudvælgelse!$W$6:$X$7))=TRUE,DGET(Forespørgsel1[#All],\"\"&LEFT($F84,LEN($F84)-$C84)&\"\",Kredsudvælgelse!$W$6:$X$7),DGET(Forespørgsel1[#All],\"\"&LEFT($F84,LEN($F84)-$C84)&\"\",Kredsudvælgelse!$W$6:$X$7)/IF(ISNONTEXT($D84)=TRUE,1,DGET(Forespørgsel1[#All],\"\"&$D84&\"\",Kredsudvælgelse!$W$6:$X$7))),IF(ISBLANK(HLOOKUP(T$12,'Statiske ejendomme'!$B$3:$PN$81,'Statiske ejendomme'!$A77,FALSE))=FALSE,HLOOKUP(T$12,'Statiske ejendomme'!$B$3:$PN$81,'Statiske ejendomme'!$A77,FALSE),\"\"))),\"\")","v":""}]
[{"$f":"Mink!E156","v":0},{"$f":"Mink!D156","v":0},{"$f":"IFERROR(IF(AND(#REF!=2,#REF!=2),#REF!,IF(#REF!=3,Mink!A74,IF(AND(#REF!=2,#REF!=3),#REF!,IF(AND(#REF!=2,#REF!=4),#REF!,IF(#REF!=4,#REF!,\"\"))))),\"fejl\")","v":"fejl"},{"$f":"Mink!B74","v":0},null,{"$f":"Mink!C74","v":0},{"$f":"Mink!D74","v":0},{"$f":"Mink!E74","v":0},{"$f":"Mink!F74","v":0},{"$f":"Mink!G74","v":0},{"$f":"IFERROR(IF(K$12=Kredsudvælgelse!$Q$20,\"\",IF(Kredsudvælgelse!AB$2=1,IF(ISTEXT(DGET(Forespørgsel1[#All],\"\"&LEFT($F85,LEN($F85)-$C85)&\"\",Kredsudvælgelse!$Q$2:$R$3))=TRUE,DGET(Forespørgsel1[#All],\"\"&LEFT($F85,LEN($F85)-$C85)&\"\",Kredsudvælgelse!$Q$2:$R$3),DGET(Forespørgsel1[#All],\"\"&LEFT($F85,LEN($F85)-$C85)&\"\",Kredsudvælgelse!$Q$2:$R$3)/IF(ISNONTEXT($D85)=TRUE,1,DGET(Forespørgsel1[#All],\"\"&$D85&\"\",Kredsudvælgelse!$Q$2:$R$3))),IF(ISBLANK(HLOOKUP(K$12,'Statiske ejendomme'!$B$3:$PN$81,'Statiske ejendomme'!$A77,FALSE))=FALSE,HLOOKUP(K$12,'Statiske ejendomme'!$B$3:$PN$81,'Statiske ejendomme'!$A77,FALSE),\"\"))),\"\")","v":""},{"$f":"IFERROR(IF(L$12=Kredsudvælgelse!$Q$20,\"\",IF(Kredsudvælgelse!AC$2=1,IF(ISTEXT(DGET(Forespørgsel1[#All],\"\"&LEFT($F85,LEN($F85)-$C85)&\"\",Kredsudvælgelse!$S$2:$T$3))=TRUE,DGET(Forespørgsel1[#All],\"\"&LEFT($F85,LEN($F85)-$C85)&\"\",Kredsudvælgelse!$S$2:$T$3),DGET(Forespørgsel1[#All],\"\"&LEFT($F85,LEN($F85)-$C85)&\"\",Kredsudvælgelse!$S$2:$T$3)/IF(ISNONTEXT($D85)=TRUE,1,DGET(Forespørgsel1[#All],\"\"&$D85&\"\",Kredsudvælgelse!$S$2:$T$3))),IF(ISBLANK(HLOOKUP(L$12,'Statiske ejendomme'!$B$3:$PN$81,'Statiske ejendomme'!$A77,FALSE))=FALSE,HLOOKUP(L$12,'Statiske ejendomme'!$B$3:$PN$81,'Statiske ejendomme'!$A77,FALSE),\"\"))),\"\")","v":""},{"$f":"IFERROR(IF(M$12=Kredsudvælgelse!$Q$20,\"\",IF(Kredsudvælgelse!AD$2=1,IF(ISTEXT(DGET(Forespørgsel1[#All],\"\"&LEFT($F85,LEN($F85)-$C85)&\"\",Kredsudvælgelse!$U$2:$V$3))=TRUE,DGET(Forespørgsel1[#All],\"\"&LEFT($F85,LEN($F85)-$C85)&\"\",Kredsudvælgelse!$U$2:$V$3),DGET(Forespørgsel1[#All],\"\"&LEFT($F85,LEN($F85)-$C85)&\"\",Kredsudvælgelse!$U$2:$V$3)/IF(ISNONTEXT($D85)=TRUE,1,DGET(Forespørgsel1[#All],\"\"&$D85&\"\",Kredsudvælgelse!$U$2:$V$3))),IF(ISBLANK(HLOOKUP(M$12,'Statiske ejendomme'!$B$3:$PN$81,'Statiske ejendomme'!$A77,FALSE))=FALSE,HLOOKUP(M$12,'Statiske ejendomme'!$B$3:$PN$81,'Statiske ejendomme'!$A77,FALSE),\"\"))),\"\")","v":""},{"$f":"IFERROR(IF(N$12=Kredsudvælgelse!$Q$20,\"\",IF(Kredsudvælgelse!AE$2=1,IF(ISTEXT(DGET(Forespørgsel1[#All],\"\"&LEFT($F85,LEN($F85)-$C85)&\"\",Kredsudvælgelse!$W$2:$X$3))=TRUE,DGET(Forespørgsel1[#All],\"\"&LEFT($F85,LEN($F85)-$C85)&\"\",Kredsudvælgelse!$W$2:$X$3),DGET(Forespørgsel1[#All],\"\"&LEFT($F85,LEN($F85)-$C85)&\"\",Kredsudvælgelse!$W$2:$X$3)/IF(ISNONTEXT($D85)=TRUE,1,DGET(Forespørgsel1[#All],\"\"&$D85&\"\",Kredsudvælgelse!$W$2:$X$3))),IF(ISBLANK(HLOOKUP(N$12,'Statiske ejendomme'!$B$3:$PN$81,'Statiske ejendomme'!$A77,FALSE))=FALSE,HLOOKUP(N$12,'Statiske ejendomme'!$B$3:$PN$81,'Statiske ejendomme'!$A77,FALSE),\"\"))),\"\")","v":""},{"$f":"IFERROR(IF(O$12=Kredsudvælgelse!$Q$20,\"\",IF(Kredsudvælgelse!AF$2=1,IF(ISTEXT(DGET(Forespørgsel1[#All],\"\"&LEFT($F85,LEN($F85)-$C85)&\"\",Kredsudvælgelse!$Y$2:$Z$3))=TRUE,DGET(Forespørgsel1[#All],\"\"&LEFT($F85,LEN($F85)-$C85)&\"\",Kredsudvælgelse!$Y$2:$Z$3),DGET(Forespørgsel1[#All],\"\"&LEFT($F85,LEN($F85)-$C85)&\"\",Kredsudvælgelse!$Y$2:$Z$3)/IF(ISNONTEXT($D85)=TRUE,1,DGET(Forespørgsel1[#All],\"\"&$D85&\"\",Kredsudvælgelse!$Y$2:$Z$3))),IF(ISBLANK(HLOOKUP(O$12,'Statiske ejendomme'!$B$3:$PN$81,'Statiske ejendomme'!$A77,FALSE))=FALSE,HLOOKUP(O$12,'Statiske ejendomme'!$B$3:$PN$81,'Statiske ejendomme'!$A77,FALSE),\"\"))),\"\")","v":""},{"$f":"IFERROR(IF(P$12=Kredsudvælgelse!$Q$20,\"\",IF(Kredsudvælgelse!AG$2=1,IF(ISTEXT(DGET(Forespørgsel1[#All],\"\"&LEFT($F85,LEN($F85)-$C85)&\"\",Kredsudvælgelse!$Q$6:$R$7))=TRUE,DGET(Forespørgsel1[#All],\"\"&LEFT($F85,LEN($F85)-$C85)&\"\",Kredsudvælgelse!$Q$6:$R$7),DGET(Forespørgsel1[#All],\"\"&LEFT($F85,LEN($F85)-$C85)&\"\",Kredsudvælgelse!$Q$6:$R$7)/IF(ISNONTEXT($D85)=TRUE,1,DGET(Forespørgsel1[#All],\"\"&$D85&\"\",Kredsudvælgelse!$Q$6:$R$7))),IF(ISBLANK(HLOOKUP(P$12,'Statiske ejendomme'!$B$3:$PN$81,'Statiske ejendomme'!$A77,FALSE))=FALSE,HLOOKUP(P$12,'Statiske ejendomme'!$B$3:$PN$81,'Statiske ejendomme'!$A77,FALSE),\"\"))),\"\")","v":""},{"$f":"IFERROR(IF(Q$12=Kredsudvælgelse!$Q$20,\"\",IF(Kredsudvælgelse!AH$2=1,IF(ISTEXT(DGET(Forespørgsel1[#All],\"\"&LEFT($F85,LEN($F85)-$C85)&\"\",Kredsudvælgelse!$S$6:$T$7))=TRUE,DGET(Forespørgsel1[#All],\"\"&LEFT($F85,LEN($F85)-$C85)&\"\",Kredsudvælgelse!$S$6:$T$7),DGET(Forespørgsel1[#All],\"\"&LEFT($F85,LEN($F85)-$C85)&\"\",Kredsudvælgelse!$S$6:$T$7)/IF(ISNONTEXT($D85)=TRUE,1,DGET(Forespørgsel1[#All],\"\"&$D85&\"\",Kredsudvælgelse!$S$6:$T$7))),IF(ISBLANK(HLOOKUP(Q$12,'Statiske ejendomme'!$B$3:$PN$81,'Statiske ejendomme'!$A77,FALSE))=FALSE,HLOOKUP(Q$12,'Statiske ejendomme'!$B$3:$PN$81,'Statiske ejendomme'!$A77,FALSE),\"\"))),\"\")","v":""},{"$f":"IFERROR(IF(R$12=Kredsudvælgelse!$Q$20,\"\",IF(Kredsudvælgelse!AI$2=1,IF(ISTEXT(DGET(Forespørgsel1[#All],\"\"&LEFT($F85,LEN($F85)-$C85)&\"\",Kredsudvælgelse!$U$6:$V$7))=TRUE,DGET(Forespørgsel1[#All],\"\"&LEFT($F85,LEN($F85)-$C85)&\"\",Kredsudvælgelse!$U$6:$V$7),DGET(Forespørgsel1[#All],\"\"&LEFT($F85,LEN($F85)-$C85)&\"\",Kredsudvælgelse!$U$6:$V$7)/IF(ISNONTEXT($D85)=TRUE,1,DGET(Forespørgsel1[#All],\"\"&$D85&\"\",Kredsudvælgelse!$U$6:$V$7))),IF(ISBLANK(HLOOKUP(R$12,'Statiske ejendomme'!$B$3:$PN$81,'Statiske ejendomme'!$A77,FALSE))=FALSE,HLOOKUP(R$12,'Statiske ejendomme'!$B$3:$PN$81,'Statiske ejendomme'!$A77,FALSE),\"\"))),\"\")","v":""},{"$f":"IFERROR(IF(S$12=Kredsudvælgelse!$Q$20,\"\",IF(Kredsudvælgelse!AJ$2=1,IF(ISTEXT(DGET(Forespørgsel1[#All],\"\"&LEFT($F85,LEN($F85)-$C85)&\"\",Kredsudvælgelse!$W$6:$X$7))=TRUE,DGET(Forespørgsel1[#All],\"\"&LEFT($F85,LEN($F85)-$C85)&\"\",Kredsudvælgelse!$W$6:$X$7),DGET(Forespørgsel1[#All],\"\"&LEFT($F85,LEN($F85)-$C85)&\"\",Kredsudvælgelse!$W$6:$X$7)/IF(ISNONTEXT($D85)=TRUE,1,DGET(Forespørgsel1[#All],\"\"&$D85&\"\",Kredsudvælgelse!$W$6:$X$7))),IF(ISBLANK(HLOOKUP(S$12,'Statiske ejendomme'!$B$3:$PN$81,'Statiske ejendomme'!$A77,FALSE))=FALSE,HLOOKUP(S$12,'Statiske ejendomme'!$B$3:$PN$81,'Statiske ejendomme'!$A77,FALSE),\"\"))),\"\")","v":""},{"$f":"IFERROR(IF(T$12=Kredsudvælgelse!$Q$20,\"\",IF(Kredsudvælgelse!AK$2=1,IF(ISTEXT(DGET(Forespørgsel1[#All],\"\"&LEFT($F85,LEN($F85)-$C85)&\"\",Kredsudvælgelse!$W$6:$X$7))=TRUE,DGET(Forespørgsel1[#All],\"\"&LEFT($F85,LEN($F85)-$C85)&\"\",Kredsudvælgelse!$W$6:$X$7),DGET(Forespørgsel1[#All],\"\"&LEFT($F85,LEN($F85)-$C85)&\"\",Kredsudvælgelse!$W$6:$X$7)/IF(ISNONTEXT($D85)=TRUE,1,DGET(Forespørgsel1[#All],\"\"&$D85&\"\",Kredsudvælgelse!$W$6:$X$7))),IF(ISBLANK(HLOOKUP(T$12,'Statiske ejendomme'!$B$3:$PN$81,'Statiske ejendomme'!$A78,FALSE))=FALSE,HLOOKUP(T$12,'Statiske ejendomme'!$B$3:$PN$81,'Statiske ejendomme'!$A78,FALSE),\"\"))),\"\")","v":""}]
[{"$f":"Mink!E157","v":0},{"$f":"Mink!D157","v":0},{"$f":"IFERROR(IF(AND(#REF!=2,#REF!=2),#REF!,IF(#REF!=3,Mink!A75,IF(AND(#REF!=2,#REF!=3),#REF!,IF(AND(#REF!=2,#REF!=4),#REF!,IF(#REF!=4,#REF!,\"\"))))),\"fejl\")","v":"fejl"},{"$f":"Mink!B75","v":0},null,{"$f":"Mink!C75","v":0},{"$f":"Mink!D75","v":0},{"$f":"Mink!E75","v":0},{"$f":"Mink!F75","v":0},{"$f":"Mink!G75","v":0},{"$f":"IFERROR(IF(K$12=Kredsudvælgelse!$Q$20,\"\",IF(Kredsudvælgelse!AB$2=1,IF(ISTEXT(DGET(Forespørgsel1[#All],\"\"&LEFT($F86,LEN($F86)-$C86)&\"\",Kredsudvælgelse!$Q$2:$R$3))=TRUE,DGET(Forespørgsel1[#All],\"\"&LEFT($F86,LEN($F86)-$C86)&\"\",Kredsudvælgelse!$Q$2:$R$3),DGET(Forespørgsel1[#All],\"\"&LEFT($F86,LEN($F86)-$C86)&\"\",Kredsudvælgelse!$Q$2:$R$3)/IF(ISNONTEXT($D86)=TRUE,1,DGET(Forespørgsel1[#All],\"\"&$D86&\"\",Kredsudvælgelse!$Q$2:$R$3))),IF(ISBLANK(HLOOKUP(K$12,'Statiske ejendomme'!$B$3:$PN$81,'Statiske ejendomme'!$A78,FALSE))=FALSE,HLOOKUP(K$12,'Statiske ejendomme'!$B$3:$PN$81,'Statiske ejendomme'!$A78,FALSE),\"\"))),\"\")","v":""},{"$f":"IFERROR(IF(L$12=Kredsudvælgelse!$Q$20,\"\",IF(Kredsudvælgelse!AC$2=1,IF(ISTEXT(DGET(Forespørgsel1[#All],\"\"&LEFT($F86,LEN($F86)-$C86)&\"\",Kredsudvælgelse!$S$2:$T$3))=TRUE,DGET(Forespørgsel1[#All],\"\"&LEFT($F86,LEN($F86)-$C86)&\"\",Kredsudvælgelse!$S$2:$T$3),DGET(Forespørgsel1[#All],\"\"&LEFT($F86,LEN($F86)-$C86)&\"\",Kredsudvælgelse!$S$2:$T$3)/IF(ISNONTEXT($D86)=TRUE,1,DGET(Forespørgsel1[#All],\"\"&$D86&\"\",Kredsudvælgelse!$S$2:$T$3))),IF(ISBLANK(HLOOKUP(L$12,'Statiske ejendomme'!$B$3:$PN$81,'Statiske ejendomme'!$A78,FALSE))=FALSE,HLOOKUP(L$12,'Statiske ejendomme'!$B$3:$PN$81,'Statiske ejendomme'!$A78,FALSE),\"\"))),\"\")","v":""},{"$f":"IFERROR(IF(M$12=Kredsudvælgelse!$Q$20,\"\",IF(Kredsudvælgelse!AD$2=1,IF(ISTEXT(DGET(Forespørgsel1[#All],\"\"&LEFT($F86,LEN($F86)-$C86)&\"\",Kredsudvælgelse!$U$2:$V$3))=TRUE,DGET(Forespørgsel1[#All],\"\"&LEFT($F86,LEN($F86)-$C86)&\"\",Kredsudvælgelse!$U$2:$V$3),DGET(Forespørgsel1[#All],\"\"&LEFT($F86,LEN($F86)-$C86)&\"\",Kredsudvælgelse!$U$2:$V$3)/IF(ISNONTEXT($D86)=TRUE,1,DGET(Forespørgsel1[#All],\"\"&$D86&\"\",Kredsudvælgelse!$U$2:$V$3))),IF(ISBLANK(HLOOKUP(M$12,'Statiske ejendomme'!$B$3:$PN$81,'Statiske ejendomme'!$A78,FALSE))=FALSE,HLOOKUP(M$12,'Statiske ejendomme'!$B$3:$PN$81,'Statiske ejendomme'!$A78,FALSE),\"\"))),\"\")","v":""},{"$f":"IFERROR(IF(N$12=Kredsudvælgelse!$Q$20,\"\",IF(Kredsudvælgelse!AE$2=1,IF(ISTEXT(DGET(Forespørgsel1[#All],\"\"&LEFT($F86,LEN($F86)-$C86)&\"\",Kredsudvælgelse!$W$2:$X$3))=TRUE,DGET(Forespørgsel1[#All],\"\"&LEFT($F86,LEN($F86)-$C86)&\"\",Kredsudvælgelse!$W$2:$X$3),DGET(Forespørgsel1[#All],\"\"&LEFT($F86,LEN($F86)-$C86)&\"\",Kredsudvælgelse!$W$2:$X$3)/IF(ISNONTEXT($D86)=TRUE,1,DGET(Forespørgsel1[#All],\"\"&$D86&\"\",Kredsudvælgelse!$W$2:$X$3))),IF(ISBLANK(HLOOKUP(N$12,'Statiske ejendomme'!$B$3:$PN$81,'Statiske ejendomme'!$A78,FALSE))=FALSE,HLOOKUP(N$12,'Statiske ejendomme'!$B$3:$PN$81,'Statiske ejendomme'!$A78,FALSE),\"\"))),\"\")","v":""},{"$f":"IFERROR(IF(O$12=Kredsudvælgelse!$Q$20,\"\",IF(Kredsudvælgelse!AF$2=1,IF(ISTEXT(DGET(Forespørgsel1[#All],\"\"&LEFT($F86,LEN($F86)-$C86)&\"\",Kredsudvælgelse!$Y$2:$Z$3))=TRUE,DGET(Forespørgsel1[#All],\"\"&LEFT($F86,LEN($F86)-$C86)&\"\",Kredsudvælgelse!$Y$2:$Z$3),DGET(Forespørgsel1[#All],\"\"&LEFT($F86,LEN($F86)-$C86)&\"\",Kredsudvælgelse!$Y$2:$Z$3)/IF(ISNONTEXT($D86)=TRUE,1,DGET(Forespørgsel1[#All],\"\"&$D86&\"\",Kredsudvælgelse!$Y$2:$Z$3))),IF(ISBLANK(HLOOKUP(O$12,'Statiske ejendomme'!$B$3:$PN$81,'Statiske ejendomme'!$A78,FALSE))=FALSE,HLOOKUP(O$12,'Statiske ejendomme'!$B$3:$PN$81,'Statiske ejendomme'!$A78,FALSE),\"\"))),\"\")","v":""},{"$f":"IFERROR(IF(P$12=Kredsudvælgelse!$Q$20,\"\",IF(Kredsudvælgelse!AG$2=1,IF(ISTEXT(DGET(Forespørgsel1[#All],\"\"&LEFT($F86,LEN($F86)-$C86)&\"\",Kredsudvælgelse!$Q$6:$R$7))=TRUE,DGET(Forespørgsel1[#All],\"\"&LEFT($F86,LEN($F86)-$C86)&\"\",Kredsudvælgelse!$Q$6:$R$7),DGET(Forespørgsel1[#All],\"\"&LEFT($F86,LEN($F86)-$C86)&\"\",Kredsudvælgelse!$Q$6:$R$7)/IF(ISNONTEXT($D86)=TRUE,1,DGET(Forespørgsel1[#All],\"\"&$D86&\"\",Kredsudvælgelse!$Q$6:$R$7))),IF(ISBLANK(HLOOKUP(P$12,'Statiske ejendomme'!$B$3:$PN$81,'Statiske ejendomme'!$A78,FALSE))=FALSE,HLOOKUP(P$12,'Statiske ejendomme'!$B$3:$PN$81,'Statiske ejendomme'!$A78,FALSE),\"\"))),\"\")","v":""},{"$f":"IFERROR(IF(Q$12=Kredsudvælgelse!$Q$20,\"\",IF(Kredsudvælgelse!AH$2=1,IF(ISTEXT(DGET(Forespørgsel1[#All],\"\"&LEFT($F86,LEN($F86)-$C86)&\"\",Kredsudvælgelse!$S$6:$T$7))=TRUE,DGET(Forespørgsel1[#All],\"\"&LEFT($F86,LEN($F86)-$C86)&\"\",Kredsudvælgelse!$S$6:$T$7),DGET(Forespørgsel1[#All],\"\"&LEFT($F86,LEN($F86)-$C86)&\"\",Kredsudvælgelse!$S$6:$T$7)/IF(ISNONTEXT($D86)=TRUE,1,DGET(Forespørgsel1[#All],\"\"&$D86&\"\",Kredsudvælgelse!$S$6:$T$7))),IF(ISBLANK(HLOOKUP(Q$12,'Statiske ejendomme'!$B$3:$PN$81,'Statiske ejendomme'!$A78,FALSE))=FALSE,HLOOKUP(Q$12,'Statiske ejendomme'!$B$3:$PN$81,'Statiske ejendomme'!$A78,FALSE),\"\"))),\"\")","v":""},{"$f":"IFERROR(IF(R$12=Kredsudvælgelse!$Q$20,\"\",IF(Kredsudvælgelse!AI$2=1,IF(ISTEXT(DGET(Forespørgsel1[#All],\"\"&LEFT($F86,LEN($F86)-$C86)&\"\",Kredsudvælgelse!$U$6:$V$7))=TRUE,DGET(Forespørgsel1[#All],\"\"&LEFT($F86,LEN($F86)-$C86)&\"\",Kredsudvælgelse!$U$6:$V$7),DGET(Forespørgsel1[#All],\"\"&LEFT($F86,LEN($F86)-$C86)&\"\",Kredsudvælgelse!$U$6:$V$7)/IF(ISNONTEXT($D86)=TRUE,1,DGET(Forespørgsel1[#All],\"\"&$D86&\"\",Kredsudvælgelse!$U$6:$V$7))),IF(ISBLANK(HLOOKUP(R$12,'Statiske ejendomme'!$B$3:$PN$81,'Statiske ejendomme'!$A78,FALSE))=FALSE,HLOOKUP(R$12,'Statiske ejendomme'!$B$3:$PN$81,'Statiske ejendomme'!$A78,FALSE),\"\"))),\"\")","v":""},{"$f":"IFERROR(IF(S$12=Kredsudvælgelse!$Q$20,\"\",IF(Kredsudvælgelse!AJ$2=1,IF(ISTEXT(DGET(Forespørgsel1[#All],\"\"&LEFT($F86,LEN($F86)-$C86)&\"\",Kredsudvælgelse!$W$6:$X$7))=TRUE,DGET(Forespørgsel1[#All],\"\"&LEFT($F86,LEN($F86)-$C86)&\"\",Kredsudvælgelse!$W$6:$X$7),DGET(Forespørgsel1[#All],\"\"&LEFT($F86,LEN($F86)-$C86)&\"\",Kredsudvælgelse!$W$6:$X$7)/IF(ISNONTEXT($D86)=TRUE,1,DGET(Forespørgsel1[#All],\"\"&$D86&\"\",Kredsudvælgelse!$W$6:$X$7))),IF(ISBLANK(HLOOKUP(S$12,'Statiske ejendomme'!$B$3:$PN$81,'Statiske ejendomme'!$A78,FALSE))=FALSE,HLOOKUP(S$12,'Statiske ejendomme'!$B$3:$PN$81,'Statiske ejendomme'!$A78,FALSE),\"\"))),\"\")","v":""},{"$f":"IFERROR(IF(T$12=Kredsudvælgelse!$Q$20,\"\",IF(Kredsudvælgelse!AK$2=1,IF(ISTEXT(DGET(Forespørgsel1[#All],\"\"&LEFT($F86,LEN($F86)-$C86)&\"\",Kredsudvælgelse!$W$6:$X$7))=TRUE,DGET(Forespørgsel1[#All],\"\"&LEFT($F86,LEN($F86)-$C86)&\"\",Kredsudvælgelse!$W$6:$X$7),DGET(Forespørgsel1[#All],\"\"&LEFT($F86,LEN($F86)-$C86)&\"\",Kredsudvælgelse!$W$6:$X$7)/IF(ISNONTEXT($D86)=TRUE,1,DGET(Forespørgsel1[#All],\"\"&$D86&\"\",Kredsudvælgelse!$W$6:$X$7))),IF(ISBLANK(HLOOKUP(T$12,'Statiske ejendomme'!$B$3:$PN$81,'Statiske ejendomme'!$A79,FALSE))=FALSE,HLOOKUP(T$12,'Statiske ejendomme'!$B$3:$PN$81,'Statiske ejendomme'!$A79,FALSE),\"\"))),\"\")","v":""}]
[{"$f":"Mink!E158","v":0},{"$f":"Mink!D158","v":0},{"$f":"IFERROR(IF(AND(#REF!=2,#REF!=2),#REF!,IF(#REF!=3,Mink!A76,IF(AND(#REF!=2,#REF!=3),#REF!,IF(AND(#REF!=2,#REF!=4),#REF!,IF(#REF!=4,#REF!,\"\"))))),\"fejl\")","v":"fejl"},{"$f":"Mink!B76","v":0},null,{"$f":"Mink!C76","v":0},{"$f":"Mink!D76","v":0},{"$f":"Mink!E76","v":0},{"$f":"Mink!F76","v":0},{"$f":"Mink!G76","v":0},{"$f":"IFERROR(IF(K$12=Kredsudvælgelse!$Q$20,\"\",IF(Kredsudvælgelse!AB$2=1,IF(ISTEXT(DGET(Forespørgsel1[#All],\"\"&LEFT($F87,LEN($F87)-$C87)&\"\",Kredsudvælgelse!$Q$2:$R$3))=TRUE,DGET(Forespørgsel1[#All],\"\"&LEFT($F87,LEN($F87)-$C87)&\"\",Kredsudvælgelse!$Q$2:$R$3),DGET(Forespørgsel1[#All],\"\"&LEFT($F87,LEN($F87)-$C87)&\"\",Kredsudvælgelse!$Q$2:$R$3)/IF(ISNONTEXT($D87)=TRUE,1,DGET(Forespørgsel1[#All],\"\"&$D87&\"\",Kredsudvælgelse!$Q$2:$R$3))),IF(ISBLANK(HLOOKUP(K$12,'Statiske ejendomme'!$B$3:$PN$81,'Statiske ejendomme'!$A79,FALSE))=FALSE,HLOOKUP(K$12,'Statiske ejendomme'!$B$3:$PN$81,'Statiske ejendomme'!$A79,FALSE),\"\"))),\"\")","v":""},{"$f":"IFERROR(IF(L$12=Kredsudvælgelse!$Q$20,\"\",IF(Kredsudvælgelse!AC$2=1,IF(ISTEXT(DGET(Forespørgsel1[#All],\"\"&LEFT($F87,LEN($F87)-$C87)&\"\",Kredsudvælgelse!$S$2:$T$3))=TRUE,DGET(Forespørgsel1[#All],\"\"&LEFT($F87,LEN($F87)-$C87)&\"\",Kredsudvælgelse!$S$2:$T$3),DGET(Forespørgsel1[#All],\"\"&LEFT($F87,LEN($F87)-$C87)&\"\",Kredsudvælgelse!$S$2:$T$3)/IF(ISNONTEXT($D87)=TRUE,1,DGET(Forespørgsel1[#All],\"\"&$D87&\"\",Kredsudvælgelse!$S$2:$T$3))),IF(ISBLANK(HLOOKUP(L$12,'Statiske ejendomme'!$B$3:$PN$81,'Statiske ejendomme'!$A79,FALSE))=FALSE,HLOOKUP(L$12,'Statiske ejendomme'!$B$3:$PN$81,'Statiske ejendomme'!$A79,FALSE),\"\"))),\"\")","v":""},{"$f":"IFERROR(IF(M$12=Kredsudvælgelse!$Q$20,\"\",IF(Kredsudvælgelse!AD$2=1,IF(ISTEXT(DGET(Forespørgsel1[#All],\"\"&LEFT($F87,LEN($F87)-$C87)&\"\",Kredsudvælgelse!$U$2:$V$3))=TRUE,DGET(Forespørgsel1[#All],\"\"&LEFT($F87,LEN($F87)-$C87)&\"\",Kredsudvælgelse!$U$2:$V$3),DGET(Forespørgsel1[#All],\"\"&LEFT($F87,LEN($F87)-$C87)&\"\",Kredsudvælgelse!$U$2:$V$3)/IF(ISNONTEXT($D87)=TRUE,1,DGET(Forespørgsel1[#All],\"\"&$D87&\"\",Kredsudvælgelse!$U$2:$V$3))),IF(ISBLANK(HLOOKUP(M$12,'Statiske ejendomme'!$B$3:$PN$81,'Statiske ejendomme'!$A79,FALSE))=FALSE,HLOOKUP(M$12,'Statiske ejendomme'!$B$3:$PN$81,'Statiske ejendomme'!$A79,FALSE),\"\"))),\"\")","v":""},{"$f":"IFERROR(IF(N$12=Kredsudvælgelse!$Q$20,\"\",IF(Kredsudvælgelse!AE$2=1,IF(ISTEXT(DGET(Forespørgsel1[#All],\"\"&LEFT($F87,LEN($F87)-$C87)&\"\",Kredsudvælgelse!$W$2:$X$3))=TRUE,DGET(Forespørgsel1[#All],\"\"&LEFT($F87,LEN($F87)-$C87)&\"\",Kredsudvælgelse!$W$2:$X$3),DGET(Forespørgsel1[#All],\"\"&LEFT($F87,LEN($F87)-$C87)&\"\",Kredsudvælgelse!$W$2:$X$3)/IF(ISNONTEXT($D87)=TRUE,1,DGET(Forespørgsel1[#All],\"\"&$D87&\"\",Kredsudvælgelse!$W$2:$X$3))),IF(ISBLANK(HLOOKUP(N$12,'Statiske ejendomme'!$B$3:$PN$81,'Statiske ejendomme'!$A79,FALSE))=FALSE,HLOOKUP(N$12,'Statiske ejendomme'!$B$3:$PN$81,'Statiske ejendomme'!$A79,FALSE),\"\"))),\"\")","v":""},{"$f":"IFERROR(IF(O$12=Kredsudvælgelse!$Q$20,\"\",IF(Kredsudvælgelse!AF$2=1,IF(ISTEXT(DGET(Forespørgsel1[#All],\"\"&LEFT($F87,LEN($F87)-$C87)&\"\",Kredsudvælgelse!$Y$2:$Z$3))=TRUE,DGET(Forespørgsel1[#All],\"\"&LEFT($F87,LEN($F87)-$C87)&\"\",Kredsudvælgelse!$Y$2:$Z$3),DGET(Forespørgsel1[#All],\"\"&LEFT($F87,LEN($F87)-$C87)&\"\",Kredsudvælgelse!$Y$2:$Z$3)/IF(ISNONTEXT($D87)=TRUE,1,DGET(Forespørgsel1[#All],\"\"&$D87&\"\",Kredsudvælgelse!$Y$2:$Z$3))),IF(ISBLANK(HLOOKUP(O$12,'Statiske ejendomme'!$B$3:$PN$81,'Statiske ejendomme'!$A79,FALSE))=FALSE,HLOOKUP(O$12,'Statiske ejendomme'!$B$3:$PN$81,'Statiske ejendomme'!$A79,FALSE),\"\"))),\"\")","v":""},{"$f":"IFERROR(IF(P$12=Kredsudvælgelse!$Q$20,\"\",IF(Kredsudvælgelse!AG$2=1,IF(ISTEXT(DGET(Forespørgsel1[#All],\"\"&LEFT($F87,LEN($F87)-$C87)&\"\",Kredsudvælgelse!$Q$6:$R$7))=TRUE,DGET(Forespørgsel1[#All],\"\"&LEFT($F87,LEN($F87)-$C87)&\"\",Kredsudvælgelse!$Q$6:$R$7),DGET(Forespørgsel1[#All],\"\"&LEFT($F87,LEN($F87)-$C87)&\"\",Kredsudvælgelse!$Q$6:$R$7)/IF(ISNONTEXT($D87)=TRUE,1,DGET(Forespørgsel1[#All],\"\"&$D87&\"\",Kredsudvælgelse!$Q$6:$R$7))),IF(ISBLANK(HLOOKUP(P$12,'Statiske ejendomme'!$B$3:$PN$81,'Statiske ejendomme'!$A79,FALSE))=FALSE,HLOOKUP(P$12,'Statiske ejendomme'!$B$3:$PN$81,'Statiske ejendomme'!$A79,FALSE),\"\"))),\"\")","v":""},{"$f":"IFERROR(IF(Q$12=Kredsudvælgelse!$Q$20,\"\",IF(Kredsudvælgelse!AH$2=1,IF(ISTEXT(DGET(Forespørgsel1[#All],\"\"&LEFT($F87,LEN($F87)-$C87)&\"\",Kredsudvælgelse!$S$6:$T$7))=TRUE,DGET(Forespørgsel1[#All],\"\"&LEFT($F87,LEN($F87)-$C87)&\"\",Kredsudvælgelse!$S$6:$T$7),DGET(Forespørgsel1[#All],\"\"&LEFT($F87,LEN($F87)-$C87)&\"\",Kredsudvælgelse!$S$6:$T$7)/IF(ISNONTEXT($D87)=TRUE,1,DGET(Forespørgsel1[#All],\"\"&$D87&\"\",Kredsudvælgelse!$S$6:$T$7))),IF(ISBLANK(HLOOKUP(Q$12,'Statiske ejendomme'!$B$3:$PN$81,'Statiske ejendomme'!$A79,FALSE))=FALSE,HLOOKUP(Q$12,'Statiske ejendomme'!$B$3:$PN$81,'Statiske ejendomme'!$A79,FALSE),\"\"))),\"\")","v":""},{"$f":"IFERROR(IF(R$12=Kredsudvælgelse!$Q$20,\"\",IF(Kredsudvælgelse!AI$2=1,IF(ISTEXT(DGET(Forespørgsel1[#All],\"\"&LEFT($F87,LEN($F87)-$C87)&\"\",Kredsudvælgelse!$U$6:$V$7))=TRUE,DGET(Forespørgsel1[#All],\"\"&LEFT($F87,LEN($F87)-$C87)&\"\",Kredsudvælgelse!$U$6:$V$7),DGET(Forespørgsel1[#All],\"\"&LEFT($F87,LEN($F87)-$C87)&\"\",Kredsudvælgelse!$U$6:$V$7)/IF(ISNONTEXT($D87)=TRUE,1,DGET(Forespørgsel1[#All],\"\"&$D87&\"\",Kredsudvælgelse!$U$6:$V$7))),IF(ISBLANK(HLOOKUP(R$12,'Statiske ejendomme'!$B$3:$PN$81,'Statiske ejendomme'!$A79,FALSE))=FALSE,HLOOKUP(R$12,'Statiske ejendomme'!$B$3:$PN$81,'Statiske ejendomme'!$A79,FALSE),\"\"))),\"\")","v":""},{"$f":"IFERROR(IF(S$12=Kredsudvælgelse!$Q$20,\"\",IF(Kredsudvælgelse!AJ$2=1,IF(ISTEXT(DGET(Forespørgsel1[#All],\"\"&LEFT($F87,LEN($F87)-$C87)&\"\",Kredsudvælgelse!$W$6:$X$7))=TRUE,DGET(Forespørgsel1[#All],\"\"&LEFT($F87,LEN($F87)-$C87)&\"\",Kredsudvælgelse!$W$6:$X$7),DGET(Forespørgsel1[#All],\"\"&LEFT($F87,LEN($F87)-$C87)&\"\",Kredsudvælgelse!$W$6:$X$7)/IF(ISNONTEXT($D87)=TRUE,1,DGET(Forespørgsel1[#All],\"\"&$D87&\"\",Kredsudvælgelse!$W$6:$X$7))),IF(ISBLANK(HLOOKUP(S$12,'Statiske ejendomme'!$B$3:$PN$81,'Statiske ejendomme'!$A79,FALSE))=FALSE,HLOOKUP(S$12,'Statiske ejendomme'!$B$3:$PN$81,'Statiske ejendomme'!$A79,FALSE),\"\"))),\"\")","v":""},{"$f":"IFERROR(IF(T$12=Kredsudvælgelse!$Q$20,\"\",IF(Kredsudvælgelse!AK$2=1,IF(ISTEXT(DGET(Forespørgsel1[#All],\"\"&LEFT($F87,LEN($F87)-$C87)&\"\",Kredsudvælgelse!$W$6:$X$7))=TRUE,DGET(Forespørgsel1[#All],\"\"&LEFT($F87,LEN($F87)-$C87)&\"\",Kredsudvælgelse!$W$6:$X$7),DGET(Forespørgsel1[#All],\"\"&LEFT($F87,LEN($F87)-$C87)&\"\",Kredsudvælgelse!$W$6:$X$7)/IF(ISNONTEXT($D87)=TRUE,1,DGET(Forespørgsel1[#All],\"\"&$D87&\"\",Kredsudvælgelse!$W$6:$X$7))),IF(ISBLANK(HLOOKUP(T$12,'Statiske ejendomme'!$B$3:$PN$81,'Statiske ejendomme'!$A80,FALSE))=FALSE,HLOOKUP(T$12,'Statiske ejendomme'!$B$3:$PN$81,'Statiske ejendomme'!$A80,FALSE),\"\"))),\"\")","v":""}]
[{"$f":"Mink!E159","v":0},{"$f":"Mink!D159","v":0},{"$f":"IFERROR(IF(AND(#REF!=2,#REF!=2),#REF!,IF(#REF!=3,Mink!A77,IF(AND(#REF!=2,#REF!=3),#REF!,IF(AND(#REF!=2,#REF!=4),#REF!,IF(#REF!=4,#REF!,\"\"))))),\"fejl\")","v":"fejl"},{"$f":"Mink!B77","v":0},null,{"$f":"Mink!C77","v":0},{"$f":"Mink!D77","v":0},{"$f":"Mink!E77","v":0},{"$f":"Mink!F77","v":0},{"$f":"Mink!G77","v":0},{"$f":"IFERROR(IF(K$12=Kredsudvælgelse!$Q$20,\"\",IF(Kredsudvælgelse!AB$2=1,IF(ISTEXT(DGET(Forespørgsel1[#All],\"\"&LEFT($F88,LEN($F88)-$C88)&\"\",Kredsudvælgelse!$Q$2:$R$3))=TRUE,DGET(Forespørgsel1[#All],\"\"&LEFT($F88,LEN($F88)-$C88)&\"\",Kredsudvælgelse!$Q$2:$R$3),DGET(Forespørgsel1[#All],\"\"&LEFT($F88,LEN($F88)-$C88)&\"\",Kredsudvælgelse!$Q$2:$R$3)/IF(ISNONTEXT($D88)=TRUE,1,DGET(Forespørgsel1[#All],\"\"&$D88&\"\",Kredsudvælgelse!$Q$2:$R$3))),IF(ISBLANK(HLOOKUP(K$12,'Statiske ejendomme'!$B$3:$PN$81,'Statiske ejendomme'!$A80,FALSE))=FALSE,HLOOKUP(K$12,'Statiske ejendomme'!$B$3:$PN$81,'Statiske ejendomme'!$A80,FALSE),\"\"))),\"\")","v":""},{"$f":"IFERROR(IF(L$12=Kredsudvælgelse!$Q$20,\"\",IF(Kredsudvælgelse!AC$2=1,IF(ISTEXT(DGET(Forespørgsel1[#All],\"\"&LEFT($F88,LEN($F88)-$C88)&\"\",Kredsudvælgelse!$S$2:$T$3))=TRUE,DGET(Forespørgsel1[#All],\"\"&LEFT($F88,LEN($F88)-$C88)&\"\",Kredsudvælgelse!$S$2:$T$3),DGET(Forespørgsel1[#All],\"\"&LEFT($F88,LEN($F88)-$C88)&\"\",Kredsudvælgelse!$S$2:$T$3)/IF(ISNONTEXT($D88)=TRUE,1,DGET(Forespørgsel1[#All],\"\"&$D88&\"\",Kredsudvælgelse!$S$2:$T$3))),IF(ISBLANK(HLOOKUP(L$12,'Statiske ejendomme'!$B$3:$PN$81,'Statiske ejendomme'!$A80,FALSE))=FALSE,HLOOKUP(L$12,'Statiske ejendomme'!$B$3:$PN$81,'Statiske ejendomme'!$A80,FALSE),\"\"))),\"\")","v":""},{"$f":"IFERROR(IF(M$12=Kredsudvælgelse!$Q$20,\"\",IF(Kredsudvælgelse!AD$2=1,IF(ISTEXT(DGET(Forespørgsel1[#All],\"\"&LEFT($F88,LEN($F88)-$C88)&\"\",Kredsudvælgelse!$U$2:$V$3))=TRUE,DGET(Forespørgsel1[#All],\"\"&LEFT($F88,LEN($F88)-$C88)&\"\",Kredsudvælgelse!$U$2:$V$3),DGET(Forespørgsel1[#All],\"\"&LEFT($F88,LEN($F88)-$C88)&\"\",Kredsudvælgelse!$U$2:$V$3)/IF(ISNONTEXT($D88)=TRUE,1,DGET(Forespørgsel1[#All],\"\"&$D88&\"\",Kredsudvælgelse!$U$2:$V$3))),IF(ISBLANK(HLOOKUP(M$12,'Statiske ejendomme'!$B$3:$PN$81,'Statiske ejendomme'!$A80,FALSE))=FALSE,HLOOKUP(M$12,'Statiske ejendomme'!$B$3:$PN$81,'Statiske ejendomme'!$A80,FALSE),\"\"))),\"\")","v":""},{"$f":"IFERROR(IF(N$12=Kredsudvælgelse!$Q$20,\"\",IF(Kredsudvælgelse!AE$2=1,IF(ISTEXT(DGET(Forespørgsel1[#All],\"\"&LEFT($F88,LEN($F88)-$C88)&\"\",Kredsudvælgelse!$W$2:$X$3))=TRUE,DGET(Forespørgsel1[#All],\"\"&LEFT($F88,LEN($F88)-$C88)&\"\",Kredsudvælgelse!$W$2:$X$3),DGET(Forespørgsel1[#All],\"\"&LEFT($F88,LEN($F88)-$C88)&\"\",Kredsudvælgelse!$W$2:$X$3)/IF(ISNONTEXT($D88)=TRUE,1,DGET(Forespørgsel1[#All],\"\"&$D88&\"\",Kredsudvælgelse!$W$2:$X$3))),IF(ISBLANK(HLOOKUP(N$12,'Statiske ejendomme'!$B$3:$PN$81,'Statiske ejendomme'!$A80,FALSE))=FALSE,HLOOKUP(N$12,'Statiske ejendomme'!$B$3:$PN$81,'Statiske ejendomme'!$A80,FALSE),\"\"))),\"\")","v":""},{"$f":"IFERROR(IF(O$12=Kredsudvælgelse!$Q$20,\"\",IF(Kredsudvælgelse!AF$2=1,IF(ISTEXT(DGET(Forespørgsel1[#All],\"\"&LEFT($F88,LEN($F88)-$C88)&\"\",Kredsudvælgelse!$Y$2:$Z$3))=TRUE,DGET(Forespørgsel1[#All],\"\"&LEFT($F88,LEN($F88)-$C88)&\"\",Kredsudvælgelse!$Y$2:$Z$3),DGET(Forespørgsel1[#All],\"\"&LEFT($F88,LEN($F88)-$C88)&\"\",Kredsudvælgelse!$Y$2:$Z$3)/IF(ISNONTEXT($D88)=TRUE,1,DGET(Forespørgsel1[#All],\"\"&$D88&\"\",Kredsudvælgelse!$Y$2:$Z$3))),IF(ISBLANK(HLOOKUP(O$12,'Statiske ejendomme'!$B$3:$PN$81,'Statiske ejendomme'!$A80,FALSE))=FALSE,HLOOKUP(O$12,'Statiske ejendomme'!$B$3:$PN$81,'Statiske ejendomme'!$A80,FALSE),\"\"))),\"\")","v":""},{"$f":"IFERROR(IF(P$12=Kredsudvælgelse!$Q$20,\"\",IF(Kredsudvælgelse!AG$2=1,IF(ISTEXT(DGET(Forespørgsel1[#All],\"\"&LEFT($F88,LEN($F88)-$C88)&\"\",Kredsudvælgelse!$Q$6:$R$7))=TRUE,DGET(Forespørgsel1[#All],\"\"&LEFT($F88,LEN($F88)-$C88)&\"\",Kredsudvælgelse!$Q$6:$R$7),DGET(Forespørgsel1[#All],\"\"&LEFT($F88,LEN($F88)-$C88)&\"\",Kredsudvælgelse!$Q$6:$R$7)/IF(ISNONTEXT($D88)=TRUE,1,DGET(Forespørgsel1[#All],\"\"&$D88&\"\",Kredsudvælgelse!$Q$6:$R$7))),IF(ISBLANK(HLOOKUP(P$12,'Statiske ejendomme'!$B$3:$PN$81,'Statiske ejendomme'!$A80,FALSE))=FALSE,HLOOKUP(P$12,'Statiske ejendomme'!$B$3:$PN$81,'Statiske ejendomme'!$A80,FALSE),\"\"))),\"\")","v":""},{"$f":"IFERROR(IF(Q$12=Kredsudvælgelse!$Q$20,\"\",IF(Kredsudvælgelse!AH$2=1,IF(ISTEXT(DGET(Forespørgsel1[#All],\"\"&LEFT($F88,LEN($F88)-$C88)&\"\",Kredsudvælgelse!$S$6:$T$7))=TRUE,DGET(Forespørgsel1[#All],\"\"&LEFT($F88,LEN($F88)-$C88)&\"\",Kredsudvælgelse!$S$6:$T$7),DGET(Forespørgsel1[#All],\"\"&LEFT($F88,LEN($F88)-$C88)&\"\",Kredsudvælgelse!$S$6:$T$7)/IF(ISNONTEXT($D88)=TRUE,1,DGET(Forespørgsel1[#All],\"\"&$D88&\"\",Kredsudvælgelse!$S$6:$T$7))),IF(ISBLANK(HLOOKUP(Q$12,'Statiske ejendomme'!$B$3:$PN$81,'Statiske ejendomme'!$A80,FALSE))=FALSE,HLOOKUP(Q$12,'Statiske ejendomme'!$B$3:$PN$81,'Statiske ejendomme'!$A80,FALSE),\"\"))),\"\")","v":""},{"$f":"IFERROR(IF(R$12=Kredsudvælgelse!$Q$20,\"\",IF(Kredsudvælgelse!AI$2=1,IF(ISTEXT(DGET(Forespørgsel1[#All],\"\"&LEFT($F88,LEN($F88)-$C88)&\"\",Kredsudvælgelse!$U$6:$V$7))=TRUE,DGET(Forespørgsel1[#All],\"\"&LEFT($F88,LEN($F88)-$C88)&\"\",Kredsudvælgelse!$U$6:$V$7),DGET(Forespørgsel1[#All],\"\"&LEFT($F88,LEN($F88)-$C88)&\"\",Kredsudvælgelse!$U$6:$V$7)/IF(ISNONTEXT($D88)=TRUE,1,DGET(Forespørgsel1[#All],\"\"&$D88&\"\",Kredsudvælgelse!$U$6:$V$7))),IF(ISBLANK(HLOOKUP(R$12,'Statiske ejendomme'!$B$3:$PN$81,'Statiske ejendomme'!$A80,FALSE))=FALSE,HLOOKUP(R$12,'Statiske ejendomme'!$B$3:$PN$81,'Statiske ejendomme'!$A80,FALSE),\"\"))),\"\")","v":""},{"$f":"IFERROR(IF(S$12=Kredsudvælgelse!$Q$20,\"\",IF(Kredsudvælgelse!AJ$2=1,IF(ISTEXT(DGET(Forespørgsel1[#All],\"\"&LEFT($F88,LEN($F88)-$C88)&\"\",Kredsudvælgelse!$W$6:$X$7))=TRUE,DGET(Forespørgsel1[#All],\"\"&LEFT($F88,LEN($F88)-$C88)&\"\",Kredsudvælgelse!$W$6:$X$7),DGET(Forespørgsel1[#All],\"\"&LEFT($F88,LEN($F88)-$C88)&\"\",Kredsudvælgelse!$W$6:$X$7)/IF(ISNONTEXT($D88)=TRUE,1,DGET(Forespørgsel1[#All],\"\"&$D88&\"\",Kredsudvælgelse!$W$6:$X$7))),IF(ISBLANK(HLOOKUP(S$12,'Statiske ejendomme'!$B$3:$PN$81,'Statiske ejendomme'!$A80,FALSE))=FALSE,HLOOKUP(S$12,'Statiske ejendomme'!$B$3:$PN$81,'Statiske ejendomme'!$A80,FALSE),\"\"))),\"\")","v":""},{"$f":"IFERROR(IF(T$12=Kredsudvælgelse!$Q$20,\"\",IF(Kredsudvælgelse!AK$2=1,IF(ISTEXT(DGET(Forespørgsel1[#All],\"\"&LEFT($F88,LEN($F88)-$C88)&\"\",Kredsudvælgelse!$W$6:$X$7))=TRUE,DGET(Forespørgsel1[#All],\"\"&LEFT($F88,LEN($F88)-$C88)&\"\",Kredsudvælgelse!$W$6:$X$7),DGET(Forespørgsel1[#All],\"\"&LEFT($F88,LEN($F88)-$C88)&\"\",Kredsudvælgelse!$W$6:$X$7)/IF(ISNONTEXT($D88)=TRUE,1,DGET(Forespørgsel1[#All],\"\"&$D88&\"\",Kredsudvælgelse!$W$6:$X$7))),IF(ISBLANK(HLOOKUP(T$12,'Statiske ejendomme'!$B$3:$PN$81,'Statiske ejendomme'!$A81,FALSE))=FALSE,HLOOKUP(T$12,'Statiske ejendomme'!$B$3:$PN$81,'Statiske ejendomme'!$A81,FALSE),\"\"))),\"\")","v":""}]
[{"$f":"Mink!E160","v":0},{"$f":"Mink!D160","v":0},{"$f":"IFERROR(IF(AND(#REF!=2,#REF!=2),#REF!,IF(#REF!=3,Mink!A78,IF(AND(#REF!=2,#REF!=3),#REF!,IF(AND(#REF!=2,#REF!=4),#REF!,IF(#REF!=4,#REF!,\"\"))))),\"fejl\")","v":"fejl"},{"$f":"Mink!B78","v":0},null,{"$f":"Mink!C78","v":0},{"$f":"Mink!D78","v":0},{"$f":"Mink!E78","v":0},{"$f":"Mink!F78","v":0},{"$f":"Mink!G78","v":0},{"$f":"IFERROR(IF(K$12=Kredsudvælgelse!$Q$20,\"\",IF(Kredsudvælgelse!AB$2=1,IF(ISTEXT(DGET(Forespørgsel1[#All],\"\"&LEFT($F89,LEN($F89)-$C89)&\"\",Kredsudvælgelse!$Q$2:$R$3))=TRUE,DGET(Forespørgsel1[#All],\"\"&LEFT($F89,LEN($F89)-$C89)&\"\",Kredsudvælgelse!$Q$2:$R$3),DGET(Forespørgsel1[#All],\"\"&LEFT($F89,LEN($F89)-$C89)&\"\",Kredsudvælgelse!$Q$2:$R$3)/IF(ISNONTEXT($D89)=TRUE,1,DGET(Forespørgsel1[#All],\"\"&$D89&\"\",Kredsudvælgelse!$Q$2:$R$3))),IF(ISBLANK(HLOOKUP(K$12,'Statiske ejendomme'!$B$3:$PN$81,'Statiske ejendomme'!$A81,FALSE))=FALSE,HLOOKUP(K$12,'Statiske ejendomme'!$B$3:$PN$81,'Statiske ejendomme'!$A81,FALSE),\"\"))),\"\")","v":""},{"$f":"IFERROR(IF(L$12=Kredsudvælgelse!$Q$20,\"\",IF(Kredsudvælgelse!AC$2=1,IF(ISTEXT(DGET(Forespørgsel1[#All],\"\"&LEFT($F89,LEN($F89)-$C89)&\"\",Kredsudvælgelse!$S$2:$T$3))=TRUE,DGET(Forespørgsel1[#All],\"\"&LEFT($F89,LEN($F89)-$C89)&\"\",Kredsudvælgelse!$S$2:$T$3),DGET(Forespørgsel1[#All],\"\"&LEFT($F89,LEN($F89)-$C89)&\"\",Kredsudvælgelse!$S$2:$T$3)/IF(ISNONTEXT($D89)=TRUE,1,DGET(Forespørgsel1[#All],\"\"&$D89&\"\",Kredsudvælgelse!$S$2:$T$3))),IF(ISBLANK(HLOOKUP(L$12,'Statiske ejendomme'!$B$3:$PN$81,'Statiske ejendomme'!$A81,FALSE))=FALSE,HLOOKUP(L$12,'Statiske ejendomme'!$B$3:$PN$81,'Statiske ejendomme'!$A81,FALSE),\"\"))),\"\")","v":""},{"$f":"IFERROR(IF(M$12=Kredsudvælgelse!$Q$20,\"\",IF(Kredsudvælgelse!AD$2=1,IF(ISTEXT(DGET(Forespørgsel1[#All],\"\"&LEFT($F89,LEN($F89)-$C89)&\"\",Kredsudvælgelse!$U$2:$V$3))=TRUE,DGET(Forespørgsel1[#All],\"\"&LEFT($F89,LEN($F89)-$C89)&\"\",Kredsudvælgelse!$U$2:$V$3),DGET(Forespørgsel1[#All],\"\"&LEFT($F89,LEN($F89)-$C89)&\"\",Kredsudvælgelse!$U$2:$V$3)/IF(ISNONTEXT($D89)=TRUE,1,DGET(Forespørgsel1[#All],\"\"&$D89&\"\",Kredsudvælgelse!$U$2:$V$3))),IF(ISBLANK(HLOOKUP(M$12,'Statiske ejendomme'!$B$3:$PN$81,'Statiske ejendomme'!$A81,FALSE))=FALSE,HLOOKUP(M$12,'Statiske ejendomme'!$B$3:$PN$81,'Statiske ejendomme'!$A81,FALSE),\"\"))),\"\")","v":""},{"$f":"IFERROR(IF(N$12=Kredsudvælgelse!$Q$20,\"\",IF(Kredsudvælgelse!AE$2=1,IF(ISTEXT(DGET(Forespørgsel1[#All],\"\"&LEFT($F89,LEN($F89)-$C89)&\"\",Kredsudvælgelse!$W$2:$X$3))=TRUE,DGET(Forespørgsel1[#All],\"\"&LEFT($F89,LEN($F89)-$C89)&\"\",Kredsudvælgelse!$W$2:$X$3),DGET(Forespørgsel1[#All],\"\"&LEFT($F89,LEN($F89)-$C89)&\"\",Kredsudvælgelse!$W$2:$X$3)/IF(ISNONTEXT($D89)=TRUE,1,DGET(Forespørgsel1[#All],\"\"&$D89&\"\",Kredsudvælgelse!$W$2:$X$3))),IF(ISBLANK(HLOOKUP(N$12,'Statiske ejendomme'!$B$3:$PN$81,'Statiske ejendomme'!$A81,FALSE))=FALSE,HLOOKUP(N$12,'Statiske ejendomme'!$B$3:$PN$81,'Statiske ejendomme'!$A81,FALSE),\"\"))),\"\")","v":""},{"$f":"IFERROR(IF(O$12=Kredsudvælgelse!$Q$20,\"\",IF(Kredsudvælgelse!AF$2=1,IF(ISTEXT(DGET(Forespørgsel1[#All],\"\"&LEFT($F89,LEN($F89)-$C89)&\"\",Kredsudvælgelse!$Y$2:$Z$3))=TRUE,DGET(Forespørgsel1[#All],\"\"&LEFT($F89,LEN($F89)-$C89)&\"\",Kredsudvælgelse!$Y$2:$Z$3),DGET(Forespørgsel1[#All],\"\"&LEFT($F89,LEN($F89)-$C89)&\"\",Kredsudvælgelse!$Y$2:$Z$3)/IF(ISNONTEXT($D89)=TRUE,1,DGET(Forespørgsel1[#All],\"\"&$D89&\"\",Kredsudvælgelse!$Y$2:$Z$3))),IF(ISBLANK(HLOOKUP(O$12,'Statiske ejendomme'!$B$3:$PN$81,'Statiske ejendomme'!$A81,FALSE))=FALSE,HLOOKUP(O$12,'Statiske ejendomme'!$B$3:$PN$81,'Statiske ejendomme'!$A81,FALSE),\"\"))),\"\")","v":""},{"$f":"IFERROR(IF(P$12=Kredsudvælgelse!$Q$20,\"\",IF(Kredsudvælgelse!AG$2=1,IF(ISTEXT(DGET(Forespørgsel1[#All],\"\"&LEFT($F89,LEN($F89)-$C89)&\"\",Kredsudvælgelse!$Q$6:$R$7))=TRUE,DGET(Forespørgsel1[#All],\"\"&LEFT($F89,LEN($F89)-$C89)&\"\",Kredsudvælgelse!$Q$6:$R$7),DGET(Forespørgsel1[#All],\"\"&LEFT($F89,LEN($F89)-$C89)&\"\",Kredsudvælgelse!$Q$6:$R$7)/IF(ISNONTEXT($D89)=TRUE,1,DGET(Forespørgsel1[#All],\"\"&$D89&\"\",Kredsudvælgelse!$Q$6:$R$7))),IF(ISBLANK(HLOOKUP(P$12,'Statiske ejendomme'!$B$3:$PN$81,'Statiske ejendomme'!$A81,FALSE))=FALSE,HLOOKUP(P$12,'Statiske ejendomme'!$B$3:$PN$81,'Statiske ejendomme'!$A81,FALSE),\"\"))),\"\")","v":""},{"$f":"IFERROR(IF(Q$12=Kredsudvælgelse!$Q$20,\"\",IF(Kredsudvælgelse!AH$2=1,IF(ISTEXT(DGET(Forespørgsel1[#All],\"\"&LEFT($F89,LEN($F89)-$C89)&\"\",Kredsudvælgelse!$S$6:$T$7))=TRUE,DGET(Forespørgsel1[#All],\"\"&LEFT($F89,LEN($F89)-$C89)&\"\",Kredsudvælgelse!$S$6:$T$7),DGET(Forespørgsel1[#All],\"\"&LEFT($F89,LEN($F89)-$C89)&\"\",Kredsudvælgelse!$S$6:$T$7)/IF(ISNONTEXT($D89)=TRUE,1,DGET(Forespørgsel1[#All],\"\"&$D89&\"\",Kredsudvælgelse!$S$6:$T$7))),IF(ISBLANK(HLOOKUP(Q$12,'Statiske ejendomme'!$B$3:$PN$81,'Statiske ejendomme'!$A81,FALSE))=FALSE,HLOOKUP(Q$12,'Statiske ejendomme'!$B$3:$PN$81,'Statiske ejendomme'!$A81,FALSE),\"\"))),\"\")","v":""},{"$f":"IFERROR(IF(R$12=Kredsudvælgelse!$Q$20,\"\",IF(Kredsudvælgelse!AI$2=1,IF(ISTEXT(DGET(Forespørgsel1[#All],\"\"&LEFT($F89,LEN($F89)-$C89)&\"\",Kredsudvælgelse!$U$6:$V$7))=TRUE,DGET(Forespørgsel1[#All],\"\"&LEFT($F89,LEN($F89)-$C89)&\"\",Kredsudvælgelse!$U$6:$V$7),DGET(Forespørgsel1[#All],\"\"&LEFT($F89,LEN($F89)-$C89)&\"\",Kredsudvælgelse!$U$6:$V$7)/IF(ISNONTEXT($D89)=TRUE,1,DGET(Forespørgsel1[#All],\"\"&$D89&\"\",Kredsudvælgelse!$U$6:$V$7))),IF(ISBLANK(HLOOKUP(R$12,'Statiske ejendomme'!$B$3:$PN$81,'Statiske ejendomme'!$A81,FALSE))=FALSE,HLOOKUP(R$12,'Statiske ejendomme'!$B$3:$PN$81,'Statiske ejendomme'!$A81,FALSE),\"\"))),\"\")","v":""},{"$f":"IFERROR(IF(S$12=Kredsudvælgelse!$Q$20,\"\",IF(Kredsudvælgelse!AJ$2=1,IF(ISTEXT(DGET(Forespørgsel1[#All],\"\"&LEFT($F89,LEN($F89)-$C89)&\"\",Kredsudvælgelse!$W$6:$X$7))=TRUE,DGET(Forespørgsel1[#All],\"\"&LEFT($F89,LEN($F89)-$C89)&\"\",Kredsudvælgelse!$W$6:$X$7),DGET(Forespørgsel1[#All],\"\"&LEFT($F89,LEN($F89)-$C89)&\"\",Kredsudvælgelse!$W$6:$X$7)/IF(ISNONTEXT($D89)=TRUE,1,DGET(Forespørgsel1[#All],\"\"&$D89&\"\",Kredsudvælgelse!$W$6:$X$7))),IF(ISBLANK(HLOOKUP(S$12,'Statiske ejendomme'!$B$3:$PN$81,'Statiske ejendomme'!$A81,FALSE))=FALSE,HLOOKUP(S$12,'Statiske ejendomme'!$B$3:$PN$81,'Statiske ejendomme'!$A81,FALSE),\"\"))),\"\")","v":""},{"$f":"IFERROR(IF(T$12=Kredsudvælgelse!$Q$20,\"\",IF(Kredsudvælgelse!AK$2=1,IF(ISTEXT(DGET(Forespørgsel1[#All],\"\"&LEFT($F89,LEN($F89)-$C89)&\"\",Kredsudvælgelse!$W$6:$X$7))=TRUE,DGET(Forespørgsel1[#All],\"\"&LEFT($F89,LEN($F89)-$C89)&\"\",Kredsudvælgelse!$W$6:$X$7),DGET(Forespørgsel1[#All],\"\"&LEFT($F89,LEN($F89)-$C89)&\"\",Kredsudvælgelse!$W$6:$X$7)/IF(ISNONTEXT($D89)=TRUE,1,DGET(Forespørgsel1[#All],\"\"&$D89&\"\",Kredsudvælgelse!$W$6:$X$7))),IF(ISBLANK(HLOOKUP(T$12,'Statiske ejendomme'!$B$3:$PN$81,'Statiske ejendomme'!$A82,FALSE))=FALSE,HLOOKUP(T$12,'Statiske ejendomme'!$B$3:$PN$81,'Statiske ejendomme'!$A82,FALSE),\"\"))),\"\")","v":""}]
[{"$f":"Mink!E161","v":0},{"$f":"Mink!D161","v":0},{"$f":"IFERROR(IF(AND(#REF!=2,#REF!=2),#REF!,IF(#REF!=3,Mink!A79,IF(AND(#REF!=2,#REF!=3),#REF!,IF(AND(#REF!=2,#REF!=4),#REF!,IF(#REF!=4,#REF!,\"\"))))),\"fejl\")","v":"fejl"},{"$f":"Mink!B79","v":0},null,{"$f":"Mink!C79","v":0},null,null,null,{"$f":"Mink!G79","v":0},null,null,null,{"$f":"IFERROR(IF(N$12=Kredsudvælgelse!$Q$20,\"\",IF(Kredsudvælgelse!AE$2=1,IF(ISTEXT(DGET(Forespørgsel1[#All],\"\"&LEFT($F90,LEN($F90)-$C90)&\"\",Kredsudvælgelse!$W$2:$X$3))=TRUE,DGET(Forespørgsel1[#All],\"\"&LEFT($F90,LEN($F90)-$C90)&\"\",Kredsudvælgelse!$W$2:$X$3),DGET(Forespørgsel1[#All],\"\"&LEFT($F90,LEN($F90)-$C90)&\"\",Kredsudvælgelse!$W$2:$X$3)/IF(ISNONTEXT($D90)=TRUE,1,DGET(Forespørgsel1[#All],\"\"&$D90&\"\",Kredsudvælgelse!$W$2:$X$3))),IF(ISBLANK(HLOOKUP(N$12,'Statiske ejendomme'!$B$3:$PN$81,'Statiske ejendomme'!$A82,FALSE))=FALSE,HLOOKUP(N$12,'Statiske ejendomme'!$B$3:$PN$81,'Statiske ejendomme'!$A82,FALSE),\"\"))),\"\")","v":""}]
[{"$f":"Mink!E162","v":0},{"$f":"Mink!D162","v":0},null,{"$f":"Mink!B80","v":0},null,{"$f":"Mink!C80","v":0},null,null,null,{"$f":"Mink!G80","v":0},null,null,null,{"$f":"IFERROR(IF(N$12=Kredsudvælgelse!$Q$20,\"\",IF(Kredsudvælgelse!AE$2=1,IF(ISTEXT(DGET(Forespørgsel1[#All],\"\"&LEFT($F91,LEN($F91)-$C91)&\"\",Kredsudvælgelse!$W$2:$X$3))=TRUE,DGET(Forespørgsel1[#All],\"\"&LEFT($F91,LEN($F91)-$C91)&\"\",Kredsudvælgelse!$W$2:$X$3),DGET(Forespørgsel1[#All],\"\"&LEFT($F91,LEN($F91)-$C91)&\"\",Kredsudvælgelse!$W$2:$X$3)/IF(ISNONTEXT($D91)=TRUE,1,DGET(Forespørgsel1[#All],\"\"&$D91&\"\",Kredsudvælgelse!$W$2:$X$3))),IF(ISBLANK(HLOOKUP(N$12,'Statiske ejendomme'!$B$3:$PN$81,'Statiske ejendomme'!$A83,FALSE))=FALSE,HLOOKUP(N$12,'Statiske ejendomme'!$B$3:$PN$81,'Statiske ejendomme'!$A83,FALSE),\"\"))),\"\")","v":""}]
[{"$f":"Mink!E163","v":0},{"$f":"Mink!D163","v":0},null,{"$f":"Mink!B81","v":0}]
[{"$f":"Mink!E164","v":0},{"$f":"Mink!D164","v":0}]

{"sheet":"Diagrammer","index":3,"n_rows":157,"n_cols":194,"rows_kept":157,"cut":false,"hidden":true,"merged":[[15,54,15,55],[15,56,15,57],[15,60,15,61],[15,62,15,63],[15,64,15,65],[15,52,15,53],[15,32,15,33],[15,34,15,35],[15,36,15,37],[15,38,15,39],[15,40,15,41],[15,42,15,43],[15,44,15,45],[15,46,15,47],[15,48,15,49],[15,50,15,51]]}
[]
[]
[]
[]
[]
[]
[]
[null,null,null,null,null,null,null,null,null,null,null,null,null,null,null,null,null,null,null,null,null,null,null,null,null,null,null,null,null,null,null,"y1","tabel ",{"$f":"MAX($AG$25:$BP$25)+AH10","v":503},0]
[null,null,null,null,null,null,null,null,null,null,null,null,null,null,null,null,null,null,null,null,null,null,null,null,null,null,null,null,null,null,null,null,"trin",10]
[]
[]
[]
[]
[]
[null,null,null,null,null,null,null,null,null,null,null,null,null,null,null,null,null,null,null,null,null,null,null,null,null,null,null,null,null,null,null,null,4,4,{"$f":"AG15+1","v":5},{"$f":"AI15","v":5},{"$f":"AI15+1","v":6},{"$f":"AK15","v":6},{"$f":"AK15+1","v":7},{"$f":"AM15","v":7},{"$f":"AM15+1","v":8},{"$f":"AO15","v":8},{"$f":"AO15+1","v":9},{"$f":"AQ15","v":9},{"$f":"AQ15+1","v":10},{"$f":"AS15","v":10},{"$f":"AS15+1","v":11},{"$f":"AU15","v":11},{"$f":"AU15+1","v":12},{"$f":"AW15","v":12},{"$f":"AW15+1","v":13},{"$f":"AY15","v":13},{"$f":"AY15+1","v":14},{"$f":"BA15","v":14},{"$f":"BA15+1","v":15},{"$f":"BC15","v":15},{"$f":"BC15+1","v":16},{"$f":"BE15","v":16}]
[null,null,null,null,null,null,null,null,null,null,null,null,null,null,null,null,null,null,null,null,null,null,null,null,null,null,null,null,null,null,null," ","Gns. Alle",null,"Top 5",null,{"$f":"\"Gns. \"&Kredsudvælgelse!A2","v":"Gns. "},null,{"$f":"Præsentation!K12","v":"M1"},null,{"$f":"Præsentation!L12","v":"M2"},null,{"$f":"Præsentation!M12","v":"M3"},null,{"$f":"Præsentation!N12","v":"M4"},null,{"$f":"Præsentation!O12","v":"M5"},null,{"$f":"Præsentation!P12","v":"M6"},null,{"$f":"Præsentation!Q12","v":"M8"},null,{"$f":"Præsentation!R12","v":"M9"},null,{"$f":"Præsentation!S12","v":0},null,{"$f":"Præsentation!T12","v":0}]
[null,null,null,null,null,null,null,null,null,null,null,null,null,null,null,null,null,null,null,null,null,null,null,null,null,null,null,null,null,null,null," ","Skindpris","Fremstillingspris",{"$f":"AG17","v":"Skindpris"},"Fremstillingspris","Skindpris","Fremstillingspris","Skindpris","Fremstillingspris","Skindpris","Fremstillingspris","Skindpris","Fremstillingspris","Skindpris","Fremstillingspris","Skindpris","Fremstillingspris","Skindpris","Fremstillingspris","Skindpris","Fremstillingspris","Skindpris","Fremstillingspris","Skindpris","Fremstillingspris","Skindpris","Fremstillingspris"]
[null,null,null,null,null,null,null,null,null,null,null,null,null,null,null,null,null,null,null,null,null,null,null,null,null,null,null,null,null,null,"Kr. pr. Skind","Kr. pr. Skind",{"$f":"IFERROR(-VLOOKUP($AE18,Præsentation!$F$13:$T$91,AH$15,FALSE),0)*-1","v":0},null,{"$f":"IFERROR(-VLOOKUP($AE18,Præsentation!$F$13:$T$91,AJ$15,FALSE),0)*-1","v":0},null,{"$f":"IFERROR(-VLOOKUP($AE18,Præsentation!$F$13:$T$91,AL$15,FALSE),0)*-1","v":418},null,{"$f":"IFERROR(-VLOOKUP($AE18,Præsentation!$F$13:$T$91,AN$15,FALSE),0)*-1","v":463},null,{"$f":"IFERROR(-VLOOKUP($AE18,Præsentation!$F$13:$T$91,AP$15,FALSE),0)*-1","v":503},null,{"$f":"IFERROR(-VLOOKUP($AE18,Præsentation!$F$13:$T$91,AR$15,FALSE),0)*-1","v":362},null,{"$f":"IFERROR(-VLOOKUP($AE18,Præsentation!$F$13:$T$91,AT$15,FALSE),0)*-1","v":424},null,{"$f":"IFERROR(-VLOOKUP($AE18,Præsentation!$F$13:$T$91,AV$15,FALSE),0)*-1","v":424},null,{"$f":"IFERROR(-VLOOKUP($AE18,Præsentation!$F$13:$T$91,AX$15,FALSE),0)*-1","v":420},null,{"$f":"IFERROR(-VLOOKUP($AE18,Præsentation!$F$13:$T$91,AZ$15,FALSE),0)*-1","v":378},null,{"$f":"IFERROR(-VLOOKUP($AE18,Præsentation!$F$13:$T$91,BB$15,FALSE),0)*-1","v":0},null,{"$f":"IFERROR(-VLOOKUP($AE18,Præsentation!$F$13:$T$91,BD$15,FALSE),0)*-1","v":0},null,{"$f":"IFERROR(-VLOOKUP($AE18,Præsentation!$F$13:$T$91,BF$15,FALSE),0)*-1","v":0}]
[null,null,null,null,null,null,null,null,null,null,null,null,null,null,null,null,null,null,null,null,null,null,null,null,null,null,null,null,null,null,"Foder","Foder",null,{"$f":"IFERROR(-VLOOKUP($AE19,Præsentation!$F$13:$T$91,AH$15,FALSE),0)","v":0},null,{"$f":"IFERROR(-VLOOKUP($AE19,Præsentation!$F$13:$T$91,AJ$15,FALSE),0)","v":0},null,{"$f":"IFERROR(-VLOOKUP($AE19,Præsentation!$F$13:$T$91,AL$15,FALSE),0)","v":117.53881571902774},null,{"$f":"IFERROR(-VLOOKUP($AE19,Præsentation!$F$13:$T$91,AN$15,FALSE),0)","v":131.79630200308168},null,{"$f":"IFERROR(-VLOOKUP($AE19,Præsentation!$F$13:$T$91,AP$15,FALSE),0)","v":136.01889588736569},null,{"$f":"IFERROR(-VLOOKUP($AE19,Præsentation!$F$13:$T$91,AR$15,FALSE),0)","v":140.92521978021978},null,{"$f":"IFERROR(-VLOOKUP($AE19,Præsentation!$F$13:$T$91,AT$15,FALSE),0)","v":127.7208408843784},null,{"$f":"IFERROR(-VLOOKUP($AE19,Præsentation!$F$13:$T$91,AV$15,FALSE),0)","v":131.00469416785205},null,{"$f":"IFERROR(-VLOOKUP($AE19,Præsentation!$F$13:$T$91,AX$15,FALSE),0)","v":121.63677130044843},null,{"$f":"IFERROR(-VLOOKUP($AE19,Præsentation!$F$13:$T$91,AZ$15,FALSE),0)","v":117.53019041935659},null,{"$f":"IFERROR(-VLOOKUP($AE19,Præsentation!$F$13:$T$91,BB$15,FALSE),0)","v":0},null,{"$f":"IFERROR(-VLOOKUP($AE19,Præsentation!$F$13:$T$91,BD$15,FALSE),0)","v":0},null,{"$f":"IFERROR(-VLOOKUP($AE19,Præsentation!$F$13:$T$91,BF$15,FALSE),0)","v":0}]
[null,null,null,null,null,null,null,null,null,null,null,null,null,null,null,null,null,null,null,null,null,null,null,null,null,null,null,null,null,null,"Vedligehold og maskinstation","Vedligehold, forsikring, energi og div.",null,{"$f":"IFERROR(-VLOOKUP($AE25,Præsentation!$F$13:$T$91,AH$15,FALSE)-VLOOKUP($AE26,Præsentation!$F$13:$T$91,AH$15,FALSE)-VLOOKUP($AE20,Præsentation!$F$13:$T$91,AH$15,FALSE),0)","v":0},null,{"$f":"IFERROR(-VLOOKUP($AE25,Præsentation!$F$13:$T$91,AJ$15,FALSE)-VLOOKUP($AE26,Præsentation!$F$13:$T$91,AJ$15,FALSE)-VLOOKUP($AE20,Præsentation!$F$13:$T$91,AJ$15,FALSE),0)","v":0},null,{"$f":"IFERROR(-VLOOKUP($AE25,Præsentation!$F$13:$T$91,AL$15,FALSE)-VLOOKUP($AE26,Præsentation!$F$13:$T$91,AL$15,FALSE)-VLOOKUP($AE20,Præsentation!$F$13:$T$91,AL$15,FALSE),0)","v":10.318663668486991},null,{"$f":"IFERROR(-VLOOKUP($AE25,Præsentation!$F$13:$T$91,AN$15,FALSE)-VLOOKUP($AE26,Præsentation!$F$13:$T$91,AN$15,FALSE)-VLOOKUP($AE20,Præsentation!$F$13:$T$91,AN$15,FALSE),0)","v":24.319774011299433},null,{"$f":"IFERROR(-VLOOKUP($AE25,Præsentation!$F$13:$T$91,AP$15,FALSE)-VLOOKUP($AE26,Præsentation!$F$13:$T$91,AP$15,FALSE)-VLOOKUP($AE20,Præsentation!$F$13:$T$91,AP$15,FALSE),0)","v":50.231011485735465},null,{"$f":"IFERROR(-VLOOKUP($AE25,Præsentation!$F$13:$T$91,AR$15,FALSE)-VLOOKUP($AE26,Præsentation!$F$13:$T$91,AR$15,FALSE)-VLOOKUP($AE20,Præsentation!$F$13:$T$91,AR$15,FALSE),0)","v":18.905494505494502},null,{"$f":"IFERROR(-VLOOKUP($AE25,Præsentation!$F$13:$T$91,AT$15,FALSE)-VLOOKUP($AE26,Præsentation!$F$13:$T$91,AT$15,FALSE)-VLOOKUP($AE20,Præsentation!$F$13:$T$91,AT$15,FALSE),0)","v":17.408408843783977},null,{"$f":"IFERROR(-VLOOKUP($AE25,Præsentation!$F$13:$T$91,AV$15,FALSE)-VLOOKUP($AE26,Præsentation!$F$13:$T$91,AV$15,FALSE)-VLOOKUP($AE20,Præsentation!$F$13:$T$91,AV$15,FALSE),0)","v":38.241358463726883},null,{"$f":"IFERROR(-VLOOKUP($AE25,Præsentation!$F$13:$T$91,AX$15,FALSE)-VLOOKUP($AE26,Præsentation!$F$13:$T$91,AX$15,FALSE)-VLOOKUP($AE20,Præsentation!$F$13:$T$91,AX$15,FALSE),0)","v":16.452266464962989},null,{"$f":"IFERROR(-VLOOKUP($AE25,Præsentation!$F$13:$T$91,AZ$15,FALSE)-VLOOKUP($AE26,Præsentation!$F$13:$T$91,AZ$15,FALSE)-VLOOKUP($AE20,Præsentation!$F$13:$T$91,AZ$15,FALSE),0)","v":29.623175825964303},null,{"$f":"IFERROR(-VLOOKUP($AE25,Præsentation!$F$13:$T$91,BB$15,FALSE)-VLOOKUP($AE26,Præsentation!$F$13:$T$91,BB$15,FALSE)-VLOOKUP($AE20,Præsentation!$F$13:$T$91,BB$15,FALSE),0)","v":0},null,{"$f":"IFERROR(-VLOOKUP($AE25,Præsentation!$F$13:$T$91,BD$15,FALSE)-VLOOKUP($AE26,Præsentation!$F$13:$T$91,BD$15,FALSE)-VLOOKUP($AE20,Præsentation!$F$13:$T$91,BD$15,FALSE),0)","v":0},null,{"$f":"IFERROR(-VLOOKUP($AE25,Præsentation!$F$13:$T$91,BF$15,FALSE)-VLOOKUP($AE26,Præsentation!$F$13:$T$91,BF$15,FALSE)-VLOOKUP($AE20,Præsentation!$F$13:$T$91,BF$15,FALSE),0)","v":0}]
[null,null,null,null,null,null,null,null,null,null,null,null,null,null,null,null,null,null,null,null,null,null,null,null,null,null,null,null,null,null,"Pelsning - netto","Pelsning Netto",null,{"$f":"IFERROR(-VLOOKUP($AE21,Præsentation!$F$13:$T$91,AH$15,FALSE),0)","v":0},null,{"$f":"IFERROR(-VLOOKUP($AE21,Præsentation!$F$13:$T$91,AJ$15,FALSE),0)","v":0},null,{"$f":"IFERROR(-VLOOKUP($AE21,Præsentation!$F$13:$T$91,AL$15,FALSE),0)","v":22.006424670735626},null,{"$f":"IFERROR(-VLOOKUP($AE21,Præsentation!$F$13:$T$91,AN$15,FALSE),0)","v":4.7793528505392908},null,{"$f":"IFERROR(-VLOOKUP($AE21,Præsentation!$F$13:$T$91,AP$15,FALSE),0)","v":21.828454983327159},null,{"$f":"IFERROR(-VLOOKUP($AE21,Præsentation!$F$13:$T$91,AR$15,FALSE),0)","v":0},null,{"$f":"IFERROR(-VLOOKUP($AE21,Præsentation!$F$13:$T$91,AT$15,FALSE),0)","v":29.523523015585358},null,{"$f":"IFERROR(-VLOOKUP($AE21,Præsentation!$F$13:$T$91,AV$15,FALSE),0)","v":-5.1129089615931722},null,{"$f":"IFERROR(-VLOOKUP($AE21,Præsentation!$F$13:$T$91,AX$15,FALSE),0)","v":-1.8255983575557837},null,{"$f":"IFERROR(-VLOOKUP($AE21,Præsentation!$F$13:$T$91,AZ$15,FALSE),0)","v":1.4530461672001302},null,{"$f":"IFERROR(-VLOOKUP($AE21,Præsentation!$F$13:$T$91,BB$15,FALSE),0)","v":0},null,{"$f":"IFERROR(-VLOOKUP($AE21,Præsentation!$F$13:$T$91,BD$15,FALSE),0)","v":0},null,{"$f":"IFERROR(-VLOOKUP($AE21,Præsentation!$F$13:$T$91,BF$15,FALSE),0)","v":0}]
[null,null,null,null,null,null,null,null,null,null,null,null,null,null,null,null,null,null,null,null,null,null,null,null,null,null,null,null,null,null,"Øvrige stykomkostninger","Øvrige stykomkostninger",null,{"$f":"IFERROR(-VLOOKUP($AE27,Præsentation!$F$13:$T$91,AH$15,FALSE)-VLOOKUP($AE28,Præsentation!$F$13:$T$91,AH$15,FALSE),0)","v":0},null,{"$f":"IFERROR(-VLOOKUP($AE27,Præsentation!$F$13:$T$91,AJ$15,FALSE)-VLOOKUP($AE28,Præsentation!$F$13:$T$91,AJ$15,FALSE),0)","v":0},null,{"$f":"IFERROR(-VLOOKUP($AE27,Præsentation!$F$13:$T$91,AL$15,FALSE)-VLOOKUP($AE28,Præsentation!$F$13:$T$91,AL$15,FALSE),0)","v":14.342649105899989},null,{"$f":"IFERROR(-VLOOKUP($AE27,Præsentation!$F$13:$T$91,AN$15,FALSE)-VLOOKUP($AE28,Præsentation!$F$13:$T$91,AN$15,FALSE),0)","v":17.923061119671289},null,{"$f":"IFERROR(-VLOOKUP($AE27,Præsentation!$F$13:$T$91,AP$15,FALSE)-VLOOKUP($AE28,Præsentation!$F$13:$T$91,AP$15,FALSE),0)","v":18.379955539088549},null,{"$f":"IFERROR(-VLOOKUP($AE27,Præsentation!$F$13:$T$91,AR$15,FALSE)-VLOOKUP($AE28,Præsentation!$F$13:$T$91,AR$15,FALSE),0)","v":16.439615384615383},null,{"$f":"IFERROR(-VLOOKUP($AE27,Præsentation!$F$13:$T$91,AT$15,FALSE)-VLOOKUP($AE28,Præsentation!$F$13:$T$91,AT$15,FALSE),0)","v":27.786806814063066},null,{"$f":"IFERROR(-VLOOKUP($AE27,Præsentation!$F$13:$T$91,AV$15,FALSE)-VLOOKUP($AE28,Præsentation!$F$13:$T$91,AV$15,FALSE),0)","v":18.498968705547654},null,{"$f":"IFERROR(-VLOOKUP($AE27,Præsentation!$F$13:$T$91,AX$15,FALSE)-VLOOKUP($AE28,Præsentation!$F$13:$T$91,AX$15,FALSE),0)","v":34.448430493273541},null,{"$f":"IFERROR(-VLOOKUP($AE27,Præsentation!$F$13:$T$91,AZ$15,FALSE)-VLOOKUP($AE28,Præsentation!$F$13:$T$91,AZ$15,FALSE),0)","v":10.474095372429883},null,{"$f":"IFERROR(-VLOOKUP($AE27,Præsentation!$F$13:$T$91,BB$15,FALSE)-VLOOKUP($AE28,Præsentation!$F$13:$T$91,BB$15,FALSE),0)","v":0},null,{"$f":"IFERROR(-VLOOKUP($AE27,Præsentation!$F$13:$T$91,BD$15,FALSE)-VLOOKUP($AE28,Præsentation!$F$13:$T$91,BD$15,FALSE),0)","v":0},null,{"$f":"IFERROR(-VLOOKUP($AE27,Præsentation!$F$13:$T$91,BF$15,FALSE)-VLOOKUP($AE28,Præsentation!$F$13:$T$91,BF$15,FALSE),0)","v":0}]
[null,null,null,null,null,null,null,null,null,null,null,null,null,null,null,null,null,null,null,null,null,null,null,null,null,null,null,null,null,null,"Løn - inkl. ejerløn","Løn - inkl. ejerløn",null,{"$f":"IFERROR(-VLOOKUP($AE23,Præsentation!$F$13:$T$91,AH$15,FALSE),0)","v":0},null,{"$f":"IFERROR(-VLOOKUP($AE23,Præsentation!$F$13:$T$91,AJ$15,FALSE),0)","v":0},null,{"$f":"IFERROR(-VLOOKUP($AE23,Præsentation!$F$13:$T$91,AL$15,FALSE),0)","v":31.955562694078594},null,{"$f":"IFERROR(-VLOOKUP($AE23,Præsentation!$F$13:$T$91,AN$15,FALSE),0)","v":49.608320493066259},null,{"$f":"IFERROR(-VLOOKUP($AE23,Præsentation!$F$13:$T$91,AP$15,FALSE),0)","v":35.781585772508336},null,{"$f":"IFERROR(-VLOOKUP($AE23,Præsentation!$F$13:$T$91,AR$15,FALSE),0)","v":33.846153846153847},null,{"$f":"IFERROR(-VLOOKUP($AE23,Præsentation!$F$13:$T$91,AT$15,FALSE),0)","v":36.353026458861905},null,{"$f":"IFERROR(-VLOOKUP($AE23,Præsentation!$F$13:$T$91,AV$15,FALSE),0)","v":41.064687055476526},null,{"$f":"IFERROR(-VLOOKUP($AE23,Præsentation!$F$13:$T$91,AX$15,FALSE),0)","v":52.94721486844238},null,{"$f":"IFERROR(-VLOOKUP($AE23,Præsentation!$F$13:$T$91,AZ$15,FALSE),0)","v":50.355340964574403},null,{"$f":"IFERROR(-VLOOKUP($AE23,Præsentation!$F$13:$T$91,BB$15,FALSE),0)","v":0},null,{"$f":"IFERROR(-VLOOKUP($AE23,Præsentation!$F$13:$T$91,BD$15,FALSE),0)","v":0},null,{"$f":"IFERROR(-VLOOKUP($AE23,Præsentation!$F$13:$T$91,BF$15,FALSE),0)","v":0}]
[null,null,null,null,null,null,null,null,null,null,null,null,null,null,null,null,null,null,null,null,null,null,null,null,null,null,null,null,null,null,"Kapitalomkostninger i alt","Kapitalomkostninger",null,{"$f":"IFERROR(-VLOOKUP($AE24,Præsentation!$F$13:$T$91,AH$15,FALSE),0)","v":0},null,{"$f":"IFERROR(-VLOOKUP($AE24,Præsentation!$F$13:$T$91,AJ$15,FALSE),0)","v":0},null,{"$f":"IFERROR(-VLOOKUP($AE24,Præsentation!$F$13:$T$91,AL$15,FALSE),0)","v":30.898964289538494},null,{"$f":"IFERROR(-VLOOKUP($AE24,Præsentation!$F$13:$T$91,AN$15,FALSE),0)","v":35.607776579352851},null,{"$f":"IFERROR(-VLOOKUP($AE24,Præsentation!$F$13:$T$91,AP$15,FALSE),0)","v":41.373219711004076},null,{"$f":"IFERROR(-VLOOKUP($AE24,Præsentation!$F$13:$T$91,AR$15,FALSE),0)","v":26.266965384615386},null,{"$f":"IFERROR(-VLOOKUP($AE24,Præsentation!$F$13:$T$91,AT$15,FALSE),0)","v":66.436104748097137},null,{"$f":"IFERROR(-VLOOKUP($AE24,Præsentation!$F$13:$T$91,AV$15,FALSE),0)","v":58.899470661450927},null,{"$f":"IFERROR(-VLOOKUP($AE24,Præsentation!$F$13:$T$91,AX$15,FALSE),0)","v":47.550834729050734},null,{"$f":"IFERROR(-VLOOKUP($AE24,Præsentation!$F$13:$T$91,AZ$15,FALSE),0)","v":45.279235338794557},null,{"$f":"IFERROR(-VLOOKUP($AE24,Præsentation!$F$13:$T$91,BB$15,FALSE),0)","v":0},null,{"$f":"IFERROR(-VLOOKUP($AE24,Præsentation!$F$13:$T$91,BD$15,FALSE),0)","v":0},null,{"$f":"IFERROR(-VLOOKUP($AE24,Præsentation!$F$13:$T$91,BF$15,FALSE),0)","v":0}]
[null,null,null,null,null,null,null,null,null,null,null,null,null,null,null,null,null,null,null,null,null,null,null,null,null,null,null,null,null,null,"Energi og brændstof","Besætnings- og beholdningsforskydning",{"$f":"SUM(AG18:AG24)","v":0},{"$f":"SUM(AH18:AH24)","v":0},0,0,418,227.06108014776743,463,{"$f":"SUM(AN18:AN24)","v":264.03458705701081},503,303.61312337902928,362,236.38344890109892,424,305.22871076476986,424,282.59627009246088,420,271.2099194986223,378,254.71508408831986,0,0,0,0,0,0]
[null,null,null,null,null,null,null,null,null,null,null,null,null,null,null,null,null,null,null,null,null,null,null,null,null,null,null,null,null,null,"Diverse inkl. forsikring","i Alt"]
[null,null,null,null,null,null,null,null,null,null,null,null,null,null,null,null,null,null,null,null,null,null,null,null,null,null,null,null,null,null,"Dyrlæge og medicin"," "]
[null,null,null,null,null,null,null,null,null,null,null,null,null,null,null,null,null,null,null,null,null,null,null,null,null,null,null,null,null,null,"Diverse vedr. husdyr"," "]
[]
[]
[]
[]
[]
[]
[]
[]
[]
[]
[]
[]
[]
[]
[]
[]
[]
[null,null,null,null,null,null,null,null,null,null,null,null,null,null,null,null,null,null,null,null,null,null,null,null,null,null,null,null,null,null,null,null,null,null,null,"Fremstillingspris pr. skind"]
[null,null,null,null,null,null,null,null,null,null,null,null,null,null,null,null,null,null,null,null,null,null,null,null,null,null,null,null,null,null,null,null,null,null,null,"Sortering"]
[]
[]
[]
[null,null,null,null,null,null,null,null,null,null,null,null,null,null,null,null,null,null,null,null,null,null,null,null,null,null,null,null,null,null,null,null,null,null,null,null,{"$f":"IFERROR(AK50,\" \")","v":0},0,0,0,0,0,0,0,0,0,0,0,0,0,0,0,0,0,0,0,0,0,0,0,0,0,0,0,0,0,0,0,0,0,0,0,0,0,0,0,0,0,0,0,0,0,0,0,0,0,0,0,0,0,0,0,0,0,0,0,0,0,0,0,{"$f":"IFERROR(CW50,\" \")","v":0},0,0,0,0,0,0,0,0,0,0,0,0,0,0,0,0,0,0,0,0,0,0,0,0,0,0,0,0,0,0,0,0,0,0,0,0,0,0,0,0,0,0,0,0,0,0,0,0,0,0,0,0,0,0,0,0,0,0,0,0,0,0,0,{"$f":"IFERROR(FI50,\" \")","v":0},0,0,0,0,0,0,0,0,0,0,0,0,0,0,0,0,0,0,0,0,0,0,0,0,0,0,0,0,0]
[]
[]
[]
[null,null,null,null,null,null,null,null,null,null,null,null,null,null,null,{"$f":"AF18","v":"Kr. pr. Skind"},{"$f":"AG18","v":0},{"$f":"AH18","v":0}]
[null,null,null,null,null,null,null,null,null,null,null,null,null,null,null,{"$f":"AF19","v":"Foder"},{"$f":"R56/$R$62","v":{"$error":"#DIV/0!"}},{"$f":"AH19","v":0}]
[null,null,null,null,null,null,null,null,null,null,null,null,null,null,null,"Vedligehold, forsikring, energi og div.",{"$error":"#DIV/0!"},0]
[null,null,null,null,null,null,null,null,null,null,null,null,null,null,null,"Pelsning Netto",{"$error":"#DIV/0!"},0]
[null,null,null,null,null,null,null,null,null,null,null,null,null,null,null,"Øvrige stykomkostninger",{"$error":"#DIV/0!"},0,null,null,null,null,null,null,null,null,null,null,null,null,null,null,null,null,null,null,null,null,null,null,null,null,null,null,null,null,null,null,null,null,null,null,null,null,null,null,null,null,null,null,null,null,null,null,null,null,null,null,null,null,null,null,null,null,null,null,null,null,null,null,null,null,null,null,null,null,null,null,null,null,null,null,null,null,null,null,null,null,null,null,null,null,null,null,null,null,73,74,75,76,77,78,79,80,81,82,83,84,85,86,87,88,89,90,91,92,93,94,95,96,97,98,99,100,101,102,103,104,105,106,107,108,109,110,111,112,113,114,115,116,117,118,119,120,121,122,123,124,125,126,127,128,129,130,131,132,133,134,135,136,137,138,139,140,141,142,143,144,145,146,147,148,149,150,151,152,153,154,155,156,157,158,"",""]
[null,null,null,null,null,null,null,null,null,null,null,null,null,null,null,"Løn - inkl. ejerløn",{"$error":"#DIV/0!"},0]
[null,null,null,null,null,null,null,null,null,null,null,null,null,null,null,"Kapitalomkostninger",{"$error":"#DIV/0!"},0]
[null,null,null,null,null,null,null,null,null,null,null,null,null,null,null,"Besætnings- og beholdningsforskydning",{"$f":"AG25","v":0},0]
[null,null,null,null,null,null,null,null,null,null,null,null,null,null,null,"i Alt",{"$f":"AG26","v":0},0,null,null,null,null,null,null,null,null,null,null,null,null,null,null,null,null,null,null,null,null,null,null,null,null,null,null,null,null,null,null,null,null,null,null,null,null,null,null,null,null,null,null,null,null,null,null,null,null,null,null,null,null,null,null,null,null,null,null,null,null,null,null,null,null,null,null,null,null,null,null,null,null,null,null,null,null,null,null,null,null,null,null,null,null,null,null,null,null,null,null,null,null,null,null,null,null,null,null,null,null,null,null,null,null,null,null,null,null,null,null,null,null,null,null,null,null,null,null,null,null,null,null,null,null,null,null,null,null,null,null,null,null,null,{"$f":"IF(EV62>0,$AK$66,\"\")","v":""},"","","","","","","","","","","","","","","","","","","","","","","","","","","","","","","","","","","","","","","","","",""]
[]
[null,null,null,null,null,null,null,null,null,null,null,null,null,null,null,null,null,null,null,null,null,null,null,null,null,null,null,null,null,null,null,{"$f":"AF27","v":" "},{"$f":"AG27","v":0},{"$f":"AH27","v":0}]
[null,null,null,null,null,null,null,null,null,null,null,null,null,null,null,null,null,null,null,null,null,null,null,null,null,null,null,null,null,null,null," ",{"$f":"AG28","v":0},0]
[]
[]
[]
[]
[]
[]
[]
[]
[]
[null,null,null,null,null,null,null,null,null,null,null,null,null,null,null,null,{"$f":"AF18","v":"Kr. pr. Skind"},{"$f":"AG18","v":0},{"$f":"AI18","v":0}]
[null,null,null,null,null,null,null,null,null,null,null,null,null,null,null,null,null,"Alle","Top 10"]
[null,null,null,null,null,null,null,null,null,null,null,null,null,null,null,null,{"$f":"AF19","v":"Foder"},{"$f":"AH19","v":0},{"$f":"AJ19","v":0}]
[null,null,null,null,null,null,null,null,null,null,null,null,null,null,null,null,{"$f":"AF22","v":"Øvrige stykomkostninger"},{"$f":"AH22","v":0},{"$f":"AJ22","v":0}]
[null,null,null,null,null,null,null,null,null,null,null,null,null,null,null,null,"Pelsning Netto",0,0]
[null,null,null,null,null,null,null,null,null,null,null,null,null,null,null,null,{"$f":"AF20","v":"Vedligehold, forsikring, energi og div."},{"$f":"AH20","v":0},{"$f":"AJ20","v":0}]
[null,null,null,null,null,null,null,null,null,null,null,null,null,null,null,null,"Løn - inkl. ejerløn",0,0]
[null,null,null,null,null,null,null,null,null,null,null,null,null,null,null,null,"Kapitalomkostninger",0,0]
[]
[null,null,null,null,null,null,null,null,null,null,null,null,null,null,null,null,"i Alt",{"$f":"SUM(R78:R83)","v":0},{"$f":"SUM(S78:S83)","v":0}]
[]
[]
[]
[]
[]
[]
[]
[null,null,null,null,null,null,null,null,null,null,null,null,null,null,null,null,null,null,null,null,null,null,null,null,null,null,null,null,null,null,null,null,null,null,null,null,5]
[null,null,null,null,null,null,null,null,null,null,null,null,null,null,null,null,null,null,null,null,null,null,null,null,null,null,null,null,null,null,null,null,null,null,null,null,5]
[null,null,null,null,null,null,null,null,null,null,null,null,null,null,null,null,null,null,null,null,null,null,null,null,null,null,null,null,null,null,null,null,null,null,null,null,5]
[null,null,null,null,null,null,null,null,null,null,null,null,null,null,null,null,null,null,null,null,null,null,null,null,null,null,null,null,null,null,null,null,null,null,null,null,5]
[null,null,null,null,null,null,null,null,null,null,null,null,null,null,null,null,null,null,null,null,null,null,null,null,null,null,null,null,null,null,null,null,null,null,null,null,5]
[null,null,null,null,null,null,null,null,null,null,null,null,null,null,null,null,null,null,null,null,null,null,null,null,null,null,null,null,null,null,null,null,null,null,null,null,5]
[null,null,null,null,null,null,null,null,null,null,null,null,null,null,null,null,null,null,null,null,null,null,null,null,null,null,null,null,null,null,null,null,null,null,null,null,5]
[null,null,null,null,null,null,null,null,null,null,null,null,null,null,null,null,null,null,null,null,null,null,null,null,null,null,null,null,null,null,null,null,null,null,null,null,5]
[null,null,null,null,null,null,null,null,null,null,null,null,null,null,null,null,null,null,null,null,null,null,null,null,null,null,null,null,null,null,null,null,null,null,null,null,5]
[null,null,null,null,null,null,null,null,null,null,null,null,null,null,null,null,null,null,null,null,null,null,null,null,null,null,null,null,null,null,null,null,null,null,null,null,5]
[null,null,null,null,null,null,null,null,null,null,null,null,null,null,null,null,null,null,null,null,null,null,null,null,null,null,null,null,null,null,null,null,null,null,null,null,5]
[null,null,null,null,null,null,null,null,null,null,null,null,null,null,null,null,null,null,null,null,null,null,null,null,null,null,null,null,null,null,null,null,null,null,null,null,5]
[null,null,null,null,null,null,null,null,null,null,null,null,null,null,null,null,null,null,null,null,null,null,null,null,null,null,null,null,null,null,null,null,null,null,null,null,5]
[null,null,null,null,null,null,null,null,null,null,null,null,null,null,null,null,null,null,null,null,null,null,null,null,null,null,null,null,null,null,null,null,null,null,null,null,5]
[null,null,null,null,null,null,null,null,null,null,null,null,null,null,null,null,null,null,null,null,null,null,null,null,null,null,null,null,null,null,null,null,null,null,null,null,5]
[null,null,null,null,null,null,null,null,null,null,null,null,null,null,null,null,null,null,null,null,null,null,null,null,null,null,null,null,null,null,null,null,null,null,null,null,5]
[null,null,null,null,null,null,null,null,null,null,null,null,null,null,null,null,null,null,null,null,null,null,null,null,null,null,null,null,null,null,null,null,null,null,null,null,5]
[null,null,null,null,null,null,null,null,null,null,null,null,null,null,null,null,null,null,null,null,null,null,null,null,null,null,null,null,null,null,null,null,null,null,null,null,5]
[null,null,null,null,null,null,null,null,null,null,null,null,null,null,null,null,null,null,null,null,null,null,null,null,null,null,null,null,null,null,null,null,null,null,null,null,5]
[null,null,null,null,null,null,null,null,null,null,null,null,null,null,null,null,null,null,null,null,null,null,null,null,null,null,null,null,null,null,null,null,null,null,null,null,5]
[null,null,null,null,null,null,null,null,null,null,null,null,null,null,null,null,null,null,null,null,null,null,null,null,null,null,null,null,null,null,null,null,null,null,null,null,5]
[null,null,null,null,null,null,null,null,null,null,null,null,null,null,null,null,null,null,null,null,null,null,null,null,null,null,null,null,null,null,null,null,null,null,null,null,5]
[null,null,null,null,null,null,null,null,null,null,null,null,null,null,null,null,null,null,null,null,null,null,null,null,null,null,null,null,null,null,null,null,null,null,null,null,5]
[null,null,null,null,null,null,null,null,null,null,null,null,null,null,null,null,null,null,null,null,null,null,null,null,null,null,null,null,null,null,null,null,null,null,null,null,5]
[null,null,null,null,null,null,null,null,null,null,null,null,null,null,null,null,null,null,null,null,null,null,null,null,null,null,null,null,null,null,null,null,null,null,null,null,5]
[null,null,null,null,null,null,null,null,null,null,null,null,null,null,null,null,null,null,null,null,null,null,null,null,null,null,null,null,null,null,null,null,null,null,null,null,5]
[null,null,null,null,null,null,null,null,null,null,null,null,null,null,null,null,null,null,null,null,null,null,null,null,null,null,null,null,null,null,null,null,null,null,null,null,5]
[null,null,null,null,null,null,null,null,null,null,null,null,null,null,null,null,null,null,null,null,null,null,null,null,null,null,null,null,null,null,null,null,null,null,null,null,5]
[null,null,null,null,null,null,null,null,null,null,null,null,null,null,null,null,null,null,null,null,null,null,null,null,null,null,null,null,null,null,null,null,null,null,null,null,5]
[null,null,null,null,null,null,null,null,null,null,null,null,null,null,null,null,null,null,null,null,null,null,null,null,null,null,null,null,null,null,null,null,null,null,null,null,5]
[null,null,null,null,null,null,null,null,null,null,null,null,null,null,null,null,null,null,null,null,null,null,null,null,null,null,null,null,null,null,null,null,null,null,null,null,5]
[null,null,null,null,null,null,null,null,null,null,null,null,null,null,null,null,null,null,null,null,null,null,null,null,null,null,null,null,null,null,null,null,null,null,null,null,5]
[null,null,null,null,null,null,null,null,null,null,null,null,null,null,null,null,null,null,null,null,null,null,null,null,null,null,null,null,null,null,null,null,null,null,null,null,5]
[null,null,null,null,null,null,null,null,null,null,null,null,null,null,null,null,null,null,null,null,null,null,null,null,null,null,null,null,null,null,null,null,null,null,null,null,5]
[null,null,null,null,null,null,null,null,null,null,null,null,null,null,null,null,null,null,null,null,null,null,null,null,null,null,null,null,null,null,null,null,null,null,null,null,5]
[null,null,null,null,null,null,null,null,null,null,null,null,null,null,null,null,null,null,null,null,null,null,null,null,null,null,null,null,null,null,null,null,null,null,null,null,5]
[null,null,null,null,null,null,null,null,null,null,null,null,null,null,null,null,null,null,null,null,null,null,null,null,null,null,null,null,null,null,null,null,null,null,null,null,5]
[null,null,null,null,null,null,null,null,null,null,null,null,null,null,null,null,null,null,null,null,null,null,null,null,null,null,null,null,null,null,null,null,null,null,null,null,5]
[null,null,null,null,null,null,null,null,null,null,null,null,null,null,null,null,null,null,null,null,null,null,null,null,null,null,null,null,null,null,null,null,null,null,null,null,5]
[null,null,null,null,null,null,null,null,null,null,null,null,null,null,null,null,null,null,null,null,null,null,null,null,null,null,null,null,null,null,null,null,null,null,null,null,5]
[null,null,null,null,null,null,null,null,null,null,null,null,null,null,null,null,null,null,null,null,null,null,null,null,null,null,null,null,null,null,null,null,null,null,null,null,5]
[null,null,null,null,null,null,null,null,null,null,null,null,null,null,null,null,null,null,null,null,null,null,null,null,null,null,null,null,null,null,null,null,null,null,null,null,5]
[null,null,null,null,null,null,null,null,null,null,null,null,null,null,null,null,null,null,null,null,null,null,null,null,null,null,null,null,null,null,null,null,null,null,null,null,5]
[null,null,null,null,null,null,null,null,null,null,null,null,null,null,null,null,null,null,null,null,null,null,null,null,null,null,null,null,null,null,null,null,null,null,null,null,5]
[null,null,null,null,null,null,null,null,null,null,null,null,null,null,null,null,null,null,null,null,null,null,null,null,null,null,null,null,null,null,null,null,null,null,null,null,5]
[null,null,null,null,null,null,null,null,null,null,null,null,null,null,null,null,null,null,null,null,null,null,null,null,null,null,null,null,null,null,null,null,null,null,null,null,5]
[null,null,null,null,null,null,null,null,null,null,null,null,null,null,null,null,null,null,null,null,null,null,null,null,null,null,null,null,null,null,null,null,null,null,null,null,5]
[null,null,null,null,null,null,null,null,null,null,null,null,null,null,null,null,null,null,null,null,null,null,null,null,null,null,null,null,null,null,null,null,null,null,null,null,5]
[null,null,null,null,null,null,null,null,null,null,null,null,null,null,null,null,null,null,null,null,null,null,null,null,null,null,null,null,null,null,null,null,null,null,null,null,5]
[null,null,null,null,null,null,null,null,null,null,null,null,null,null,null,null,null,null,null,null,null,null,null,null,null,null,null,null,null,null,null,null,null,null,null,null,5]
[null,null,null,null,null,null,null,null,null,null,null,null,null,null,null,null,null,null,null,null,null,null,null,null,null,null,null,null,null,null,null,null,null,null,null,null,5]
[null,null,null,null,null,null,null,null,null,null,null,null,null,null,null,null,null,null,null,null,null,null,null,null,null,null,null,null,null,null,null,null,null,null,null,null,5]
[null,null,null,null,null,null,null,null,null,null,null,null,null,null,null,null,null,null,null,null,null,null,null,null,null,null,null,null,null,null,null,null,null,null,null,null,5]
[null,null,null,null,null,null,null,null,null,null,null,null,null,null,null,null,null,null,null,null,null,null,null,null,null,null,null,null,null,null,null,null,null,null,null,null,5]
[null,null,null,null,null,null,null,null,null,null,null,null,null,null,null,null,null,null,null,null,null,null,null,null,null,null,null,null,null,null,null,null,null,null,null,null,5]
[null,null,null,null,null,null,null,null,null,null,null,null,null,null,null,null,null,null,null,null,null,null,null,null,null,null,null,null,null,null,null,null,null,null,null,null,5]
[null,null,null,null,null,null,null,null,null,null,null,null,null,null,null,null,null,null,null,null,null,null,null,null,null,null,null,null,null,null,null,null,null,null,null,null,5]
[null,null,null,null,null,null,null,null,null,null,null,null,null,null,null,null,null,null,null,null,null,null,null,null,null,null,null,null,null,null,null,null,null,null,null,null,5]
[null,null,null,null,null,null,null,null,null,null,null,null,null,null,null,null,null,null,null,null,null,null,null,null,null,null,null,null,null,null,null,null,null,null,null,null,5]
[null,null,null,null,null,null,null,null,null,null,null,null,null,null,null,null,null,null,null,null,null,null,null,null,null,null,null,null,null,null,null,null,null,null,null,null,5]
[null,null,null,null,null,null,null,null,null,null,null,null,null,null,null,null,null,null,null,null,null,null,null,null,null,null,null,null,null,null,null,null,null,null,null,null,5]
[null,null,null,null,null,null,null,null,null,null,null,null,null,null,null,null,null,null,null,null,null,null,null,null,null,null,null,null,null,null,null,null,null,null,null,null,5]
[null,null,null,null,null,null,null,null,null,null,null,null,null,null,null,null,null,null,null,null,null,null,null,null,null,null,null,null,null,null,null,null,null,null,null,null,5]
[null,null,null,null,null,null,null,null,null,null,null,null,null,null,null,null,null,null,null,null,null,null,null,null,null,null,null,null,null,null,null,null,null,null,null,null,5]
[null,null,null,null,null,null,null,null,null,null,null,null,null,null,null,null,null,null,null,null,null,null,null,null,null,null,null,null,null,null,null,null,null,null,null,null,5]

{"sheet":"Fraktilanalyse","index":4,"n_rows":385,"n_cols":31,"rows_kept":385,"cut":false,"hidden":false,"merged":[[358,3,358,5],[358,9,358,11],[372,3,372,5],[372,9,372,11],[312,3,312,5],[312,9,312,11],[328,3,328,5],[328,9,328,11],[344,3,344,5],[344,9,344,11],[296,3,296,5],[296,9,296,11],[222,3,222,5],[222,9,222,11],[236,3,236,5],[236,9,236,11],[250,3,250,5],[250,9,250,11],[264,3,264,5],[264,9,264,11],[278,0,278,11],[280,3,280,5],[280,9,280,11],[220,0,220,11],[143,3,143,5],[143,9,143,11],[157,3,157,5],[157,9,157,11],[171,0,171,11],[173,3,173,5],[173,9,173,11],[188,3,188,5],[188,9,188,11],[203,0,203,11],[205,3,205,5],[205,9,205,11],[129,3,129,5],[129,9,129,11],[56,3,56,5],[56,9,56,11],[70,3,70,5],[70,9,70,11],[84,3,84,5],[84,9,84,11],[98,3,98,5],[98,9,98,11],[113,0,113,11],[115,3,115,5],[115,9,115,11],[28,16,29,16],[28,17,29,17],[28,18,29,18],[28,19,29,19],[42,3,42,5],[42,9,42,11],[7,2,7,11],[8,3,8,5],[8,9,8,11],[25,0,25,11],[28,3,28,5],[28,9,28,11]]}
[]
[]
[]
[]
[null,null,"Vælg ejendom",null,null,null,null,null,null,null,null,null,null,null," "]
[null,null,"M14"]
[]
[null,null,"Minkproduktion 166 bedrifter",null,null,null,null,null,null,null,null,null,null,null,null,null,null,null,null,null,null,null,null,"Ejendom"]
[1,null,{"$f":"\"Fraktilanalyse for ejd. \"&$C$6&\" baseret på 166 bedrifter\"","v":"Fraktilanalyse for ejd. M14 baseret på 166 bedrifter"},"Stærk konkurrenceevne",null,null,null,null,null,"Stort forbedringspotentiale",null,null,null,null,null,null,null,null,null,null,null,null,null,{"$f":"$C$6","v":"M14"}]
[2,null,{"$f":"IFERROR(IF($R$29=2,VLOOKUP($S$29*100+$A10,$B$28:$L$111,C$28,FALSE),IF(OR($S$29=32,$S$29=33),VLOOKUP($T$29*100+$A10,$B$116:$L$220,C$28,FALSE),IF($S$29=34,VLOOKUP($S$29*100+$A10,$B$206:$L$219,C$28,FALSE),IF($S$29=42,VLOOKUP($T$29*100+$A10,$B$223:$L$277,C$28,FALSE),IF($S$29=43,VLOOKUP($T$29*100+$A10,$B$223:$L$357,C$28,FALSE),IF(OR($S$29=44,$S$29=45),VLOOKUP($S$29*100+$A10,$B$359:$L$385,C$28,FALSE),\"\")))))),\"\")","v":"Fraktil"},0.1,0.25,0.33,0.4,0.5,0.6,0.67,0.75,0.9,null,null,null,null,null,null,null,null,null,null,null,null,null,null,null,null,null,"Ejendom","Fraktil"]
[3,null,"Årets resultat pr. tæve",660.71568909999996,524.25698024999997,463.99317464000001,407.41969440000003,319.96019200000001,270.58913940000002,225.16661595999997,171.70030424999999,-4.4533129999999996,null,null,null,null,null,null,null,null,null,{"$f":"Mink!A4","v":8},{"$f":"Mink!B4","v":0},{"$f":"Mink!C4","v":"Minktæver (Antal)"},{"$f":"IFERROR(IF(X$9=Kredsudvælgelse!$R$17,\"\",IF(Kredsudvælgelse!AD$8=1,IF(ISTEXT(DGET(Forespørgsel1[#All],\"\"&LEFT($X11,LEN($X11)-$V11)&\"\",Kredsudvælgelse!$Q$10:$R$11))=TRUE,DGET(Forespørgsel1[#All],\"\"&LEFT($X11,LEN($X11)-$V11)&\"\",Kredsudvælgelse!$Q$10:$R$11),DGET(Forespørgsel1[#All],\"\"&LEFT($X11,LEN($X11)-$V11)&\"\",Kredsudvælgelse!$Q$10:$R$11)/IF(ISNONTEXT($W11)=TRUE,1,DGET(Forespørgsel1[#All],\"\"&$W11&\"\",Kredsudvælgelse!$Q$10:$Q$11))),IF(ISBLANK(HLOOKUP(X$9,'Statiske ejendomme'!$B$3:$GP$82,'Statiske ejendomme'!$A8,FALSE))=FALSE,HLOOKUP(X$9,'Statiske ejendomme'!$B$3:$GP$82,'Statiske ejendomme'!$A8,FALSE),\"\"))),\"\")","v":""},null,1,{"$f":"X18","v":"Årets resultat pr. tæve"},{"$f":"C11","v":"Årets resultat pr. tæve"},{"$f":"IFERROR(IF(AB11=\"Stykomkostninger i alt\",-VLOOKUP($AB11,$X$11:$Y$81,2,FALSE),IF(AND(AB11=\"Øvrige omkostninger pr. ha\",$S$29=42),VLOOKUP(\"Øvrige omkostninger øre pr. FEN\",$X$11:$Y$81,2,FALSE)*VLOOKUP(\"Gennemsnitligt udbytte i alt FEN/ha\",$X$11:$Y$81,2,FALSE)/100,IF(AND(AB11=\"Øvrige omkostninger pr. ha\",$S$29=43),VLOOKUP(\"Øvrige omkostninger øre pr. FEN\",$X$11:$Y$81,2,FALSE)/100,VLOOKUP($AB11,$X$11:$Y$81,2,FALSE)))),\"\")","v":""},{"$f":"IFERROR(tæt(D11:L11,AD11),\"\")","v":""}]
[4,null,"Afkastningsgrad",25.209939785092782,19.182096553488272,16.971129639894162,15.282368405953443,13.544396194307007,11.502896574844467,10.141066094693052,8.2984137361828214,3.4205063279967054,null,null,null,null,null,null,null,null,null,{"$f":"Mink!A5","v":0},{"$f":"Mink!B5","v":0},{"$f":"Mink!C5","v":"Pr. tæve"},{"$f":"IFERROR(IF(X$9=Kredsudvælgelse!$R$17,\"\",IF(Kredsudvælgelse!AD$8=1,IF(ISTEXT(DGET(Forespørgsel1[#All],\"\"&LEFT($X12,LEN($X12)-$V12)&\"\",Kredsudvælgelse!$Q$10:$R$11))=TRUE,DGET(Forespørgsel1[#All],\"\"&LEFT($X12,LEN($X12)-$V12)&\"\",Kredsudvælgelse!$Q$10:$R$11),DGET(Forespørgsel1[#All],\"\"&LEFT($X12,LEN($X12)-$V12)&\"\",Kredsudvælgelse!$Q$10:$R$11)/IF(ISNONTEXT($W12)=TRUE,1,DGET(Forespørgsel1[#All],\"\"&$W12&\"\",Kredsudvælgelse!$Q$10:$Q$11))),IF(ISBLANK(HLOOKUP(X$9,'Statiske ejendomme'!$B$3:$GP$82,'Statiske ejendomme'!$A9,FALSE))=FALSE,HLOOKUP(X$9,'Statiske ejendomme'!$B$3:$GP$82,'Statiske ejendomme'!$A9,FALSE),\"\"))),\"\")","v":""},null,2,{"$f":"X50","v":"Afkastningsgrad"},"Afkastningsgrad","",{"$f":"IFERROR(tæt(D12:L12,AD12),\"\")","v":""}]
[5,null,"Dækningsbidrag pr. skind",281.17791219999998,255.97225625000002,250.56944466000002,242.20470280000001,235.24147199999999,225.92146260000001,218.28872321,207.74632149999999,182.87910529999999,null," ",null,null,null,null,null,null,null,{"$f":"Mink!A6","v":9},{"$f":"Mink!B6","v":"Minktæver"},{"$f":"Mink!C6","v":"Bruttoudbytte i alt pr. tæve"},{"$f":"IFERROR(IF(X$9=Kredsudvælgelse!$R$17,\"\",IF(Kredsudvælgelse!AD$8=1,IF(ISTEXT(DGET(Forespørgsel1[#All],\"\"&LEFT($X13,LEN($X13)-$V13)&\"\",Kredsudvælgelse!$Q$10:$R$11))=TRUE,DGET(Forespørgsel1[#All],\"\"&LEFT($X13,LEN($X13)-$V13)&\"\",Kredsudvælgelse!$Q$10:$R$11),DGET(Forespørgsel1[#All],\"\"&LEFT($X13,LEN($X13)-$V13)&\"\",Kredsudvælgelse!$Q$10:$R$11)/IF(ISNONTEXT($W13)=TRUE,1,DGET(Forespørgsel1[#All],\"\"&$W13&\"\",Kredsudvælgelse!$Q$10:$Q$11))),IF(ISBLANK(HLOOKUP(X$9,'Statiske ejendomme'!$B$3:$GP$82,'Statiske ejendomme'!$A10,FALSE))=FALSE,HLOOKUP(X$9,'Statiske ejendomme'!$B$3:$GP$82,'Statiske ejendomme'!$A10,FALSE),\"\"))),\"\")","v":""},null,3,{"$f":"X32","v":"Dækningsbidrag"},"Dækningsbidrag pr. skind","",{"$f":"IFERROR(tæt(D13:L13,AD13),\"\")","v":""}]
[6,null,"Kapitalomkostninger pr. skind",35.1599766,41.657115000000005,45.964817170000003,47.813284199999998,51.358081499999997,56.955069799999997,59.037672870000002,62.921359249999995,76.877347499999999,null,null,null,null,null,null,null,null,null,{"$f":"Mink!A7","v":9},{"$f":"Mink!B7","v":"Minktæver"},{"$f":"Mink!C7","v":"Stykomkostninger i alt pr. tæve"},{"$f":"IFERROR(IF(X$9=Kredsudvælgelse!$R$17,\"\",IF(Kredsudvælgelse!AD$8=1,IF(ISTEXT(DGET(Forespørgsel1[#All],\"\"&LEFT($X14,LEN($X14)-$V14)&\"\",Kredsudvælgelse!$Q$10:$R$11))=TRUE,DGET(Forespørgsel1[#All],\"\"&LEFT($X14,LEN($X14)-$V14)&\"\",Kredsudvælgelse!$Q$10:$R$11),DGET(Forespørgsel1[#All],\"\"&LEFT($X14,LEN($X14)-$V14)&\"\",Kredsudvælgelse!$Q$10:$R$11)/IF(ISNONTEXT($W14)=TRUE,1,DGET(Forespørgsel1[#All],\"\"&$W14&\"\",Kredsudvælgelse!$Q$10:$Q$11))),IF(ISBLANK(HLOOKUP(X$9,'Statiske ejendomme'!$B$3:$GP$82,'Statiske ejendomme'!$A11,FALSE))=FALSE,HLOOKUP(X$9,'Statiske ejendomme'!$B$3:$GP$82,'Statiske ejendomme'!$A11,FALSE),\"\"))),\"\")","v":""},null,4,{"$f":"X43","v":"Kapitalomkostninger i alt"},"Kapitalomkostninger pr. skind",{"$f":"ABS(IFERROR(IF(AB14=\"Stykomkostninger i alt\",-VLOOKUP($AB14,$X$11:$Y$81,2,FALSE),IF(AND(AB14=\"Øvrige omkostninger pr. ha\",$S$29=42),VLOOKUP(\"Øvrige omkostninger øre pr. FEN\",$X$11:$Y$81,2,FALSE)*VLOOKUP(\"Gennemsnitligt udbytte i alt FEN/ha\",$X$11:$Y$81,2,FALSE)/100,IF(AND(AB14=\"Øvrige omkostninger pr. ha\",$S$29=43),VLOOKUP(\"Øvrige omkostninger øre pr. FEN\",$X$11:$Y$81,2,FALSE)/100,VLOOKUP($AB14,$X$11:$Y$81,2,FALSE)))),\"\"))","v":{"$error":"#VALUE!"}},{"$f":"IFERROR(tæt(D14:L14,AD14),\"\")","v":""}]
[7,null,"Løn - inkl. Ejerløn pr. skind",44.164065900000004,53.990973750000002,58.932609620000001,63.286290800000003,68.714615500000008,72.599170599999994,76.350936990000008,81.023240000000001,104.04662970000001,null,null,null,null,null,null,null,null,null,{"$f":"Mink!A8","v":9},{"$f":"Mink!B8","v":"Minktæver"},{"$f":"Mink!C8","v":"Dækningsbidrag pr. tæve"},{"$f":"IFERROR(IF(X$9=Kredsudvælgelse!$R$17,\"\",IF(Kredsudvælgelse!AD$8=1,IF(ISTEXT(DGET(Forespørgsel1[#All],\"\"&LEFT($X15,LEN($X15)-$V15)&\"\",Kredsudvælgelse!$Q$10:$R$11))=TRUE,DGET(Forespørgsel1[#All],\"\"&LEFT($X15,LEN($X15)-$V15)&\"\",Kredsudvælgelse!$Q$10:$R$11),DGET(Forespørgsel1[#All],\"\"&LEFT($X15,LEN($X15)-$V15)&\"\",Kredsudvælgelse!$Q$10:$R$11)/IF(ISNONTEXT($W15)=TRUE,1,DGET(Forespørgsel1[#All],\"\"&$W15&\"\",Kredsudvælgelse!$Q$10:$Q$11))),IF(ISBLANK(HLOOKUP(X$9,'Statiske ejendomme'!$B$3:$GP$82,'Statiske ejendomme'!$A12,FALSE))=FALSE,HLOOKUP(X$9,'Statiske ejendomme'!$B$3:$GP$82,'Statiske ejendomme'!$A12,FALSE),\"\"))),\"\")","v":""},null,5,{"$f":"X36","v":"Løn - inkl. ejerløn"},"Løn - inkl. Ejerløn pr. skind",{"$f":"ABS(IFERROR(IF(AB15=\"Stykomkostninger i alt\",-VLOOKUP($AB15,$X$11:$Y$81,2,FALSE),IF(AND(AB15=\"Øvrige omkostninger pr. ha\",$S$29=42),VLOOKUP(\"Øvrige omkostninger øre pr. FEN\",$X$11:$Y$81,2,FALSE)*VLOOKUP(\"Gennemsnitligt udbytte i alt FEN/ha\",$X$11:$Y$81,2,FALSE)/100,IF(AND(AB15=\"Øvrige omkostninger pr. ha\",$S$29=43),VLOOKUP(\"Øvrige omkostninger øre pr. FEN\",$X$11:$Y$81,2,FALSE)/100,VLOOKUP($AB15,$X$11:$Y$81,2,FALSE)))),\"\"))","v":{"$error":"#VALUE!"}},{"$f":"IFERROR(tæt(D15:L15,AD15),\"\")","v":""}]
[8,null,"Fremstillingspris kr. pr. skind",271.37,296.58,303.07,310.06,323.57,332.79,340.75,348.19,376.36,null,null,null,null,null,null,null,null,null,{"$f":"Mink!A9","v":9},{"$f":"Mink!B9","v":"Minktæver"},{"$f":"Mink!C9","v":"Kapacitetsomkostninger i alt pr. tæve"},{"$f":"IFERROR(IF(X$9=Kredsudvælgelse!$R$17,\"\",IF(Kredsudvælgelse!AD$8=1,IF(ISTEXT(DGET(Forespørgsel1[#All],\"\"&LEFT($X16,LEN($X16)-$V16)&\"\",Kredsudvælgelse!$Q$10:$R$11))=TRUE,DGET(Forespørgsel1[#All],\"\"&LEFT($X16,LEN($X16)-$V16)&\"\",Kredsudvælgelse!$Q$10:$R$11),DGET(Forespørgsel1[#All],\"\"&LEFT($X16,LEN($X16)-$V16)&\"\",Kredsudvælgelse!$Q$10:$R$11)/IF(ISNONTEXT($W16)=TRUE,1,DGET(Forespørgsel1[#All],\"\"&$W16&\"\",Kredsudvælgelse!$Q$10:$Q$11))),IF(ISBLANK(HLOOKUP(X$9,'Statiske ejendomme'!$B$3:$GP$82,'Statiske ejendomme'!$A13,FALSE))=FALSE,HLOOKUP(X$9,'Statiske ejendomme'!$B$3:$GP$82,'Statiske ejendomme'!$A13,FALSE),\"\"))),\"\")","v":""},null,6,{"$f":"X52","v":"Fremstillingspris kr. pr. skind"},"Fremstillingspris kr. pr. skind","",{"$f":"IFERROR(tæt(D16:L16,AD16),\"\")","v":""}]
[9,null,"Kr. pr. skind",421.70000000000005,405.5,398,392,383.5,379,374.79,367,344.3,null,null,null,null,null,null,null,null,null,{"$f":"Mink!A10","v":9},{"$f":"Mink!B10","v":"Minktæver"},{"$f":"Mink!C10","v":"Kapitalomkostninger i alt pr. tæve"},{"$f":"IFERROR(IF(X$9=Kredsudvælgelse!$R$17,\"\",IF(Kredsudvælgelse!AD$8=1,IF(ISTEXT(DGET(Forespørgsel1[#All],\"\"&LEFT($X17,LEN($X17)-$V17)&\"\",Kredsudvælgelse!$Q$10:$R$11))=TRUE,DGET(Forespørgsel1[#All],\"\"&LEFT($X17,LEN($X17)-$V17)&\"\",Kredsudvælgelse!$Q$10:$R$11),DGET(Forespørgsel1[#All],\"\"&LEFT($X17,LEN($X17)-$V17)&\"\",Kredsudvælgelse!$Q$10:$R$11)/IF(ISNONTEXT($W17)=TRUE,1,DGET(Forespørgsel1[#All],\"\"&$W17&\"\",Kredsudvælgelse!$Q$10:$Q$11))),IF(ISBLANK(HLOOKUP(X$9,'Statiske ejendomme'!$B$3:$GP$82,'Statiske ejendomme'!$A14,FALSE))=FALSE,HLOOKUP(X$9,'Statiske ejendomme'!$B$3:$GP$82,'Statiske ejendomme'!$A14,FALSE),\"\"))),\"\")","v":""},null,7,{"$f":"IF($R$29=2,LEFT($AC17,LEN($AC17)-$M37),IF($S$29=32,LEFT($AC17,LEN($AC17)-$M124),IF($S$29=33,LEFT($AC17,LEN($AC17)-$M182),IF($S$29=34,LEFT($AC17,LEN($AC17)-$M214),IF($S$29=42,LEFT($AC17,LEN($AC17)-$M231),IF($S$29=43,LEFT($AC17,LEN($AC17)-$M305),IF($S$29=44,LEFT($AC17,LEN($AC17)-$M381),IF($S$29=45,LEFT($AC17,LEN($AC17)-$M367),\"\"))))))))","v":"Kr. pr. skind"},"Kr. pr. skind","",{"$f":"IFERROR(tæt(D17:L17,AD17),\"\")","v":""}]
[10,null,"Producerede skind pr. tæve",6.2,5.7,5.5,5.4,5.3,5.0999999999999996,5.0490000000000004,4.9000000000000004,4.5,null,null,null,null,null,null,null,null,null,{"$f":"Mink!A11","v":9},{"$f":"Mink!B11","v":"Minktæver"},{"$f":"Mink!C11","v":"Årets resultat pr. tæve"},{"$f":"IFERROR(IF(X$9=Kredsudvælgelse!$R$17,\"\",IF(Kredsudvælgelse!AD$8=1,IF(ISTEXT(DGET(Forespørgsel1[#All],\"\"&LEFT($X18,LEN($X18)-$V18)&\"\",Kredsudvælgelse!$Q$10:$R$11))=TRUE,DGET(Forespørgsel1[#All],\"\"&LEFT($X18,LEN($X18)-$V18)&\"\",Kredsudvælgelse!$Q$10:$R$11),DGET(Forespørgsel1[#All],\"\"&LEFT($X18,LEN($X18)-$V18)&\"\",Kredsudvælgelse!$Q$10:$R$11)/IF(ISNONTEXT($W18)=TRUE,1,DGET(Forespørgsel1[#All],\"\"&$W18&\"\",Kredsudvælgelse!$Q$10:$Q$11))),IF(ISBLANK(HLOOKUP(X$9,'Statiske ejendomme'!$B$3:$GP$82,'Statiske ejendomme'!$A15,FALSE))=FALSE,HLOOKUP(X$9,'Statiske ejendomme'!$B$3:$GP$82,'Statiske ejendomme'!$A15,FALSE),\"\"))),\"\")","v":""},null,8,{"$f":"IF($R$29=2,LEFT($AC18,LEN($AC18)-$M38),IF($S$29=32,LEFT($AC18,LEN($AC18)-$M125),IF($S$29=33,LEFT($AC18,LEN($AC18)-$M183),IF($S$29=34,LEFT($AC18,LEN($AC18)-$M215),IF($S$29=42,LEFT($AC18,LEN($AC18)-$M232),IF($S$29=43,LEFT($AC18,LEN($AC18)-$M306),IF($S$29=44,LEFT($AC18,LEN($AC18)-$M382),IF($S$29=45,LEFT($AC18,LEN($AC18)-$M368),\"\"))))))))","v":"Producerede skind pr. tæve"},"Producerede skind pr. tæve",{"$f":"IFERROR(IF(AB18=\"Stykomkostninger i alt\",-VLOOKUP($AB18,$X$11:$Y$82,2,FALSE),IF(AND(AB18=\"Øvrige omkostninger pr. ha\",$S$29=42),VLOOKUP(\"Øvrige omkostninger øre pr. FEN\",$X$11:$Y$82,2,FALSE)*VLOOKUP(\"Gennemsnitligt udbytte i alt FEN/ha\",$X$11:$Y$82,2,FALSE)/100,IF(AND(AB18=\"Øvrige omkostninger pr. ha\",$S$29=43),VLOOKUP(\"Øvrige omkostninger øre pr. FEN\",$X$11:$Y$82,2,FALSE)/100,VLOOKUP($AB18,$X$11:$Y$82,2,FALSE)))),\"\")","v":""},{"$f":"IFERROR(tæt(D18:L18,AD18),\"\")","v":""}]
[11,null,"Foderomkostninger pr. skind",116.6666041,122.36740025,125.65700942000001,127.78783919999999,131.22772950000001,133.2270552,136.10551328,138.83950849999999,144.47739280000002,null,null,null,null,null,null,null,null,null,{"$f":"Mink!A12","v":0},{"$f":"Mink!B12","v":0},{"$f":"Mink!C12","v":""},{"$f":"IFERROR(IF(X$9=Kredsudvælgelse!$R$17,\"\",IF(Kredsudvælgelse!AD$8=1,IF(ISTEXT(DGET(Forespørgsel1[#All],\"\"&LEFT($X19,LEN($X19)-$V19)&\"\",Kredsudvælgelse!$Q$10:$R$11))=TRUE,DGET(Forespørgsel1[#All],\"\"&LEFT($X19,LEN($X19)-$V19)&\"\",Kredsudvælgelse!$Q$10:$R$11),DGET(Forespørgsel1[#All],\"\"&LEFT($X19,LEN($X19)-$V19)&\"\",Kredsudvælgelse!$Q$10:$R$11)/IF(ISNONTEXT($W19)=TRUE,1,DGET(Forespørgsel1[#All],\"\"&$W19&\"\",Kredsudvælgelse!$Q$10:$Q$11))),IF(ISBLANK(HLOOKUP(X$9,'Statiske ejendomme'!$B$3:$GP$82,'Statiske ejendomme'!$A16,FALSE))=FALSE,HLOOKUP(X$9,'Statiske ejendomme'!$B$3:$GP$82,'Statiske ejendomme'!$A16,FALSE),\"\"))),\"\")","v":""},null,9,{"$f":"X27","v":"Foder"},"Foderomkostninger pr. skind",{"$f":"ABS(IFERROR(IF(AB19=\"Stykomkostninger i alt\",-VLOOKUP($AB19,$X$11:$Y$81,2,FALSE),IF(AND(AB19=\"Øvrige omkostninger pr. ha\",$S$29=42),VLOOKUP(\"Øvrige omkostninger øre pr. FEN\",$X$11:$Y$81,2,FALSE)*VLOOKUP(\"Gennemsnitligt udbytte i alt FEN/ha\",$X$11:$Y$81,2,FALSE)/100,IF(AND(AB19=\"Øvrige omkostninger pr. ha\",$S$29=43),VLOOKUP(\"Øvrige omkostninger øre pr. FEN\",$X$11:$Y$81,2,FALSE)/100,VLOOKUP($AB19,$X$11:$Y$81,2,FALSE)))),\"\"))","v":{"$error":"#VALUE!"}},{"$f":"IFERROR(tæt(D19:L19,AD19),\"\")","v":""}]
[null,null,null,null,null,null,null,null,null,null,null,null,null,null,null,null,null,null,null,null,null,{"$f":"Mink!A13","v":0},{"$f":"Mink!B13","v":0},{"$f":"Mink!C13","v":"Pr. skind"},{"$f":"IFERROR(IF(X$9=Kredsudvælgelse!$R$17,\"\",IF(Kredsudvælgelse!AD$8=1,IF(ISTEXT(DGET(Forespørgsel1[#All],\"\"&LEFT($X20,LEN($X20)-$V20)&\"\",Kredsudvælgelse!$Q$10:$R$11))=TRUE,DGET(Forespørgsel1[#All],\"\"&LEFT($X20,LEN($X20)-$V20)&\"\",Kredsudvælgelse!$Q$10:$R$11),DGET(Forespørgsel1[#All],\"\"&LEFT($X20,LEN($X20)-$V20)&\"\",Kredsudvælgelse!$Q$10:$R$11)/IF(ISNONTEXT($W20)=TRUE,1,DGET(Forespørgsel1[#All],\"\"&$W20&\"\",Kredsudvælgelse!$Q$10:$Q$11))),IF(ISBLANK(HLOOKUP(X$9,'Statiske ejendomme'!$B$3:$GP$82,'Statiske ejendomme'!$A17,FALSE))=FALSE,HLOOKUP(X$9,'Statiske ejendomme'!$B$3:$GP$82,'Statiske ejendomme'!$A17,FALSE),\"\"))),\"\")","v":""}]
[null,null,null,null,null,null,null,null,null,null,null,null,null,null,null,null,null,null,null,null,null,{"$f":"Mink!A14","v":0},{"$f":"Mink!B14","v":"Producerede skind"},{"$f":"Mink!C14","v":"Salg af skind og dyr"},{"$f":"IFERROR(IF(X$9=Kredsudvælgelse!$R$17,\"\",IF(Kredsudvælgelse!AD$8=1,IF(ISTEXT(DGET(Forespørgsel1[#All],\"\"&LEFT($X21,LEN($X21)-$V21)&\"\",Kredsudvælgelse!$Q$10:$R$11))=TRUE,DGET(Forespørgsel1[#All],\"\"&LEFT($X21,LEN($X21)-$V21)&\"\",Kredsudvælgelse!$Q$10:$R$11),DGET(Forespørgsel1[#All],\"\"&LEFT($X21,LEN($X21)-$V21)&\"\",Kredsudvælgelse!$Q$10:$R$11)/IF(ISNONTEXT($W21)=TRUE,1,DGET(Forespørgsel1[#All],\"\"&$W21&\"\",Kredsudvælgelse!$Q$10:$Q$11))),IF(ISBLANK(HLOOKUP(X$9,'Statiske ejendomme'!$B$3:$GP$82,'Statiske ejendomme'!$A18,FALSE))=FALSE,HLOOKUP(X$9,'Statiske ejendomme'!$B$3:$GP$82,'Statiske ejendomme'!$A18,FALSE),\"\"))),\"\")","v":""}]
[null,null,null,null,null,null,null,null,null,null,null,null,null,null,null,null,null,null,null,null,null,{"$f":"Mink!A15","v":0},{"$f":"Mink!B15","v":"Producerede skind"},{"$f":"Mink!C15","v":"Køb mink"},{"$f":"IFERROR(IF(X$9=Kredsudvælgelse!$R$17,\"\",IF(Kredsudvælgelse!AD$8=1,IF(ISTEXT(DGET(Forespørgsel1[#All],\"\"&LEFT($X22,LEN($X22)-$V22)&\"\",Kredsudvælgelse!$Q$10:$R$11))=TRUE,DGET(Forespørgsel1[#All],\"\"&LEFT($X22,LEN($X22)-$V22)&\"\",Kredsudvælgelse!$Q$10:$R$11),DGET(Forespørgsel1[#All],\"\"&LEFT($X22,LEN($X22)-$V22)&\"\",Kredsudvælgelse!$Q$10:$R$11)/IF(ISNONTEXT($W22)=TRUE,1,DGET(Forespørgsel1[#All],\"\"&$W22&\"\",Kredsudvælgelse!$Q$10:$Q$11))),IF(ISBLANK(HLOOKUP(X$9,'Statiske ejendomme'!$B$3:$GP$82,'Statiske ejendomme'!$A19,FALSE))=FALSE,HLOOKUP(X$9,'Statiske ejendomme'!$B$3:$GP$82,'Statiske ejendomme'!$A19,FALSE),\"\"))),\"\")","v":""}]
[null,null,null,null,null,null,null,null,null,null,null,null,null,null,null,null,null,null,null,null,null,{"$f":"Mink!A16","v":0},{"$f":"Mink!B16","v":"Producerede skind"},{"$f":"Mink!C16","v":"Besætnings- og beholdningsforskydning"},{"$f":"IFERROR(IF(X$9=Kredsudvælgelse!$R$17,\"\",IF(Kredsudvælgelse!AD$8=1,IF(ISTEXT(DGET(Forespørgsel1[#All],\"\"&LEFT($X23,LEN($X23)-$V23)&\"\",Kredsudvælgelse!$Q$10:$R$11))=TRUE,DGET(Forespørgsel1[#All],\"\"&LEFT($X23,LEN($X23)-$V23)&\"\",Kredsudvælgelse!$Q$10:$R$11),DGET(Forespørgsel1[#All],\"\"&LEFT($X23,LEN($X23)-$V23)&\"\",Kredsudvælgelse!$Q$10:$R$11)/IF(ISNONTEXT($W23)=TRUE,1,DGET(Forespørgsel1[#All],\"\"&$W23&\"\",Kredsudvælgelse!$Q$10:$Q$11))),IF(ISBLANK(HLOOKUP(X$9,'Statiske ejendomme'!$B$3:$GP$82,'Statiske ejendomme'!$A20,FALSE))=FALSE,HLOOKUP(X$9,'Statiske ejendomme'!$B$3:$GP$82,'Statiske ejendomme'!$A20,FALSE),\"\"))),\"\")","v":""}]
[null,null,null,null,null,null,null,null,null,null,null,null,null,null,null,null,null,null,null,null,null,{"$f":"Mink!A17","v":0},{"$f":"Mink!B17","v":"Producerede skind"},{"$f":"Mink!C17","v":"Andre indtægter (overskud)"},{"$f":"IFERROR(IF(X$9=Kredsudvælgelse!$R$17,\"\",IF(Kredsudvælgelse!AD$8=1,IF(ISTEXT(DGET(Forespørgsel1[#All],\"\"&LEFT($X24,LEN($X24)-$V24)&\"\",Kredsudvælgelse!$Q$10:$R$11))=TRUE,DGET(Forespørgsel1[#All],\"\"&LEFT($X24,LEN($X24)-$V24)&\"\",Kredsudvælgelse!$Q$10:$R$11),DGET(Forespørgsel1[#All],\"\"&LEFT($X24,LEN($X24)-$V24)&\"\",Kredsudvælgelse!$Q$10:$R$11)/IF(ISNONTEXT($W24)=TRUE,1,DGET(Forespørgsel1[#All],\"\"&$W24&\"\",Kredsudvælgelse!$Q$10:$Q$11))),IF(ISBLANK(HLOOKUP(X$9,'Statiske ejendomme'!$B$3:$GP$82,'Statiske ejendomme'!$A21,FALSE))=FALSE,HLOOKUP(X$9,'Statiske ejendomme'!$B$3:$GP$82,'Statiske ejendomme'!$A21,FALSE),\"\"))),\"\")","v":""}]
[null,null,null,null,null,null,null,null,null,null,null,null,null,null,null,null,null,null,null,null,null,{"$f":"Mink!A18","v":0},{"$f":"Mink!B18","v":"Producerede skind"},{"$f":"Mink!C18","v":"Bruttoudbytte i alt"},{"$f":"IFERROR(IF(X$9=Kredsudvælgelse!$R$17,\"\",IF(Kredsudvælgelse!AD$8=1,IF(ISTEXT(DGET(Forespørgsel1[#All],\"\"&LEFT($X25,LEN($X25)-$V25)&\"\",Kredsudvælgelse!$Q$10:$R$11))=TRUE,DGET(Forespørgsel1[#All],\"\"&LEFT($X25,LEN($X25)-$V25)&\"\",Kredsudvælgelse!$Q$10:$R$11),DGET(Forespørgsel1[#All],\"\"&LEFT($X25,LEN($X25)-$V25)&\"\",Kredsudvælgelse!$Q$10:$R$11)/IF(ISNONTEXT($W25)=TRUE,1,DGET(Forespørgsel1[#All],\"\"&$W25&\"\",Kredsudvælgelse!$Q$10:$Q$11))),IF(ISBLANK(HLOOKUP(X$9,'Statiske ejendomme'!$B$3:$GP$82,'Statiske ejendomme'!$A22,FALSE))=FALSE,HLOOKUP(X$9,'Statiske ejendomme'!$B$3:$GP$82,'Statiske ejendomme'!$A22,FALSE),\"\"))),\"\")","v":""}]
["Kvæg",null,null,null,null,null,null,null,null,null,null,null,null,null,null,null,null,null,null,null,null,{"$f":"Mink!A19","v":0},{"$f":"Mink!B19","v":0},{"$f":"Mink!C19","v":""},{"$f":"IFERROR(IF(X$9=Kredsudvælgelse!$R$17,\"\",IF(Kredsudvælgelse!AD$8=1,IF(ISTEXT(DGET(Forespørgsel1[#All],\"\"&LEFT($X26,LEN($X26)-$V26)&\"\",Kredsudvælgelse!$Q$10:$R$11))=TRUE,DGET(Forespørgsel1[#All],\"\"&LEFT($X26,LEN($X26)-$V26)&\"\",Kredsudvælgelse!$Q$10:$R$11),DGET(Forespørgsel1[#All],\"\"&LEFT($X26,LEN($X26)-$V26)&\"\",Kredsudvælgelse!$Q$10:$R$11)/IF(ISNONTEXT($W26)=TRUE,1,DGET(Forespørgsel1[#All],\"\"&$W26&\"\",Kredsudvælgelse!$Q$10:$Q$11))),IF(ISBLANK(HLOOKUP(X$9,'Statiske ejendomme'!$B$3:$GP$82,'Statiske ejendomme'!$A23,FALSE))=FALSE,HLOOKUP(X$9,'Statiske ejendomme'!$B$3:$GP$82,'Statiske ejendomme'!$A23,FALSE),\"\"))),\"\")","v":""}]
[null,null,null,null,null,null,null,null,null,null,null,null,null,"Antal bedrifter",null,null,null,null,null,null,null,{"$f":"Mink!A20","v":0},{"$f":"Mink!B20","v":"Producerede skind"},{"$f":"Mink!C20","v":"Foder"},{"$f":"IFERROR(IF(X$9=Kredsudvælgelse!$R$17,\"\",IF(Kredsudvælgelse!AD$8=1,IF(ISTEXT(DGET(Forespørgsel1[#All],\"\"&LEFT($X27,LEN($X27)-$V27)&\"\",Kredsudvælgelse!$Q$10:$R$11))=TRUE,DGET(Forespørgsel1[#All],\"\"&LEFT($X27,LEN($X27)-$V27)&\"\",Kredsudvælgelse!$Q$10:$R$11),DGET(Forespørgsel1[#All],\"\"&LEFT($X27,LEN($X27)-$V27)&\"\",Kredsudvælgelse!$Q$10:$R$11)/IF(ISNONTEXT($W27)=TRUE,1,DGET(Forespørgsel1[#All],\"\"&$W27&\"\",Kredsudvælgelse!$Q$10:$Q$11))),IF(ISBLANK(HLOOKUP(X$9,'Statiske ejendomme'!$B$3:$GP$82,'Statiske ejendomme'!$A24,FALSE))=FALSE,HLOOKUP(X$9,'Statiske ejendomme'!$B$3:$GP$82,'Statiske ejendomme'!$A24,FALSE),\"\"))),\"\")","v":""}]
[null,22,2,4,5,6,7,8,9,10,11,12,null,273,null,null,null,null,null,null,null,{"$f":"Mink!A21","v":0},{"$f":"Mink!B21","v":"Producerede skind"},{"$f":"Mink!C21","v":"Dyrlæge og medicin"},{"$f":"IFERROR(IF(X$9=Kredsudvælgelse!$R$17,\"\",IF(Kredsudvælgelse!AD$8=1,IF(ISTEXT(DGET(Forespørgsel1[#All],\"\"&LEFT($X28,LEN($X28)-$V28)&\"\",Kredsudvælgelse!$Q$10:$R$11))=TRUE,DGET(Forespørgsel1[#All],\"\"&LEFT($X28,LEN($X28)-$V28)&\"\",Kredsudvælgelse!$Q$10:$R$11),DGET(Forespørgsel1[#All],\"\"&LEFT($X28,LEN($X28)-$V28)&\"\",Kredsudvælgelse!$Q$10:$R$11)/IF(ISNONTEXT($W28)=TRUE,1,DGET(Forespørgsel1[#All],\"\"&$W28&\"\",Kredsudvælgelse!$Q$10:$Q$11))),IF(ISBLANK(HLOOKUP(X$9,'Statiske ejendomme'!$B$3:$GP$82,'Statiske ejendomme'!$A25,FALSE))=FALSE,HLOOKUP(X$9,'Statiske ejendomme'!$B$3:$GP$82,'Statiske ejendomme'!$A25,FALSE),\"\"))),\"\")","v":""}]
[1,{"$f":"$B$28*100+$A29","v":2201},"Konventionel|Stor race| Alle",null,null,null,null,null,null,"Stort forbedringspotentiale",null,null,null,null,null,null,"Identer",3,32,323,null,{"$f":"Mink!A22","v":0},{"$f":"Mink!B22","v":"Producerede skind"},{"$f":"Mink!C22","v":"Diverse vedr. husdyr"},{"$f":"IFERROR(IF(X$9=Kredsudvælgelse!$R$17,\"\",IF(Kredsudvælgelse!AD$8=1,IF(ISTEXT(DGET(Forespørgsel1[#All],\"\"&LEFT($X29,LEN($X29)-$V29)&\"\",Kredsudvælgelse!$Q$10:$R$11))=TRUE,DGET(Forespørgsel1[#All],\"\"&LEFT($X29,LEN($X29)-$V29)&\"\",Kredsudvælgelse!$Q$10:$R$11),DGET(Forespørgsel1[#All],\"\"&LEFT($X29,LEN($X29)-$V29)&\"\",Kredsudvælgelse!$Q$10:$R$11)/IF(ISNONTEXT($W29)=TRUE,1,DGET(Forespørgsel1[#All],\"\"&$W29&\"\",Kredsudvælgelse!$Q$10:$Q$11))),IF(ISBLANK(HLOOKUP(X$9,'Statiske ejendomme'!$B$3:$GP$82,'Statiske ejendomme'!$A26,FALSE))=FALSE,HLOOKUP(X$9,'Statiske ejendomme'!$B$3:$GP$82,'Statiske ejendomme'!$A26,FALSE),\"\"))),\"\")","v":""}]
[2,{"$f":"$B$28*100+$A30","v":2202},"Fraktil",0.1,0.25,0.33,0.4,0.5,0.6,0.67,0.75,0.9,null,null,null,null,null,null,null,null,null,{"$f":"Mink!A23","v":0},{"$f":"Mink!B23","v":"Producerede skind"},{"$f":"Mink!C23","v":"Stykomkostninger i alt"},{"$f":"IFERROR(IF(X$9=Kredsudvælgelse!$R$17,\"\",IF(Kredsudvælgelse!AD$8=1,IF(ISTEXT(DGET(Forespørgsel1[#All],\"\"&LEFT($X30,LEN($X30)-$V30)&\"\",Kredsudvælgelse!$Q$10:$R$11))=TRUE,DGET(Forespørgsel1[#All],\"\"&LEFT($X30,LEN($X30)-$V30)&\"\",Kredsudvælgelse!$Q$10:$R$11),DGET(Forespørgsel1[#All],\"\"&LEFT($X30,LEN($X30)-$V30)&\"\",Kredsudvælgelse!$Q$10:$R$11)/IF(ISNONTEXT($W30)=TRUE,1,DGET(Forespørgsel1[#All],\"\"&$W30&\"\",Kredsudvælgelse!$Q$10:$Q$11))),IF(ISBLANK(HLOOKUP(X$9,'Statiske ejendomme'!$B$3:$GP$82,'Statiske ejendomme'!$A27,FALSE))=FALSE,HLOOKUP(X$9,'Statiske ejendomme'!$B$3:$GP$82,'Statiske ejendomme'!$A27,FALSE),\"\"))),\"\")","v":""}]
[3,2203,"Kg EKM pr. årsko (leveret)",11376,10876,10679.880000000001,10550,10358,10157.4,10011.52,9820,9300.2000000000007,0,null,null,null,null,null,null,null,null,{"$f":"Mink!A24","v":0},{"$f":"Mink!B24","v":0},{"$f":"Mink!C24","v":0},{"$f":"IFERROR(IF(X$9=Kredsudvælgelse!$R$17,\"\",IF(Kredsudvælgelse!AD$8=1,IF(ISTEXT(DGET(Forespørgsel1[#All],\"\"&LEFT($X31,LEN($X31)-$V31)&\"\",Kredsudvælgelse!$Q$10:$R$11))=TRUE,DGET(Forespørgsel1[#All],\"\"&LEFT($X31,LEN($X31)-$V31)&\"\",Kredsudvælgelse!$Q$10:$R$11),DGET(Forespørgsel1[#All],\"\"&LEFT($X31,LEN($X31)-$V31)&\"\",Kredsudvælgelse!$Q$10:$R$11)/IF(ISNONTEXT($W31)=TRUE,1,DGET(Forespørgsel1[#All],\"\"&$W31&\"\",Kredsudvælgelse!$Q$10:$Q$11))),IF(ISBLANK(HLOOKUP(X$9,'Statiske ejendomme'!$B$3:$GP$82,'Statiske ejendomme'!$A28,FALSE))=FALSE,HLOOKUP(X$9,'Statiske ejendomme'!$B$3:$GP$82,'Statiske ejendomme'!$A28,FALSE),\"\"))),\"\")","v":""}]
[4,2204,"Fremstillingspris pr. kg EKM",2.2037474000000001,2.3312059999999999,2.37689664,2.4218503999999998,2.4726650000000001,2.5285682,2.5857570400000003,2.6389330000000002,2.8209597999999998,0,null,null,null,null,null,null,null,null,{"$f":"Mink!A25","v":0},{"$f":"Mink!B25","v":"Producerede skind"},{"$f":"Mink!C25","v":"Dækningsbidrag"},{"$f":"IFERROR(IF(X$9=Kredsudvælgelse!$R$17,\"\",IF(Kredsudvælgelse!AD$8=1,IF(ISTEXT(DGET(Forespørgsel1[#All],\"\"&LEFT($X32,LEN($X32)-$V32)&\"\",Kredsudvælgelse!$Q$10:$R$11))=TRUE,DGET(Forespørgsel1[#All],\"\"&LEFT($X32,LEN($X32)-$V32)&\"\",Kredsudvælgelse!$Q$10:$R$11),DGET(Forespørgsel1[#All],\"\"&LEFT($X32,LEN($X32)-$V32)&\"\",Kredsudvælgelse!$Q$10:$R$11)/IF(ISNONTEXT($W32)=TRUE,1,DGET(Forespørgsel1[#All],\"\"&$W32&\"\",Kredsudvælgelse!$Q$10:$Q$11))),IF(ISBLANK(HLOOKUP(X$9,'Statiske ejendomme'!$B$3:$GP$82,'Statiske ejendomme'!$A29,FALSE))=FALSE,HLOOKUP(X$9,'Statiske ejendomme'!$B$3:$GP$82,'Statiske ejendomme'!$A29,FALSE),\"\"))),\"\")","v":""}]
[5,2205,"Foderomkostninger ekskl. værdiændring pr. kg EKM",1.2547231999999999,1.322314,1.3437332399999999,1.362163,1.3849990000000001,1.4086152000000001,1.43265456,1.4558150000000001,1.541542,0,null,null,null,null,null,null,null,null,{"$f":"Mink!A26","v":0},{"$f":"Mink!B26","v":0},{"$f":"Mink!C26","v":0},{"$f":"IFERROR(IF(X$9=Kredsudvælgelse!$R$17,\"\",IF(Kredsudvælgelse!AD$8=1,IF(ISTEXT(DGET(Forespørgsel1[#All],\"\"&LEFT($X33,LEN($X33)-$V33)&\"\",Kredsudvælgelse!$Q$10:$R$11))=TRUE,DGET(Forespørgsel1[#All],\"\"&LEFT($X33,LEN($X33)-$V33)&\"\",Kredsudvælgelse!$Q$10:$R$11),DGET(Forespørgsel1[#All],\"\"&LEFT($X33,LEN($X33)-$V33)&\"\",Kredsudvælgelse!$Q$10:$R$11)/IF(ISNONTEXT($W33)=TRUE,1,DGET(Forespørgsel1[#All],\"\"&$W33&\"\",Kredsudvælgelse!$Q$10:$Q$11))),IF(ISBLANK(HLOOKUP(X$9,'Statiske ejendomme'!$B$3:$GP$82,'Statiske ejendomme'!$A30,FALSE))=FALSE,HLOOKUP(X$9,'Statiske ejendomme'!$B$3:$GP$82,'Statiske ejendomme'!$A30,FALSE),\"\"))),\"\")","v":""}]
[6,2206,"Afkastningsgrad",5.4040000000000008,2.72,1.8124000000000002,0.88399999999999979,1E-3,-1.03,-1.8343999999999989,-2.72,-5.718,0,null,null,null,null,null,null,null,null,{"$f":"Mink!A27","v":0},{"$f":"Mink!B27","v":"Producerede skind"},{"$f":"Mink!C27","v":"Energi og brændstof"},{"$f":"IFERROR(IF(X$9=Kredsudvælgelse!$R$17,\"\",IF(Kredsudvælgelse!AD$8=1,IF(ISTEXT(DGET(Forespørgsel1[#All],\"\"&LEFT($X34,LEN($X34)-$V34)&\"\",Kredsudvælgelse!$Q$10:$R$11))=TRUE,DGET(Forespørgsel1[#All],\"\"&LEFT($X34,LEN($X34)-$V34)&\"\",Kredsudvælgelse!$Q$10:$R$11),DGET(Forespørgsel1[#All],\"\"&LEFT($X34,LEN($X34)-$V34)&\"\",Kredsudvælgelse!$Q$10:$R$11)/IF(ISNONTEXT($W34)=TRUE,1,DGET(Forespørgsel1[#All],\"\"&$W34&\"\",Kredsudvælgelse!$Q$10:$Q$11))),IF(ISBLANK(HLOOKUP(X$9,'Statiske ejendomme'!$B$3:$GP$82,'Statiske ejendomme'!$A31,FALSE))=FALSE,HLOOKUP(X$9,'Statiske ejendomme'!$B$3:$GP$82,'Statiske ejendomme'!$A31,FALSE),\"\"))),\"\")","v":""}]
[7,2207,"Bundet kapital pr. årsko",37967.445098600001,44926.967348999999,47727.288561120004,50288.305412000002,54016.927865999998,58069.889035,60692.536357680001,64730.055847000003,78752.593700800004,10,null,null,null,null,null,null,null,null,{"$f":"Mink!A28","v":0},{"$f":"Mink!B28","v":"Producerede skind"},{"$f":"Mink!C28","v":"Vedligehold og maskinstation"},{"$f":"IFERROR(IF(X$9=Kredsudvælgelse!$R$17,\"\",IF(Kredsudvælgelse!AD$8=1,IF(ISTEXT(DGET(Forespørgsel1[#All],\"\"&LEFT($X35,LEN($X35)-$V35)&\"\",Kredsudvælgelse!$Q$10:$R$11))=TRUE,DGET(Forespørgsel1[#All],\"\"&LEFT($X35,LEN($X35)-$V35)&\"\",Kredsudvælgelse!$Q$10:$R$11),DGET(Forespørgsel1[#All],\"\"&LEFT($X35,LEN($X35)-$V35)&\"\",Kredsudvælgelse!$Q$10:$R$11)/IF(ISNONTEXT($W35)=TRUE,1,DGET(Forespørgsel1[#All],\"\"&$W35&\"\",Kredsudvælgelse!$Q$10:$Q$11))),IF(ISBLANK(HLOOKUP(X$9,'Statiske ejendomme'!$B$3:$GP$82,'Statiske ejendomme'!$A32,FALSE))=FALSE,HLOOKUP(X$9,'Statiske ejendomme'!$B$3:$GP$82,'Statiske ejendomme'!$A32,FALSE),\"\"))),\"\")","v":""}]
[8,2208,"Dækningsbidrag pr. årsko",12684.688849400001,11616.728395,11084.9712906,10834.8725304,10404.819944000001,9835.9835906000008,9529.761334679999,9028.280154,7715.0617617999997,10,null,null,null,null,null,null,null,null,{"$f":"Mink!A29","v":0},{"$f":"Mink!B29","v":"Producerede skind"},{"$f":"Mink!C29","v":"Løn - inkl. ejerløn"},{"$f":"IFERROR(IF(X$9=Kredsudvælgelse!$R$17,\"\",IF(Kredsudvælgelse!AD$8=1,IF(ISTEXT(DGET(Forespørgsel1[#All],\"\"&LEFT($X36,LEN($X36)-$V36)&\"\",Kredsudvælgelse!$Q$10:$R$11))=TRUE,DGET(Forespørgsel1[#All],\"\"&LEFT($X36,LEN($X36)-$V36)&\"\",Kredsudvælgelse!$Q$10:$R$11),DGET(Forespørgsel1[#All],\"\"&LEFT($X36,LEN($X36)-$V36)&\"\",Kredsudvælgelse!$Q$10:$R$11)/IF(ISNONTEXT($W36)=TRUE,1,DGET(Forespørgsel1[#All],\"\"&$W36&\"\",Kredsudvælgelse!$Q$10:$Q$11))),IF(ISBLANK(HLOOKUP(X$9,'Statiske ejendomme'!$B$3:$GP$82,'Statiske ejendomme'!$A33,FALSE))=FALSE,HLOOKUP(X$9,'Statiske ejendomme'!$B$3:$GP$82,'Statiske ejendomme'!$A33,FALSE),\"\"))),\"\")","v":""}]
[9,2209,"Krav til dækningsbidrag pr. årsko",9826.7715872000008,10759.475829000001,11107.36842608,11441.7948966,11923.155435000001,12399.938957,12790.784848680001,13297.835177999999,14590.786852000001,0,null,null,null,null,null,null,null,null,{"$f":"Mink!A30","v":0},{"$f":"Mink!B30","v":"Producerede skind"},{"$f":"Mink!C30","v":"Diverse inkl. forsikring"},{"$f":"IFERROR(IF(X$9=Kredsudvælgelse!$R$17,\"\",IF(Kredsudvælgelse!AD$8=1,IF(ISTEXT(DGET(Forespørgsel1[#All],\"\"&LEFT($X37,LEN($X37)-$V37)&\"\",Kredsudvælgelse!$Q$10:$R$11))=TRUE,DGET(Forespørgsel1[#All],\"\"&LEFT($X37,LEN($X37)-$V37)&\"\",Kredsudvælgelse!$Q$10:$R$11),DGET(Forespørgsel1[#All],\"\"&LEFT($X37,LEN($X37)-$V37)&\"\",Kredsudvælgelse!$Q$10:$R$11)/IF(ISNONTEXT($W37)=TRUE,1,DGET(Forespørgsel1[#All],\"\"&$W37&\"\",Kredsudvælgelse!$Q$10:$Q$11))),IF(ISBLANK(HLOOKUP(X$9,'Statiske ejendomme'!$B$3:$GP$82,'Statiske ejendomme'!$A34,FALSE))=FALSE,HLOOKUP(X$9,'Statiske ejendomme'!$B$3:$GP$82,'Statiske ejendomme'!$A34,FALSE),\"\"))),\"\")","v":""}]
[10,2210,"Arbejdsomkostninger pr. årsko",2935.3314706000001,3500,3716.6054002800001,3858.6796244000002,4072.4685709999999,4348.0453722000002,4554.1872719200001,4782.714363,5496.4552101999998,0,null,null,null,null,null,null,null,null,{"$f":"Mink!A31","v":0},{"$f":"Mink!B31","v":"Producerede skind"},{"$f":"Mink!C31","v":"Pelsning - netto"},{"$f":"IFERROR(IF(X$9=Kredsudvælgelse!$R$17,\"\",IF(Kredsudvælgelse!AD$8=1,IF(ISTEXT(DGET(Forespørgsel1[#All],\"\"&LEFT($X38,LEN($X38)-$V38)&\"\",Kredsudvælgelse!$Q$10:$R$11))=TRUE,DGET(Forespørgsel1[#All],\"\"&LEFT($X38,LEN($X38)-$V38)&\"\",Kredsudvælgelse!$Q$10:$R$11),DGET(Forespørgsel1[#All],\"\"&LEFT($X38,LEN($X38)-$V38)&\"\",Kredsudvælgelse!$Q$10:$R$11)/IF(ISNONTEXT($W38)=TRUE,1,DGET(Forespørgsel1[#All],\"\"&$W38&\"\",Kredsudvælgelse!$Q$10:$Q$11))),IF(ISBLANK(HLOOKUP(X$9,'Statiske ejendomme'!$B$3:$GP$82,'Statiske ejendomme'!$A35,FALSE))=FALSE,HLOOKUP(X$9,'Statiske ejendomme'!$B$3:$GP$82,'Statiske ejendomme'!$A35,FALSE),\"\"))),\"\")","v":""}]
[11,2211,"Bygningsomk. pr. årsko",1947.7072739999999,2391.1519069999999,2599.7716397599997,2688.6414227999999,2881.8559690000002,3081.7402838000003,3250.1389784799999,3442.9988910000002,4094.5525746000003,0,null,null,null,null,null,null,null,null,{"$f":"Mink!A32","v":0},{"$f":"Mink!B32","v":"Producerede skind"},{"$f":"Mink!C32","v":"Kapacitetsomkostninger i alt"},{"$f":"IFERROR(IF(X$9=Kredsudvælgelse!$R$17,\"\",IF(Kredsudvælgelse!AD$8=1,IF(ISTEXT(DGET(Forespørgsel1[#All],\"\"&LEFT($X39,LEN($X39)-$V39)&\"\",Kredsudvælgelse!$Q$10:$R$11))=TRUE,DGET(Forespørgsel1[#All],\"\"&LEFT($X39,LEN($X39)-$V39)&\"\",Kredsudvælgelse!$Q$10:$R$11),DGET(Forespørgsel1[#All],\"\"&LEFT($X39,LEN($X39)-$V39)&\"\",Kredsudvælgelse!$Q$10:$R$11)/IF(ISNONTEXT($W39)=TRUE,1,DGET(Forespørgsel1[#All],\"\"&$W39&\"\",Kredsudvælgelse!$Q$10:$Q$11))),IF(ISBLANK(HLOOKUP(X$9,'Statiske ejendomme'!$B$3:$GP$82,'Statiske ejendomme'!$A36,FALSE))=FALSE,HLOOKUP(X$9,'Statiske ejendomme'!$B$3:$GP$82,'Statiske ejendomme'!$A36,FALSE),\"\"))),\"\")","v":""}]
[12,2212,"Inventar inkl. energi pr. årsko",2319.3240558000002,2728.7841530000001,2996.2308883599999,3157.4583640000001,3387.8433249999998,3759.935086,4051.2956836800004,4493.0091659999998,5408.6620376000001,0,null,null,null,null,null,null,null,null,{"$f":"Mink!A33","v":0},{"$f":"Mink!B33","v":0},{"$f":"Mink!C33","v":""},{"$f":"IFERROR(IF(X$9=Kredsudvælgelse!$R$17,\"\",IF(Kredsudvælgelse!AD$8=1,IF(ISTEXT(DGET(Forespørgsel1[#All],\"\"&LEFT($X40,LEN($X40)-$V40)&\"\",Kredsudvælgelse!$Q$10:$R$11))=TRUE,DGET(Forespørgsel1[#All],\"\"&LEFT($X40,LEN($X40)-$V40)&\"\",Kredsudvælgelse!$Q$10:$R$11),DGET(Forespørgsel1[#All],\"\"&LEFT($X40,LEN($X40)-$V40)&\"\",Kredsudvælgelse!$Q$10:$R$11)/IF(ISNONTEXT($W40)=TRUE,1,DGET(Forespørgsel1[#All],\"\"&$W40&\"\",Kredsudvælgelse!$Q$10:$Q$11))),IF(ISBLANK(HLOOKUP(X$9,'Statiske ejendomme'!$B$3:$GP$82,'Statiske ejendomme'!$A37,FALSE))=FALSE,HLOOKUP(X$9,'Statiske ejendomme'!$B$3:$GP$82,'Statiske ejendomme'!$A37,FALSE),\"\"))),\"\")","v":""}]
[13,2213,"Årets resultat pr. årsko",1222.4227704000002,-123.991439,-605.37697679999985,-1034.6777888000004,-1605.820504,-2239.0584807999999,-2732.77484508,-3402.9465770000002,-4895.3430653999994,10,"Antal bedrifter",null,null,null,null,null,null,null,{"$f":"Mink!A34","v":0},{"$f":"Mink!B34","v":"Producerede skind"},{"$f":"Mink!C34","v":"Afskrivning inkl. leasing"},{"$f":"IFERROR(IF(X$9=Kredsudvælgelse!$R$17,\"\",IF(Kredsudvælgelse!AD$8=1,IF(ISTEXT(DGET(Forespørgsel1[#All],\"\"&LEFT($X41,LEN($X41)-$V41)&\"\",Kredsudvælgelse!$Q$10:$R$11))=TRUE,DGET(Forespørgsel1[#All],\"\"&LEFT($X41,LEN($X41)-$V41)&\"\",Kredsudvælgelse!$Q$10:$R$11),DGET(Forespørgsel1[#All],\"\"&LEFT($X41,LEN($X41)-$V41)&\"\",Kredsudvælgelse!$Q$10:$R$11)/IF(ISNONTEXT($W41)=TRUE,1,DGET(Forespørgsel1[#All],\"\"&$W41&\"\",Kredsudvælgelse!$Q$10:$Q$11))),IF(ISBLANK(HLOOKUP(X$9,'Statiske ejendomme'!$B$3:$GP$82,'Statiske ejendomme'!$A38,FALSE))=FALSE,HLOOKUP(X$9,'Statiske ejendomme'!$B$3:$GP$82,'Statiske ejendomme'!$A38,FALSE),\"\"))),\"\")","v":""}]
[null,23,null,null,null,null,null,null,null,null,null,null,null,155,null,null,null,null,null,null,null,{"$f":"Mink!A35","v":0},{"$f":"Mink!B35","v":"Producerede skind"},{"$f":"Mink!C35","v":"Renteomk. af bundet kapital"},{"$f":"IFERROR(IF(X$9=Kredsudvælgelse!$R$17,\"\",IF(Kredsudvælgelse!AD$8=1,IF(ISTEXT(DGET(Forespørgsel1[#All],\"\"&LEFT($X42,LEN($X42)-$V42)&\"\",Kredsudvælgelse!$Q$10:$R$11))=TRUE,DGET(Forespørgsel1[#All],\"\"&LEFT($X42,LEN($X42)-$V42)&\"\",Kredsudvælgelse!$Q$10:$R$11),DGET(Forespørgsel1[#All],\"\"&LEFT($X42,LEN($X42)-$V42)&\"\",Kredsudvælgelse!$Q$10:$R$11)/IF(ISNONTEXT($W42)=TRUE,1,DGET(Forespørgsel1[#All],\"\"&$W42&\"\",Kredsudvælgelse!$Q$10:$Q$11))),IF(ISBLANK(HLOOKUP(X$9,'Statiske ejendomme'!$B$3:$GP$82,'Statiske ejendomme'!$A39,FALSE))=FALSE,HLOOKUP(X$9,'Statiske ejendomme'!$B$3:$GP$82,'Statiske ejendomme'!$A39,FALSE),\"\"))),\"\")","v":""}]
[1,{"$f":"$B$42*100+$A43","v":2301},"Økologisk | Stor Race | Alle",null,null,null,null,null,null,"Stort forbedringspotentiale",null,null,null,null,null,null,null,null,null,null,null,{"$f":"Mink!A36","v":0},{"$f":"Mink!B36","v":"Producerede skind"},{"$f":"Mink!C36","v":"Kapitalomkostninger i alt"},{"$f":"IFERROR(IF(X$9=Kredsudvælgelse!$R$17,\"\",IF(Kredsudvælgelse!AD$8=1,IF(ISTEXT(DGET(Forespørgsel1[#All],\"\"&LEFT($X43,LEN($X43)-$V43)&\"\",Kredsudvælgelse!$Q$10:$R$11))=TRUE,DGET(Forespørgsel1[#All],\"\"&LEFT($X43,LEN($X43)-$V43)&\"\",Kredsudvælgelse!$Q$10:$R$11),DGET(Forespørgsel1[#All],\"\"&LEFT($X43,LEN($X43)-$V43)&\"\",Kredsudvælgelse!$Q$10:$R$11)/IF(ISNONTEXT($W43)=TRUE,1,DGET(Forespørgsel1[#All],\"\"&$W43&\"\",Kredsudvælgelse!$Q$10:$Q$11))),IF(ISBLANK(HLOOKUP(X$9,'Statiske ejendomme'!$B$3:$GP$82,'Statiske ejendomme'!$A40,FALSE))=FALSE,HLOOKUP(X$9,'Statiske ejendomme'!$B$3:$GP$82,'Statiske ejendomme'!$A40,FALSE),\"\"))),\"\")","v":""}]
[2,{"$f":"$B$42*100+$A44","v":2302},"Fraktil",0.1,0.25,0.33,0.4,0.5,0.6,0.67,0.75,0.9,null,null,null,null,null,null,null,null,null,{"$f":"Mink!A37","v":0},{"$f":"Mink!B37","v":0},{"$f":"Mink!C37","v":""},{"$f":"IFERROR(IF(X$9=Kredsudvælgelse!$R$17,\"\",IF(Kredsudvælgelse!AD$8=1,IF(ISTEXT(DGET(Forespørgsel1[#All],\"\"&LEFT($X44,LEN($X44)-$V44)&\"\",Kredsudvælgelse!$Q$10:$R$11))=TRUE,DGET(Forespørgsel1[#All],\"\"&LEFT($X44,LEN($X44)-$V44)&\"\",Kredsudvælgelse!$Q$10:$R$11),DGET(Forespørgsel1[#All],\"\"&LEFT($X44,LEN($X44)-$V44)&\"\",Kredsudvælgelse!$Q$10:$R$11)/IF(ISNONTEXT($W44)=TRUE,1,DGET(Forespørgsel1[#All],\"\"&$W44&\"\",Kredsudvælgelse!$Q$10:$Q$11))),IF(ISBLANK(HLOOKUP(X$9,'Statiske ejendomme'!$B$3:$GP$82,'Statiske ejendomme'!$A41,FALSE))=FALSE,HLOOKUP(X$9,'Statiske ejendomme'!$B$3:$GP$82,'Statiske ejendomme'!$A41,FALSE),\"\"))),\"\")","v":""}]
[3,2303,"Kg EKM pr. årsko (leveret)",10578.6,10139.5,10047.02,9941.4,9521,9115.4,8814.18,8597,7887.2,null,null,null,null,null,null,null,null,null,{"$f":"Mink!A38","v":0},{"$f":"Mink!B38","v":"Producerede skind"},{"$f":"Mink!C38","v":"Årets resultat"},{"$f":"IFERROR(IF(X$9=Kredsudvælgelse!$R$17,\"\",IF(Kredsudvælgelse!AD$8=1,IF(ISTEXT(DGET(Forespørgsel1[#All],\"\"&LEFT($X45,LEN($X45)-$V45)&\"\",Kredsudvælgelse!$Q$10:$R$11))=TRUE,DGET(Forespørgsel1[#All],\"\"&LEFT($X45,LEN($X45)-$V45)&\"\",Kredsudvælgelse!$Q$10:$R$11),DGET(Forespørgsel1[#All],\"\"&LEFT($X45,LEN($X45)-$V45)&\"\",Kredsudvælgelse!$Q$10:$R$11)/IF(ISNONTEXT($W45)=TRUE,1,DGET(Forespørgsel1[#All],\"\"&$W45&\"\",Kredsudvælgelse!$Q$10:$Q$11))),IF(ISBLANK(HLOOKUP(X$9,'Statiske ejendomme'!$B$3:$GP$82,'Statiske ejendomme'!$A42,FALSE))=FALSE,HLOOKUP(X$9,'Statiske ejendomme'!$B$3:$GP$82,'Statiske ejendomme'!$A42,FALSE),\"\"))),\"\")","v":""}]
[4,2304,"Fremstillingspris pr. kg EKM",2.8603798,2.9307270000000001,2.95772302,3.0106956,3.0535000000000001,3.1230197999999998,3.1528205599999999,3.1881519999999997,3.3237939999999999,null,null,null,null,null,null,null,null,null,{"$f":"Mink!A39","v":0},{"$f":"Mink!B39","v":0},{"$f":"Mink!C39","v":""},{"$f":"IFERROR(IF(X$9=Kredsudvælgelse!$R$17,\"\",IF(Kredsudvælgelse!AD$8=1,IF(ISTEXT(DGET(Forespørgsel1[#All],\"\"&LEFT($X46,LEN($X46)-$V46)&\"\",Kredsudvælgelse!$Q$10:$R$11))=TRUE,DGET(Forespørgsel1[#All],\"\"&LEFT($X46,LEN($X46)-$V46)&\"\",Kredsudvælgelse!$Q$10:$R$11),DGET(Forespørgsel1[#All],\"\"&LEFT($X46,LEN($X46)-$V46)&\"\",Kredsudvælgelse!$Q$10:$R$11)/IF(ISNONTEXT($W46)=TRUE,1,DGET(Forespørgsel1[#All],\"\"&$W46&\"\",Kredsudvælgelse!$Q$10:$Q$11))),IF(ISBLANK(HLOOKUP(X$9,'Statiske ejendomme'!$B$3:$GP$82,'Statiske ejendomme'!$A43,FALSE))=FALSE,HLOOKUP(X$9,'Statiske ejendomme'!$B$3:$GP$82,'Statiske ejendomme'!$A43,FALSE),\"\"))),\"\")","v":""}]
[5,2305,"Foderomkostninger ekskl. værdiændring pr. kg EKM",1.7068224000000001,1.7796799999999999,1.8017894999999999,1.8359824,1.8537729999999999,1.8688735999999999,1.9162073799999999,1.973274,2.0457898000000001,null,null,null,null,null,null,null,null,null,{"$f":"Mink!A40","v":0},{"$f":"Mink!B40","v":0},{"$f":"Mink!C40","v":"Nøgletal"},{"$f":"IFERROR(IF(X$9=Kredsudvælgelse!$R$17,\"\",IF(Kredsudvælgelse!AD$8=1,IF(ISTEXT(DGET(Forespørgsel1[#All],\"\"&LEFT($X47,LEN($X47)-$V47)&\"\",Kredsudvælgelse!$Q$10:$R$11))=TRUE,DGET(Forespørgsel1[#All],\"\"&LEFT($X47,LEN($X47)-$V47)&\"\",Kredsudvælgelse!$Q$10:$R$11),DGET(Forespørgsel1[#All],\"\"&LEFT($X47,LEN($X47)-$V47)&\"\",Kredsudvælgelse!$Q$10:$R$11)/IF(ISNONTEXT($W47)=TRUE,1,DGET(Forespørgsel1[#All],\"\"&$W47&\"\",Kredsudvælgelse!$Q$10:$Q$11))),IF(ISBLANK(HLOOKUP(X$9,'Statiske ejendomme'!$B$3:$GP$82,'Statiske ejendomme'!$A44,FALSE))=FALSE,HLOOKUP(X$9,'Statiske ejendomme'!$B$3:$GP$82,'Statiske ejendomme'!$A44,FALSE),\"\"))),\"\")","v":""}]
[6,2306,"Afkastningsgrad",10.716000000000003,8.02,7.3708,6.5659999999999998,5.38,4.2940000000000005,3.5566,2.7749999999999999,-3.199999999999989E-2,null,null,null,null,null,null,null,null,null,{"$f":"Mink!A41","v":0},{"$f":"Mink!B41","v":0},{"$f":"Mink!C41","v":""},{"$f":"IFERROR(IF(X$9=Kredsudvælgelse!$R$17,\"\",IF(Kredsudvælgelse!AD$8=1,IF(ISTEXT(DGET(Forespørgsel1[#All],\"\"&LEFT($X48,LEN($X48)-$V48)&\"\",Kredsudvælgelse!$Q$10:$R$11))=TRUE,DGET(Forespørgsel1[#All],\"\"&LEFT($X48,LEN($X48)-$V48)&\"\",Kredsudvælgelse!$Q$10:$R$11),DGET(Forespørgsel1[#All],\"\"&LEFT($X48,LEN($X48)-$V48)&\"\",Kredsudvælgelse!$Q$10:$R$11)/IF(ISNONTEXT($W48)=TRUE,1,DGET(Forespørgsel1[#All],\"\"&$W48&\"\",Kredsudvælgelse!$Q$10:$Q$11))),IF(ISBLANK(HLOOKUP(X$9,'Statiske ejendomme'!$B$3:$GP$82,'Statiske ejendomme'!$A45,FALSE))=FALSE,HLOOKUP(X$9,'Statiske ejendomme'!$B$3:$GP$82,'Statiske ejendomme'!$A45,FALSE),\"\"))),\"\")","v":""}]
[7,2307,"Bundet kapital pr. årsko",38585.478742400002,46169.1990105,50467.890262540001,52807.369602999999,55605.388470999998,60135.131223799995,61085.526091899999,64982.181685500007,77678.231043799999,null,null,null,null,null,null,null,null,null,{"$f":"Mink!A42","v":9},{"$f":"Mink!B42","v":"Minktæver"},{"$f":"Mink!C42","v":"Bundet kapital pr. tæve"},{"$f":"IFERROR(IF(X$9=Kredsudvælgelse!$R$17,\"\",IF(Kredsudvælgelse!AD$8=1,IF(ISTEXT(DGET(Forespørgsel1[#All],\"\"&LEFT($X49,LEN($X49)-$V49)&\"\",Kredsudvælgelse!$Q$10:$R$11))=TRUE,DGET(Forespørgsel1[#All],\"\"&LEFT($X49,LEN($X49)-$V49)&\"\",Kredsudvælgelse!$Q$10:$R$11),DGET(Forespørgsel1[#All],\"\"&LEFT($X49,LEN($X49)-$V49)&\"\",Kredsudvælgelse!$Q$10:$R$11)/IF(ISNONTEXT($W49)=TRUE,1,DGET(Forespørgsel1[#All],\"\"&$W49&\"\",Kredsudvælgelse!$Q$10:$Q$11))),IF(ISBLANK(HLOOKUP(X$9,'Statiske ejendomme'!$B$3:$GP$82,'Statiske ejendomme'!$A46,FALSE))=FALSE,HLOOKUP(X$9,'Statiske ejendomme'!$B$3:$GP$82,'Statiske ejendomme'!$A46,FALSE),\"\"))),\"\")","v":""}]
[8,2308,"Dækningsbidrag pr. årsko",16931.794125799999,15256.788677500001,15024.9730986,14408.659159999999,13714.849254000001,13242.630685399999,12967.69407254,12677.284319,11626.100489999999,null,null,null,null,null,null,null,null,null,{"$f":"Mink!A43","v":0},{"$f":"Mink!B43","v":0},{"$f":"Mink!C43","v":"Afkastningsgrad"},{"$f":"IFERROR(IF(X$9=Kredsudvælgelse!$R$17,\"\",IF(Kredsudvælgelse!AD$8=1,IF(ISTEXT(DGET(Forespørgsel1[#All],\"\"&LEFT($X50,LEN($X50)-$V50)&\"\",Kredsudvælgelse!$Q$10:$R$11))=TRUE,DGET(Forespørgsel1[#All],\"\"&LEFT($X50,LEN($X50)-$V50)&\"\",Kredsudvælgelse!$Q$10:$R$11),DGET(Forespørgsel1[#All],\"\"&LEFT($X50,LEN($X50)-$V50)&\"\",Kredsudvælgelse!$Q$10:$R$11)/IF(ISNONTEXT($W50)=TRUE,1,DGET(Forespørgsel1[#All],\"\"&$W50&\"\",Kredsudvælgelse!$Q$10:$Q$11))),IF(ISBLANK(HLOOKUP(X$9,'Statiske ejendomme'!$B$3:$GP$82,'Statiske ejendomme'!$A47,FALSE))=FALSE,HLOOKUP(X$9,'Statiske ejendomme'!$B$3:$GP$82,'Statiske ejendomme'!$A47,FALSE),\"\"))),\"\")","v":""}]
[9,2309,"Krav til dækningsbidrag pr. årsko",10392.955212000001,11573.060194,11874.0663332,12290.247187200001,12629.073558,13158.797391399999,13267.976768359998,13782.296901500002,14722.942694000001,null,null,null,null,null,null,null,null,null,{"$f":"Mink!A44","v":0},{"$f":"Mink!B44","v":0},{"$f":"Mink!C44","v":0},{"$f":"IFERROR(IF(X$9=Kredsudvælgelse!$R$17,\"\",IF(Kredsudvælgelse!AD$8=1,IF(ISTEXT(DGET(Forespørgsel1[#All],\"\"&LEFT($X51,LEN($X51)-$V51)&\"\",Kredsudvælgelse!$Q$10:$R$11))=TRUE,DGET(Forespørgsel1[#All],\"\"&LEFT($X51,LEN($X51)-$V51)&\"\",Kredsudvælgelse!$Q$10:$R$11),DGET(Forespørgsel1[#All],\"\"&LEFT($X51,LEN($X51)-$V51)&\"\",Kredsudvælgelse!$Q$10:$R$11)/IF(ISNONTEXT($W51)=TRUE,1,DGET(Forespørgsel1[#All],\"\"&$W51&\"\",Kredsudvælgelse!$Q$10:$Q$11))),IF(ISBLANK(HLOOKUP(X$9,'Statiske ejendomme'!$B$3:$GP$82,'Statiske ejendomme'!$A48,FALSE))=FALSE,HLOOKUP(X$9,'Statiske ejendomme'!$B$3:$GP$82,'Statiske ejendomme'!$A48,FALSE),\"\"))),\"\")","v":""}]
[10,2310,"Arbejdsomkostninger pr. årsko",3021.3796106,3573.4830295000002,3820.1786627800002,3982.9184328000001,4294.4785270000002,4589.0255711999998,4650.5548446799994,4859.4453649999996,5601.2243152000001,null,null,null,null,null,null,null,null,null,{"$f":"Mink!A45","v":0},{"$f":"Mink!B45","v":"Producerede skind"},{"$f":"Mink!C45","v":"Fremstillingspris kr. pr. skind"},{"$f":"IFERROR(IF(X$9=Kredsudvælgelse!$R$17,\"\",IF(Kredsudvælgelse!AD$8=1,IF(ISTEXT(DGET(Forespørgsel1[#All],\"\"&LEFT($X52,LEN($X52)-$V52)&\"\",Kredsudvælgelse!$Q$10:$R$11))=TRUE,DGET(Forespørgsel1[#All],\"\"&LEFT($X52,LEN($X52)-$V52)&\"\",Kredsudvælgelse!$Q$10:$R$11),DGET(Forespørgsel1[#All],\"\"&LEFT($X52,LEN($X52)-$V52)&\"\",Kredsudvælgelse!$Q$10:$R$11)/IF(ISNONTEXT($W52)=TRUE,1,DGET(Forespørgsel1[#All],\"\"&$W52&\"\",Kredsudvælgelse!$Q$10:$Q$11))),IF(ISBLANK(HLOOKUP(X$9,'Statiske ejendomme'!$B$3:$GP$82,'Statiske ejendomme'!$A49,FALSE))=FALSE,HLOOKUP(X$9,'Statiske ejendomme'!$B$3:$GP$82,'Statiske ejendomme'!$A49,FALSE),\"\"))),\"\")","v":""}]
[11,2311,"Bygningsomk. pr. årsko",2200.3511302000002,2463.9327444999999,2725.4008191799999,2828.2579734000001,3010.0176879999999,3144.4705779999995,3236.81616192,3524.2074114999996,4338.3351618000006,null,null,null,null,null,null,null,null,null,{"$f":"Mink!A46","v":0},{"$f":"Mink!B46","v":0},{"$f":"Mink!C46","v":"Kr. pr. Skind"},{"$f":"IFERROR(IF(X$9=Kredsudvælgelse!$R$17,\"\",IF(Kredsudvælgelse!AD$8=1,IF(ISTEXT(DGET(Forespørgsel1[#All],\"\"&LEFT($X53,LEN($X53)-$V53)&\"\",Kredsudvælgelse!$Q$10:$R$11))=TRUE,DGET(Forespørgsel1[#All],\"\"&LEFT($X53,LEN($X53)-$V53)&\"\",Kredsudvælgelse!$Q$10:$R$11),DGET(Forespørgsel1[#All],\"\"&LEFT($X53,LEN($X53)-$V53)&\"\",Kredsudvælgelse!$Q$10:$R$11)/IF(ISNONTEXT($W53)=TRUE,1,DGET(Forespørgsel1[#All],\"\"&$W53&\"\",Kredsudvælgelse!$Q$10:$Q$11))),IF(ISBLANK(HLOOKUP(X$9,'Statiske ejendomme'!$B$3:$GP$82,'Statiske ejendomme'!$A50,FALSE))=FALSE,HLOOKUP(X$9,'Statiske ejendomme'!$B$3:$GP$82,'Statiske ejendomme'!$A50,FALSE),\"\"))),\"\")","v":""}]
[12,2312,"Inventar inkl. energi pr. årsko",2435.4847540000001,3042.4979215000003,3307.2607017000005,3607.2242070000002,4054.161458,4300.7913155999995,4443.7848779599999,4639.0466285000002,5173.8814012000003,null,null,null,null,null,null,null,null,null,{"$f":"Mink!A47","v":0},{"$f":"Mink!B47","v":0},{"$f":"Mink!C47","v":"Producerede skind pr. tæve"},{"$f":"IFERROR(IF(X$9=Kredsudvælgelse!$R$17,\"\",IF(Kredsudvælgelse!AD$8=1,IF(ISTEXT(DGET(Forespørgsel1[#All],\"\"&LEFT($X54,LEN($X54)-$V54)&\"\",Kredsudvælgelse!$Q$10:$R$11))=TRUE,DGET(Forespørgsel1[#All],\"\"&LEFT($X54,LEN($X54)-$V54)&\"\",Kredsudvælgelse!$Q$10:$R$11),DGET(Forespørgsel1[#All],\"\"&LEFT($X54,LEN($X54)-$V54)&\"\",Kredsudvælgelse!$Q$10:$R$11)/IF(ISNONTEXT($W54)=TRUE,1,DGET(Forespørgsel1[#All],\"\"&$W54&\"\",Kredsudvælgelse!$Q$10:$Q$11))),IF(ISBLANK(HLOOKUP(X$9,'Statiske ejendomme'!$B$3:$GP$82,'Statiske ejendomme'!$A51,FALSE))=FALSE,HLOOKUP(X$9,'Statiske ejendomme'!$B$3:$GP$82,'Statiske ejendomme'!$A51,FALSE),\"\"))),\"\")","v":""}]
[13,2313,"Årets resultat pr. årsko",4274.3286802000011,2624.6727334999996,2221.3279310200001,1886.033873399999,1193.2560590000001,815.56689940000001,576.85453840000002,102.11909800000001,-1282.9184266,null,"Antal bedrifter",null,null,null,null,null,null,null,{"$f":"Mink!A48","v":0},{"$f":"Mink!B48","v":0},{"$f":"Mink!C48","v":0},{"$f":"IFERROR(IF(X$9=Kredsudvælgelse!$R$17,\"\",IF(Kredsudvælgelse!AD$8=1,IF(ISTEXT(DGET(Forespørgsel1[#All],\"\"&LEFT($X55,LEN($X55)-$V55)&\"\",Kredsudvælgelse!$Q$10:$R$11))=TRUE,DGET(Forespørgsel1[#All],\"\"&LEFT($X55,LEN($X55)-$V55)&\"\",Kredsudvælgelse!$Q$10:$R$11),DGET(Forespørgsel1[#All],\"\"&LEFT($X55,LEN($X55)-$V55)&\"\",Kredsudvælgelse!$Q$10:$R$11)/IF(ISNONTEXT($W55)=TRUE,1,DGET(Forespørgsel1[#All],\"\"&$W55&\"\",Kredsudvælgelse!$Q$10:$Q$11))),IF(ISBLANK(HLOOKUP(X$9,'Statiske ejendomme'!$B$3:$GP$82,'Statiske ejendomme'!$A52,FALSE))=FALSE,HLOOKUP(X$9,'Statiske ejendomme'!$B$3:$GP$82,'Statiske ejendomme'!$A52,FALSE),\"\"))),\"\")","v":""}]
[null,24,null,null,null,null,null,null,null,null,null,null,null,45,null,null,null,null,null,null,null,{"$f":"Mink!A49","v":0},{"$f":"Mink!B49","v":"Producerede skind"},{"$f":"Mink!C49","v":"Lønningsevne kr. pr. skind"},{"$f":"IFERROR(IF(X$9=Kredsudvælgelse!$R$17,\"\",IF(Kredsudvælgelse!AD$8=1,IF(ISTEXT(DGET(Forespørgsel1[#All],\"\"&LEFT($X56,LEN($X56)-$V56)&\"\",Kredsudvælgelse!$Q$10:$R$11))=TRUE,DGET(Forespørgsel1[#All],\"\"&LEFT($X56,LEN($X56)-$V56)&\"\",Kredsudvælgelse!$Q$10:$R$11),DGET(Forespørgsel1[#All],\"\"&LEFT($X56,LEN($X56)-$V56)&\"\",Kredsudvælgelse!$Q$10:$R$11)/IF(ISNONTEXT($W56)=TRUE,1,DGET(Forespørgsel1[#All],\"\"&$W56&\"\",Kredsudvælgelse!$Q$10:$Q$11))),IF(ISBLANK(HLOOKUP(X$9,'Statiske ejendomme'!$B$3:$GP$82,'Statiske ejendomme'!$A53,FALSE))=FALSE,HLOOKUP(X$9,'Statiske ejendomme'!$B$3:$GP$82,'Statiske ejendomme'!$A53,FALSE),\"\"))),\"\")","v":""}]
[1,{"$f":"$B$56*100+$A57","v":2401},"Konventionel | Jersey",null,null,null,null,null,null,"Stort forbedringspotentiale",null,null,null,null,null,null,null,null,null,null,null,{"$f":"Mink!A50","v":0},{"$f":"Mink!B50","v":0},{"$f":"Mink!C50","v":0}]
[2,{"$f":"$B$56*100+$A58","v":2402},"Fraktil",0.1,0.25,0.33,0.4,0.5,0.6,0.67,0.75,0.9,null,null,null,null,null,null,null,null,null,{"$f":"Mink!A51","v":0},{"$f":"Mink!B51","v":0},{"$f":"Mink!C51","v":0}]
[3,2403,"Kg EKM pr. årsko (leveret)",10499.4,9951,9767.44,9626,9412,9248.7999999999993,9121.76,8934,8552.4,null,null,null,null,null,null,null,null,null,{"$f":"Mink!A52","v":0},{"$f":"Mink!B52","v":0},{"$f":"Mink!C52","v":0}]
[4,2404,"Fremstillingspris pr. kg EKM",2.1049856,2.2628949999999999,2.3372484,2.3873696,2.4442200000000001,2.5636405999999998,2.6272221199999999,2.67299,2.7777056,null,null,null,null,null,null,null,null,null,{"$f":"Mink!A53","v":0},{"$f":"Mink!B53","v":0},{"$f":"Mink!C53","v":0}]
[5,2405,"Foderomkostninger ekskl. værdiændring pr. kg EKM",1.1389258,1.1979979999999999,1.2367971600000001,1.2549182000000001,1.2848250000000001,1.3209192000000001,1.3372092799999999,1.3538829999999999,1.4297617999999999,null,null,null,null,null,null,null,null,null,{"$f":"Mink!A54","v":0},{"$f":"Mink!B54","v":0},{"$f":"Mink!C54","v":0}]
[6,2406,"Afkastningsgrad",9.3979999999999979,4.96,3.7208000000000006,3.1940000000000004,1.05,-0.1439999999999996,-1.3988,-1.82,-7.1619999999999999,null,null,null,null,null,null,null,null,null,{"$f":"Mink!A55","v":0},{"$f":"Mink!B55","v":0},{"$f":"Mink!C55","v":0}]
[7,2407,"Bundet kapital pr. årsko",30787.384503000001,35183.181088999998,36427.867765880001,40775.559501200005,44573.222557000001,45662.749549600005,47169.775430599999,51948.437716,60428.683117200002,null,null,null,null,null,null,null,null,null,{"$f":"Mink!A56","v":0},{"$f":"Mink!B56","v":0},{"$f":"Mink!C56","v":0}]
[8,2408,"Dækningsbidrag pr. årsko",12891.2052446,11768.284696999999,11299.80777388,10952.154538800001,10038.691666000001,9731.8293647999999,9260.4457433999996,8993.7475529999992,7285.3186204000003,null,null,null,null,null,null,null,null,null,{"$f":"Mink!A57","v":0},{"$f":"Mink!B57","v":0},{"$f":"Mink!C57","v":0}]
[9,2409,"Krav til dækningsbidrag pr. årsko",8851.0994656000003,9653.2941169999995,9984.185691319999,10096.3411096,10632.568474,11000.1432276,11396.30436068,12135.601965,13412.4254982,null,null,null,null,null,null,null,null,null,{"$f":"Mink!A58","v":0},{"$f":"Mink!B58","v":0},{"$f":"Mink!C58","v":0}]
[10,2410,"Arbejdsomkostninger pr. årsko",2954.831639,3567.84429,3706.0712891200001,3895.0692036,4218.2763329999998,4448.8416379999999,4572.8420723600002,4828.32618,5287.0696161999995,null,null,null,null,null,null,null,null,null,{"$f":"Mink!A59","v":0},{"$f":"Mink!B59","v":0},{"$f":"Mink!C59","v":0}]
[11,2411,"Bygningsomk. pr. årsko",1867.9913426000001,2063.7554960000002,2282.14887924,2383.0742396000001,2681.2759999999998,2862.6814248000001,2948.0001481600002,3133.9256049999999,3365.3509177999999,null,null,null,null,null,null,null,null,null,{"$f":"Mink!A60","v":0},{"$f":"Mink!B60","v":0},{"$f":"Mink!C60","v":0}]
[12,2412,"Inventar inkl. energi pr. årsko",1812.5972208000001,2180.5381809999999,2331.9462277600001,2492.7328900000002,2707.6722220000001,2928.1997264000001,3186.8255980399999,3724.7645560000001,4560.6268995999999,null,null,null,null,null,null,null,null,null,{"$f":"Mink!A61","v":0},{"$f":"Mink!B61","v":0},{"$f":"Mink!C61","v":0},""]
[13,2413,"Årets resultat pr. årsko",2615.2692661999999,919.382203,478.15244688000007,228.4600926,-435.32,-1581.8022555999999,-1848.5010342399999,-2264.9708019999998,-3444.5002193999999,null,"Antal bedrifter",null,null,null,null,null,null,null,{"$f":"Mink!A62","v":0},{"$f":"Mink!B62","v":0},{"$f":"Mink!C62","v":0},""]
[null,25,null,null,null,null,null,null,null,null,null,null,null,57,null,null,null,null,null,null,null,{"$f":"Mink!A63","v":0},{"$f":"Mink!B63","v":0},{"$f":"Mink!C63","v":0},""]
[1,{"$f":"$B$70*100+$A71","v":2501},"Konventionel | Jersey",null,null,null,null,null,null,"Stort forbedringspotentiale",null,null,null,null,null,null,null,null,null,null,null,{"$f":"Mink!A64","v":0},{"$f":"Mink!B64","v":0},{"$f":"Mink!C64","v":0},""]
[2,{"$f":"$B$70*100+$A72","v":2502},"Fraktil",0.1,0.25,0.33,0.4,0.5,0.6,0.67,0.75,0.9,null,null,null,null,null,null,null,null,null,{"$f":"Mink!A65","v":0},{"$f":"Mink!B65","v":0},{"$f":"Mink!C65","v":0},""]
[3,2503,"Kg EKM pr. årsko (leveret)",10499.4,9951,9767.44,9626,9412,9248.7999999999993,9121.76,8934,8552.4,null,null,null,null,null,null,null,null,null,{"$f":"Mink!A66","v":0},{"$f":"Mink!B66","v":0},{"$f":"Mink!C66","v":0},""]
[4,2504,"Fremstillingspris pr. kg EKM",2.1049856,2.2628949999999999,2.3372484,2.3873696,2.4442200000000001,2.5636405999999998,2.6272221199999999,2.67299,2.7777056,null,null,null,null,null,null,null,null,null,{"$f":"Mink!A67","v":0},{"$f":"Mink!B67","v":0},{"$f":"Mink!C67","v":0},""]
[5,2505,"Foderomkostninger ekskl. værdiændring pr. kg EKM",1.1389258,1.1979979999999999,1.2367971600000001,1.2549182000000001,1.2848250000000001,1.3209192000000001,1.3372092799999999,1.3538829999999999,1.4297617999999999,null,null,null,null,null,null,null,null,null,{"$f":"Mink!A68","v":0},{"$f":"Mink!B68","v":0},{"$f":"Mink!C68","v":0},""]
[6,2506,"Afkastningsgrad",9.3979999999999979,4.96,3.7208000000000006,3.1940000000000004,1.05,-0.1439999999999996,-1.3988,-1.82,-7.1619999999999999,null,null,null,null,null,null,null,null,null,{"$f":"Mink!A69","v":0},{"$f":"Mink!B69","v":0},{"$f":"Mink!C69","v":0},""]
[7,2507,"Bundet kapital pr. årsko",30787.384503000001,35183.181088999998,36427.867765880001,40775.559501200005,44573.222557000001,45662.749549600005,47169.775430599999,51948.437716,60428.683117200002,null,null,null,null,null,null,null,null,null,{"$f":"Mink!A70","v":0},{"$f":"Mink!B70","v":0},{"$f":"Mink!C70","v":0},""]
[8,2508,"Dækningsbidrag pr. årsko",12891.2052446,11768.284696999999,11299.80777388,10952.154538800001,10038.691666000001,9731.8293647999999,9260.4457433999996,8993.7475529999992,7285.3186204000003,null,null,null,null,null,null,null,null,null,{"$f":"Mink!A71","v":0},{"$f":"Mink!B71","v":0},{"$f":"Mink!C71","v":0},""]
[9,2509,"Krav til dækningsbidrag pr. årsko",8851.0994656000003,9653.2941169999995,9984.185691319999,10096.3411096,10632.568474,11000.1432276,11396.30436068,12135.601965,13412.4254982,null,null,null,null,null,null,null,null,null,{"$f":"Mink!A72","v":0},{"$f":"Mink!B72","v":0},{"$f":"Mink!C72","v":0},""]
[10,2510,"Arbejdsomkostninger pr. årsko",2954.831639,3567.84429,3706.0712891200001,3895.0692036,4218.2763329999998,4448.8416379999999,4572.8420723600002,4828.32618,5287.0696161999995,null,null,null,null,null,null,null,null,null,{"$f":"Mink!A73","v":0},{"$f":"Mink!B73","v":0},{"$f":"Mink!C73","v":0},""]
[11,2511,"Bygningsomk. pr. årsko",1867.9913426000001,2063.7554960000002,2282.14887924,2383.0742396000001,2681.2759999999998,2862.6814248000001,2948.0001481600002,3133.9256049999999,3365.3509177999999,null,null,null,null,null,null,null,null,null,{"$f":"Mink!A74","v":0},{"$f":"Mink!B74","v":0},{"$f":"Mink!C74","v":0},""]
[12,2512,"Inventar inkl. energi pr. årsko",1812.5972208000001,2180.5381809999999,2331.9462277600001,2492.7328900000002,2707.6722220000001,2928.1997264000001,3186.8255980399999,3724.7645560000001,4560.6268995999999,null,null,null,null,null,null,null,null,null,{"$f":"Mink!A75","v":0},{"$f":"Mink!B75","v":0},{"$f":"Mink!C75","v":0},""]
[13,2513,"Årets resultat pr. årsko",2615.2692661999999,919.382203,478.15244688000007,228.4600926,-435.32,-1581.8022555999999,-1848.5010342399999,-2264.9708019999998,-3444.5002193999999,null,"Antal bedrifter",null,null,null,null,null,null,null,{"$f":"Mink!A76","v":0},{"$f":"Mink!B76","v":0},{"$f":"Mink!C76","v":0}]
[null,26,null,null,null,null,null,null,null,null,null,null,null,63,null,null,null,null,null,null,null,{"$f":"Mink!A77","v":0},{"$f":"Mink!B77","v":0},{"$f":"Mink!C77","v":0}]
[1,{"$f":"$B$84*100+$A85","v":2601},"Økologisk | Stor Race | Alle",null,null,null,null,null,null,"Stort forbedringspotentiale",null,null,null,null,null,null,null,null,null,null,null,{"$f":"Mink!A78","v":0},{"$f":"Mink!B78","v":0},{"$f":"Mink!C78","v":0}]
[2,{"$f":"$B$84*100+$A86","v":2602},"Fraktil",0.1,0.25,0.33,0.4,0.5,0.6,0.67,0.75,0.9,null,null,null,null,null,null,null,null,null,{"$f":"Mink!A79","v":0},{"$f":"Mink!B79","v":0},{"$f":"Mink!C79","v":0}]
[3,2603,"Kg EKM pr. årsko (leveret)",10578.6,10139.5,10047.02,9941.4,9521,9115.4,8814.18,8597,7887.2,null,null,null,null,null,null,null,null,null,{"$f":"Mink!A80","v":0},{"$f":"Mink!B80","v":0},{"$f":"Mink!C80","v":0}]
[4,2604,"Fremstillingspris pr. kg EKM",2.8603798,2.9307270000000001,2.95772302,3.0106956,3.0535000000000001,3.1230197999999998,3.1528205599999999,3.1881519999999997,3.3237939999999999,null,null,null,null,null,null,null,null,null,{"$f":"Mink!A81","v":0},{"$f":"Mink!B81","v":0},{"$f":"Mink!C81","v":0}]
[5,2605,"Foderomkostninger ekskl. værdiændring pr. kg EKM",1.7068224000000001,1.7796799999999999,1.8017894999999999,1.8359824,1.8537729999999999,1.8688735999999999,1.9162073799999999,1.973274,2.0457898000000001,null,null,null,null,null,null,null,null,null,{"$f":"Mink!A82","v":0},{"$f":"Mink!B82","v":0},{"$f":"Mink!C82","v":0}]
[6,2606,"Afkastningsgrad",10.716000000000003,8.02,7.3708,6.5659999999999998,5.38,4.2940000000000005,3.5566,2.7749999999999999,-3.199999999999989E-2,null,null,null,null,null,null,null,null,null,{"$f":"Mink!A83","v":0},{"$f":"Mink!B83","v":0},{"$f":"Mink!C83","v":0}]
[7,2607,"Bundet kapital pr. årsko",38585.478742400002,46169.1990105,50467.890262540001,52807.369602999999,55605.388470999998,60135.131223799995,61085.526091899999,64982.181685500007,77678.231043799999,null,null,null,null,null,null,null,null,null,{"$f":"Mink!A84","v":0},{"$f":"Mink!B84","v":0},{"$f":"Mink!C84","v":0}]
[8,2608,"Dækningsbidrag pr. årsko",16931.794125799999,15256.788677500001,15024.9730986,14408.659159999999,13714.849254000001,13242.630685399999,12967.69407254,12677.284319,11626.100489999999,null,null,null,null,null,null,null,null,null,{"$f":"Mink!A85","v":0},{"$f":"Mink!B85","v":0},{"$f":"Mink!C85","v":"Mink"}]
[9,2609,"Krav til dækningsbidrag pr. årsko",10392.955212000001,11573.060194,11874.0663332,12290.247187200001,12629.073558,13158.797391399999,13267.976768359998,13782.296901500002,14722.942694000001,null,null,null,null,null,null,null,null,null,{"$f":"Mink!A86","v":0},{"$f":"Mink!B86","v":0},{"$f":"Mink!C86","v":"Minktæver (Antal)"}]
[10,2610,"Arbejdsomkostninger pr. årsko",3021.3796106,3573.4830295000002,3820.1786627800002,3982.9184328000001,4294.4785270000002,4589.0255711999998,4650.5548446799994,4859.4453649999996,5601.2243152000001,null,null,null,null,null,null,null,null,null,{"$f":"Mink!A87","v":0},{"$f":"Mink!B87","v":0},{"$f":"Mink!C87","v":"Pr. tæve"}]
[11,2611,"Bygningsomk. pr. årsko",2200.3511302000002,2463.9327444999999,2725.4008191799999,2828.2579734000001,3010.0176879999999,3144.4705779999995,3236.81616192,3524.2074114999996,4338.3351618000006,null,null,null,null,null,null,null,null,null,{"$f":"Mink!A88","v":0},{"$f":"Mink!B88","v":0},{"$f":"Mink!C88","v":"Bruttoudbytte i alt pr. tæve"}]
[12,2612,"Inventar inkl. energi pr. årsko",2435.4847540000001,3042.4979215000003,3307.2607017000005,3607.2242070000002,4054.161458,4300.7913155999995,4443.7848779599999,4639.0466285000002,5173.8814012000003,null,null,null,null,null,null,null,null,null,{"$f":"Mink!A89","v":0},{"$f":"Mink!B89","v":0},{"$f":"Mink!C89","v":"Stykomkostninger i alt pr. tæve"}]
[13,2613,"Årets resultat pr. årsko",4274.3286802000011,2624.6727334999996,2221.3279310200001,1886.033873399999,1193.2560590000001,815.56689940000001,576.85453840000002,102.11909800000001,-1282.9184266,null,"Antal bedrifter",null,null,null,null,null,null,null,{"$f":"Mink!A90","v":0},{"$f":"Mink!B90","v":0},{"$f":"Mink!C90","v":"Dækningsbidrag pr. tæve"}]
[null,27,null,null,null,null,null,null,null,null,null,null,null,473,null,null,null,null,null,null,null,{"$f":"Mink!A91","v":0},{"$f":"Mink!B91","v":0},{"$f":"Mink!C91","v":"Kapacitetsomkostninger i alt pr. tæve"}]
[1,{"$f":"$B$98*100+$A99","v":2701},"Konventionel|Stor race| Alle",null,null,null,null,null,null,"Stort forbedringspotentiale",null,null,null,null,null,null,null,null,null,null,null,{"$f":"Mink!A92","v":0},{"$f":"Mink!B92","v":0},{"$f":"Mink!C92","v":"Kapitalomkostninger i alt pr. tæve"}]
[2,{"$f":"$B$98*100+$A100","v":2702},"Fraktil",0.1,0.25,0.33,0.4,0.5,0.6,0.67,0.75,0.9,null,"Fra hæftet LÅST",null,null,null,null,null,null,null,{"$f":"Mink!A93","v":0},{"$f":"Mink!B93","v":0},{"$f":"Mink!C93","v":"Årets resultat pr. tæve"}]
[3,2703,"Kg EKM pr. årsko (leveret)",11376,10876,10679.880000000001,10550,10358,10157.4,10011.52,9820,9300.2000000000007,null,"Kun værdier",null,null,null,null,null,null,null,{"$f":"Mink!A94","v":0},{"$f":"Mink!B94","v":0},{"$f":"Mink!C94","v":""}]
[4,2704,"Fremstillingspris pr. kg EKM",2.2037474000000001,2.3312059999999999,2.37689664,2.4218503999999998,2.4726650000000001,2.5285682,2.5857570400000003,2.6389330000000002,2.8209597999999998,null,null,null,null,null,null,null,null,null,{"$f":"Mink!A95","v":0},{"$f":"Mink!B95","v":0},{"$f":"Mink!C95","v":"Pr. skind"}]
[5,2705,"Foderomkostninger ekskl. værdiændring pr. kg EKM",1.2547231999999999,1.322314,1.3437332399999999,1.362163,1.3849990000000001,1.4086152000000001,1.43265456,1.4558150000000001,1.541542,null,null,null,null,null,null,null,null,null,{"$f":"Mink!A96","v":0},{"$f":"Mink!B96","v":0},{"$f":"Mink!C96","v":"Salg af skind og dyr"}]
[6,2706,"Afkastningsgrad",5.4040000000000008,2.72,1.8124000000000002,0.88399999999999979,0,-1.03,-1.8343999999999989,-2.72,-5.718,null,null,null,null,null,null,null,null,null,{"$f":"Mink!A97","v":0},{"$f":"Mink!B97","v":0},{"$f":"Mink!C97","v":"Køb mink"}]
[7,2707,"Bundet kapital pr. årsko",37967.445098600001,44926.967348999999,47727.288561120004,50288.305412000002,54016.927865999998,58069.889035,60692.536357680001,64730.055847000003,78752.593700800004,null,null,null,null,null,null,null,null,null,{"$f":"Mink!A98","v":0},{"$f":"Mink!B98","v":0},{"$f":"Mink!C98","v":"Besætnings- og beholdningsforskydning"}]
[8,2708,"Dækningsbidrag pr. årsko",12684.688849400001,11616.728395,11084.9712906,10834.8725304,10404.819944000001,9835.9835906000008,9529.761334679999,9028.280154,7715.0617617999997,null,null,null,null,null,null,null,null,null,{"$f":"Mink!A99","v":0},{"$f":"Mink!B99","v":0},{"$f":"Mink!C99","v":"Andre indtægter (overskud)"}]
[9,2709,"Krav til dækningsbidrag pr. årsko",9826.7715872000008,10759.475829000001,11107.36842608,11441.7948966,11923.155435000001,12399.938957,12790.784848680001,13297.835177999999,14590.786852000001,null,null,null,null,null,null,null,null,null,{"$f":"Mink!A100","v":0},{"$f":"Mink!B100","v":0},{"$f":"Mink!C100","v":"Bruttoudbytte i alt"}]
[10,2710,"Arbejdsomkostninger pr. årsko",2935.3314706000001,3500,3716.6054002800001,3858.6796244000002,4072.4685709999999,4348.0453722000002,4554.1872719200001,4782.714363,5496.4552101999998,null,null,null,null,null,null,null,null,null,{"$f":"Mink!A101","v":0},{"$f":"Mink!B101","v":0},{"$f":"Mink!C101","v":""}]
[11,2711,"Bygningsomk. pr. årsko",1947.7072739999999,2391.1519069999999,2599.7716397599997,2688.6414227999999,2881.8559690000002,3081.7402838000003,3250.1389784799999,3442.9988910000002,4094.5525746000003,null,null,null,null,null,null,null,null,null,{"$f":"Mink!A102","v":0},{"$f":"Mink!B102","v":0},{"$f":"Mink!C102","v":"Foder"}]
[12,2712,"Inventar inkl. energi pr. årsko",2319.3240558000002,2728.7841530000001,2996.2308883599999,3157.4583640000001,3387.8433249999998,3759.935086,4051.2956836800004,4493.0091659999998,5408.6620376000001,null,null,null,null,null,null,null,null,null,{"$f":"Mink!A103","v":0},{"$f":"Mink!B103","v":0},{"$f":"Mink!C103","v":"Dyrlæge og medicin"}]
[13,2713,"Årets resultat pr. årsko",1222.4227704000002,-123.991439,-605.37697679999985,-1034.6777888000004,-1605.820504,-2239.0584807999999,-2732.77484508,-3402.9465770000002,-4895.3430653999994,null,null,null,null,null,null,null,null,null,{"$f":"Mink!A104","v":0},{"$f":"Mink!B104","v":0},{"$f":"Mink!C104","v":"Diverse vedr. husdyr"}]
[null,null,null,null,null,null,null,null,null,null,null,null,null,null,null,null,null,null,null,null,null,{"$f":"Mink!A105","v":0},{"$f":"Mink!B105","v":0},{"$f":"Mink!C105","v":"Stykomkostninger i alt"}]
[null,null,null,null,null,null,null,null,null,null,null,null,null,null,null,null,null,null,null,null,null,{"$f":"Mink!A106","v":0},{"$f":"Mink!B106","v":0},{"$f":"Mink!C106","v":0}]
["Slagtesvin",null,null,null,null,null,null,null,null,null,null,null,null,"Antal bedrifter",null,null,null,null,null,null,null,{"$f":"Mink!A107","v":0},{"$f":"Mink!B107","v":0},{"$f":"Mink!C107","v":"Dækningsbidrag"}]
[null,322,null,null,null,null,null,null,null,null,null,null,null,65,null,null,null,null,null,null,null,{"$f":"Mink!A108","v":0},{"$f":"Mink!B108","v":0},{"$f":"Mink!C108","v":0}]
[1,{"$f":"$B$115*100+A116","v":32201},"Slagtesvin - under 2.000 producerede slagtesvin",null,null,null,null,null,null,"Stort forbedringspotentiale",null,null,null,null,null,null,null,null,null,null,null,{"$f":"Mink!A109","v":0},{"$f":"Mink!B109","v":0},{"$f":"Mink!C109","v":"Energi og brændstof"}]
[2,{"$f":"$B$115*100+A117","v":32202},"Fraktil",0.1,0.25,0.33,0.4,0.5,0.6,0.67,0.75,0.9,null,null,null,null,null,null,null,null,null,{"$f":"Mink!A110","v":0},{"$f":"Mink!B110","v":0},{"$f":"Mink!C110","v":"Vedligehold og maskinstation"}]
[3,32203,"Fremstillingspris pr. kg sl.svin",8.9339999999999993,9.99,10.2356,10.667999999999999,11.32,11.646000000000001,12.1416,12.48,14.290000000000001,0,null,null,null,null,null,null,null,null,{"$f":"Mink!A111","v":0},{"$f":"Mink!B111","v":0},{"$f":"Mink!C111","v":"Løn - inkl. ejerløn"}]
[4,32204,"Afkastningsgrad",1.9159999999999986,-1.79,-4.2611999999999997,-6.4620000000000006,-9.9499999999999993,-14.814,-19.3508,-24.84,-44.742000000000004,0,null,null,null,null,null,null,null,null,{"$f":"Mink!A112","v":0},{"$f":"Mink!B112","v":0},{"$f":"Mink!C112","v":"Diverse inkl. forsikring"}]
[5,32205,"Bundet kapital pr. enhed",199.8665896,420.588235,500.07195716000001,577.91953539999997,677.67771900000002,791.39615299999991,990.29232835999994,1181.864957,1864.8897571999998,0,null,null,null,null,null,null,null,null,{"$f":"Mink!A113","v":0},{"$f":"Mink!B113","v":0},{"$f":"Mink!C113","v":"Pelsning - netto"}]
[6,32206,"Bruttoudbytte i alt",557.46908759999997,501.02091999999999,478.35025963999999,458.736559,451.28395,434.64488879999999,422.88782179999998,404.89914099999999,356.83955980000002,0,null,null,null,null,null,null,null,null,{"$f":"Mink!A114","v":0},{"$f":"Mink!B114","v":0},{"$f":"Mink!C114","v":"Kapacitetsomkostninger i alt"}]
[7,32207,"Foderomkostninger pr. enhed",321.25756480000001,342.86998199999999,361.28596592000002,369.45411839999997,384.93323199999998,406.24839059999999,420.95531063999999,440.79805599999997,592.29669239999964,0,null,null,null,null,null,null,null,null,{"$f":"Mink!A115","v":0},{"$f":"Mink!B115","v":0},{"$f":"Mink!C115","v":""}]
[8,32208,"Dækningsbidrag pr. enhed",125.18361039999999,95.649828999999997,83.778543240000005,72.118173999999968,43.966665999999996,24.343758600000005,5.0374579600000047,-14.244615,-116.08775540000003,10,null,null,null,null,null,null,null,null,{"$f":"Mink!A116","v":0},{"$f":"Mink!B116","v":0},{"$f":"Mink!C116","v":"Afskrivning inkl. leasing"}]
[9,32209,"Krav til dækningsbidrag pr. enhed",88.239118200000007,123.739667,132.47755383999998,147.75054320000001,155.17679999999999,173.3233716,186.75293112000003,240.546436,423.93243859999978,0,null,null,null,null,null,null,null,null,{"$f":"Mink!A117","v":0},{"$f":"Mink!B117","v":0},{"$f":"Mink!C117","v":"Renteomk. af bundet kapital"}]
[10,32210,"Arbejdsomkostninger pr. enhed",17.912820199999999,33.553024999999998,36.409143720000003,40.607233600000001,44.977511,47.843748599999991,55.469340480000007,64.102564000000001,132.74083959999996,0,null,null,null,null,null,null,null,null,{"$f":"Mink!A118","v":0},{"$f":"Mink!B118","v":0},{"$f":"Mink!C118","v":"Kapitalomkostninger i alt"}]
[11,32211,"Bygningsomk. pr. enhed",9.1737103999999992,25.360181999999998,28.683999360000001,35.439596000000002,51.058605,60.874857599999984,70.050238199999995,84.239737000000005,138.25241919999996,0,null,null,null,null,null,null,null,null,{"$f":"Mink!A119","v":0},{"$f":"Mink!B119","v":0},{"$f":"Mink!C119","v":""}]
[12,32212,"Inventar inkl. energi pr. enhed",17.705104600000002,27.630451999999998,33.644998800000003,37.035566799999998,43.229410999999999,46.816876399999998,52.962836920000008,65.922891000000007,112.55355999999999,0,null,null,null,null,null,null,null,null,{"$f":"Mink!A120","v":0},{"$f":"Mink!B120","v":0},{"$f":"Mink!C120","v":"Årets resultat"}]
[13,32213,"Årets resultat pr. enhed",-9.108738000000006,-42.831305999999998,-57.42365212,-75.442431400000004,-93.326400000000007,-133.7307572,-187.1258292,-243.35060200000001,-397.44821940000003,10,"Antal bedrifter",null,null,null,null,null,null,null,{"$f":"Mink!A121","v":0},{"$f":"Mink!B121","v":0},{"$f":"Mink!C121","v":""}]
[null,323,null,null,null,null,null,null,null,null,null,null,null,185,null,null,null,null,null,null,null,{"$f":"Mink!A122","v":0},{"$f":"Mink!B122","v":0},{"$f":"Mink!C122","v":"Nøgletal"}]
[1,{"$f":"$B$129*100+A130","v":32301},"Slagtesvin - ml. 2.000 og 7000 producerede slagtesvin",null,null,null,null,null,null,"Stort forbedringspotentiale",null,null,null,null,null,null,null,null,null,null,null,{"$f":"Mink!A123","v":0},{"$f":"Mink!B123","v":0},{"$f":"Mink!C123","v":""}]
[2,{"$f":"$B$129*100+A131","v":32302},"Fraktil",0.1,0.25,0.33,0.4,0.5,0.6,0.67,0.75,0.9,null,null,null,null,null,null,null,null,null,{"$f":"Mink!A124","v":0},{"$f":"Mink!B124","v":0},{"$f":"Mink!C124","v":"Bundet kapital pr. tæve"}]
[3,32303,"Fremstillingspris pr. kg sl.svin",9.3420000000000005,9.99,10.2172,10.33,10.48,10.708,10.8628,11.19,11.896000000000001,null,null,null,null,null,null,null,null,null,{"$f":"Mink!A125","v":0},{"$f":"Mink!B125","v":0},{"$f":"Mink!C125","v":"Afkastningsgrad"}]
[4,32304,"Afkastningsgrad",4.5340000000000034,-0.59,-2.4373999999999989,-3.9700000000000015,-6.6,-8.3139999999999983,-9.9596,-13.16,-25.121999999999996,null,null,null,null,null,null,null,null,null,{"$f":"Mink!A126","v":0},{"$f":"Mink!B126","v":0},{"$f":"Mink!C126","v":0}]
[5,32305,"Bundet kapital pr. enhed",289.15988899999996,458.84092750000002,506.05892288000001,552.53489160000004,628.76952300000005,729.58211239999991,780.01937034000002,844.82388149999997,1071.8293822000001,null,null,null,null,null,null,null,null,null,{"$f":"Mink!A127","v":0},{"$f":"Mink!B127","v":0},{"$f":"Mink!C127","v":"Fremstillingspris kr. pr. skind"}]
[6,32306,"Bruttoudbytte i alt",509.89640059999999,487.28293000000002,479.86907112,474.85399000000001,458.31121100000001,448.63865600000003,442.70311595999999,433.59396249999998,393.8067504,null,null,null,null,null,null,null,null,null,{"$f":"Mink!A128","v":0},{"$f":"Mink!B128","v":0},{"$f":"Mink!C128","v":"Kr. pr. Skind"}]
[7,32307,"Foderomkostninger pr. enhed",318.41120640000003,340.59662850000001,345.64700182000001,351.88808500000005,359.50822799999997,368.59348919999996,379.41477908000002,391.43122849999997,429.54174340000003,null,null,null,null,null,null,null,null,null,{"$f":"Mink!A129","v":0},{"$f":"Mink!B129","v":0},{"$f":"Mink!C129","v":"Producerede skind pr. tæve"}]
[8,32308,"Dækningsbidrag pr. enhed",142.13948000000002,111.96883750000001,103.31764364,94.340542999999997,75.370867000000004,67.2165854,58.68664682,48.423246500000005,14.176040600000002,null,null,null,null,null,null,null,null,null,{"$f":"Mink!A130","v":0},{"$f":"Mink!B130","v":0},{"$f":"Mink!C130","v":0}]
[9,32309,"Krav til dækningsbidrag pr. enhed",95.197961000000006,112.593276,120.22610258,125.63421100000001,131.89320499999999,139.13857539999998,145.13327042,160.07172550000001,193.8834712,null,null,null,null,null,null,null,null,null,{"$f":"Mink!A131","v":0},{"$f":"Mink!B131","v":0},{"$f":"Mink!C131","v":"Lønningsevne kr. pr. skind"}]
[10,32310,"Arbejdsomkostninger pr. enhed",21.957796999999999,30.205534499999999,31.9639731,33.984223400000005,37.401418,40.564379599999995,43.296436700000001,46.982637499999996,61.384230000000002,null,null,null,null,null,null,null,null,null,{"$f":"Mink!A132","v":0},{"$f":"Mink!B132","v":0},{"$f":"Mink!C132","v":0}]
[11,32311,"Bygningsomk. pr. enhed",23.305737800000003,32.1572125,36.053086260000001,37.989576400000004,42.581316000000001,47.755054999999999,51.14124872,54.674838999999999,74.96038320000001,null,null,null,null,null,null,null,null,null,{"$f":"Mink!A133","v":0},{"$f":"Mink!B133","v":0},{"$f":"Mink!C133","v":0}]
[12,32312,"Inventar inkl. energi pr. enhed",18.4890738,24.5249375,27.524508260000001,29.132441800000002,33.226599999999998,36.5065016,40.528734900000003,44.654283499999998,55.324472800000002,null,null,null,null,null,null,null,null,null,{"$f":"Mink!A134","v":0},{"$f":"Mink!B134","v":0},{"$f":"Mink!C134","v":0}]
[13,32313,"Årets resultat pr. enhed",13.305538800000011,-23.348419999999997,-33.253339399999994,-43.380964400000003,-54.477192000000002,-73.748497599999993,-82.537292859999994,-98.053009500000002,-143.00412,null,"Antal bedrifter",null,null,null,null,null,null,null,{"$f":"Mink!A135","v":0},{"$f":"Mink!B135","v":0},{"$f":"Mink!C135","v":0}]
[null,324,null,null,null,null,null,null,null,null,null,null,null,88,null,null,null,null,null,null,null,{"$f":"Mink!A136","v":0},{"$f":"Mink!B136","v":0},{"$f":"Mink!C136","v":0}]
[1,{"$f":"$B$143*100+A144","v":32401},"Slagtesvin - ml. 7.000 og 10.000 producerede slagtesvin",null,null,null,null,null,null,"Stort forbedringspotentiale",null,null,null,null,null,null,null,null,null,null,null,{"$f":"Mink!A137","v":0},{"$f":"Mink!B137","v":0},{"$f":"Mink!C137","v":0}]
[2,{"$f":"$B$143*100+A145","v":32402},"Fraktil",0.1,0.25,0.33,0.4,0.5,0.6,0.67,0.75,0.9,null,null,null,null,null,null,null,null,null,{"$f":"Mink!A138","v":0},{"$f":"Mink!B138","v":0},{"$f":"Mink!C138","v":0}]
[3,32403,"Fremstillingspris pr. kg sl.svin",9.4089999999999989,9.8725000000000005,9.9671000000000003,10.06,10.195,10.379999999999999,10.4429,10.58,11.149000000000001,null,null,null,null,null,null,null,null,null,{"$f":"Mink!A139","v":0},{"$f":"Mink!B139","v":0},{"$f":"Mink!C139","v":0}]
[4,32404,"Afkastningsgrad",6.3109999999999982,3.2849999999999997,1.7061000000000006,1.002,-0.55499999999999994,-1.9159999999999995,-2.8734999999999999,-4.93,-7.5009999999999994,null,null,null,null,null,null,null,null,null,null,null,{"$f":"Mink!C140","v":0}]
[5,32405,"Bundet kapital pr. enhed",330.75202140000005,484.30476950000002,529.73676834000003,591.00071300000002,641.06172749999996,704.35137059999988,749.30992478000007,800.86703475000002,1015.3832322999999,null,null,null,null,null,null,null,null,null,null,null,{"$f":"Mink!C141","v":0}]
[6,32406,"Bruttoudbytte i alt",520.87594860000002,484.58873749999998,477.13642339,473.55535500000002,463.68337150000002,455.26612340000003,447.52401538999999,442.10206199999999,429.87500779999999,null,null,null,null,null,null,null,null,null,null,null,{"$f":"Mink!C142","v":0}]
[7,32407,"Foderomkostninger pr. enhed",308.98566629999999,328.0344025,335.41204969,342.17472739999999,346.07743549999998,351.56542899999999,360.514363,364.42114275,377.3829513,null,null,null,null,null,null,null,null,null,null,null,{"$f":"Mink!C143","v":0}]
[8,32408,"Dækningsbidrag pr. enhed",159.56331009999997,131.24597800000001,121.54571806000003,115.8276324,105.08829349999999,96.192417000000006,88.013748320000005,83.181715999999994,67.929721799999996,null,null,null,null,null,null,null,null,null,null,null,{"$f":"Mink!C144","v":0}]
[9,32409,"Krav til dækningsbidrag pr. enhed",100.15462480000001,109.054727,116.00023462999999,121.2620972,124.42974100000001,137.441598,143.79116740000001,148.30329625000002,166.01830459999999,null,null,null,null,null,null,null,null,null,null,null,{"$f":"Mink!C145","v":0}]
[10,32410,"Arbejdsomkostninger pr. enhed",24.965173199999999,29.702696249999999,32.775327920000002,33.863341800000001,36.429879499999998,39.080418399999999,40.793481130000004,43.867907750000001,52.440081599999992,null,null,null,null,null,null,null,null,null,null,null,{"$f":"Mink!C146","v":0}]
[11,32411,"Bygningsomk. pr. enhed",26.872477199999999,32.898465000000002,34.209837610000001,35.993704999999999,38.173059000000002,43.644559599999987,48.075575090000008,51.418927500000002,64.958589099999998,null,null,null,null,null,null,null,null,null,null,null,{"$f":"Mink!C147","v":0}]
[12,32412,"Inventar inkl. energi pr. enhed",16.821033400000001,26.559469,28.899786250000002,31.623478800000001,33.090862000000001,37.496324599999994,38.439121900000004,40.476013250000001,50.019726799999994,null,null,null,null,null,null,null,null,null,null,null,{"$f":"Mink!C148","v":0}]
[13,32413,"Årets resultat pr. enhed",26.039459899999997,8.0918144999999999,-3.0993797899999871,-9.3136890000000037,-21.644403499999999,-30.584125999999998,-34.809705200000003,-41.458506,-73.291862699999996,null,"Antal bedrifter",null,null,null,null,null,null,null,null,null,{"$f":"Mink!C149","v":0}]
[null,325,null,null,null,null,null,null,null,null,null,null,null,154,null,null,null,null,null,null,null,null,null,{"$f":"Mink!C150","v":0}]
[1,{"$f":"$B$157*100+A158","v":32501},"Slagtesvin - over 10.000 producerede slagtesvin",null,null,null,null,null,null,"Stort forbedringspotentiale",null,null,null,null,null,null,null,null,null,null,null,null,null,{"$f":"Mink!C151","v":0}]
[2,{"$f":"$B$157*100+A159","v":32502},"Fraktil",0.1,0.25,0.33,0.4,0.5,0.6,0.67,0.75,0.9,null,null,null,null,null,null,null,null,null,null,null,{"$f":"Mink!C152","v":0}]
[3,32503,"Fremstillingspris pr. kg sl.svin",9.3789999999999996,9.8000000000000007,9.91,10.004,10.18,10.36,10.48,10.61,11.065000000000001,null,null,null,null,null,null,null,null,null,null,null,{"$f":"Mink!C153","v":0}]
[4,32504,"Afkastningsgrad",7.2630000000000035,2.8325,1.6159000000000003,0.7839999999999997,-0.745,-2.4819999999999998,-3.4064999999999999,-4.96,-8.536999999999999,null,null,null,null,null,null,null,null,null,null,null,{"$f":"Mink!C154","v":0}]
[5,32505,"Bundet kapital pr. enhed",354.208482,470.21591875000001,525.4569058400001,583.87450619999993,646.41005300000006,691.66532140000004,735.33093742000005,800.81884575000004,974.35040210000022,null,null,null,null,null,null,null,null,null,null,null,{"$f":"Mink!C155","v":0}]
[6,32506,"Bruttoudbytte i alt",508.19834459999998,491.30096700000001,478.12242849,471.852913,464.18847100000005,457.39478980000001,450.84896660000004,446.33452599999998,428.32262989999998]
[7,32507,"Foderomkostninger pr. enhed",308.01925290000003,331.99933399999998,337.49110813999999,341.12760699999995,348.538138,358.50294940000003,364.89155094,372.16915999999998,390.04852030000001]
[8,32508,"Dækningsbidrag pr. enhed",152.09778450000002,127.17678725,113.00594771,105.285051,98.932792000000006,91.817112800000004,88.087938340000008,76.588747749999996,53.146024400000002]
[9,32509,"Krav til dækningsbidrag pr. enhed",94.54889279999999,106.87615975,112.23616559,114.85845020000001,119.700795,126.8371624,133.96702142000001,137.25607100000002,152.23094710000004]
[10,32510,"Arbejdsomkostninger pr. enhed",20.749258399999999,25.235149249999999,27.255851539999998,29.321036200000002,30.788431500000002,32.178280000000001,34.441084050000001,37.141534499999999,43.144898200000007]
[11,32511,"Bygningsomk. pr. enhed",25.813899800000002,34.100415999999996,36.597124290000004,38.039617200000002,40.7702235,44.012047999999993,46.202141269999998,48.680304,57.371244200000007]
[12,32512,"Inventar inkl. energi pr. enhed",19.151681500000002,25.828923250000003,27.66766234,30.516417399999998,32.589448500000003,35.5034882,37.096624819999995,39.388316750000001,48.076774900000004]
[13,32513,"Årets resultat pr. enhed",30.153274500000013,4.6316595000000005,-7.781970369999998,-13.031022000000002,-23.0400925,-30.648764799999999,-34.80705416,-45.016985749999996,-72.1477316]
[]
["Søer med smågrise",null,null,null,null,null,null,null,null,null,null,null,null,"Antal bedrifter"]
[null,332,null,null,null,null,null,null,null,null,null,null,null,123]
[1,{"$f":"$B$173*100+A174","v":33201},"Sohold 30 kg - under 500 årssøer",null,null,null,null,null,null,"Stort forbedringspotentiale"]
[2,{"$f":"$B$173*100+A175","v":33202},"Fraktil",0.1,0.25,0.33,0.4,0.5,0.6,0.67,0.75,0.9]
[3,33203,"Producerede grise pr. årsso",32.200000000000003,31.2,30.3,30,29.5,29.1,28.6,28.2,26.7,0]
[4,33204,"Fremstillingspris pr. smågris",340,356,361,370,383,391,399.75,410.75,439,0]
[5,33205,"Afkastningsgrad",1.1200000000000001,-2.415,-3.9175,-5.58,-7.94,-9.43,-11.137500000000001,-14.15,-18.645,0]
[6,33206,"Bundet kapital pr. enhed",9612.893,12322.4973835,13300.628495999999,14048.26923,15257.987106,16899.844659999999,17678.420366499999,18809.982802999999,23125.024261999999,0]
[7,33207,"Bruttoudbytte i alt",11130.051536999999,10537.500179000001,10404.247048499999,10170.861386,9924.5485289999997,9533.5306120000005,9288.8371582500004,8961.902888999999,8123.6280244999998,0]
[8,33208,"Foderomkostninger pr. enhed",4942.245962,5331.4583889999994,5435.8201762500003,5540.6188110000003,5694.8210125000005,5944.9096769999996,6063.3854517500004,6294.4475282499998,6616.7213465000004,0]
[9,33209,"Dækningsbidrag pr. enhed",4198.0404230000004,3643.1859477500002,3320.0768749999997,3176.6787869999998,2968.766259,2695.4623280000001,2519.4816660000001,2366.71099125,1499.4214689999999,10]
[10,33210,"Krav til dækningsbidrag pr. enhed",3689.5845545000002,4019.4264082499999,4124.3416622499999,4234.1627900000003,4353.4285975000003,4546.4447049999999,4736.6009864999996,4842.9150382499993,5378.1151769999997,0]
[11,33211,"Arbejdsomkostninger pr. enhed",1452.5807635000001,1632.8260865,1724.51956025,1777.777777,1886.1632199999999,1964.163822,2030.6948495000001,2148.3174677500001,2518.1395830000001,0]
[12,33212,"Bygningsomk. pr. enhed",681.75571500000001,819.79174725000007,900.063401,946.088888,1033.8610669999998,1122.2956979999999,1203.7589317500001,1266.5788607499999,1471.3150495,0]
[13,33213,"Inventar inkl. energi pr. enhed",641.81543099999999,836.43164024999999,907.36735099999999,984.78260799999998,1038.2444150000001,1135.2280000000001,1191.6176989999999,1250.5026807499999,1454.4625489999999,0]
[14,33214,"Årets resultat pr. årsso",-153.8277425,-918.72450100000003,-1160.86099425,-1312.084615,-1634.1466390000001,-1845.7859530000001,-1985.0975577499999,-2196.23486,-2852.8967769999999,10,"Antal bedrifter"]
[null,333,null,null,null,null,null,null,null,null,null,null,null,194]
[1,{"$f":"$B$188*100+A189","v":33301},"Sohold 30 kg - over 500 årssøer",null,null,null,null,null,null,"Stort forbedringspotentiale"]
[2,{"$f":"$B$188*100+A190","v":33302},"Fraktil",0.1,0.25,0.33,0.4,0.5,0.6,0.67,0.75,0.9]
[3,33303,"Producerede grise pr. årsso",33.4,32,31.6,31.2,30.6,30.3,29.8,29.3,27.310000000000002]
[4,33304,"Fremstillingspris pr. smågris",319.60000000000002,340.25,348.07,355.2,362.5,375.6,382,392.5,422.1]
[5,33305,"Afkastningsgrad",4.2020000000000044,0.2,-0.77679999999999982,-1.5660000000000003,-2.86,-4.3319999999999999,-5.703999999999998,-7.87,-14.958]
[6,33306,"Bundet kapital pr. enhed",9161.9200300000011,13297.995991,14357.59698192,15687.981325600002,17047.577319,18184.0443658,19479.845463680002,21640.850353000002,24824.828875800002]
[7,33307,"Bruttoudbytte i alt",11477.161207199999,10905.770712,10680.633899480001,10506.9884146,10272.733227999999,9988.1317130000007,9747.269013879999,9494.3085100000008,8731.8235595999995]
[8,33308,"Foderomkostninger pr. enhed",4771.6796528000004,5359.3577100000002,5484.8800576800004,5620.7764201999998,5773.693311,5919.3834019999995,5995.52211016,6171.7690899999998,6618.6380564000001]
[9,33309,"Dækningsbidrag pr. enhed",4595.3903742000002,3969,3779.4172946399999,3599.5838949999998,3401.3986300000001,3023.8323348000004,2780.54388208,2607.490538,2010.2285158]
[10,33310,"Krav til dækningsbidrag pr. enhed",3508.0174167999999,3951.7779409999998,4094.3320042400001,4167.5406849999999,4336.9212029999999,4510.4636039999996,4600.5233945999998,4731.9505589999999,5129.252359000001]
[11,33311,"Arbejdsomkostninger pr. enhed",1378.5531911999999,1537.5403220000001,1628.4465854800001,1660.0423832000001,1733.4451409999999,1803.8565126000001,1851.4276660400001,1926.3975559999999,2105.4164872000001]
[12,33312,"Bygningsomk. pr. enhed",725.96516039999995,890.42443700000001,962.98849352000002,997.8007374,1068.148148,1117.9376662,1165.36822072,1224.0362689999999,1456.6523304]
[13,33313,"Inventar inkl. energi pr. enhed",690.8468732,877.59637399999997,948.96606096000005,1018.1484788,1099.8354890000001,1158.8243116000001,1200.8359878000001,1296.067307,1509.0362236000001]
[14,33314,"Årets resultat pr. årsso",346.29583780000019,-416.04045300000001,-648.96923947999971,-777.71461099999999,-945.895714,-1165.4144285999998,-1444.04191012,-1762.6218080000001,-2366.4638058]
[]
["Søer med fravænnede",null,null,null,null,null,null,null,null,null,null,null,null,"Antal bedrifter"]
[null,34,null,null,null,null,null,null,null,null,null,null,null,70]
[1,{"$f":"$B$205*100+A206","v":3401},"Søer med fravænnede - Sohold 7 kg",null,null,null,null,null,null,"Stort forbedringspotentiale"]
[2,{"$f":"$B$205*100+A207","v":3402},"Fraktil",0.1,0.25,0.33,0.4,0.5,0.6,0.67,0.75,0.9,0]
[3,3403,"Fravænnede grise pr. årsso",33.720000000000006,32.575000000000003,32.146000000000001,32,31.6,30.76,30.3,29.924999999999997,28.669999999999998,0]
[4,3404,"Fremstillingspris pr. frav. smågris",199,216.5,219.77,225,233,237.6,241.69,248.75,270,0]
[5,3405,"Afkastningsgrad",3.9200000000000004,1.0999999999999999,-0.11,-1.04,-2.1949999999999998,-3.242,-4.0563000000000002,-6.52,-9.7100000000000009,0]
[6,3406,"Bundet kapital pr. enhed",8394.6888631000002,9869.57779175,11210.814452100001,12059.126008000001,13259.397884,13812.3348616,14357.399209890002,15289.063131000001,17014.3651135,0]
[7,3407,"Bruttoudbytte i alt",7210.8811627999994,6749.572803,6587.54865883,6393.4940222000005,6180.979902,6000.8744729999999,5928.77667999,5862.5316665,5384.1006886000005,0]
[8,3408,"Foderomkostninger pr. enhed",2345.3453224999998,2499.9112800000003,2695.4284241300002,2763.7349776000001,2827.9656075000003,2910.8867129999999,2933.3340577700001,2975.7762599999996,3222.1889913,0]
[9,3409,"Dækningsbidrag pr. årsso",3358.6444354,3075.9685755,2970.7656468800005,2808.7766565999996,2613.5810954999997,2404.5664200000001,2282.0297465200001,2140.9097807500002,1858.7264541000002,10]
[10,3410,"Krav til dækningsbidrag pr. enhed",2669.6528386999998,2934.6044644999997,3067.4503012299997,3154.7838034000001,3216.704549,3307.7355980000002,3481.0890684300002,3642.2977822499997,4007.5621720999998,0]
[11,3411,"Arbejdsomkostninger pr. enhed",1121.7179504000001,1262.0581794999998,1316.76688074,1330.8718019999999,1376.2445869999999,1435.1247349999999,1469.2996316799999,1542.78309425,1718.2750501,0]
[12,3412,"Bygningsomk. pr. enhed",471.44577409999999,649.26875599999994,688.11611759000004,727.80648859999997,780.28421349999996,827.38333419999992,861.70122258999993,903.76402400000006,1057.6042174000002,0]
[13,3413,"Inventar inkl. energi pr. enhed",570.60429850000003,688.28110525,702.40195022,721.66243280000003,772.56502399999999,871.05363680000005,898.06528940999999,919.22505724999996,1012.2385175000001,0]
[14,3414,"Årets resultat pr. årsso",195.34589080000001,-299.3093925,-447.15182479999987,-497.08711319999998,-622.65661150000005,-753.11636799999997,-807.54583647999993,-969.09624699999995,-1638.2310414999999,10]
[]
["Grovfoder",null,null,null,null,null,null,null,null,null,null,null,null,"Antal bedrifter"]
[null,422,null,null,null,null,null,null,null,null,null,null,null,92]
[1,{"$f":"$B$222*100+A223","v":42201},"Grovfoder Konventionel|primært lerjord",null,null,null,null,null,null,"Stort forbedringspotentiale"]
[2,{"$f":"$B$222*100+A224","v":42202},"Fraktil",0.1,0.25,0.33,0.4,0.5,0.6,0.67,0.75,0.9,null,"Fra hæftet LÅST"]
[3,42203,"Udbytte pr. ha majs til helsæd, FEN",11989.836312199999,10892.287362250001,10418.463801740001,10000,9351.8987340000003,8454.5486684000007,7872.5772033000003,6989.5833332499997,5995.9026924,null,"Kun værdier"]
[4,42204,"Udbytte pr. ha sædskiftegræs, FEN",10364.782608,9901.8855632500017,9246.3367124699998,8912.3688851999996,8544.7690380000004,8153.7143549999992,7749.5459160500004,7592.2420750000001,6529.8212068000003]
[5,42205,"Fremstillingspris øre pr. FEN",99.011899999999997,118.1915,121.82244,132.38,139.61100000000002,145.45020000000002,153.88506000000001,165.36824999999999,184.49870000000001]
[6,42206,"Stykomkostninger i alt",1899.3489763,2064.72372,2221.88772539,2274.0320264000002,2396.8039854999997,2514.0156109999998,2713.0603945800003,2854.1971389999999,3135.2502660000005]
[7,42207,"Maskinomk. inkl. arbejde pr. ha",5755.5693094999997,6275.0892482500003,6602.2529991399997,7000.1478953999995,7180.0124194999999,7474.0725940000002,7742.704750840001,8479.4640729999992,9855.5962431000007]
[8,42208,"Øvrige omkostninger pr. ha",730.8093634999999,889.53907449999997,944.75916497000003,1025.4288184,1144.271013,1222.8930293999999,1251.5080711799999,1341.6235427500001,1735.0226823000003]
[9,42209,"Jordleje korrigeret for EU-støtte pr. ha",-758.60923049999997,491.17754624999998,634.46149172000003,790.13705459999994,976.72624250000001,1349.6177702,1566.6389894299998,2056.9573974999998,2781.9523291]
[10,42210,"Årets resultat",951.69564180000077,-524.24776400000007,-1201.47832907,-1423.3452691999998,-2215.6490864999996,-2924.0336683999999,-3348.9997632299996,-3939.5337300000001,-6232.2684432000005]
[11,42211," - "]
[12,42212," -"]
[13,42213," -",null,null,null,null,null,null,null,null,null,null,"Antal bedrifter"]
[null,423,null,null,null,null,null,null,null,null,null,null,null,148]
[1,{"$f":"$B$236*100+A237","v":42301},"Grovfoder Konventionel|sandjord m. vanding",null,null,null,null,null,null,"Stort forbedringspotentiale"]
[2,{"$f":"$B$236*100+A238","v":42302},"Fraktil",0.1,0.25,0.33,0.4,0.5,0.6,0.67,0.75,0.9]
[3,42303,"Udbytte pr. ha majs til helsæd, FEN",10000,9121.4285710000004,8593.8439080499993,8201.8615554000007,7710.8732399999999,7226.6075938000004,6732.7195227200009,6302.8375985000002,5144.2966502999998]
[4,42304,"Udbytte pr. ha sædskiftegræs, FEN",10040.3217475,9271.4166729999997,9040.3265264000001,8726.4381880000001,8349.6580510000003,8000,7665.093672,7296.1619012499996,6180.5359850000004]
[5,42305,"Fremstillingspris øre pr. FEN",107.027,118.91624999999999,126.6198,131.995,139.58500000000001,148.154,157.28145000000001,168.29624999999999,192.3725]
[6,42306,"Stykomkostninger i alt",1912.6887670000001,2126.1099172499999,2252.0333676999999,2334.14876,2427.3902479999997,2535.2745420000001,2617.4834953999998,2735.0592997499998,2957.5122339999998]
[7,42307,"Maskinomk. inkl. arbejde pr. ha",5269.0354799999996,5928.2787085,6143.35011605,6402.8485149999997,6672.9431779999995,6981.2531680000002,7245.9761840500005,7546.6214987499998,8231.8129254999985]
[8,42308,"Øvrige omkostninger pr. ha",666.34994800000004,862.25919075000002,949.02461074999997,997.961409,1092.375098,1198.2447549999999,1327.32265925,1428.50307075,1755.1005694999999]
[9,42309,"Jordleje korrigeret for EU-støtte pr. ha",-851.57437249999998,-35.968102000000002,201.17519140000005,463.83522799999997,724.52166099999999,1059.2642470000001,1242.83864825,1676.4662134999999,2358.868751]
[10,42310,"Årets resultat",534.27632300000005,-545.71152100000006,-943.26191544999995,-1370.558035,-2064.5829680000002,-2652.7951149999999,-3131.2822690499997,-3736.37090575,-5029.1845429999994]
[11,42311," - "]
[12,42312," -"]
[13,42313," -",null,null,null,null,null,null,null,null,null,null,"Antal bedrifter"]
[null,424,null,null,null,null,null,null,null,null,null,null,null,212]
[1,{"$f":"$B$250*100+A251","v":42401},"Grovfoder Konventionel|sandjord u. vanding",null,null,null,null,null,null,"Stort forbedringspotentiale"]
[2,{"$f":"$B$250*100+A252","v":42402},"Fraktil",0.1,0.25,0.33,0.4,0.5,0.6,0.67,0.75,0.9]
[3,42403,"Udbytte pr. ha majs til helsæd, FEN",9986.2820962000005,8564.9863289999994,8278.3283509000012,7963.5745282000007,7498.5942770000001,6998.7558319999998,6500,6057.6564020000005,4966.5130562999993]
[4,42404,"Udbytte pr. ha sædskiftegræs, FEN",10239.732234800002,9350.5513635000007,9129.4406611800005,8942.7643790000002,8350.5982899999999,8000,7795.5804169200001,7347.1364529999992,6456.2905175999995]
[5,42405,"Fremstillingspris øre pr. FEN",107.50530000000001,123.53325,130.53404,136.55359999999999,145.62949999999998,158.2054,165.41043999999999,172.67549999999997,200.68289999999996]
[6,42406,"Stykomkostninger i alt",1841.6597382,2043.767953,2147.5679879999998,2241.3101648000002,2343.1921084999999,2476.3813688,2568.3088342700003,2698.7982995000002,2968.8598948999997]
[7,42407,"Maskinomk. inkl. arbejde pr. ha",5277.6364841000004,5985.3680620000005,6166.6804645900002,6427.9867370000002,6664.3508725000002,7003.6295472000002,7279.8145207799998,7641.8472687499998,8644.6743981]
[8,42408,"Øvrige omkostninger pr. ha",639.98511869999993,766.31072975000006,835.89385093999999,899.09621900000002,989.67542600000002,1126.5810414,1227.49892929,1328.3766654999999,1691.7591405999999]
[9,42409,"Jordleje korrigeret for EU-støtte pr. ha",-720.35952049999992,148.01622950000001,492.48313698000004,677.88937640000006,976.20815700000003,1467.9131326000002,1674.6982143999999,2000.634088,2891.8586273999999]
[10,42410,"Årets resultat",332.83585529999948,-759.52663099999995,-1349.7863868100001,-1923.5178009999997,-2584.0712400000002,-3078.1323245999997,-3571.9677808299998,-4091.586452,-5495.1230666000001]
[11,42411," - "]
[12,42412," -"]
[13,42413," -",null,null,null,null,null,null,null,null,null,null,"Antal bedrifter"]
[null,425,null,null,null,null,null,null,null,null,null,null,null,49]
[1,{"$f":"$B$264*100+A265","v":42501},"Grovfoder Økologisk|sandjord",null,null,null,null,null,null,"Stort forbedringspotentiale"]
[2,{"$f":"$B$264*100+A266","v":42502},"Fraktil",0.1,0.25,0.33,0.4,0.5,0.6,0.67,0.75,0.9]
[3,42503,"Udbytte pr. ha majs til helsæd, FEN",7963.3587782000004,6993.9985589999997,6676.0309684600006,6351.0328876000003,5619.0029130000003,5206.3084532000003,5051.8524867999995,5000,3233.2919772]
[4,42504,"Udbytte pr. ha sædskiftegræs, FEN",7987.3937768000005,7255.9755089999999,6990.9140438000004,6805.5827599999993,6500,6417.7679236000004,6108.8824796400004,6000,5299.6754066000003]
[5,42505,"Fremstillingspris øre pr. FEN",107.0624,132.38,136.31616,143.60920000000002,149.14499999999998,164.55160000000001,166.64100000000002,176.14600000000002,190.81620000000001]
[6,42506,"Stykomkostninger i alt",624.27915299999995,866.05660699999999,993.06820956000001,1054.4764946,1151.0729610000001,1285.9831592,1332.4381849600002,1393.390639,1637.5898102000006]
[7,42507,"Maskinomk. inkl. arbejde pr. ha",4878.8012358000005,5478.8678440000003,5715.2402230399994,5877.7503992000002,5936.1261430000004,6355.9053539999995,6578.1133550800005,6808.1244429999997,7364.9079095999996]
[8,42508,"Øvrige omkostninger pr. ha",613.23363260000008,876.95664399999998,906.19973404000007,929.885717,1040.553285,1193.9714137999999,1255.3688116800004,1389.3808039999999,1474.3934568000002]
[9,42509,"Jordleje korrigeret for EU-støtte pr. ha",-368.69385799999975,731.13330699999995,902.83433744000001,1269.8542050000008,1650.5012730000001,1945.8984212,2090.1421952000001,2377.8702429999998,2987.9094426000006]
[10,42510,"Årets resultat",2403.8452188000006,1463.3703869999999,718.46514204000027,467.28289999999993,-545.62476100000003,-859.06423919999975,-1126.6518915199999,-1381.065411,-2170.9733087999998]
[11,42511," - "]
[12,42512," -"]
[13,42513," -"]
[]
["Salgsafgrøder",null,null,null,null,null,null,null,null,null,null,null,null,"Antal bedrifter"]
[null,432,null,null,null,null,null,null,null,null,null,null,null,67]
[1,{"$f":"$B$280*100+A281","v":43201},"Salgsafgrøder | Økologisk",null,null,null,null,null,null,"Stort forbedringspotentiale"]
[2,{"$f":"$B$280*100+A282","v":43202},"Fraktil",0.1,0.25,0.33,0.4,0.5,0.6,0.67,0.75,0.9]
[3,43203,"Udbytte pr. ha vårbyg, hkg",49.742267999999996,45.366400249999998,43.860432450000005,42.272727000000003,40,38,37.490135250000002,35.046296249999997,31.550640000000001]
[4,43204,"Udbytte pr. ha rug, hkg",60.037761500000002,54.902652500000002,51.473613750000005,50.788966000000002,47.761031500000001,44.916539999999998,44.009107749999998,40.782760750000001,36.172160499999997]
[5,43205,"Udbytte pr. ha havre hkg",61.807032800000002,56.433520999999999,55,53.295325799999993,50.170953499999996,48.772400600000005,44.676388070000002,43.044117,34.866069000000003]
[6,43206,"Fremstillingspris kr/hkg korn",119.00598548621191,170.47963717377468,186.51193627737064,197.12439356535643,215.83192509363295,230.13481419098142,241.40998953652223,266.84298235294119,318.57950181959507]
[7,43207,"Bruttoudbytte i alt",11955.8530876,10249.406649500001,9936.5961349400004,9729.5355008000006,9012.102535,8694.9962825999992,8345.8414982200011,7753.3448829999998,6761.9524744]
[8,43208,"Stykomkostninger i alt",610.78004499999997,853.54537699999992,922.82835799999998,973.41735720000008,1046.586517,1234.7687289999999,1304.5860330600001,1382.349555,1806.6548933999998]
[9,43209,"Dækningsbidrag",10795.525194,9292.810912500001,8822.9544138999991,8494.0049034000003,8049.9899370000003,7448.2369434000002,6875.24874568,6397.6295515000002,5444.2559662000003]
[10,43210,"Maskinomk. inkl. arbejde pr. ha",3748.4631298000004,4755.3691374999999,4945.8042796999998,5088.5609122000005,5378.5530269999999,5685.069058,5784.2005429200008,6059.7738279999994,7094.6189587999997]
[11,43211,"Øvrige omkostninger ha",657.49067560000003,805.66231849999997,891.39497282000002,990.88309620000007,1164.020833,1203.4176464,1308.9463425600002,1470.798935,1936.555609]
[12,43212,"Rest til jordleje ekskl. EU-støtte pr. ha",4127.7022704000001,2766.6104889999997,2086.3745775800016,1777.7709648,1195.4355760000001,559.62544260000016,-14.370583499999782,-550.40754650000008,-1952.7932047999998]
[13,43213,"Jordleje korrigeret for EU-støtte pr. ha",-533.97582179999984,441.27378699999997,721.5401880600001,781.91167780000012,1264.2084179999999,1609.5511372000001,1904.9831683800001,2069.667512,2681.0961611999996]
[14,43214]
[15,43215,null,null,null,null,null,null,null,null,null,null,null,"Antal bedrifter"]
[null,433,null,null,null,null,null,null,null,null,null,null,null,200]
[1,{"$f":"$B$296*100+A297","v":43301},"Salgsafgrøder|Sandjord m. vand",null,null,null,null,null,null,"Stort forbedringspotentiale"]
[2,{"$f":"$B$296*100+A298","v":43302},"Fraktil",0.1,0.25,0.33,0.4,0.5,0.6,0.67,0.75,0.9]
[3,43303,"Udbytte pr. ha vårbyg, hkg",66.918433800000003,60.842354999999998,60,56.417183399999999,54.409768999999997,52.7637438,51.533016879999998,50,43.122363100000001]
[4,43304,"Udbytte pr. ha vinterhvede, hkg",82,75.519133000000011,70.234274599999992,69.474188999999996,67.750234000000006,64.754097999999999,62.023821499999997,59.998235000000001,50.359158000000001]
[5,43305,"Udbytte pr. ha vinterbyg, hkg",79.0128828,69.980620000000002,64.448537700000003,60.779277,57.462685999999998,55.721077799999996,54.960640439999999,52.323041000000003,47.937870800000006]
[6,43306,"Udbytte pr. ha rug, hkg",76.755024199999994,70.952380000000005,68.373541039999992,66.190991999999994,63.048588000000002,60.242640000000002,58.41677928,54.901960000000003,50.108490199999999]
[7,43307,"Udbytte pr. ha vinterraps, hkg",48.607462400000003,44.005347,42.871778400000004,41.929338800000004,40.795453999999999,37.360867999999996,34.743376600000005,33.707025000000002,27.798426800000001]
[8,43308,"Fremstillingspris kr/hkg korn",96.601806600645432,121.17931636363636,131.85296904493646,137.4319367310774,145.11803722960596,154.66843372034037,161.69033311362907,170.22556179231418,209.23936877720399]
[9,43309,"Bruttoudbytte i alt",9955.3736256000011,8600.4799860000003,8161.20742556,7645.8492077999999,7284.6363529999999,7010.3315771999996,6699.6627428000002,6446.0552090000001,5838.5676334]
[10,43310,"Stykomkostninger i alt",1639.8400318000001,1828.8784370000001,1914.8944152399999,1997.2469389999999,2094.8940419999999,2215.8840105999998,2293.0754150799999,2459.7572850000001,3004.4104560000001]
[11,43311,"Dækningsbidrag",7431.3570657999999,6235.6752059999999,5921.5640979600003,5679.2720717999991,5299.8939799999998,4983.1520326000009,4703.7249045199997,4338.8809520000004,3704.8773402000002]
[12,43312,"Maskinomk. inkl. arbejde pr. ha",3244.4821545999998,3792.0380829999999,3960.1243132,4164.6370004,4501.4799329999996,4719.2717697999997,4913.8479609599999,5197.8680590000004,6072.2957646000013]
[13,43313,"Øvrige omkostninger ha",690.51372479999998,906.03560500000003,993.70454256000005,1085.9324319999998,1163.711538,1268.691812,1329.1975537999999,1378.999309,1710.4941166000003]
[14,43314,"Rest til jordleje ekskl. EU-støtte pr. ha",1796.9809224000007,746.50569800000005,478.03455495999992,212.4672994,-676.65454499999998,-1168.8927297999996,-1421.1030356399999,-1980.9523799999999,-3034.3219058]
[15,43315,"Jordleje korrigeret for EU-støtte pr. ha",-618.45128299999999,274.97934800000002,496.88114028000001,658.4639784000002,1050.0044559999999,1331.3685999999998,1534.5878531599999,1880.8405889999999,2801.3670718000003,null,"Antal bedrifter"]
[null,434,null,null,null,null,null,null,null,null,null,null,null,427]
[1,{"$f":"$B$312*100+A313","v":43401},"Salgsafgrøder|Sandjord u. vand",null,null,null,null,null,null,"Stort forbedringspotentiale"]
[2,{"$f":"$B$312*100+A314","v":43402},"Fraktil",0.1,0.25,0.33,0.4,0.5,0.6,0.67,0.75,0.9]
[3,43403,"Udbytte pr. ha vårbyg, hkg",69.801349099999996,63.138486,60.383858020000005,59.647175599999997,55.749547499999998,53.421328199999998,51.507397400000002,50,42.271723600000001]
[4,43404,"Udbytte pr. ha vinterhvede, hkg",85.734009799999995,77.972460000000012,75.897451020000005,75,72.933548999999999,70.005515200000005,68.712893080000001,65,57.240402400000001]
[5,43405,"Udbytte pr. ha vinterbyg, hkg",75.172413000000006,68.992448499999995,67.008074500000006,65.026362000000006,62.262718,59.978346999999999,57.5418722,54.398507500000001,48]
[6,43406,"Udbytte pr. ha rug, hkg",78.868961900000002,71.577673500000003,68.857591790000001,66.728777199999996,62.958622500000004,60,58.315958529999996,56.11609,48.296802599999999]
[7,43407,"Udbytte pr. ha vinterraps, hkg",48.744281000000001,45.191948250000003,43.243860460000001,42.114798999999998,40.788711499999998,39.530224200000006,38.135819380000001,35.796391249999999,30.471906000000001]
[8,43408,"Fremstillingspris kr/hkg korn",103.71619925382571,126.98931109157249,133.96687207240771,139.69750920245397,147.72679072605249,159.82951537548249,170.58283133409176,181.26369681339978,218.5437099161322]
[9,43409,"Bruttoudbytte i alt",10491.510906800002,9269.8411950000009,8892.8445140799995,8508.9238064000001,8140.5374019999999,7713.6389990000007,7382.6632593200002,7096.7743049999999,6215.1247684]
[10,43410,"Stykomkostninger i alt",1781.9264342000001,2021.2273709999999,2124.6073716800001,2237.5991152000001,2372.5406130000001,2528.4329769999999,2627.5148145600001,2813.8085000000001,3327.1210059999999]
[11,43411,"Dækningsbidrag",7645.8322848000007,6575.4799830000002,6261.4227570800003,6023.0386473999997,5640.40139,5342.1623256000003,5160.2825497599997,4759.482352,3837.1308681999999]
[12,43412,"Maskinomk. inkl. arbejde pr. ha",3474.5434332,3928.273013,4117.3703064399997,4294.6808215999999,4556.9550589999999,4818.7937595999992,5098.7000176399997,5282.4684070000003,5992.4036562000001]
[13,43413,"Øvrige omkostninger ha",547.86017379999998,772.09887500000002,846.65677591999997,911.47778140000003,1013.834782,1081.7137930000001,1145.98904956,1254.285419,1701.8508312000004]
[14,43414,"Rest til jordleje ekskl. EU-støtte pr. ha",2076.4688652,1094.7951210000001,531.82975036000005,260.35965139999979,-145.58080799999999,-780.72156299999995,-984.60370432000002,-1510.1641790000001,-2581.8817783999998]
[15,43415,"Jordleje korrigeret for EU-støtte pr. ha",-62.121149999999965,677.22140200000001,969.22447196000007,1182.9344662000001,1472.163452,1907.5725537999992,2205.1322904400008,2549.468711,3343.2661216000006,null,"Antal bedrifter"]
[null,435,null,null,null,null,null,null,null,null,null,null,null,577]
[1,{"$f":"$B$328*100+A329","v":43501},"Salgsafgrøder|Lerjord",null,null,null,null,null,null,"Stort forbedringspotentiale"]
[2,{"$f":"$B$328*100+A330","v":43502},"Fraktil",0.1,0.25,0.33,0.4,0.5,0.6,0.67,0.75,0.9]
[3,{"$f":"$B$328*100+A331","v":43503},"Udbytte pr. ha vårbyg, hkg",80.490075199999993,72.800577000000004,70,68.055742199999997,65.446726999999996,61.994957800000002,60,56.586433,50]
[4,43504,"Udbytte pr. ha vinterhvede, hkg",100,93.140793500000001,90,88.359857000000005,85,82.411252000000005,80,77.837189499999994,72.017588599999996]
[5,43505,"Udbytte pr. ha vinterbyg, hkg",90.001531599999993,81.116825000000006,79.201171439999996,75.249289599999997,72.185764000000006,69.319999800000005,65.687107319999996,63.341250000000002,53.948821199999998]
[6,43506,"Udbytte pr. ha rug, hkg",83.157395399999999,73.664257500000005,71.053828460000005,69.294117599999993,65.610426000000004,62.247447400000006,60.713217440000001,59.815144500000002,49.087967400000004]
[7,43507,"Udbytte pr. ha vinterraps, hkg",50.577005200000002,47.700619000000003,46.232272880000004,45.304600800000003,44.090499999999999,42.177258399999999,40.895582000000005,39.040279999999996,35.565974599999997]
[8,43508,"Fremstillingspris kr/hkg korn",94.93126864181572,112.56813260717215,119.07099755748037,124.52200537835415,133.64587115264797,142.58146492997824,149.71698636015699,160.87741826923079,187.73575087436464]
[9,43509,"Bruttoudbytte i alt",11888.4556092,10790.895980000001,10465.41689504,10229.850174000001,9732.1830690000006,9384.371368600001,9091.8851068399999,8808.3105270000015,7856.0034136000004]
[10,43510,"Stykomkostninger i alt",2061.7710926,2307.4362380000002,2408.9995286399999,2517.8719899999996,2645.5851830000001,2809.9608740000003,2916.10701866,3048.6141545,3513.7605484000001]
[11,43511,"Dækningsbidrag",9259.9656517999993,7987.3812655000002,7694.76449426,7354.4242375999993,6994.4113470000002,6606.0026194000002,6388.2527738600002,6063.9574874999998,5258.6442688000006]
[12,43512,"Maskinomk. inkl. arbejde pr. ha",3455.7282692000003,4079.7491600000003,4332.5639665600002,4516.3772646000007,4822.8271379999996,5178.2809897999996,5392.6802107799995,5605.6277140000002,6843.7418193999993]
[13,43513,"Øvrige omkostninger ha",787.64124079999999,982.16760550000004,1097.5450834199999,1180.9672756,1318.7314220000001,1489.9085367999999,1597.26872944,1806.1829399999999,2384.7925]
[14,43514,"Rest til jordleje ekskl. EU-støtte pr. ha",2772.6008577999996,1756.7441825000001,1347.2318425199999,964.84432120000042,457.64282600000001,-106.45515139999985,-401.30805356000002,-941.50122199999998,-2092.7060365999996]
[15,43515,"Jordleje korrigeret for EU-støtte pr. ha",-33.447402399999959,871.34866650000004,1222.5671800600001,1475.5873816000001,1715.60438,2094.2973865999998,2277.4972130599999,2641.4506920000003,3491.0954405999996,null,"Antal bedrifter"]
[null,436]
[1,{"$f":"$B$344*100+A345","v":43601},"FRI",null,null,null,null,null,null,"Stort forbedringspotentiale"]
[2,{"$f":"$B$344*100+A346","v":43602}]
[3,43603]
[4,{"$f":"$B$344*100+A348","v":43604}]
[5,43605]
[6,43606]
[7,43607]
[8,43608]
[9,43609]
[10,43610]
[11,43611]
[12,43612]
[13,43613,null,null,null,null,null,null,null,null,null,null,null,"Antal bedrifter"]
[null,45,null,null,null,null,null,null,null,null,null,null,null,37]
[1,{"$f":"$B$358*100+A359","v":4501},"Kartofler",null,null,null,null,null,null,"Stort forbedringspotentiale"]
[2,{"$f":"$B$358*100+A360","v":4502},"Fraktil",0.1,0.25,0.33,0.4,0.5,0.6,0.67,0.75,0.9]
[3,4503,"Udbytte pr. ha Stivelseskartofler, hkg",535.29117220000001,513.32157099999995,490.20926636000002,478.07307539999999,458.40893799999998,440.83883979999996,428.01029016000001,419.34347400000001,395.59056299999997]
[4,4504,"Bruttoudbytte i alt pr. ha",32756.646249999998,30283.623853000001,29665.15217044,28083.248703199999,27371.224999999999,26468.704286600001,26162.319239320001,25067.285608999999,23239.5569512,7]
[5,4505,"Stykomkostninger i alt pr. ha",8380.7925560000003,9196.3527849999991,9566.2252117999997,9828.5767866000006,9956.8150679999999,10528.034232,11108.553299520001,11917.812739000001,14237.725192800001,7]
[6,4506,"Dækningsbidrag pr. ha",21317.974073599999,18283.936754999999,17839.32576544,17694.753545600001,17423.645433000002,16932.133461599999,16165.05299944,15369.320569,13337.435003799999,7]
[7,{"$f":"$B$358*100+A365","v":4507},"Maskinomk. inkl. arbejde pr. ha",6808.5489272000004,7655.5555549999999,7922.5748818399998,8057.8564145999999,8416.5160020000003,9047.4799297999998,9203.6907498399996,9876.3468909999992,12108.058962199999]
[8,4508,"Øvrige omkostninger ha",1195.1078636,1704.5,1846.0583552000001,1944.6160702,2350.9624629999998,2461.7119044000001,2519.5439283200003,2780.4237280000002,3507.1486225999997]
[9,4509,"Rest til jordleje ekskl. EU-støtte pr. ha",9897.74,7782.7718960000002,7427.22281028,7170.6173026000006,6460.6432500000001,5241.9762600000004,4552.9334070800014,2369.1972470000001,-396.87437820000008]
[10,4510,"Jordleje korrigeret for EU-støtte pr. ha",-692.63891220000005,-289.79254400000002,-11.564960639999924,342.62815720000003,601.96286399999997,1111.2087255999995,1755.7774799600004,2554.373677,3130.2477645999998]
[11,4511,"Årets resultat",8898.7225843999986,7058.24,6779.4133196399998,6183.3083085999997,5080.5149000000001,4258.8544772000005,3367.75869788,2895.8474569999998,-2135.5279605999999]
[12,4512]
[13,4513,null,null,null,null,null,null,null,null,null,null,null,"Antal bedrifter"]
[null,44,null,null,null,null,null,null,null,null,null,null,null,83]
[1,{"$f":"$B$372*100+A373","v":4401},"Fabriksroer",null,null,null,null,null,null,"Stort forbedringspotentiale"]
[2,{"$f":"$B$372*100+A374","v":4402},"Fraktil",0.1,0.25,0.33,0.4,0.5,0.6,0.67,0.75,0.9]
[3,4403,"Udbytte pr. ha fabriksroer, ton polsukker",15.98,14.719999999999999,14.502700000000001,14.306000000000001,13.71,13.33,13.063800000000001,12.615,11.510999999999999]
[4,4404,"Bruttoudbytte i alt pr. ha",23478.586359600002,22374.50971975,21960.71380926,21422.8291918,20600.5494645,20012.575088400001,19459.158730849998,18944.219456250001,17724.857705900002,7]
[5,4405,"Stykomkostninger i alt pr. ha",5051.0340901999998,5628.6316427499996,5931.1653701499999,6159.9256896000006,6445.6853775,6881.5157256000002,7280.3941353499995,7626.6844435000003,9995.9254243000014,7]
[6,4406,"Dækningsbidrag pr. ha",17224.758365600002,15891.731100499999,15310.449061020001,14618.217659,14001.4714205,13330.946752599999,12878.928194710001,12104.888665750001,9488.1835179000009,7]
[7,4407,"Maskinomk. inkl. arbejde pr. ha",6408.3198929,7952.5463559999998,8491.8098452800004,8801.9617280000002,9140.3775994999996,9882.3661229999998,10235.453106290001,10635.0137605,12694.209683200001]
[8,4408,"Øvrige omkostninger ha",1178.4581636999999,1510.9942757499998,1658.79132572,1755.0926893999999,1870.2945694999999,2036.0358011999999,2210.3106032700002,2422.4336294999998,3262.2067436000002]
[9,4409,"Rest til jordleje ekskl. EU-støtte pr. ha",6057.6050503000006,4819.5819987499999,4030.9719508400012,3478.8816818000005,2042.4699734999999,1021.4622208,396.39018519000007,-328.06665450000003,-2729.1672542000001]
[10,4410,"Jordleje korrigeret for EU-støtte pr. ha",-714.1378148,-23.018263000000005,345.56387542000004,544.55143439999983,845.78397849999999,1492.6235852,1926.5622553100002,2320.9757992499999,3540.8191324000004]
[11,4411,"Årets resultat",5390.9352455000017,3208.1594717499997,2531.8194171100008,1753.8392008000001,914.8487265,30.833541999999991,-495.01754167000001,-1274.20143725,-4397.0666482000006]
[12,4412]
[13,4413]

{"sheet":"Kredsudvælgelse","index":5,"n_rows":360,"n_cols":37,"rows_kept":360,"cut":false,"hidden":true,"merged":[[17,18,17,20]]}
["Kredsnr",null,null,null,null,null,null,null,null,null,null,null,null,null,null,null,1,null,1,null,1,null,1,null,1,null,null,"Til valg af ejendomme"]
[null,null,null,null,null,null,null,null,null,null,null,null,null,null,"Prodgren",null,"Ejendomsnr","prodgren","Ejendomsnr","prodgren","Ejendomsnr","prodgren","Ejendomsnr","prodgren","Ejendomsnr","prodgren",null,{"$f":"IF(ISTEXT(Præsentation!K12)=TRUE,0,1)","v":0},{"$f":"IF(ISTEXT(Præsentation!L12)=TRUE,0,1)","v":0},{"$f":"IF(ISTEXT(Præsentation!M12)=TRUE,0,1)","v":0},{"$f":"IF(ISTEXT(Præsentation!N12)=TRUE,0,1)","v":0},{"$f":"IF(ISTEXT(Præsentation!O12)=TRUE,0,1)","v":0},{"$f":"IF(ISTEXT(Præsentation!P12)=TRUE,0,1)","v":0},{"$f":"IF(ISTEXT(Præsentation!Q12)=TRUE,0,1)","v":0},{"$f":"IF(ISTEXT(Præsentation!R12)=TRUE,0,1)","v":0},{"$f":"IF(ISTEXT(Præsentation!S12)=TRUE,0,1)","v":1},{"$f":"IF(ISTEXT(Præsentation!T12)=TRUE,0,1)","v":1}]
[null,null,null,null,null,null,null,null,null,null,null,null,null,null,8400,null,{"$f":"Præsentation!K12","v":"M1"},{"$f":"$O$3","v":8400},{"$f":"Præsentation!L12","v":"M2"},{"$f":"$O$3","v":8400},{"$f":"Præsentation!M12","v":"M3"},{"$f":"$O$3","v":8400},{"$f":"Præsentation!N12","v":"M4"},{"$f":"$O$3","v":8400},{"$f":"Præsentation!O12","v":"M5"},{"$f":"$O$3","v":8400},null,null,null,null,null,null,{"$f":"IF(ISTEXT(Præsentation!P12)=TRUE,0,1)","v":0}]
[null,null,null,null,null,null,null,null,null,null,null,null,null,null,null,null,null,null,null,null,null,null,null,null,null,null,null,"Identer",null,null,null,"Præsentation"]
[null,null,null,null,null,null,null,null,null,null,null,null,null,null,null,null,1,null,1,null,1,null,1,null,1,null,null,"Identer",null,null,null,"Fraktilanalyse"]
[null,null,null,null,null,null,null,null,null,null,null,null,null,null,null,null,"Ejendomsnr","prodgren","Ejendomsnr","prodgren","Ejendomsnr","prodgren","Ejendomsnr","prodgren","Ejendomsnr","prodgren"]
[null,null,null,null,null,null,null,null,null,null,null,null,null,null,null,null,{"$f":"Præsentation!P12","v":"M6"},{"$f":"$O$3","v":8400},{"$f":"Præsentation!Q12","v":"M8"},{"$f":"$O$3","v":8400},{"$f":"Præsentation!R12","v":"M9"},{"$f":"$O$3","v":8400},{"$f":"Præsentation!S12","v":0},{"$f":"$O$3","v":8400},{"$f":"Præsentation!T12","v":0},{"$f":"$O$3","v":8400},null,null,null,"Til valg af ejendom fraktil"]
[null,null,null,null,null,null,null,null,null,null,null,null,null,null,null,null,null,null,null,null,null,null,null,null,null,null,null,null,null,{"$f":"IF(ISTEXT(#REF!)=TRUE,0,1)","v":1}]
[null,null,null,null,null,null,null,null,null,null,null,null,null,null,"Prodgren fraktil",null,1]
["Kredsnr",null,null,null,null,null,null,null,null,null,null,null,null,null,8400,null,"Ejendomsnr","prodgren"]
[null,null,null,null,null,null,null,null,null,null,null,null,null,null,null,null,{"$f":"Fraktilanalyse!$C$6","v":"M14"},{"$f":"$O$10","v":8400}]
[]
[]
[]
[]
[null,null,null,null,null,null,null,null,null,null,null,null,null,null,null,null,null,null,"Statiske ejendomme"]
[]
[null,null,null,null,null,null,null,null,null,null,null,null,null,null,null,"Til fraktilanalyse","Til præsentation",null,"Mink"]
[null,null,null,null,null,null,null,null,null,null,null,null,null,null,null,"Ejendomsnumre","Ejendomsnumre","Identer",3]
[null,null,null,null,null,null,null,null,null,null,null,null,null,null,null,"Vælg","Vælg",null,"Mink"]
[null,null,null,null,null,null,null,null,null,null,null,null,null,null,null,{"$f":"S21","v":"M1"},{"$f":"S21","v":"M1"},3,"M1"]
[null,null,null,null,null,null,null,null,null,null,null,null,null,null,null,{"$f":"S22","v":"M2"},{"$f":"S22","v":"M2"},4,"M2"]
[null,null,null,null,null,null,null,null,null,null,null,null,null,null,null,"M3","M3",5,"M3"]
[null,null,null,null,null,null,null,null,null,null,null,null,null,null,null,"M4","M4",6,"M4"]
[null,null,null,null,null,null,null,null,null,null,null,null,null,null,null,"M5","M5",7,"M5"]
[null,null,null,null,null,null,null,null,null,null,null,null,null,null,null,"M6","M6",8,"M6"]
[null,null,null,null,null,null,null,null,null,null,null,null,null,null,null,"M8","M8",9,"M8"]
[null,null,null,null,null,null,null,null,null,null,null,null,null,null,null,"M9","M9",10,"M9"]
[null,null,null,null,null,null,null,null,null,null,null,null,null,null,null,"M11","M11",11,"M11"]
[null,null,null,null,null,null,null,null,null,null,null,null,null,null,null,"M12","M12",12,"M12"]
[null,null,null,null,null,null,null,null,null,null,null,null,null,null,null,"M14","M14",13,"M14"]
[null,null,null,null,null,null,null,null,null,null,null,null,null,null,null,"M15","M15",14,"M15"]
[null,null,null,null,null,null,null,null,null,null,null,null,null,null,null,"M16","M16",15,"M16"]
[null,null,null,null,null,null,null,null,null,null,null,null,null,null,null,"M17","M17",16,"M17"]
[null,null,null,null,null,null,null,null,null,null,null,null,null,null,null,{"$f":"S35","v":"M18"},{"$f":"S35","v":"M18"},17,"M18"]
[null,null,null,null,null,null,null,null,null,null,null,null,null,null,null,"M22","M22",18,"M22"]
[null,null,null,null,null,null,null,null,null,null,null,null,null,null,null,"M24","M24",19,"M24"]
[null,null,null,null,null,null,null,null,null,null,null,null,null,null,null,"M25","M25",20,"M25"]
[null,null,null,null,null,null,null,null,null,null,null,null,null,null,null,"M26","M26",21,"M26"]
[null,null,null,null,null,null,null,null,null,null,null,null,null,null,null,"M29","M29",22,"M29"]
[null,null,null,null,null,null,null,null,null,null,null,null,null,null,null,"M30","M30",23,"M30"]
[null,null,null,null,null,null,null,null,null,null,null,null,null,null,null,"M31","M31",24,"M31"]
[null,null,null,null,null,null,null,null,null,null,null,null,null,null,null,"M32","M32",25,"M32"]
[null,null,null,null,null,null,null,null,null,null,null,null,null,null,null,"M33","M33",26,"M33"]
[null,null,null,null,null,null,null,null,null,null,null,null,null,null,null,"M34","M34",27,"M34"]
[null,null,null,null,null,null,null,null,null,null,null,null,null,null,null,"M35","M35",28,"M35"]
[null,null,null,null,null,null,null,null,null,null,null,null,null,null,null,"M36","M36",29,"M36"]
[null,null,null,null,null,null,null,null,null,null,null,null,null,null,null,"M38","M38",30,"M38"]
[null,null,null,null,null,null,null,null,null,null,null,null,null,null,null,"M39","M39",31,"M39"]
[null,null,null,null,null,null,null,null,null,null,null,null,null,null,null,"M40","M40",32,"M40"]
[null,null,null,null,null,null,null,null,null,null,null,null,null,null,null,"M41","M41",33,"M41"]
[null,null,null,null,null,null,null,null,null,null,null,null,null,null,null,"M42","M42",34,"M42"]
[null,null,null,null,null,null,null,null,null,null,null,null,null,null,null,"M43","M43",35,"M43"]
[null,null,null,null,null,null,null,null,null,null,null,null,null,null,null,"M44","M44",36,"M44"]
[null,null,null,null,null,null,null,null,null,null,null,null,null,null,null,"M45","M45",37,"M45"]
[null,null,null,null,null,null,null,null,null,null,null,null,null,null,null,"M46","M46",38,"M46"]
[null,null,null,null,null,null,null,null,null,null,null,null,null,null,null,"M47","M47",39,"M47"]
[null,null,null,null,null,null,null,null,null,null,null,null,null,null,null,"M48","M48",40,"M48"]
[null,null,null,null,null,null,null,null,null,null,null,null,null,null,null,"M49","M49",41,"M49"]
[null,null,null,null,null,null,null,null,null,null,null,null,null,null,null,"M50","M50",42,"M50"]
[null,null,null,null,null,null,null,null,null,null,null,null,null,null,null,"M51","M51",43,"M51"]
[null,null,null,null,null,null,null,null,null,null,null,null,null,null,null,"M52","M52",44,"M52"]
[null,null,null,null,null,null,null,null,null,null,null,null,null,null,null,"M53","M53",45,"M53"]
[null,null,null,null,null,null,null,null,null,null,null,null,null,null,null,"M54","M54",46,"M54"]
[null,null,null,null,null,null,null,null,null,null,null,null,null,null,null,"M55","M55",47,"M55"]
[null,null,null,null,null,null,null,null,null,null,null,null,null,null,null,"M56","M56",48,"M56"]
[null,null,null,null,null,null,null,null,null,null,null,null,null,null,null,"M57","M57",49,"M57"]
[null,null,null,null,null,null,null,null,null,null,null,null,null,null,null,"M58","M58",50,"M58"]
[null,null,null,null,null,null,null,null,null,null,null,null,null,null,null,"M59","M59",51,"M59"]
[null,null,null,null,null,null,null,null,null,null,null,null,null,null,null,"M60","M60",52,"M60"]
[null,null,null,null,null,null,null,null,null,null,null,null,null,null,null,"M61","M61",53,"M61"]
[null,null,null,null,null,null,null,null,null,null,null,null,null,null,null,"M62","M62",54,"M62"]
[null,null,null,null,null,null,null,null,null,null,null,null,null,null,null,"M63","M63",55,"M63"]
[null,null,null,null,null,null,null,null,null,null,null,null,null,null,null,"M65","M65",56,"M65"]
[null,null,null,null,null,null,null,null,null,null,null,null,null,null,null,"M66","M66",57,"M66"]
[null,null,null,null,null,null,null,null,null,null,null,null,null,null,null,"M68","M68",58,"M68"]
[null,null,null,null,null,null,null,null,null,null,null,null,null,null,null,"M69","M69",59,"M69"]
[null,null,null,null,null,null,null,null,null,null,null,null,null,null,null,"M71","M71",60,"M71"]
[null,null,null,null,null,null,null,null,null,null,null,null,null,null,null,"M74","M74",61,"M74"]
[null,null,null,null,null,null,null,null,null,null,null,null,null,null,null,"M75","M75",62,"M75"]
[null,null,null,null,null,null,null,null,null,null,null,null,null,null,null,"M76","M76",63,"M76"]
[null,null,null,null,null,null,null,null,null,null,null,null,null,null,null,"M77","M77",64,"M77"]
[null,null,null,null,null,null,null,null,null,null,null,null,null,null,null,"M78","M78",65,"M78"]
[null,null,null,null,null,null,null,null,null,null,null,null,null,null,null,"M79","M79",66,"M79"]
[null,null,null,null,null,null,null,null,null,null,null,null,null,null,null,"M80","M80",67,"M80"]
[null,null,null,null,null,null,null,null,null,null,null,null,null,null,null,"M81","M81",68,"M81"]
[null,null,null,null,null,null,null,null,null,null,null,null,null,null,null,"M82","M82",69,"M82"]
[null,null,null,null,null,null,null,null,null,null,null,null,null,null,null,"M84","M84",70,"M84"]
[null,null,null,null,null,null,null,null,null,null,null,null,null,null,null,"M85","M85",71,"M85"]
[null,null,null,null,null,null,null,null,null,null,null,null,null,null,null,"M86","M86",72,"M86"]
[null,null,null,null,null,null,null,null,null,null,null,null,null,null,null,"M87","M87",73,"M87"]
[null,null,null,null,null,null,null,null,null,null,null,null,null,null,null,"M88","M88",74,"M88"]
[null,null,null,null,null,null,null,null,null,null,null,null,null,null,null,"M89","M89",75,"M89"]
[null,null,null,null,null,null,null,null,null,null,null,null,null,null,null,"M90","M90",76,"M90"]
[null,null,null,null,null,null,null,null,null,null,null,null,null,null,null,"M92","M92",77,"M92"]
[null,null,null,null,null,null,null,null,null,null,null,null,null,null,null,"M96","M96",78,"M96"]
[null,null,null,null,null,null,null,null,null,null,null,null,null,null,null,"M97","M97",79,"M97"]
[null,null,null,null,null,null,null,null,null,null,null,null,null,null,null,"M98","M98",80,"M98"]
[null,null,null,null,null,null,null,null,null,null,null,null,null,null,null,{"$f":"S99","v":"M99"},{"$f":"S99","v":"M99"},81,"M99"]
[null,null,null,null,null,null,null,null,null,null,null,null,null,null,null,"M100","M100",82,"M100"]
[null,null,null,null,null,null,null,null,null,null,null,null,null,null,null,"M101","M101",83,"M101"]
[null,null,null,null,null,null,null,null,null,null,null,null,null,null,null,"M102","M102",84,"M102"]
[null,null,null,null,null,null,null,null,null,null,null,null,null,null,null,"M103","M103",85,"M103"]
[null,null,null,null,null,null,null,null,null,null,null,null,null,null,null,"M104","M104",86,"M104"]
[null,null,null,null,null,null,null,null,null,null,null,null,null,null,null,"M105","M105",87,"M105"]
[null,null,null,null,null,null,null,null,null,null,null,null,null,null,null,"M108","M108",88,"M108"]
[null,null,null,null,null,null,null,null,null,null,null,null,null,null,null,"M109","M109",89,"M109"]
[null,null,null,null,null,null,null,null,null,null,null,null,null,null,null,"M110","M110",90,"M110"]
[null,null,null,null,null,null,null,null,null,null,null,null,null,null,null,"M111","M111",91,"M111"]
[null,null,null,null,null,null,null,null,null,null,null,null,null,null,null,"M112","M112",92,"M112"]
[null,null,null,null,null,null,null,null,null,null,null,null,null,null,null,"M113","M113",93,"M113"]
[null,null,null,null,null,null,null,null,null,null,null,null,null,null,null,"M114","M114",94,"M114"]
[null,null,null,null,null,null,null,null,null,null,null,null,null,null,null,"M115","M115",95,"M115"]
[null,null,null,null,null,null,null,null,null,null,null,null,null,null,null,"M118","M118",96,"M118"]
[null,null,null,null,null,null,null,null,null,null,null,null,null,null,null,"M120","M120",97,"M120"]
[null,null,null,null,null,null,null,null,null,null,null,null,null,null,null,"M122","M122",98,"M122"]
[null,null,null,null,null,null,null,null,null,null,null,null,null,null,null,"M124","M124",99,"M124"]
[null,null,null,null,null,null,null,null,null,null,null,null,null,null,null,"M127","M127",100,"M127"]
[null,null,null,null,null,null,null,null,null,null,null,null,null,null,null,"M128","M128",101,"M128"]
[null,null,null,null,null,null,null,null,null,null,null,null,null,null,null,"M129","M129",102,"M129"]
[null,null,null,null,null,null,null,null,null,null,null,null,null,null,null,"M130","M130",103,"M130"]
[null,null,null,null,null,null,null,null,null,null,null,null,null,null,null,"M131","M131",104,"M131"]
[null,null,null,null,null,null,null,null,null,null,null,null,null,null,null,"M132","M132",105,"M132"]
[null,null,null,null,null,null,null,null,null,null,null,null,null,null,null,"M133","M133",106,"M133"]
[null,null,null,null,null,null,null,null,null,null,null,null,null,null,null,"M134","M134",107,"M134"]
[null,null,null,null,null,null,null,null,null,null,null,null,null,null,null,"M135","M135",108,"M135"]
[null,null,null,null,null,null,null,null,null,null,null,null,null,null,null,"M136","M136",109,"M136"]
[null,null,null,null,null,null,null,null,null,null,null,null,null,null,null,"M137","M137",110,"M137"]
[null,null,null,null,null,null,null,null,null,null,null,null,null,null,null,"M138","M138",111,"M138"]
[null,null,null,null,null,null,null,null,null,null,null,null,null,null,null,"M139","M139",112,"M139"]
[null,null,null,null,null,null,null,null,null,null,null,null,null,null,null,"M140","M140",113,"M140"]
[null,null,null,null,null,null,null,null,null,null,null,null,null,null,null,"M141","M141",114,"M141"]
[null,null,null,null,null,null,null,null,null,null,null,null,null,null,null,"M142","M142",115,"M142"]
[null,null,null,null,null,null,null,null,null,null,null,null,null,null,null,"M143","M143",116,"M143"]
[null,null,null,null,null,null,null,null,null,null,null,null,null,null,null,"M144","M144",117,"M144"]
[null,null,null,null,null,null,null,null,null,null,null,null,null,null,null,"M145","M145",118,"M145"]
[null,null,null,null,null,null,null,null,null,null,null,null,null,null,null,"M147","M147",119,"M147"]
[null,null,null,null,null,null,null,null,null,null,null,null,null,null,null,"M149","M149",120,"M149"]
[null,null,null,null,null,null,null,null,null,null,null,null,null,null,null,"M150","M150",121,"M150"]
[null,null,null,null,null,null,null,null,null,null,null,null,null,null,null,"M151","M151",122,"M151"]
[null,null,null,null,null,null,null,null,null,null,null,null,null,null,null,"M153","M153",123,"M153"]
[null,null,null,null,null,null,null,null,null,null,null,null,null,null,null,"M154","M154",124,"M154"]
[null,null,null,null,null,null,null,null,null,null,null,null,null,null,null,"M155","M155",125,"M155"]
[null,null,null,null,null,null,null,null,null,null,null,null,null,null,null,"M157","M157",126,"M157"]
[null,null,null,null,null,null,null,null,null,null,null,null,null,null,null,"M158","M158",127,"M158"]
[null,null,null,null,null,null,null,null,null,null,null,null,null,null,null,"M159","M159",128,"M159"]
[null,null,null,null,null,null,"Mink",null,null,null,null,null,null,null,null,"M161","M161",129,"M161"]
[null,null,null,null,null,null,"Prodgren","Prodgren",null,null,null,null,null,null,null,"M163","M163",130,"M163"]
[null,null,null,null,null,null,8400,8400,null,null,null,null,null,null,null,"M165","M165",131,"M165"]
[null,null,null,null,null,null,"Indeks","Ejendomsnr",null,null,null,null,null,null,null,"M166","M166",132,"M166"]
[null,null,null,null,null,null,1,null,null,null,null,null,null,null,null,{"$f":"Identifikation8400[[#This Row],[Ejendomsnr]]","v":0},{"$f":"Identifikation8400[[#This Row],[Ejendomsnr]]","v":0},133]
[null,null,null,null,null,null,null,null,null,null,null,null,null,null,null,{"$f":"Identifikation8400[[#This Row],[Ejendomsnr]]","v":{"$error":"#VALUE!"}},{"$f":"Identifikation8400[[#This Row],[Ejendomsnr]]","v":{"$error":"#VALUE!"}},134]
[null,null,null,null,null,null,null,null,null,null,null,null,null,null,null,{"$f":"Identifikation8400[[#This Row],[Ejendomsnr]]","v":{"$error":"#VALUE!"}},{"$f":"Identifikation8400[[#This Row],[Ejendomsnr]]","v":{"$error":"#VALUE!"}},135]
[null,null,null,null,null,null,null,null,null,null,null,null,null,null,null,{"$f":"Identifikation8400[[#This Row],[Ejendomsnr]]","v":{"$error":"#VALUE!"}},{"$f":"Identifikation8400[[#This Row],[Ejendomsnr]]","v":{"$error":"#VALUE!"}},136]
[null,null,null,null,null,null,null,null,null,null,null,null,null,null,null,{"$f":"Identifikation8400[[#This Row],[Ejendomsnr]]","v":{"$error":"#VALUE!"}},{"$f":"Identifikation8400[[#This Row],[Ejendomsnr]]","v":{"$error":"#VALUE!"}},137]
[null,null,null,null,null,null,null,null,null,null,null,null,null,null,null,{"$f":"Identifikation8400[[#This Row],[Ejendomsnr]]","v":{"$error":"#VALUE!"}},{"$f":"Identifikation8400[[#This Row],[Ejendomsnr]]","v":{"$error":"#VALUE!"}},138]
[null,null,null,null,null,null,null,null,null,null,null,null,null,null,null,{"$f":"Identifikation8400[[#This Row],[Ejendomsnr]]","v":{"$error":"#VALUE!"}},{"$f":"Identifikation8400[[#This Row],[Ejendomsnr]]","v":{"$error":"#VALUE!"}},139]
[null,null,null,null,null,null,null,null,null,null,null,null,null,null,null,{"$f":"Identifikation8400[[#This Row],[Ejendomsnr]]","v":{"$error":"#VALUE!"}},{"$f":"Identifikation8400[[#This Row],[Ejendomsnr]]","v":{"$error":"#VALUE!"}},140]
[null,null,null,null,null,null,null,null,null,null,null,null,null,null,null,{"$f":"Identifikation8400[[#This Row],[Ejendomsnr]]","v":{"$error":"#VALUE!"}},{"$f":"Identifikation8400[[#This Row],[Ejendomsnr]]","v":{"$error":"#VALUE!"}},141]
[null,null,null,null,null,null,null,null,null,null,null,null,null,null,null,{"$f":"Identifikation8400[[#This Row],[Ejendomsnr]]","v":{"$error":"#VALUE!"}},{"$f":"Identifikation8400[[#This Row],[Ejendomsnr]]","v":{"$error":"#VALUE!"}},142]
[null,null,null,null,null,null,null,null,null,null,null,null,null,null,null,{"$f":"Identifikation8400[[#This Row],[Ejendomsnr]]","v":{"$error":"#VALUE!"}},{"$f":"Identifikation8400[[#This Row],[Ejendomsnr]]","v":{"$error":"#VALUE!"}},143]
[null,null,null,null,null,null,null,null,null,null,null,null,null,null,null,{"$f":"Identifikation8400[[#This Row],[Ejendomsnr]]","v":{"$error":"#VALUE!"}},{"$f":"Identifikation8400[[#This Row],[Ejendomsnr]]","v":{"$error":"#VALUE!"}},144]
[null,null,null,null,null,null,null,null,null,null,null,null,null,null,null,{"$f":"Identifikation8400[[#This Row],[Ejendomsnr]]","v":{"$error":"#VALUE!"}},{"$f":"Identifikation8400[[#This Row],[Ejendomsnr]]","v":{"$error":"#VALUE!"}},145]
[null,null,null,null,null,null,null,null,null,null,null,null,null,null,null,{"$f":"Identifikation8400[[#This Row],[Ejendomsnr]]","v":{"$error":"#VALUE!"}},{"$f":"Identifikation8400[[#This Row],[Ejendomsnr]]","v":{"$error":"#VALUE!"}},146]
[null,null,null,null,null,null,null,null,null,null,null,null,null,null,null,{"$f":"Identifikation8400[[#This Row],[Ejendomsnr]]","v":{"$error":"#VALUE!"}},{"$f":"Identifikation8400[[#This Row],[Ejendomsnr]]","v":{"$error":"#VALUE!"}},147]
[null,null,null,null,null,null,null,null,null,null,null,null,null,null,null,{"$f":"Identifikation8400[[#This Row],[Ejendomsnr]]","v":{"$error":"#VALUE!"}},{"$f":"Identifikation8400[[#This Row],[Ejendomsnr]]","v":{"$error":"#VALUE!"}},148]
[null,null,null,null,null,null,null,null,null,null,null,null,null,null,null,{"$f":"Identifikation8400[[#This Row],[Ejendomsnr]]","v":{"$error":"#VALUE!"}},{"$f":"Identifikation8400[[#This Row],[Ejendomsnr]]","v":{"$error":"#VALUE!"}},149]
[null,null,null,null,null,null,null,null,null,null,null,null,null,null,null,{"$f":"Identifikation8400[[#This Row],[Ejendomsnr]]","v":{"$error":"#VALUE!"}},{"$f":"Identifikation8400[[#This Row],[Ejendomsnr]]","v":{"$error":"#VALUE!"}},150]
[null,null,null,null,null,null,null,null,null,null,null,null,null,null,null,{"$f":"Identifikation8400[[#This Row],[Ejendomsnr]]","v":{"$error":"#VALUE!"}},{"$f":"Identifikation8400[[#This Row],[Ejendomsnr]]","v":{"$error":"#VALUE!"}},151]
[null,null,null,null,null,null,null,null,null,null,null,null,null,null,null,{"$f":"Identifikation8400[[#This Row],[Ejendomsnr]]","v":{"$error":"#VALUE!"}},{"$f":"Identifikation8400[[#This Row],[Ejendomsnr]]","v":{"$error":"#VALUE!"}},152]
[null,null,null,null,null,null,null,null,null,null,null,null,null,null,null,{"$f":"Identifikation8400[[#This Row],[Ejendomsnr]]","v":{"$error":"#VALUE!"}},{"$f":"Identifikation8400[[#This Row],[Ejendomsnr]]","v":{"$error":"#VALUE!"}},153]
[null,null,null,null,null,null,null,null,null,null,null,null,null,null,null,{"$f":"Identifikation8400[[#This Row],[Ejendomsnr]]","v":{"$error":"#VALUE!"}},{"$f":"Identifikation8400[[#This Row],[Ejendomsnr]]","v":{"$error":"#VALUE!"}},154]
[null,null,null,null,null,null,null,null,null,null,null,null,null,null,null,{"$f":"Identifikation8400[[#This Row],[Ejendomsnr]]","v":{"$error":"#VALUE!"}},{"$f":"Identifikation8400[[#This Row],[Ejendomsnr]]","v":{"$error":"#VALUE!"}},155]
[null,null,null,null,null,null,null,null,null,null,null,null,null,null,null,{"$f":"Identifikation8400[[#This Row],[Ejendomsnr]]","v":{"$error":"#VALUE!"}},{"$f":"Identifikation8400[[#This Row],[Ejendomsnr]]","v":{"$error":"#VALUE!"}},156]
[null,null,null,null,null,null,null,null,null,null,null,null,null,null,null,{"$f":"Identifikation8400[[#This Row],[Ejendomsnr]]","v":{"$error":"#VALUE!"}},{"$f":"Identifikation8400[[#This Row],[Ejendomsnr]]","v":{"$error":"#VALUE!"}},157]
[null,null,null,null,null,null,null,null,null,null,null,null,null,null,null,{"$f":"Identifikation8400[[#This Row],[Ejendomsnr]]","v":{"$error":"#VALUE!"}},{"$f":"Identifikation8400[[#This Row],[Ejendomsnr]]","v":{"$error":"#VALUE!"}},158]
[null,null,null,null,null,null,null,null,null,null,null,null,null,null,null,{"$f":"Identifikation8400[[#This Row],[Ejendomsnr]]","v":{"$error":"#VALUE!"}},{"$f":"Identifikation8400[[#This Row],[Ejendomsnr]]","v":{"$error":"#VALUE!"}},159]
[null,null,null,null,null,null,null,null,null,null,null,null,null,null,null,{"$f":"Identifikation8400[[#This Row],[Ejendomsnr]]","v":{"$error":"#VALUE!"}},{"$f":"Identifikation8400[[#This Row],[Ejendomsnr]]","v":{"$error":"#VALUE!"}},160]
[null,null,null,null,null,null,null,null,null,null,null,null,null,null,null,{"$f":"Identifikation8400[[#This Row],[Ejendomsnr]]","v":{"$error":"#VALUE!"}},{"$f":"Identifikation8400[[#This Row],[Ejendomsnr]]","v":{"$error":"#VALUE!"}},161]
[null,null,null,null,null,null,null,null,null,null,null,null,null,null,null,{"$f":"Identifikation8400[[#This Row],[Ejendomsnr]]","v":{"$error":"#VALUE!"}},{"$f":"Identifikation8400[[#This Row],[Ejendomsnr]]","v":{"$error":"#VALUE!"}},162]
[null,null,null,null,null,null,null,null,null,null,null,null,null,null,null,{"$f":"Identifikation8400[[#This Row],[Ejendomsnr]]","v":{"$error":"#VALUE!"}},{"$f":"Identifikation8400[[#This Row],[Ejendomsnr]]","v":{"$error":"#VALUE!"}},163]
[null,null,null,null,null,null,null,null,null,null,null,null,null,null,null,{"$f":"Identifikation8400[[#This Row],[Ejendomsnr]]","v":{"$error":"#VALUE!"}},{"$f":"Identifikation8400[[#This Row],[Ejendomsnr]]","v":{"$error":"#VALUE!"}},164]
[null,null,null,null,null,null,null,null,null,null,null,null,null,null,null,{"$f":"Identifikation8400[[#This Row],[Ejendomsnr]]","v":{"$error":"#VALUE!"}},{"$f":"Identifikation8400[[#This Row],[Ejendomsnr]]","v":{"$error":"#VALUE!"}},165]
[null,null,null,null,null,null,null,null,null,null,null,null,null,null,null,{"$f":"Identifikation8400[[#This Row],[Ejendomsnr]]","v":{"$error":"#VALUE!"}},{"$f":"Identifikation8400[[#This Row],[Ejendomsnr]]","v":{"$error":"#VALUE!"}},166]
[null,null,null,null,null,null,null,null,null,null,null,null,null,null,null,{"$f":"Identifikation8400[[#This Row],[Ejendomsnr]]","v":{"$error":"#VALUE!"}},{"$f":"Identifikation8400[[#This Row],[Ejendomsnr]]","v":{"$error":"#VALUE!"}},167]
[null,null,null,null,null,null,null,null,null,null,null,null,null,null,null,{"$f":"Identifikation8400[[#This Row],[Ejendomsnr]]","v":{"$error":"#VALUE!"}},{"$f":"Identifikation8400[[#This Row],[Ejendomsnr]]","v":{"$error":"#VALUE!"}},168]
[null,null,null,null,null,null,null,null,null,null,null,null,null,null,null,{"$f":"Identifikation8400[[#This Row],[Ejendomsnr]]","v":{"$error":"#VALUE!"}},{"$f":"Identifikation8400[[#This Row],[Ejendomsnr]]","v":{"$error":"#VALUE!"}},169]
[null,null,null,null,null,null,null,null,null,null,null,null,null,null,null,{"$f":"Identifikation8400[[#This Row],[Ejendomsnr]]","v":{"$error":"#VALUE!"}},{"$f":"Identifikation8400[[#This Row],[Ejendomsnr]]","v":{"$error":"#VALUE!"}},170]
[null,null,null,null,null,null,null,null,null,null,null,null,null,null,null,{"$f":"Identifikation8400[[#This Row],[Ejendomsnr]]","v":{"$error":"#VALUE!"}},{"$f":"Identifikation8400[[#This Row],[Ejendomsnr]]","v":{"$error":"#VALUE!"}},171]
[null,null,null,null,null,null,null,null,null,null,null,null,null,null,null,{"$f":"Identifikation8400[[#This Row],[Ejendomsnr]]","v":{"$error":"#VALUE!"}},{"$f":"Identifikation8400[[#This Row],[Ejendomsnr]]","v":{"$error":"#VALUE!"}},172]
[null,null,null,null,null,null,null,null,null,null,null,null,null,null,null,{"$f":"Identifikation8400[[#This Row],[Ejendomsnr]]","v":{"$error":"#VALUE!"}},{"$f":"Identifikation8400[[#This Row],[Ejendomsnr]]","v":{"$error":"#VALUE!"}},173]
[null,null,null,null,null,null,null,null,null,null,null,null,null,null,null,{"$f":"Identifikation8400[[#This Row],[Ejendomsnr]]","v":{"$error":"#VALUE!"}},{"$f":"Identifikation8400[[#This Row],[Ejendomsnr]]","v":{"$error":"#VALUE!"}},174]
[null,null,null,null,null,null,null,null,null,null,null,null,null,null,null,{"$f":"Identifikation8400[[#This Row],[Ejendomsnr]]","v":{"$error":"#VALUE!"}},{"$f":"Identifikation8400[[#This Row],[Ejendomsnr]]","v":{"$error":"#VALUE!"}},175]
[null,null,null,null,null,null,null,null,null,null,null,null,null,null,null,{"$f":"Identifikation8400[[#This Row],[Ejendomsnr]]","v":{"$error":"#VALUE!"}},{"$f":"Identifikation8400[[#This Row],[Ejendomsnr]]","v":{"$error":"#VALUE!"}},176]
[null,null,null,null,null,null,null,null,null,null,null,null,null,null,null,{"$f":"Identifikation8400[[#This Row],[Ejendomsnr]]","v":{"$error":"#VALUE!"}},{"$f":"Identifikation8400[[#This Row],[Ejendomsnr]]","v":{"$error":"#VALUE!"}},177]
[null,null,null,null,null,null,null,null,null,null,null,null,null,null,null,{"$f":"Identifikation8400[[#This Row],[Ejendomsnr]]","v":{"$error":"#VALUE!"}},{"$f":"Identifikation8400[[#This Row],[Ejendomsnr]]","v":{"$error":"#VALUE!"}},178]
[null,null,null,null,null,null,null,null,null,null,null,null,null,null,null,{"$f":"Identifikation8400[[#This Row],[Ejendomsnr]]","v":{"$error":"#VALUE!"}},{"$f":"Identifikation8400[[#This Row],[Ejendomsnr]]","v":{"$error":"#VALUE!"}},179]
[null,null,null,null,null,null,null,null,null,null,null,null,null,null,null,{"$f":"Identifikation8400[[#This Row],[Ejendomsnr]]","v":{"$error":"#VALUE!"}},{"$f":"Identifikation8400[[#This Row],[Ejendomsnr]]","v":{"$error":"#VALUE!"}},180]
[null,null,null,null,null,null,null,null,null,null,null,null,null,null,null,{"$f":"Identifikation8400[[#This Row],[Ejendomsnr]]","v":{"$error":"#VALUE!"}},{"$f":"Identifikation8400[[#This Row],[Ejendomsnr]]","v":{"$error":"#VALUE!"}},181]
[null,null,null,null,null,null,null,null,null,null,null,null,null,null,null,{"$f":"Identifikation8400[[#This Row],[Ejendomsnr]]","v":{"$error":"#VALUE!"}},{"$f":"Identifikation8400[[#This Row],[Ejendomsnr]]","v":{"$error":"#VALUE!"}},182]
[null,null,null,null,null,null,null,null,null,null,null,null,null,null,null,{"$f":"Identifikation8400[[#This Row],[Ejendomsnr]]","v":{"$error":"#VALUE!"}},{"$f":"Identifikation8400[[#This Row],[Ejendomsnr]]","v":{"$error":"#VALUE!"}},183]
[null,null,null,null,null,null,null,null,null,null,null,null,null,null,null,{"$f":"Identifikation8400[[#This Row],[Ejendomsnr]]","v":{"$error":"#VALUE!"}},{"$f":"Identifikation8400[[#This Row],[Ejendomsnr]]","v":{"$error":"#VALUE!"}},184]
[null,null,null,null,null,null,null,null,null,null,null,null,null,null,null,{"$f":"Identifikation8400[[#This Row],[Ejendomsnr]]","v":{"$error":"#VALUE!"}},{"$f":"Identifikation8400[[#This Row],[Ejendomsnr]]","v":{"$error":"#VALUE!"}},185]
[null,null,null,null,null,null,null,null,null,null,null,null,null,null,null,{"$f":"Identifikation8400[[#This Row],[Ejendomsnr]]","v":{"$error":"#VALUE!"}},{"$f":"Identifikation8400[[#This Row],[Ejendomsnr]]","v":{"$error":"#VALUE!"}},186]
[null,null,null,null,null,null,null,null,null,null,null,null,null,null,null,{"$f":"Identifikation8400[[#This Row],[Ejendomsnr]]","v":{"$error":"#VALUE!"}},{"$f":"Identifikation8400[[#This Row],[Ejendomsnr]]","v":{"$error":"#VALUE!"}},187]
[null,null,null,null,null,null,null,null,null,null,null,null,null,null,null,{"$f":"Identifikation8400[[#This Row],[Ejendomsnr]]","v":{"$error":"#VALUE!"}},{"$f":"Identifikation8400[[#This Row],[Ejendomsnr]]","v":{"$error":"#VALUE!"}},188]
[null,null,null,null,null,null,null,null,null,null,null,null,null,null,null,{"$f":"Identifikation8400[[#This Row],[Ejendomsnr]]","v":{"$error":"#VALUE!"}},{"$f":"Identifikation8400[[#This Row],[Ejendomsnr]]","v":{"$error":"#VALUE!"}},189]
[null,null,null,null,null,null,null,null,null,null,null,null,null,null,null,{"$f":"Identifikation8400[[#This Row],[Ejendomsnr]]","v":{"$error":"#VALUE!"}},{"$f":"Identifikation8400[[#This Row],[Ejendomsnr]]","v":{"$error":"#VALUE!"}},190]
[null,null,null,null,null,null,null,null,null,null,null,null,null,null,null,{"$f":"Identifikation8400[[#This Row],[Ejendomsnr]]","v":{"$error":"#VALUE!"}},{"$f":"Identifikation8400[[#This Row],[Ejendomsnr]]","v":{"$error":"#VALUE!"}},191]
[null,null,null,null,null,null,null,null,null,null,null,null,null,null,null,{"$f":"Identifikation8400[[#This Row],[Ejendomsnr]]","v":{"$error":"#VALUE!"}},{"$f":"Identifikation8400[[#This Row],[Ejendomsnr]]","v":{"$error":"#VALUE!"}},192]
[null,null,null,null,null,null,null,null,null,null,null,null,null,null,null,{"$f":"Identifikation8400[[#This Row],[Ejendomsnr]]","v":{"$error":"#VALUE!"}},{"$f":"Identifikation8400[[#This Row],[Ejendomsnr]]","v":{"$error":"#VALUE!"}},193]
[null,null,null,null,null,null,null,null,null,null,null,null,null,null,null,{"$f":"Identifikation8400[[#This Row],[Ejendomsnr]]","v":{"$error":"#VALUE!"}},{"$f":"Identifikation8400[[#This Row],[Ejendomsnr]]","v":{"$error":"#VALUE!"}},194]
[null,null,null,null,null,null,null,null,null,null,null,null,null,null,null,{"$f":"Identifikation8400[[#This Row],[Ejendomsnr]]","v":{"$error":"#VALUE!"}},{"$f":"Identifikation8400[[#This Row],[Ejendomsnr]]","v":{"$error":"#VALUE!"}},195]
[null,null,null,null,null,null,null,null,null,null,null,null,null,null,null,{"$f":"Identifikation8400[[#This Row],[Ejendomsnr]]","v":{"$error":"#VALUE!"}},{"$f":"Identifikation8400[[#This Row],[Ejendomsnr]]","v":{"$error":"#VALUE!"}},196]
[null,null,null,null,null,null,null,null,null,null,null,null,null,null,null,{"$f":"Identifikation8400[[#This Row],[Ejendomsnr]]","v":{"$error":"#VALUE!"}},{"$f":"Identifikation8400[[#This Row],[Ejendomsnr]]","v":{"$error":"#VALUE!"}},197]
[null,null,null,null,null,null,null,null,null,null,null,null,null,null,null,{"$f":"Identifikation8400[[#This Row],[Ejendomsnr]]","v":{"$error":"#VALUE!"}},{"$f":"Identifikation8400[[#This Row],[Ejendomsnr]]","v":{"$error":"#VALUE!"}},198]
[null,null,null,null,null,null,null,null,null,null,null,null,null,null,null,{"$f":"Identifikation8400[[#This Row],[Ejendomsnr]]","v":{"$error":"#VALUE!"}},{"$f":"Identifikation8400[[#This Row],[Ejendomsnr]]","v":{"$error":"#VALUE!"}},199]
[null,null,null,null,null,null,null,null,null,null,null,null,null,null,null,{"$f":"Identifikation8400[[#This Row],[Ejendomsnr]]","v":{"$error":"#VALUE!"}},{"$f":"Identifikation8400[[#This Row],[Ejendomsnr]]","v":{"$error":"#VALUE!"}},200]
[null,null,null,null,null,null,null,null,null,null,null,null,null,null,null,{"$f":"Identifikation8400[[#This Row],[Ejendomsnr]]","v":{"$error":"#VALUE!"}},{"$f":"Identifikation8400[[#This Row],[Ejendomsnr]]","v":{"$error":"#VALUE!"}},201]
[null,null,null,null,null,null,null,null,null,null,null,null,null,null,null,{"$f":"Identifikation8400[[#This Row],[Ejendomsnr]]","v":{"$error":"#VALUE!"}},{"$f":"Identifikation8400[[#This Row],[Ejendomsnr]]","v":{"$error":"#VALUE!"}},202]
[null,null,null,null,null,null,null,null,null,null,null,null,null,null,null,{"$f":"Identifikation8400[[#This Row],[Ejendomsnr]]","v":{"$error":"#VALUE!"}},{"$f":"Identifikation8400[[#This Row],[Ejendomsnr]]","v":{"$error":"#VALUE!"}},203]
[null,null,null,null,null,null,null,null,null,null,null,null,null,null,null,{"$f":"Identifikation8400[[#This Row],[Ejendomsnr]]","v":{"$error":"#VALUE!"}},{"$f":"Identifikation8400[[#This Row],[Ejendomsnr]]","v":{"$error":"#VALUE!"}},204]
[null,null,null,null,null,null,null,null,null,null,null,null,null,null,null,{"$f":"Identifikation8400[[#This Row],[Ejendomsnr]]","v":{"$error":"#VALUE!"}},{"$f":"Identifikation8400[[#This Row],[Ejendomsnr]]","v":{"$error":"#VALUE!"}},205]
[null,null,null,null,null,null,null,null,null,null,null,null,null,null,null,{"$f":"Identifikation8400[[#This Row],[Ejendomsnr]]","v":{"$error":"#VALUE!"}},{"$f":"Identifikation8400[[#This Row],[Ejendomsnr]]","v":{"$error":"#VALUE!"}},206]
[null,null,null,null,null,null,null,null,null,null,null,null,null,null,null,{"$f":"Identifikation8400[[#This Row],[Ejendomsnr]]","v":{"$error":"#VALUE!"}},{"$f":"Identifikation8400[[#This Row],[Ejendomsnr]]","v":{"$error":"#VALUE!"}},207]
[null,null,null,null,null,null,null,null,null,null,null,null,null,null,null,{"$f":"Identifikation8400[[#This Row],[Ejendomsnr]]","v":{"$error":"#VALUE!"}},{"$f":"Identifikation8400[[#This Row],[Ejendomsnr]]","v":{"$error":"#VALUE!"}},208]
[null,null,null,null,null,null,null,null,null,null,null,null,null,null,null,{"$f":"Identifikation8400[[#This Row],[Ejendomsnr]]","v":{"$error":"#VALUE!"}},{"$f":"Identifikation8400[[#This Row],[Ejendomsnr]]","v":{"$error":"#VALUE!"}},209]
[null,null,null,null,null,null,null,null,null,null,null,null,null,null,null,{"$f":"Identifikation8400[[#This Row],[Ejendomsnr]]","v":{"$error":"#VALUE!"}},{"$f":"Identifikation8400[[#This Row],[Ejendomsnr]]","v":{"$error":"#VALUE!"}},210]
[null,null,null,null,null,null,null,null,null,null,null,null,null,null,null,{"$f":"Identifikation8400[[#This Row],[Ejendomsnr]]","v":{"$error":"#VALUE!"}},{"$f":"Identifikation8400[[#This Row],[Ejendomsnr]]","v":{"$error":"#VALUE!"}},211]
[null,null,null,null,null,null,null,null,null,null,null,null,null,null,null,{"$f":"Identifikation8400[[#This Row],[Ejendomsnr]]","v":{"$error":"#VALUE!"}},{"$f":"Identifikation8400[[#This Row],[Ejendomsnr]]","v":{"$error":"#VALUE!"}},212]
[null,null,null,null,null,null,null,null,null,null,null,null,null,null,null,{"$f":"Identifikation8400[[#This Row],[Ejendomsnr]]","v":{"$error":"#VALUE!"}},{"$f":"Identifikation8400[[#This Row],[Ejendomsnr]]","v":{"$error":"#VALUE!"}},213]
[null,null,null,null,null,null,null,null,null,null,null,null,null,null,null,{"$f":"Identifikation8400[[#This Row],[Ejendomsnr]]","v":{"$error":"#VALUE!"}},{"$f":"Identifikation8400[[#This Row],[Ejendomsnr]]","v":{"$error":"#VALUE!"}},214]
[null,null,null,null,null,null,null,null,null,null,null,null,null,null,null,{"$f":"Identifikation8400[[#This Row],[Ejendomsnr]]","v":{"$error":"#VALUE!"}},{"$f":"Identifikation8400[[#This Row],[Ejendomsnr]]","v":{"$error":"#VALUE!"}},215]
[null,null,null,null,null,null,null,null,null,null,null,null,null,null,null,{"$f":"Identifikation8400[[#This Row],[Ejendomsnr]]","v":{"$error":"#VALUE!"}},{"$f":"Identifikation8400[[#This Row],[Ejendomsnr]]","v":{"$error":"#VALUE!"}},216]
[null,null,null,null,null,null,null,null,null,null,null,null,null,null,null,{"$f":"Identifikation8400[[#This Row],[Ejendomsnr]]","v":{"$error":"#VALUE!"}},{"$f":"Identifikation8400[[#This Row],[Ejendomsnr]]","v":{"$error":"#VALUE!"}},217]
[null,null,null,null,null,null,null,null,null,null,null,null,null,null,null,{"$f":"Identifikation8400[[#This Row],[Ejendomsnr]]","v":{"$error":"#VALUE!"}},{"$f":"Identifikation8400[[#This Row],[Ejendomsnr]]","v":{"$error":"#VALUE!"}},218]
[null,null,null,null,null,null,null,null,null,null,null,null,null,null,null,{"$f":"Identifikation8400[[#This Row],[Ejendomsnr]]","v":{"$error":"#VALUE!"}},{"$f":"Identifikation8400[[#This Row],[Ejendomsnr]]","v":{"$error":"#VALUE!"}},219]
[null,null,null,null,null,null,null,null,null,null,null,null,null,null,null,{"$f":"Identifikation8400[[#This Row],[Ejendomsnr]]","v":{"$error":"#VALUE!"}},{"$f":"Identifikation8400[[#This Row],[Ejendomsnr]]","v":{"$error":"#VALUE!"}},220]
[null,null,null,null,null,null,null,null,null,null,null,null,null,null,null,{"$f":"Identifikation8400[[#This Row],[Ejendomsnr]]","v":{"$error":"#VALUE!"}},{"$f":"Identifikation8400[[#This Row],[Ejendomsnr]]","v":{"$error":"#VALUE!"}},221]
[null,null,null,null,null,null,null,null,null,null,null,null,null,null,null,{"$f":"Identifikation8400[[#This Row],[Ejendomsnr]]","v":{"$error":"#VALUE!"}},{"$f":"Identifikation8400[[#This Row],[Ejendomsnr]]","v":{"$error":"#VALUE!"}},222]
[null,null,null,null,null,null,null,null,null,null,null,null,null,null,null,{"$f":"Identifikation8400[[#This Row],[Ejendomsnr]]","v":{"$error":"#VALUE!"}},{"$f":"Identifikation8400[[#This Row],[Ejendomsnr]]","v":{"$error":"#VALUE!"}},223]
[null,null,null,null,null,null,null,null,null,null,null,null,null,null,null,{"$f":"Identifikation8400[[#This Row],[Ejendomsnr]]","v":{"$error":"#VALUE!"}},{"$f":"Identifikation8400[[#This Row],[Ejendomsnr]]","v":{"$error":"#VALUE!"}},224]
[null,null,null,null,null,null,null,null,null,null,null,null,null,null,null,{"$f":"Identifikation8400[[#This Row],[Ejendomsnr]]","v":{"$error":"#VALUE!"}},{"$f":"Identifikation8400[[#This Row],[Ejendomsnr]]","v":{"$error":"#VALUE!"}},225]
[null,null,null,null,null,null,null,null,null,null,null,null,null,null,null,{"$f":"Identifikation8400[[#This Row],[Ejendomsnr]]","v":{"$error":"#VALUE!"}},{"$f":"Identifikation8400[[#This Row],[Ejendomsnr]]","v":{"$error":"#VALUE!"}},226]
[null,null,null,null,null,null,null,null,null,null,null,null,null,null,null,{"$f":"Identifikation8400[[#This Row],[Ejendomsnr]]","v":{"$error":"#VALUE!"}},{"$f":"Identifikation8400[[#This Row],[Ejendomsnr]]","v":{"$error":"#VALUE!"}},227]
[null,null,null,null,null,null,null,null,null,null,null,null,null,null,null,{"$f":"Identifikation8400[[#This Row],[Ejendomsnr]]","v":{"$error":"#VALUE!"}},{"$f":"Identifikation8400[[#This Row],[Ejendomsnr]]","v":{"$error":"#VALUE!"}},228]
[null,null,null,null,null,null,null,null,null,null,null,null,null,null,null,{"$f":"Identifikation8400[[#This Row],[Ejendomsnr]]","v":{"$error":"#VALUE!"}},{"$f":"Identifikation8400[[#This Row],[Ejendomsnr]]","v":{"$error":"#VALUE!"}},229]
[null,null,null,null,null,null,null,null,null,null,null,null,null,null,null,{"$f":"Identifikation8400[[#This Row],[Ejendomsnr]]","v":{"$error":"#VALUE!"}},{"$f":"Identifikation8400[[#This Row],[Ejendomsnr]]","v":{"$error":"#VALUE!"}},230]
[null,null,null,null,null,null,null,null,null,null,null,null,null,null,null,{"$f":"Identifikation8400[[#This Row],[Ejendomsnr]]","v":{"$error":"#VALUE!"}},{"$f":"Identifikation8400[[#This Row],[Ejendomsnr]]","v":{"$error":"#VALUE!"}},231]
[null,null,null,null,null,null,null,null,null,null,null,null,null,null,null,{"$f":"Identifikation8400[[#This Row],[Ejendomsnr]]","v":{"$error":"#VALUE!"}},{"$f":"Identifikation8400[[#This Row],[Ejendomsnr]]","v":{"$error":"#VALUE!"}},232]
[null,null,null,null,null,null,null,null,null,null,null,null,null,null,null,{"$f":"Identifikation8400[[#This Row],[Ejendomsnr]]","v":{"$error":"#VALUE!"}},{"$f":"Identifikation8400[[#This Row],[Ejendomsnr]]","v":{"$error":"#VALUE!"}},233]
[null,null,null,null,null,null,null,null,null,null,null,null,null,null,null,{"$f":"Identifikation8400[[#This Row],[Ejendomsnr]]","v":{"$error":"#VALUE!"}},{"$f":"Identifikation8400[[#This Row],[Ejendomsnr]]","v":{"$error":"#VALUE!"}}]
[null,null,null,null,null,null,null,null,null,null,null,null,null,null,null,{"$f":"Identifikation8400[[#This Row],[Ejendomsnr]]","v":{"$error":"#VALUE!"}},{"$f":"Identifikation8400[[#This Row],[Ejendomsnr]]","v":{"$error":"#VALUE!"}}]
[null,null,null,null,null,null,null,null,null,null,null,null,null,null,null,{"$f":"Identifikation8400[[#This Row],[Ejendomsnr]]","v":{"$error":"#VALUE!"}},{"$f":"Identifikation8400[[#This Row],[Ejendomsnr]]","v":{"$error":"#VALUE!"}}]
[null,null,null,null,null,null,null,null,null,null,null,null,null,null,null,{"$f":"Identifikation8400[[#This Row],[Ejendomsnr]]","v":{"$error":"#VALUE!"}},{"$f":"Identifikation8400[[#This Row],[Ejendomsnr]]","v":{"$error":"#VALUE!"}}]
[null,null,null,null,null,null,null,null,null,null,null,null,null,null,null,{"$f":"Identifikation8400[[#This Row],[Ejendomsnr]]","v":{"$error":"#VALUE!"}},{"$f":"Identifikation8400[[#This Row],[Ejendomsnr]]","v":{"$error":"#VALUE!"}}]
[null,null,null,null,null,null,null,null,null,null,null,null,null,null,null,{"$f":"Identifikation8400[[#This Row],[Ejendomsnr]]","v":{"$error":"#VALUE!"}},{"$f":"Identifikation8400[[#This Row],[Ejendomsnr]]","v":{"$error":"#VALUE!"}}]
[null,null,null,null,null,null,null,null,null,null,null,null,null,null,null,{"$f":"Identifikation8400[[#This Row],[Ejendomsnr]]","v":{"$error":"#VALUE!"}},{"$f":"Identifikation8400[[#This Row],[Ejendomsnr]]","v":{"$error":"#VALUE!"}}]
[null,null,null,null,null,null,null,null,null,null,null,null,null,null,null,{"$f":"Identifikation8400[[#This Row],[Ejendomsnr]]","v":{"$error":"#VALUE!"}},{"$f":"Identifikation8400[[#This Row],[Ejendomsnr]]","v":{"$error":"#VALUE!"}}]
[null,null,null,null,null,null,null,null,null,null,null,null,null,null,null,{"$f":"Identifikation8400[[#This Row],[Ejendomsnr]]","v":{"$error":"#VALUE!"}},{"$f":"Identifikation8400[[#This Row],[Ejendomsnr]]","v":{"$error":"#VALUE!"}}]
[null,null,null,null,null,null,null,null,null,null,null,null,null,null,null,{"$f":"Identifikation8400[[#This Row],[Ejendomsnr]]","v":{"$error":"#VALUE!"}},{"$f":"Identifikation8400[[#This Row],[Ejendomsnr]]","v":{"$error":"#VALUE!"}}]
[null,null,null,null,null,null,null,null,null,null,null,null,null,null,null,{"$f":"Identifikation8400[[#This Row],[Ejendomsnr]]","v":{"$error":"#VALUE!"}},{"$f":"Identifikation8400[[#This Row],[Ejendomsnr]]","v":{"$error":"#VALUE!"}}]
[null,null,null,null,null,null,null,null,null,null,null,null,null,null,null,{"$f":"Identifikation8400[[#This Row],[Ejendomsnr]]","v":{"$error":"#VALUE!"}},{"$f":"Identifikation8400[[#This Row],[Ejendomsnr]]","v":{"$error":"#VALUE!"}}]
[null,null,null,null,null,null,null,null,null,null,null,null,null,null,null,{"$f":"Identifikation8400[[#This Row],[Ejendomsnr]]","v":{"$error":"#VALUE!"}},{"$f":"Identifikation8400[[#This Row],[Ejendomsnr]]","v":{"$error":"#VALUE!"}}]
[null,null,null,null,null,null,null,null,null,null,null,null,null,null,null,{"$f":"Identifikation8400[[#This Row],[Ejendomsnr]]","v":{"$error":"#VALUE!"}},{"$f":"Identifikation8400[[#This Row],[Ejendomsnr]]","v":{"$error":"#VALUE!"}}]
[null,null,null,null,null,null,null,null,null,null,null,null,null,null,null,{"$f":"Identifikation8400[[#This Row],[Ejendomsnr]]","v":{"$error":"#VALUE!"}},{"$f":"Identifikation8400[[#This Row],[Ejendomsnr]]","v":{"$error":"#VALUE!"}}]
[null,null,null,null,null,null,null,null,null,null,null,null,null,null,null,{"$f":"Identifikation8400[[#This Row],[Ejendomsnr]]","v":{"$error":"#VALUE!"}},{"$f":"Identifikation8400[[#This Row],[Ejendomsnr]]","v":{"$error":"#VALUE!"}}]
[null,null,null,null,null,null,null,null,null,null,null,null,null,null,null,{"$f":"Identifikation8400[[#This Row],[Ejendomsnr]]","v":{"$error":"#VALUE!"}},{"$f":"Identifikation8400[[#This Row],[Ejendomsnr]]","v":{"$error":"#VALUE!"}}]
[null,null,null,null,null,null,null,null,null,null,null,null,null,null,null,{"$f":"Identifikation8400[[#This Row],[Ejendomsnr]]","v":{"$error":"#VALUE!"}},{"$f":"Identifikation8400[[#This Row],[Ejendomsnr]]","v":{"$error":"#VALUE!"}}]
[null,null,null,null,null,null,null,null,null,null,null,null,null,null,null,{"$f":"Identifikation8400[[#This Row],[Ejendomsnr]]","v":{"$error":"#VALUE!"}},{"$f":"Identifikation8400[[#This Row],[Ejendomsnr]]","v":{"$error":"#VALUE!"}}]
[null,null,null,null,null,null,null,null,null,null,null,null,null,null,null,{"$f":"Identifikation8400[[#This Row],[Ejendomsnr]]","v":{"$error":"#VALUE!"}},{"$f":"Identifikation8400[[#This Row],[Ejendomsnr]]","v":{"$error":"#VALUE!"}}]
[null,null,null,null,null,null,null,null,null,null,null,null,null,null,null,{"$f":"Identifikation8400[[#This Row],[Ejendomsnr]]","v":{"$error":"#VALUE!"}},{"$f":"Identifikation8400[[#This Row],[Ejendomsnr]]","v":{"$error":"#VALUE!"}}]
[null,null,null,null,null,null,null,null,null,null,null,null,null,null,null,{"$f":"Identifikation8400[[#This Row],[Ejendomsnr]]","v":{"$error":"#VALUE!"}},{"$f":"Identifikation8400[[#This Row],[Ejendomsnr]]","v":{"$error":"#VALUE!"}}]
[null,null,null,null,null,null,null,null,null,null,null,null,null,null,null,{"$f":"Identifikation8400[[#This Row],[Ejendomsnr]]","v":{"$error":"#VALUE!"}},{"$f":"Identifikation8400[[#This Row],[Ejendomsnr]]","v":{"$error":"#VALUE!"}}]
[null,null,null,null,null,null,null,null,null,null,null,null,null,null,null,{"$f":"Identifikation8400[[#This Row],[Ejendomsnr]]","v":{"$error":"#VALUE!"}},{"$f":"Identifikation8400[[#This Row],[Ejendomsnr]]","v":{"$error":"#VALUE!"}}]
[null,null,null,null,null,null,null,null,null,null,null,null,null,null,null,{"$f":"Identifikation8400[[#This Row],[Ejendomsnr]]","v":{"$error":"#VALUE!"}},{"$f":"Identifikation8400[[#This Row],[Ejendomsnr]]","v":{"$error":"#VALUE!"}}]
[null,null,null,null,null,null,null,null,null,null,null,null,null,null,null,{"$f":"Identifikation8400[[#This Row],[Ejendomsnr]]","v":{"$error":"#VALUE!"}},{"$f":"Identifikation8400[[#This Row],[Ejendomsnr]]","v":{"$error":"#VALUE!"}}]
[null,null,null,null,null,null,null,null,null,null,null,null,null,null,null,{"$f":"Identifikation8400[[#This Row],[Ejendomsnr]]","v":{"$error":"#VALUE!"}},{"$f":"Identifikation8400[[#This Row],[Ejendomsnr]]","v":{"$error":"#VALUE!"}}]
[null,null,null,null,null,null,null,null,null,null,null,null,null,null,null,{"$f":"Identifikation8400[[#This Row],[Ejendomsnr]]","v":{"$error":"#VALUE!"}},{"$f":"Identifikation8400[[#This Row],[Ejendomsnr]]","v":{"$error":"#VALUE!"}}]
[null,null,null,null,null,null,null,null,null,null,null,null,null,null,null,{"$f":"Identifikation8400[[#This Row],[Ejendomsnr]]","v":{"$error":"#VALUE!"}},{"$f":"Identifikation8400[[#This Row],[Ejendomsnr]]","v":{"$error":"#VALUE!"}}]
[null,null,null,null,null,null,null,null,null,null,null,null,null,null,null,{"$f":"Identifikation8400[[#This Row],[Ejendomsnr]]","v":{"$error":"#VALUE!"}},{"$f":"Identifikation8400[[#This Row],[Ejendomsnr]]","v":{"$error":"#VALUE!"}}]
[null,null,null,null,null,null,null,null,null,null,null,null,null,null,null,{"$f":"Identifikation8400[[#This Row],[Ejendomsnr]]","v":{"$error":"#VALUE!"}},{"$f":"Identifikation8400[[#This Row],[Ejendomsnr]]","v":{"$error":"#VALUE!"}}]
[null,null,null,null,null,null,null,null,null,null,null,null,null,null,null,{"$f":"Identifikation8400[[#This Row],[Ejendomsnr]]","v":{"$error":"#VALUE!"}},{"$f":"Identifikation8400[[#This Row],[Ejendomsnr]]","v":{"$error":"#VALUE!"}}]
[null,null,null,null,null,null,null,null,null,null,null,null,null,null,null,{"$f":"Identifikation8400[[#This Row],[Ejendomsnr]]","v":{"$error":"#VALUE!"}},{"$f":"Identifikation8400[[#This Row],[Ejendomsnr]]","v":{"$error":"#VALUE!"}}]
[null,null,null,null,null,null,null,null,null,null,null,null,null,null,null,{"$f":"Identifikation8400[[#This Row],[Ejendomsnr]]","v":{"$error":"#VALUE!"}},{"$f":"Identifikation8400[[#This Row],[Ejendomsnr]]","v":{"$error":"#VALUE!"}}]
[null,null,null,null,null,null,null,null,null,null,null,null,null,null,null,{"$f":"Identifikation8400[[#This Row],[Ejendomsnr]]","v":{"$error":"#VALUE!"}},{"$f":"Identifikation8400[[#This Row],[Ejendomsnr]]","v":{"$error":"#VALUE!"}}]
[null,null,null,null,null,null,null,null,null,null,null,null,null,null,null,{"$f":"Identifikation8400[[#This Row],[Ejendomsnr]]","v":{"$error":"#VALUE!"}},{"$f":"Identifikation8400[[#This Row],[Ejendomsnr]]","v":{"$error":"#VALUE!"}}]
[null,null,null,null,null,null,null,null,null,null,null,null,null,null,null,{"$f":"Identifikation8400[[#This Row],[Ejendomsnr]]","v":{"$error":"#VALUE!"}},{"$f":"Identifikation8400[[#This Row],[Ejendomsnr]]","v":{"$error":"#VALUE!"}}]
[null,null,null,null,null,null,null,null,null,null,null,null,null,null,null,{"$f":"Identifikation8400[[#This Row],[Ejendomsnr]]","v":{"$error":"#VALUE!"}},{"$f":"Identifikation8400[[#This Row],[Ejendomsnr]]","v":{"$error":"#VALUE!"}}]
[null,null,null,null,null,null,null,null,null,null,null,null,null,null,null,{"$f":"Identifikation8400[[#This Row],[Ejendomsnr]]","v":{"$error":"#VALUE!"}},{"$f":"Identifikation8400[[#This Row],[Ejendomsnr]]","v":{"$error":"#VALUE!"}}]
[null,null,null,null,null,null,null,null,null,null,null,null,null,null,null,{"$f":"Identifikation8400[[#This Row],[Ejendomsnr]]","v":{"$error":"#VALUE!"}},{"$f":"Identifikation8400[[#This Row],[Ejendomsnr]]","v":{"$error":"#VALUE!"}}]
[null,null,null,null,null,null,null,null,null,null,null,null,null,null,null,{"$f":"Identifikation8400[[#This Row],[Ejendomsnr]]","v":{"$error":"#VALUE!"}},{"$f":"Identifikation8400[[#This Row],[Ejendomsnr]]","v":{"$error":"#VALUE!"}}]
[null,null,null,null,null,null,null,null,null,null,null,null,null,null,null,{"$f":"Identifikation8400[[#This Row],[Ejendomsnr]]","v":{"$error":"#VALUE!"}},{"$f":"Identifikation8400[[#This Row],[Ejendomsnr]]","v":{"$error":"#VALUE!"}}]
[null,null,null,null,null,null,null,null,null,null,null,null,null,null,null,{"$f":"Identifikation8400[[#This Row],[Ejendomsnr]]","v":{"$error":"#VALUE!"}},{"$f":"Identifikation8400[[#This Row],[Ejendomsnr]]","v":{"$error":"#VALUE!"}}]
[null,null,null,null,null,null,null,null,null,null,null,null,null,null,null,{"$f":"Identifikation8400[[#This Row],[Ejendomsnr]]","v":{"$error":"#VALUE!"}},{"$f":"Identifikation8400[[#This Row],[Ejendomsnr]]","v":{"$error":"#VALUE!"}}]
[null,null,null,null,null,null,null,null,null,null,null,null,null,null,null,{"$f":"Identifikation8400[[#This Row],[Ejendomsnr]]","v":{"$error":"#VALUE!"}},{"$f":"Identifikation8400[[#This Row],[Ejendomsnr]]","v":{"$error":"#VALUE!"}}]
[null,null,null,null,null,null,null,null,null,null,null,null,null,null,null,{"$f":"Identifikation8400[[#This Row],[Ejendomsnr]]","v":{"$error":"#VALUE!"}},{"$f":"Identifikation8400[[#This Row],[Ejendomsnr]]","v":{"$error":"#VALUE!"}}]
[null,null,null,null,null,null,null,null,null,null,null,null,null,null,null,{"$f":"Identifikation8400[[#This Row],[Ejendomsnr]]","v":{"$error":"#VALUE!"}},{"$f":"Identifikation8400[[#This Row],[Ejendomsnr]]","v":{"$error":"#VALUE!"}}]
[null,null,null,null,null,null,null,null,null,null,null,null,null,null,null,{"$f":"Identifikation8400[[#This Row],[Ejendomsnr]]","v":{"$error":"#VALUE!"}},{"$f":"Identifikation8400[[#This Row],[Ejendomsnr]]","v":{"$error":"#VALUE!"}}]
[null,null,null,null,null,null,null,null,null,null,null,null,null,null,null,{"$f":"Identifikation8400[[#This Row],[Ejendomsnr]]","v":{"$error":"#VALUE!"}},{"$f":"Identifikation8400[[#This Row],[Ejendomsnr]]","v":{"$error":"#VALUE!"}}]
[null,null,null,null,null,null,null,null,null,null,null,null,null,null,null,{"$f":"Identifikation8400[[#This Row],[Ejendomsnr]]","v":{"$error":"#VALUE!"}},{"$f":"Identifikation8400[[#This Row],[Ejendomsnr]]","v":{"$error":"#VALUE!"}}]
[null,null,null,null,null,null,null,null,null,null,null,null,null,null,null,{"$f":"Identifikation8400[[#This Row],[Ejendomsnr]]","v":{"$error":"#VALUE!"}},{"$f":"Identifikation8400[[#This Row],[Ejendomsnr]]","v":{"$error":"#VALUE!"}}]
[null,null,null,null,null,null,null,null,null,null,null,null,null,null,null,{"$f":"Identifikation8400[[#This Row],[Ejendomsnr]]","v":{"$error":"#VALUE!"}},{"$f":"Identifikation8400[[#This Row],[Ejendomsnr]]","v":{"$error":"#VALUE!"}}]
[null,null,null,null,null,null,null,null,null,null,null,null,null,null,null,{"$f":"Identifikation8400[[#This Row],[Ejendomsnr]]","v":{"$error":"#VALUE!"}},{"$f":"Identifikation8400[[#This Row],[Ejendomsnr]]","v":{"$error":"#VALUE!"}}]
[null,null,null,null,null,null,null,null,null,null,null,null,null,null,null,{"$f":"Identifikation8400[[#This Row],[Ejendomsnr]]","v":{"$error":"#VALUE!"}},{"$f":"Identifikation8400[[#This Row],[Ejendomsnr]]","v":{"$error":"#VALUE!"}}]
[null,null,null,null,null,null,null,null,null,null,null,null,null,null,null,{"$f":"Identifikation8400[[#This Row],[Ejendomsnr]]","v":{"$error":"#VALUE!"}},{"$f":"Identifikation8400[[#This Row],[Ejendomsnr]]","v":{"$error":"#VALUE!"}}]
[null,null,null,null,null,null,null,null,null,null,null,null,null,null,null,{"$f":"Identifikation8400[[#This Row],[Ejendomsnr]]","v":{"$error":"#VALUE!"}},{"$f":"Identifikation8400[[#This Row],[Ejendomsnr]]","v":{"$error":"#VALUE!"}}]
[null,null,null,null,null,null,null,null,null,null,null,null,null,null,null,{"$f":"Identifikation8400[[#This Row],[Ejendomsnr]]","v":{"$error":"#VALUE!"}},{"$f":"Identifikation8400[[#This Row],[Ejendomsnr]]","v":{"$error":"#VALUE!"}}]
[null,null,null,null,null,null,null,null,null,null,null,null,null,null,null,{"$f":"Identifikation8400[[#This Row],[Ejendomsnr]]","v":{"$error":"#VALUE!"}},{"$f":"Identifikation8400[[#This Row],[Ejendomsnr]]","v":{"$error":"#VALUE!"}}]
[null,null,null,null,null,null,null,null,null,null,null,null,null,null,null,{"$f":"Identifikation8400[[#This Row],[Ejendomsnr]]","v":{"$error":"#VALUE!"}},{"$f":"Identifikation8400[[#This Row],[Ejendomsnr]]","v":{"$error":"#VALUE!"}}]
[null,null,null,null,null,null,null,null,null,null,null,null,null,null,null,{"$f":"Identifikation8400[[#This Row],[Ejendomsnr]]","v":{"$error":"#VALUE!"}},{"$f":"Identifikation8400[[#This Row],[Ejendomsnr]]","v":{"$error":"#VALUE!"}}]
[null,null,null,null,null,null,null,null,null,null,null,null,null,null,null,{"$f":"Identifikation8400[[#This Row],[Ejendomsnr]]","v":{"$error":"#VALUE!"}},{"$f":"Identifikation8400[[#This Row],[Ejendomsnr]]","v":{"$error":"#VALUE!"}}]
[null,null,null,null,null,null,null,null,null,null,null,null,null,null,null,{"$f":"Identifikation8400[[#This Row],[Ejendomsnr]]","v":{"$error":"#VALUE!"}},{"$f":"Identifikation8400[[#This Row],[Ejendomsnr]]","v":{"$error":"#VALUE!"}}]
[null,null,null,null,null,null,null,null,null,null,null,null,null,null,null,{"$f":"Identifikation8400[[#This Row],[Ejendomsnr]]","v":{"$error":"#VALUE!"}},{"$f":"Identifikation8400[[#This Row],[Ejendomsnr]]","v":{"$error":"#VALUE!"}}]
[null,null,null,null,null,null,null,null,null,null,null,null,null,null,null,{"$f":"Identifikation8400[[#This Row],[Ejendomsnr]]","v":{"$error":"#VALUE!"}},{"$f":"Identifikation8400[[#This Row],[Ejendomsnr]]","v":{"$error":"#VALUE!"}}]
[null,null,null,null,null,null,null,null,null,null,null,null,null,null,null,{"$f":"Identifikation8400[[#This Row],[Ejendomsnr]]","v":{"$error":"#VALUE!"}},{"$f":"Identifikation8400[[#This Row],[Ejendomsnr]]","v":{"$error":"#VALUE!"}}]
[null,null,null,null,null,null,null,null,null,null,null,null,null,null,null,{"$f":"Identifikation8400[[#This Row],[Ejendomsnr]]","v":{"$error":"#VALUE!"}},{"$f":"Identifikation8400[[#This Row],[Ejendomsnr]]","v":{"$error":"#VALUE!"}}]
[null,null,null,null,null,null,null,null,null,null,null,null,null,null,null,{"$f":"Identifikation8400[[#This Row],[Ejendomsnr]]","v":{"$error":"#VALUE!"}},{"$f":"Identifikation8400[[#This Row],[Ejendomsnr]]","v":{"$error":"#VALUE!"}}]
[null,null,null,null,null,null,null,null,null,null,null,null,null,null,null,{"$f":"Identifikation8400[[#This Row],[Ejendomsnr]]","v":{"$error":"#VALUE!"}},{"$f":"Identifikation8400[[#This Row],[Ejendomsnr]]","v":{"$error":"#VALUE!"}}]
[null,null,null,null,null,null,null,null,null,null,null,null,null,null,null,{"$f":"Identifikation8400[[#This Row],[Ejendomsnr]]","v":{"$error":"#VALUE!"}},{"$f":"Identifikation8400[[#This Row],[Ejendomsnr]]","v":{"$error":"#VALUE!"}}]
[null,null,null,null,null,null,null,null,null,null,null,null,null,null,null,{"$f":"Identifikation8400[[#This Row],[Ejendomsnr]]","v":{"$error":"#VALUE!"}},{"$f":"Identifikation8400[[#This Row],[Ejendomsnr]]","v":{"$error":"#VALUE!"}}]
[null,null,null,null,null,null,null,null,null,null,null,null,null,null,null,{"$f":"Identifikation8400[[#This Row],[Ejendomsnr]]","v":{"$error":"#VALUE!"}},{"$f":"Identifikation8400[[#This Row],[Ejendomsnr]]","v":{"$error":"#VALUE!"}}]
[null,null,null,null,null,null,null,null,null,null,null,null,null,null,null,{"$f":"Identifikation8400[[#This Row],[Ejendomsnr]]","v":{"$error":"#VALUE!"}},{"$f":"Identifikation8400[[#This Row],[Ejendomsnr]]","v":{"$error":"#VALUE!"}}]
[null,null,null,null,null,null,null,null,null,null,null,null,null,null,null,{"$f":"Identifikation8400[[#This Row],[Ejendomsnr]]","v":{"$error":"#VALUE!"}},{"$f":"Identifikation8400[[#This Row],[Ejendomsnr]]","v":{"$error":"#VALUE!"}}]
[null,null,null,null,null,null,null,null,null,null,null,null,null,null,null,{"$f":"Identifikation8400[[#This Row],[Ejendomsnr]]","v":{"$error":"#VALUE!"}},{"$f":"Identifikation8400[[#This Row],[Ejendomsnr]]","v":{"$error":"#VALUE!"}}]
[null,null,null,null,null,null,null,null,null,null,null,null,null,null,null,{"$f":"Identifikation8400[[#This Row],[Ejendomsnr]]","v":{"$error":"#VALUE!"}},{"$f":"Identifikation8400[[#This Row],[Ejendomsnr]]","v":{"$error":"#VALUE!"}}]
[null,null,null,null,null,null,null,null,null,null,null,null,null,null,null,{"$f":"Identifikation8400[[#This Row],[Ejendomsnr]]","v":{"$error":"#VALUE!"}},{"$f":"Identifikation8400[[#This Row],[Ejendomsnr]]","v":{"$error":"#VALUE!"}}]
[null,null,null,null,null,null,null,null,null,null,null,null,null,null,null,{"$f":"Identifikation8400[[#This Row],[Ejendomsnr]]","v":{"$error":"#VALUE!"}},{"$f":"Identifikation8400[[#This Row],[Ejendomsnr]]","v":{"$error":"#VALUE!"}}]
[null,null,null,null,null,null,null,null,null,null,null,null,null,null,null,{"$f":"Identifikation8400[[#This Row],[Ejendomsnr]]","v":{"$error":"#VALUE!"}},{"$f":"Identifikation8400[[#This Row],[Ejendomsnr]]","v":{"$error":"#VALUE!"}}]
[null,null,null,null,null,null,null,null,null,null,null,null,null,null,null,{"$f":"Identifikation8400[[#This Row],[Ejendomsnr]]","v":{"$error":"#VALUE!"}},{"$f":"Identifikation8400[[#This Row],[Ejendomsnr]]","v":{"$error":"#VALUE!"}}]
[null,null,null,null,null,null,null,null,null,null,null,null,null,null,null,{"$f":"Identifikation8400[[#This Row],[Ejendomsnr]]","v":{"$error":"#VALUE!"}},{"$f":"Identifikation8400[[#This Row],[Ejendomsnr]]","v":{"$error":"#VALUE!"}}]
[null,null,null,null,null,null,null,null,null,null,null,null,null,null,null,{"$f":"Identifikation8400[[#This Row],[Ejendomsnr]]","v":{"$error":"#VALUE!"}},{"$f":"Identifikation8400[[#This Row],[Ejendomsnr]]","v":{"$error":"#VALUE!"}}]
[null,null,null,null,null,null,null,null,null,null,null,null,null,null,null,{"$f":"Identifikation8400[[#This Row],[Ejendomsnr]]","v":{"$error":"#VALUE!"}},{"$f":"Identifikation8400[[#This Row],[Ejendomsnr]]","v":{"$error":"#VALUE!"}}]
[null,null,null,null,null,null,null,null,null,null,null,null,null,null,null,{"$f":"Identifikation8400[[#This Row],[Ejendomsnr]]","v":{"$error":"#VALUE!"}},{"$f":"Identifikation8400[[#This Row],[Ejendomsnr]]","v":{"$error":"#VALUE!"}}]
[null,null,null,null,null,null,null,null,null,null,null,null,null,null,null,{"$f":"Identifikation8400[[#This Row],[Ejendomsnr]]","v":{"$error":"#VALUE!"}},{"$f":"Identifikation8400[[#This Row],[Ejendomsnr]]","v":{"$error":"#VALUE!"}}]
[null,null,null,null,null,null,null,null,null,null,null,null,null,null,null,{"$f":"Identifikation8400[[#This Row],[Ejendomsnr]]","v":{"$error":"#VALUE!"}},{"$f":"Identifikation8400[[#This Row],[Ejendomsnr]]","v":{"$error":"#VALUE!"}}]
[null,null,null,null,null,null,null,null,null,null,null,null,null,null,null,{"$f":"Identifikation8400[[#This Row],[Ejendomsnr]]","v":{"$error":"#VALUE!"}},{"$f":"Identifikation8400[[#This Row],[Ejendomsnr]]","v":{"$error":"#VALUE!"}}]
[null,null,null,null,null,null,null,null,null,null,null,null,null,null,null,{"$f":"Identifikation8400[[#This Row],[Ejendomsnr]]","v":{"$error":"#VALUE!"}},{"$f":"Identifikation8400[[#This Row],[Ejendomsnr]]","v":{"$error":"#VALUE!"}}]
[null,null,null,null,null,null,null,null,null,null,null,null,null,null,null,{"$f":"Identifikation8400[[#This Row],[Ejendomsnr]]","v":{"$error":"#VALUE!"}},{"$f":"Identifikation8400[[#This Row],[Ejendomsnr]]","v":{"$error":"#VALUE!"}}]
[null,null,null,null,null,null,null,null,null,null,null,null,null,null,null,{"$f":"Identifikation8400[[#This Row],[Ejendomsnr]]","v":{"$error":"#VALUE!"}},{"$f":"Identifikation8400[[#This Row],[Ejendomsnr]]","v":{"$error":"#VALUE!"}}]
[null,null,null,null,null,null,null,null,null,null,null,null,null,null,null,{"$f":"Identifikation8400[[#This Row],[Ejendomsnr]]","v":{"$error":"#VALUE!"}},{"$f":"Identifikation8400[[#This Row],[Ejendomsnr]]","v":{"$error":"#VALUE!"}}]
[null,null,null,null,null,null,null,null,null,null,null,null,null,null,null,{"$f":"Identifikation8400[[#This Row],[Ejendomsnr]]","v":{"$error":"#VALUE!"}},{"$f":"Identifikation8400[[#This Row],[Ejendomsnr]]","v":{"$error":"#VALUE!"}}]
[null,null,null,null,null,null,null,null,null,null,null,null,null,null,null,{"$f":"Identifikation8400[[#This Row],[Ejendomsnr]]","v":{"$error":"#VALUE!"}},{"$f":"Identifikation8400[[#This Row],[Ejendomsnr]]","v":{"$error":"#VALUE!"}}]
[null,null,null,null,null,null,null,null,null,null,null,null,null,null,null,{"$f":"Identifikation8400[[#This Row],[Ejendomsnr]]","v":{"$error":"#VALUE!"}},{"$f":"Identifikation8400[[#This Row],[Ejendomsnr]]","v":{"$error":"#VALUE!"}}]
[null,null,null,null,null,null,null,null,null,null,null,null,null,null,null,{"$f":"Identifikation8400[[#This Row],[Ejendomsnr]]","v":{"$error":"#VALUE!"}},{"$f":"Identifikation8400[[#This Row],[Ejendomsnr]]","v":{"$error":"#VALUE!"}}]
[null,null,null,null,null,null,null,null,null,null,null,null,null,null,null,{"$f":"Identifikation8400[[#This Row],[Ejendomsnr]]","v":{"$error":"#VALUE!"}},{"$f":"Identifikation8400[[#This Row],[Ejendomsnr]]","v":{"$error":"#VALUE!"}}]
[null,null,null,null,null,null,null,null,null,null,null,null,null,null,null,{"$f":"Identifikation8400[[#This Row],[Ejendomsnr]]","v":{"$error":"#VALUE!"}},{"$f":"Identifikation8400[[#This Row],[Ejendomsnr]]","v":{"$error":"#VALUE!"}}]
[null,null,null,null,null,null,null,null,null,null,null,null,null,null,null,{"$f":"Identifikation8400[[#This Row],[Ejendomsnr]]","v":{"$error":"#VALUE!"}},{"$f":"Identifikation8400[[#This Row],[Ejendomsnr]]","v":{"$error":"#VALUE!"}}]
[null,null,null,null,null,null,null,null,null,null,null,null,null,null,null,{"$f":"Identifikation8400[[#This Row],[Ejendomsnr]]","v":{"$error":"#VALUE!"}},{"$f":"Identifikation8400[[#This Row],[Ejendomsnr]]","v":{"$error":"#VALUE!"}}]
[null,null,null,null,null,null,null,null,null,null,null,null,null,null,null,{"$f":"Identifikation8400[[#This Row],[Ejendomsnr]]","v":{"$error":"#VALUE!"}},{"$f":"Identifikation8400[[#This Row],[Ejendomsnr]]","v":{"$error":"#VALUE!"}}]
[null,null,null,null,null,null,null,null,null,null,null,null,null,null,null,{"$f":"Identifikation8400[[#This Row],[Ejendomsnr]]","v":{"$error":"#VALUE!"}},{"$f":"Identifikation8400[[#This Row],[Ejendomsnr]]","v":{"$error":"#VALUE!"}}]
[null,null,null,null,null,null,null,null,null,null,null,null,null,null,null,{"$f":"Identifikation8400[[#This Row],[Ejendomsnr]]","v":{"$error":"#VALUE!"}},{"$f":"Identifikation8400[[#This Row],[Ejendomsnr]]","v":{"$error":"#VALUE!"}}]
[null,null,null,null,null,null,null,null,null,null,null,null,null,null,null,{"$f":"Identifikation8400[[#This Row],[Ejendomsnr]]","v":{"$error":"#VALUE!"}},{"$f":"Identifikation8400[[#This Row],[Ejendomsnr]]","v":{"$error":"#VALUE!"}}]
[null,null,null,null,null,null,null,null,null,null,null,null,null,null,null,{"$f":"Identifikation8400[[#This Row],[Ejendomsnr]]","v":{"$error":"#VALUE!"}},{"$f":"Identifikation8400[[#This Row],[Ejendomsnr]]","v":{"$error":"#VALUE!"}}]
[null,null,null,null,null,null,null,null,null,null,null,null,null,null,null,{"$f":"Identifikation8400[[#This Row],[Ejendomsnr]]","v":{"$error":"#VALUE!"}},{"$f":"Identifikation8400[[#This Row],[Ejendomsnr]]","v":{"$error":"#VALUE!"}}]
[null,null,null,null,null,null,null,null,null,null,null,null,null,null,null,{"$f":"Identifikation8400[[#This Row],[Ejendomsnr]]","v":{"$error":"#VALUE!"}},{"$f":"Identifikation8400[[#This Row],[Ejendomsnr]]","v":{"$error":"#VALUE!"}}]
[null,null,null,null,null,null,null,null,null,null,null,null,null,null,null,{"$f":"Identifikation8400[[#This Row],[Ejendomsnr]]","v":{"$error":"#VALUE!"}},{"$f":"Identifikation8400[[#This Row],[Ejendomsnr]]","v":{"$error":"#VALUE!"}}]
[null,null,null,null,null,null,null,null,null,null,null,null,null,null,null,{"$f":"Identifikation8400[[#This Row],[Ejendomsnr]]","v":{"$error":"#VALUE!"}},{"$f":"Identifikation8400[[#This Row],[Ejendomsnr]]","v":{"$error":"#VALUE!"}}]
[null,null,null,null,null,null,null,null,null,null,null,null,null,null,null,{"$f":"Identifikation8400[[#This Row],[Ejendomsnr]]","v":{"$error":"#VALUE!"}},{"$f":"Identifikation8400[[#This Row],[Ejendomsnr]]","v":{"$error":"#VALUE!"}}]
[null,null,null,null,null,null,null,null,null,null,null,null,null,null,null,{"$f":"Identifikation8400[[#This Row],[Ejendomsnr]]","v":{"$error":"#VALUE!"}},{"$f":"Identifikation8400[[#This Row],[Ejendomsnr]]","v":{"$error":"#VALUE!"}}]

{"sheet":"Tabel til hæfte","index":6,"n_rows":29,"n_cols":174,"rows_kept":29,"cut":false,"hidden":true,"merged":[]}
[]
[]
[null,null,"Gennemsnitstal Alle","2012","2013","2014","2015"]
[null,null,"Antal bedrifter",103,105,156,166]
[null,null,"Skindpris",514,617,322,384]
[null,null,"Foderomkostninger",121,143,132,130]
[null,null,"Fremstillingspris",305,345,315,318]
[null,null,"Årets resultat",229,239,20,65]
[null,null,"Afkastningsgrad",0.32,0.41,0.06,0.14000000000000001]
[null,null,"Producerede skind pr. tæve",5.22,5.37,5.36,5.32]
[]
[]
[]
[]
[]
[]
[]
[]
[]
[]
[]
[]
[]
[]
[null,null,null,null,null,null,null,166,1,2,3,4,5,6,7,8,9,10,11,12,13,14,15,16,17,18,19,20,21,22,23,24,25,26,27,28,29,30,31,32,33,34,35,36,37,38,39,40,41,42,43,44,45,46,47,48,49,50,51,52,53,54,55,56,57,58,59,60,61,62,63,64,65,66,67,68,69,70,71,72,73,74,75,76,77,78,79,80,81,82,83,84,85,86,87,88,89,90,91,92,93,94,95,96,97,98,99,100,101,102,103,104,105,106,107,108,109,110,111,112,113,114,115,116,117,118,119,120,121,122,123,124,125,126,127,128,129,130,131,132,133,134,135,136,137,138,139,140,141,142,143,144,145,146,147,148,149,150,151,152,153,154,155,156,157,158,159,160,161,162,163,164,165,166]
[null,null,null,null,null,null,null,null,{"$f":"I25/$H$25","v":6.024096385542169E-3},{"$f":"J25/$H$25","v":1.2048192771084338E-2},1.8072289156626505E-2,2.4096385542168676E-2,3.0120481927710843E-2,3.614457831325301E-2,4.2168674698795178E-2,4.8192771084337352E-2,5.4216867469879519E-2,6.0240963855421686E-2,6.6265060240963861E-2,7.2289156626506021E-2,7.8313253012048195E-2,8.4337349397590355E-2,9.036144578313253E-2,9.6385542168674704E-2,0.10240963855421686,0.10843373493975904,0.1144578313253012,0.12048192771084337,0.12650602409638553,0.13253012048192772,0.13855421686746988,0.14457831325301204,0.15060240963855423,0.15662650602409639,0.16265060240963855,0.16867469879518071,0.1746987951807229,0.18072289156626506,0.18674698795180722,0.19277108433734941,0.19879518072289157,0.20481927710843373,0.21084337349397592,0.21686746987951808,0.22289156626506024,0.2289156626506024,0.23493975903614459,0.24096385542168675,0.24698795180722891,0.25301204819277107,0.25903614457831325,0.26506024096385544,0.27108433734939757,0.27710843373493976,0.28313253012048195,0.28915662650602408,0.29518072289156627,0.30120481927710846,0.30722891566265059,0.31325301204819278,0.31927710843373491,0.3253012048192771,0.33132530120481929,0.33734939759036142,0.34337349397590361,0.3493975903614458,0.35542168674698793,0.36144578313253012,0.36746987951807231,0.37349397590361444,0.37951807228915663,0.38554216867469882,0.39156626506024095,{"$f":"BV25/$H$25","v":0.39759036144578314},0.40361445783132532,0.40963855421686746,0.41566265060240964,0.42168674698795183,0.42771084337349397,0.43373493975903615,0.43975903614457829,0.44578313253012047,0.45180722891566266,0.45783132530120479,0.46385542168674698,0.46987951807228917,0.4759036144578313,0.48192771084337349,0.48795180722891568,0.49397590361445781,0.5,0.50602409638554213,0.51204819277108438,0.51807228915662651,0.52409638554216864,0.53012048192771088,0.53614457831325302,0.54216867469879515,0.54819277108433739,0.55421686746987953,0.56024096385542166,0.5662650602409639,0.57228915662650603,0.57831325301204817,0.58433734939759041,0.59036144578313254,0.59638554216867468,0.60240963855421692,0.60843373493975905,0.61445783132530118,0.62048192771084343,0.62650602409638556,0.63253012048192769,0.63855421686746983,0.64457831325301207,0.6506024096385542,0.65662650602409633,0.66265060240963858,0.66867469879518071,0.67469879518072284,0.68072289156626509,0.68674698795180722,0.69277108433734935,0.6987951807228916,0.70481927710843373,0.71084337349397586,0.7168674698795181,0.72289156626506024,0.72891566265060237,0.73493975903614461,0.74096385542168675,0.74698795180722888,0.75301204819277112,0.75903614457831325,0.76506024096385539,0.77108433734939763,0.77710843373493976,{"$f":"EH25/$H$25","v":0.7831325301204819},0.78915662650602414,0.79518072289156627,0.8012048192771084,0.80722891566265065,0.81325301204819278,0.81927710843373491,0.82530120481927716,0.83132530120481929,0.83734939759036142,0.84337349397590367,0.8493975903614458,0.85542168674698793,0.86144578313253017,0.86746987951807231,0.87349397590361444,0.87951807228915657,0.88554216867469882,0.89156626506024095,0.89759036144578308,0.90361445783132532,0.90963855421686746,0.91566265060240959,0.92168674698795183,0.92771084337349397,0.9337349397590361,0.93975903614457834,0.94578313253012047,0.95180722891566261,0.95783132530120485,0.96385542168674698,0.96987951807228912,0.97590361445783136,0.98192771084337349,0.98795180722891562,0.99397590361445787,1]
[null,null,null,null,null,null,null,"Fremstillingspris kr. pr. skind",221.80516249999999,227.06108014776746,236.38344890109889,238.54177115583076,243.32788758971594,250.36515983481186,254.36532660267019,254.56923973314849,254.71508408831983,256.75699327238226,258.19121203007518,258.67080782485306,259.4223055526399,264.03458705701081,268.6632004347826,270.74836330291646,271.2099194986223,271.75528139534885,273.30856500000004,273.40721288515408,276.31812631578947,281.84436207865167,282.09114652501108,282.20852620641881,282.59627009246088,283.20406996229576,283.66611323641928,286.76868627199173,287.16400775011743,287.29467666354265,287.43628431372548,289.23712961544356,290.51389472563358,291.25837425925926,292.18183440493368,293.36451551724133,294.19195656978673,294.30544608399543,294.47176237623768,295.73335436312919,296.37881420199932,296.6490380274779,297.53333410335949,297.62955636918383,298.15216906946267,298.32600695715854,299.69349662650603,300.29500711111109,301.04250281452295,301.23080481854225,301.55136154200585,301.63152091254756,302.14067312499998,302.2240686363362,302.48499521492943,303.22539307535641,303.61312337902928,304.55345221556883,304.78823254732168,305.2287107647698,305.55235071934811,307.38439135135138,308.45232908143424,309.21430361177124,309.44283171428572,309.63666515151516,309.95834584154517,310.48463822668339,311.48151711340205,313.25757509627726,316.90541968279786,317.59251257561289,318.54002548515314,318.85628216109376,319.05068252030969,319.58995648379914,321.79485423116614,321.87966044776118,322.27933911132811,322.30041719594959,322.63095406987054,322.9522783924711,323.33130010104412,323.81786127508855,323.95148566308245,324.28629334257971,325.66721603816444,326.00691747572813,326.57486449038407,328.01063643410851,328.22685899201326,328.4959022118743,329.66307367063212,330.36580580056807,331.15793411839587,331.25366996002714,331.27895615446499,331.96736186348863,332.07969652777774,332.96577187463589,333.92927770448551,334.87165313295355,335.31925719284601,336.15384160305342,336.35730187237294,336.39231921670404,337.19354354354351,337.27365092470274,337.67659916201114,339.03610442629997,340.65135655202437,341.13415006729474,342.13980977683315,342.29681781376519,343.23278833842215,343.33699991214968,344.09231352771656,344.4432873015873,344.47441679177734,345.42819969943423,346.23132202333244,346.85188597968909,347.56472035991533,348.15781725888326,348.29903552330023,348.6617732300885,348.74965587044534,349.32255739989097,349.97228970002101,352.71446841503888,353.47631328073635,354.21871357718538,354.50366123093107,354.5738138506876,354.65911902160718,354.83518148106532,358.60447857142856,361.17244729605864,363.21275609218213,363.38937009261122,363.66304444444444,364.27457426948052,364.47741756826377,364.80328843845842,367.8310243315064,374.284865873336,374.3377370049505,375.68154344512197,376.65766702220498,377.13963554417984,381.98634186984742,382.26933632208153,385.84543250174869,387.22470268169451,388.54968801996671,389.08637247706417,399.21367093701792,406.38937052200612,407.64929498085917,414.72396467798308,418.19493032786886,419.93033244680851,437.8609818374328,444.10480832164563,465.55540079168725,546.28508482523443]
[null,null,null,null,null,null,null,"Gns. Pris 2015",387,387,387,387,387,387,387,387,387,387,387,387,387,387,387,387,387,387,387,387,387,387,387,387,387,387,387,387,387,387,387,387,387,387,387,387,387,387,387,387,387,387,387,387,387,387,387,387,387,387,387,387,387,387,387,387,387,387,387,387,387,387,387,387,387,387,387,387,387,387,387,387,387,387,387,387,387,387,387,387,387,387,387,387,387,387,387,387,387,387,387,387,387,387,387,387,387,387,387,387,387,387,387,387,387,387,387,387,387,387,387,387,387,387,387,387,387,387,387,387,387,387,387,387,387,387,387,387,387,387,387,387,387,387,387,387,387,387,387,387,387,387,387,387,387,387,387,387,387,387,387,387,387,387,387,387,387,387,387,387,387,387,387,387,387,387]
[null,null,null,null,null,null,null,"Pris 2016 - April ",234,234,234,234,234,234,234,234,234,234,234,234,234,234,234,234,234,234,234,234,234,234,234,234,234,234,234,234,234,234,234,234,234,234,234,234,234,234,234,234,234,234,234,234,234,234,234,234,234,234,234,234,234,234,234,234,234,234,234,234,234,234,234,234,234,234,234,234,234,234,234,234,234,234,234,234,234,234,234,234,234,234,234,234,234,234,234,234,234,234,234,234,234,234,234,234,234,234,234,234,234,234,234,234,234,234,234,234,234,234,234,234,234,234,234,234,234,234,234,234,234,234,234,234,234,234,234,234,234,234,234,234,234,234,234,234,234,234,234,234,234,234,234,234,234,234,234,234,234,234,234,234,234,234,234,234,234,234,234,234,234,234,234,234,234,234]

{"sheet":"Landsgennemsnit","index":7,"n_rows":49,"n_cols":3,"rows_kept":49,"cut":false,"hidden":false,"merged":[[1,27,1,28],[0,29,0,31],[1,30,1,31],[1,50,1,51],[1,52,1,53],[0,41,0,53],[1,44,1,45],[1,35,1,36],[1,37,1,38],[1,39,1,40],[0,32,0,40],[1,42,1,43],[1,33,1,34],[1,46,1,47],[1,48,1,49]]}
["Minkprooduktion 2015"]
[]
["Løbenummer: i alt 166 ejd.","Gns. Alle","Gns. Top 10"]
["Minktæver (Antal)",2625.6626506024095,2731.3]
["Pr. tæve","",""]
["Bruttoudbytte i alt pr. tæve",2033.6301312348003,2416.3661626331782]
["Stykomkostninger i alt pr. tæve",-807.64058183820498,-859.92600593124155]
["Dækningsbidrag pr. tæve",1225.9895493965953,1556.4401567019368]
["Kapacitetsomkostninger i alt pr. tæve",-594.53812003854443,-434.28437008018159]
["Kapitalomkostninger i alt pr. tæve",-287.95839337172475,-250.75121572145133]
["Årets resultat pr. tæve",343.49303598632605,871.40457090030384]
["","",""]
["Pr. skind","",""]
["Salg af skind og dyr",373.18466987851946,404.86667168136603]
["Køb mink",-9.6250524516279423,-5.195905497990986]
["Besætnings- og beholdningsforskydning",13.058879650495161,9.780544220245595]
["Andre indtægter (overskud)",6.0314666597594568,4.2501582764478378]
["Bruttoudbytte i alt",382.64996373714609,413.70146868006844]
["","",""]
["Foder",-130.45251292943422,-128.43397834903561]
["Dyrlæge og medicin",-5.3251094361126219,-4.146128338692793]
["Diverse vedr. husdyr",-16.188870757461945,-14.646194156621597]
["Stykomkostninger i alt",-151.96649312300877,-147.22630084434999]
[null,"",""]
["Dækningsbidrag",230.68347061413732,266.47516783571842]
[null,"",""]
["Energi og brændstof",-2.7516076531889726,-1.997931436523309]
["Vedligehold og maskinstation",-14.694941763583461,-9.9182290589289863]
["Løn - inkl. ejerløn",-69.318694364579827,-41.967028351856378]
["Diverse inkl. forsikring",-13.249235889864533,-12.400204348998001]
["Pelsning - netto",-11.850978665354297,-8.0696102951777391]
["Kapacitetsomkostninger i alt",-111.86891194170315,-74.353003491484415]
["","",""]
["Afskrivning inkl. leasing",-31.59248150162751,-24.66635951633225]
["Renteomk. af bundet kapital",-22.501856025677547,-18.264280641380047]
["Kapitalomkostninger i alt",-54.182551236390616,-42.930640157712297]
["","",""]
["Årets resultat",64.63200743604358,149.19152418652172]
["","",""]
["Nøgletal","",""]
["","",""]
["Bundet kapital pr. tæve",3416.8081058137936,3047.9666459195255]
["Afkastningsgrad",14.169598053819817,34.033080085040432]
[null,"",""]
["Fremstillingspris kr. pr. skind",318.01795630110246,264.5099444935467]
["Kr. pr. Skind",384.39759036144579,420.8]
["Producerede skind pr. tæve",5.3228915662650635,5.88]
[null,"",""]
["Lønningsevne kr. pr. skind",133.95070180062336,191.1585525383781]

{"sheet":"Statiske ejendomme","index":8,"n_rows":78,"n_cols":132,"rows_kept":78,"cut":false,"hidden":false,"merged":[[0,1,0,158]]}
[null,"Minkprooduktion"]
[]
[1,"Løbenummer: i alt 166 ejd.","M1","M2","M3","M4","M5","M6","M8","M9","M11","M12","M14","M15","M16","M17","M18","M22","M24","M25","M26","M29","M30","M31","M32","M33","M34","M35","M36","M38","M39","M40","M41","M42","M43","M44","M45","M46","M47","M48","M49","M50","M51","M52","M53","M54","M55","M56","M57","M58","M59","M60","M61","M62","M63","M65","M66","M68","M69","M71","M74","M75","M76","M77","M78","M79","M80","M81","M82","M84","M85","M86","M87","M88","M89","M90","M92","M96","M97","M98","M99","M100","M101","M102","M103","M104","M105","M108","M109","M110","M111","M112","M113","M114","M115","M118","M120","M122","M124","M127","M128","M129","M130","M131","M132","M133","M134","M135","M136","M137","M138","M139","M140","M141","M142","M143","M144","M145","M147","M149","M150","M151","M153","M154","M155","M157","M158","M159","M161","M163","M165","M166"]
[2,"Percentil","P100","P99","P99","P98","P98","P97","P96","P95","P94","P93","P92","P92","P91","P90","P90","P87","P86","P86","P85","P83","P83","P82","P81","P81","P80","P80","P79","P78","P77","P77","P76","P75","P75","P74","P73","P73","P72","P72","P71","P70","P70","P69","P69","P68","P67","P67","P66","P66","P65","P64","P64","P63","P63","P61","P61","P60","P59","P58","P56","P55","P55","P54","P54","P53","P52","P52","P51","P50","P49","P49","P48","P48","P47","P46","P45","P43","P42","P42","P41","P40","P40","P39","P39","P38","P37","P36","P35","P34","P34","P33","P33","P32","P31","P30","P28","P27","P26","P24","P23","P23","P22","P22","P21","P20","P20","P19","P19","P18","P17","P17","P16","P16","P15","P14","P14","P13","P12","P11","P10","P10","P8","P8","P7","P6","P5","P5","P4","P2","P1","P1"]
[3]
[4,"Driftsform","Konventionel","Konventionel","Konventionel","Konventionel","Konventionel","Konventionel","Konventionel","Konventionel","Konventionel","Konventionel","Konventionel","Konventionel","Konventionel","Konventionel","Konventionel","Konventionel","Konventionel","Konventionel","Konventionel","Konventionel","Konventionel","Konventionel","Konventionel","Konventionel","Konventionel","Konventionel","Konventionel","Konventionel","Konventionel","Konventionel","Konventionel","Konventionel","Konventionel","Konventionel","Konventionel","Konventionel","","Konventionel","Konventionel","Konventionel","Konventionel","Konventionel","Konventionel","Konventionel","Konventionel","Konventionel","Konventionel","Konventionel","Konventionel","Konventionel","Konventionel","Konventionel","Konventionel","Konventionel","Konventionel","Konventionel","Konventionel","Konventionel","Konventionel","Konventionel","Konventionel","Konventionel","Konventionel","Konventionel","Konventionel","Konventionel","Konventionel","Konventionel","Konventionel","Konventionel","Konventionel","Konventionel","Konventionel","Konventionel","Konventionel","Konventionel","Konventionel","Konventionel","Konventionel","Konventionel","Konventionel","Konventionel","Konventionel","Konventionel","Konventionel","Konventionel","Konventionel","Konventionel","Konventionel","Konventionel","Konventionel","Konventionel","Konventionel","Konventionel","Konventionel","Konventionel","Konventionel","Konventionel","Konventionel","Konventionel","Konventionel","Konventionel","Konventionel","Konventionel","Konventionel","Konventionel","Konventionel","Konventionel","Konventionel","Konventionel","Konventionel","Konventionel","Konventionel","Konventionel","Konventionel","Konventionel","Konventionel","Konventionel","Konventionel","Konventionel","Konventionel","Konventionel","Konventionel","Konventionel","Konventionel","Konventionel","Konventionel","Konventionel","Konventionel","Konventionel"]
[5,"Minktæver (Gruppe)","> 3000","1500-3000","< 1500","> 3000","1500-3000","> 3000","1500-3000","1500-3000","> 3000","> 3000","1500-3000","1500-3000","1500-3000","< 1500","1500-3000","< 1500","> 3000","> 3000","> 3000","1500-3000","> 3000","1500-3000","> 3000","> 3000","1500-3000","< 1500","1500-3000","> 3000","1500-3000","< 1500","< 1500","1500-3000","1500-3000","> 3000","1500-3000","1500-3000","> 3000","< 1500","1500-3000","> 3000","1500-3000","1500-3000","> 3000","1500-3000","< 1500","1500-3000","> 3000","< 1500","1500-3000","> 3000","1500-3000","1500-3000","< 1500","> 3000","< 1500","1500-3000","> 3000","< 1500","1500-3000","> 3000","< 1500","1500-3000","1500-3000","1500-3000","> 3000","> 3000","< 1500","< 1500","> 3000","1500-3000","1500-3000","1500-3000","> 3000","1500-3000","1500-3000","1500-3000","> 3000","> 3000","< 1500","> 3000","> 3000","1500-3000","1500-3000","> 3000","< 1500","< 1500","1500-3000","> 3000","> 3000","1500-3000","1500-3000","1500-3000","> 3000","> 3000","< 1500","> 3000","> 3000","> 3000","1500-3000","1500-3000","> 3000","< 1500","< 1500","1500-3000","1500-3000","1500-3000","< 1500","> 3000","1500-3000","1500-3000","< 1500","> 3000","< 1500","< 1500","1500-3000","> 3000","1500-3000","< 1500","1500-3000","1500-3000","< 1500","< 1500","> 3000","> 3000","> 3000","1500-3000","> 3000","< 1500","< 1500","< 1500"]
[6,"Pr. tæve","","","","","","","","","","","","","","","","","","","","","","","","","","","","","","","","","","","","","","","","","","","","","","","","","","","","","","","","","","","","","","","","","","","","","","","","","","","","","","","","","","","","","","","","","","","","","","","","","","","","","","","","","","","","","","","","","","","","","","","","","","","","","","","","","",""]
[7,"Bruttoudbytte i alt pr. tæve",2656.7986666666666,2341.2091891891891,2660.1147368421052,2127.5685294117648,2684.2288319583154,2361.7313461538461,2551.7978647686832,2441.374642857143,2791.4997142857142,2576.320303030303,2052.9420689655171,2550.8267999999998,2651.2281632653062,2086.7892307692309,2114.4108235294116,2272.4322222222222,2209.1798214285714,1993.4366666666667,2274.7620588235295,2395.229646017699,2545.8318181818181,2230.6766666666667,2206.7497435897435,2461.2028571428573,2510.9062857142858,2360.9419225634178,2019.4425000000001,2175.457142857143,2031.6020000000001,2670.93,2222.5133333333333,2389.6323404255318,1744.36375,2039.2472727272727,2512.5497435897437,2239.4705263157894,2122.5340624999999,2066.1733333333332,2107.918909090909,2277.6142424242425,2850.4993749999999,2199.6073333333334,2216.672,1828.1738853503184,1613.2285714285715,2093.2693333333332,2154.0566866267463,1818.0784615384616,2253.0559090909092,2311.5313461538462,2387.1495,2355.3449999999998,1550.752688172043,1618.7356666666667,1986.8589999999999,1895.3744999999999,2174.6443636363638,2288.3244444444445,1895.7466666666667,2178.4109374999998,2125.8785714285714,2850.0419354838709,2183.4148387096775,2294.902,1694.7206666666666,2047.418918918919,1851.4478260869564,2114.2877551020406,1869.97075,2000.0782222222222,2349.4268181818184,2234.1804878048779,1953.7418181818182,1859.6106382978724,1979.85625,2102.7288372093021,2237.5575667655785,1813.7227659574469,1577.4766666666667,1687.1503333333333,1758.8046666666667,2023.3429951690821,1663.8869158878504,2056.1552499999998,2146.3066666666668,2013.1154545454544,1882.1355291576674,2143.463777777778,1682.609898989899,2026.5752631578948,1876.4385714285713,2221.9762500000002,1825.3297872340424,1831.0790588235295,1995.4966666666667,2302.919117647059,1504.3394871794872,1671.5715714285714,1921.9027391822151,1693.5733333333333,1760.1994444444445,1850.2956989247311,2272.5505263157893,1735.8758823529413,1931.106,1792.0357575757575,2291.7153846153847,1947.7554285714286,1591.2724908996361,1878.1440909090909,1908.5241666666666,1926.5523076923077,1718.69,2340.2478571428574,1995.0862745098038,1617.6517741935484,1613.8461956521739,1902.0632000000001,2233.91,1898.0025396825397,2052.2118466898955,2081.1975000000002,1476.6218181818181,1919.93,1368.1015384615384,1401.0472,1419.4422500000001,1434.6931623931623,1420.9059999999999,1498.0822222222223]
[8,"Stykomkostninger i alt pr. tæve",-821.09400000000005,-787.84756756756758,-877.3105263157895,-842.36470588235295,-931.49283543204513,-808.46980769230765,-1028.1071174377223,-842.67964285714288,-938.58114285714282,-936.88575757575757,-710.32793103448273,-749.20240000000001,-1169.4457142857143,-822.33769230769235,-850.96470588235297,-785.00333333333333,-929.75535714285718,-723.28181818181815,-861.25264705882353,-908.44070796460176,-927.11987012987015,-811.82,-864.56410256410254,-926.16285714285709,-915.01485714285718,-925.86048064085446,-757.31312500000001,-776.32257142857145,-668.28733333333332,-936.27777777777783,-783.31666666666672,-859.12085106382983,-674.45958333333328,-669.76939393939392,-892.32974358974354,-829.53210526315786,-681.24625000000003,-840.10416666666663,-799.49309090909094,-816.50545454545454,-963.43312500000002,-800.50866666666661,-921.65488888888888,-682.66815286624205,-630.96521739130435,-806.05466666666666,-805.57664670658687,-839.7323076923077,-924.64,-843.35596153846154,-879.88400000000001,-1003.0533333333333,-649.98709677419356,-639.82249999999999,-764.65300000000002,-753.41049999999996,-953.32763636363632,-737.68333333333328,-692.04333333333329,-759.58656250000001,-768.5542857142857,-1097.5787096774193,-948.19096774193554,-863.23249999999996,-731.19399999999996,-786.88621621621621,-727.94673913043482,-845.92653061224485,-742.81925000000001,-864.64844444444441,-920.00636363636363,-851.40914634146338,-807.17818181818177,-745.36765957446812,-799.04916666666668,-799.66093023255814,-811.96528189910975,-802.89489361702124,-713.29666666666662,-713.57366666666667,-778.89933333333329,-807.84492753623192,-629.03738317757006,-967.70775000000003,-726.32666666666671,-743.72545454545457,-772.75,-759.13599999999997,-603.0060606060606,-883.61421052631579,-688.39,-797.50812499999995,-719.68317214700198,-760.74905882352937,-741.93916666666667,-873.50941176470587,-665.81666666666672,-720.40242857142857,-633.53076617705437,-677.904,-793.97888888888883,-671.37204301075269,-784.18842105263161,-666.13470588235293,-850.57799999999997,-753.38,-938.34461538461539,-745.46742857142863,-739.23036921476864,-778.90136363636361,-739.72,-848.97169230769225,-713.82749999999999,-990.79142857142858,-796.98980392156864,-833.13685483870972,-726.82010869565215,-872.63599999999997,-847.67,-827.50793650793651,-806.21533101045293,-807.50583333333338,-683.12939393939394,-865.39906250000001,-621.05846153846153,-753.40160000000003,-623.21249999999998,-696.19914529914524,-660.35699999999997,-751.37555555555559]
[9,"Dækningsbidrag pr. tæve",1835.7046666666668,1553.3616216216217,1782.8042105263157,1285.2038235294117,1752.7359965262701,1553.2615384615385,1523.6907473309609,1598.6949999999999,1852.9185714285713,1639.4345454545455,1342.6141379310345,1801.6243999999999,1481.7824489795919,1264.4515384615383,1263.4461176470588,1487.4288888888889,1279.4244642857143,1270.1548484848486,1413.5094117647059,1486.7889380530974,1618.711948051948,1418.8566666666666,1342.185641025641,1535.04,1595.8914285714286,1435.0814419225635,1262.129375,1399.1345714285715,1363.3146666666667,1734.6522222222222,1439.1966666666667,1530.5114893617022,1069.9041666666667,1369.4778787878788,1620.22,1409.9384210526316,1441.2878125,1226.0691666666667,1308.4258181818182,1461.1087878787878,1887.0662500000001,1399.0986666666668,1295.017111111111,1145.5057324840764,982.26335403726705,1287.2146666666667,1348.4800399201597,978.34615384615381,1328.4159090909091,1468.1753846153847,1507.2655,1352.2916666666667,900.76559139784945,978.91316666666671,1222.2059999999999,1141.9639999999999,1221.3167272727273,1550.6411111111111,1203.7033333333334,1418.8243749999999,1357.3242857142857,1752.4632258064516,1235.223870967742,1431.6695,963.52666666666664,1260.5327027027026,1123.5010869565217,1268.3612244897959,1127.1514999999999,1135.4297777777779,1429.4204545454545,1382.7713414634147,1146.5636363636363,1114.2429787234043,1180.8070833333334,1303.0679069767441,1425.5922848664688,1010.8278723404255,864.18,973.57666666666671,979.90533333333337,1215.4980676328503,1034.8495327102803,1088.4475,1419.98,1269.3900000000001,1109.3855291576674,1384.3277777777778,1079.6038383838384,1142.9610526315789,1188.0485714285714,1424.4681250000001,1105.6466150870406,1070.33,1253.5574999999999,1429.4097058823529,838.52282051282054,951.1691428571429,1288.3719730051607,1015.6693333333334,966.22055555555551,1178.9236559139786,1488.3621052631579,1069.7411764705882,1080.528,1038.6557575757577,1353.3707692307692,1202.288,852.04212168486742,1099.2427272727273,1168.8041666666666,1077.5806153846154,1004.8625,1349.4564285714287,1198.0964705882352,784.51491935483875,887.02608695652179,1029.4272000000001,1386.24,1070.4946031746031,1245.9965156794426,1273.6916666666666,793.49242424242425,1054.5309374999999,747.04307692307691,647.64559999999994,796.22974999999997,738.49401709401707,760.54899999999998,746.70666666666671]
[10,"Kapacitetsomkostninger i alt pr. tæve",-400.21133333333336,-414.17135135135135,-612.76421052631576,-282.37647058823529,-498.87798523664787,-401.21365384615382,-445.09786476868328,-536.08142857142855,-641.11371428571431,-593.49212121212122,-480.77068965517242,-819.16520000000003,-554.44448979591834,-446.32076923076926,-349.65929411764705,-557.4,-403.97500000000002,-520.1845454545454,-497.09823529411767,-640.2712389380531,-629.50376623376621,-593.81933333333336,-517.02538461538461,-617.14428571428573,-487.6634285714286,-618.55874499332447,-522.02187500000002,-550.90857142857146,-529.79733333333331,-714.78666666666663,-699.75,-670.31744680851068,-425.13458333333335,-499.03,-776.70564102564106,-578.9405263157895,-597.80718750000005,-521.95583333333332,-624.43781818181822,-573.49272727272728,-1028.9637499999999,-627.57866666666666,-525.38911111111111,-467.27452229299365,-344.11180124223603,-591.64866666666671,-564.72435129740518,-273.34307692307692,-531.84863636363639,-561.5940384615385,-775.57449999999994,-521.05250000000001,-341.31612903225806,-384.36200000000002,-659.68899999999996,-394.97750000000002,-538.44363636363641,-893.99777777777774,-601.33611111111111,-673.65812500000004,-778.83714285714291,-1037.4251612903226,-611.32645161290327,-820.62599999999998,-432.31511111111109,-569.38459459459455,-659.17282608695655,-675.96734693877556,-497.37275,-680.79022222222227,-842.48636363636365,-827.7469512195122,-524.42030303030299,-539.66510638297871,-687.20666666666671,-684.80697674418604,-821.54154302670622,-421.77404255319146,-420.99,-533.13633333333337,-528.35355555555554,-642.71352657004832,-569.39626168224299,-529.30074999999999,-744.70666666666671,-486.66545454545457,-649.00917926565876,-797.83044444444442,-528.75757575757575,-673.49947368421056,-617.37714285714287,-872.63062500000001,-643.40947775628626,-572.98105882352945,-686.54,-818.1541176470588,-480.54051282051284,-522.48785714285714,-854.12584358872573,-499.48333333333335,-585.19638888888892,-795.55376344086017,-890.63473684210521,-743.8870588235294,-732.65200000000004,-707.75393939393939,-827.6261538461539,-864.31914285714288,-573.47841913676552,-887.15181818181816,-797.67666666666662,-795.09046153846157,-646.57333333333338,-971.86642857142863,-817.54156862745094,-517.08483870967746,-610.68315217391307,-747.49839999999995,-1079.7058823529412,-669.77841269841269,-959.27595818815325,-896.03416666666669,-603.73363636363638,-764.52687500000002,-471.69714285714286,-562.02160000000003,-761.23299999999995,-775.9,-931.553,-846.08222222222219]
[11,"Kapitalomkostninger i alt pr. tæve",-192.37695166666666,-187.37389459459462,-235.08698947368421,-140.60552058823529,-397.95313287016933,-318.51021442307695,-313.20939501779361,-298.08290892857144,-463.90713285714287,-301.65466515151513,-142.46406379310343,-270.89292,-249.27337551020409,-157.30926923076922,-253.31802588235297,-311.85964444444443,-276.24376607142858,-153.48983030303032,-322.7345411764706,-262.11514823008849,-405.30540000000002,-242.03820333333334,-248.55238846153844,-342.48739,-533.87986571428576,-254.54659546061416,-181.3496375,-297.51492571428571,-286.29961666666668,-482.20362222222224,-204.38928333333334,-339.53719574468084,-124.67173541666666,-351.45201363636363,-324.7243666666667,-325.33681052631579,-341.46592499999997,-211.14895416666667,-195.50018909090909,-400.90803181818177,-376.01019999999994,-291.50254666666666,-300.50624555555555,-212.61020700636945,-173.47938509316771,-231.75331666666665,-329.88198303393216,-251.87946153846153,-346.13481590909089,-456.37354711538461,-285.47585249999997,-396.98829583333332,-137.73858064516131,-179.35578666666666,-151.60921500000001,-343.01398749999998,-281.83031090909088,-273.51583333333332,-238.64993055555556,-392.8064515625,-234.43265000000002,-371.10614193548389,-280.22302580645163,-269.8833975,-194.54103000000001,-359.13616621621622,-137.73098369565218,-275.50013265306126,-314.46801375000001,-140.27660222222221,-277.44488863636366,-246.25748780487805,-322.32510606060606,-275.9174617021277,-205.24463125,-333.30189302325579,-321.37536201780415,-307.18851914893617,-167.13166666666666,-171.21849166666667,-194.22214666666667,-317.75785748792271,-215.78374065420562,-316.31483750000001,-433.48261666666667,-554.51901363636364,-232.55715172786176,-359.56939888888888,-324.10336060606062,-250.22479999999999,-353.68166666666667,-342.07100624999998,-254.93246518375241,-303.5856276470588,-379.84809166666668,-431.81294264705878,-185.14608589743588,-262.67415857142856,-270.74799325129015,-355.98551000000003,-222.56568194444444,-229.71293548387098,-453.31829473684212,-199.18991764705882,-224.41929000000002,-210.5472606060606,-410.80051538461544,-233.54190571428572,-178.28141965678626,-112.30174090909091,-274.55998749999998,-187.28449846153845,-282.57978333333335,-309.32863928571425,-341.46486666666669,-235.19024879032258,-270.73369021739131,-286.73236000000003,-327.64409999999998,-423.12566031746036,-317.42681533101046,-422.28422916666665,-234.48930303030301,-411.67168906250004,-404.38251538461537,-215.80451400000001,-238.07788500000001,-221.27418376068377,-307.97037,-493.40325555555557]
[12,"Årets resultat pr. tæve",1243.1163816666667,951.81637567567566,934.95301052631578,862.22183235294119,855.90487841945287,833.5376701923077,765.38348754448407,764.53066249999995,747.89772428571428,744.28775909090905,719.37938448275861,711.56628000000001,678.06458367346943,660.82150000000001,660.46879764705886,618.16924444444442,599.20569821428569,596.48047272727274,593.67663529411766,584.40255088495576,583.90278181818178,582.99912999999992,576.60786794871797,575.40832428571434,574.34813428571431,561.97610146862485,558.75786249999999,550.71107428571429,547.21771666666666,537.66193333333331,535.05738333333329,520.65684680851064,520.09784791666664,518.99586515151509,518.78999230769227,505.66108421052633,502.0147,492.96437916666667,488.48781090909091,486.70802878787885,482.09230000000002,480.01745333333338,469.12175444444443,465.62100318471335,464.67216770186332,463.81268333333333,453.87370558882236,453.12361538461533,450.43245681818183,450.20779903846159,446.2151475,434.25087083333329,421.71088172043011,415.19537999999994,410.90778499999999,403.97251249999999,401.04277999999999,383.1275,363.71729166666665,352.35979843749999,344.05449285714286,343.93192258064516,343.67439354838712,341.16010249999999,336.67052555555557,332.01194189189192,326.59727717391303,316.89374489795915,315.31073624999999,314.36295333333334,309.48920227272725,308.76690243902436,299.81822727272726,298.66041063829783,288.35578541666666,284.95903720930232,282.67537982195847,281.86531063829784,276.05833333333334,269.22184166666665,257.32963111111115,255.02668357487923,249.6695303738318,242.83191250000002,241.79071666666667,228.20553181818181,227.81919816414688,226.92793444444445,226.74290202020202,219.23677894736844,216.98976190476191,209.76649375,207.30467214700195,193.76331352941176,187.16940833333334,179.44264558823528,172.83622179487179,166.00712714285712,163.4981361651449,160.20049,158.45848472222224,153.65695698924731,144.40907368421051,126.66420000000001,123.45671,120.35455757575757,114.94409999999999,104.42695142857143,100.28228289131565,99.789168181818184,96.567512500000007,95.205655384615383,75.709383333333335,68.261360714285715,39.090035294117648,32.239831854838705,5.6092445652173915,-4.8035600000000001,-21.109982352941177,-22.409469841269843,-30.706257839721257,-44.626729166666664,-44.730515151515156,-121.6676265625,-129.0365813186813,-130.18051399999999,-203.08113500000002,-258.68016666666665,-478.97437000000002,-592.77881111111117]
[13,"","","","","","","","","","","","","","","","","","","","","","","","","","","","","","","","","","","","","","","","","","","","","","","","","","","","","","","","","","","","","","","","","","","","","","","","","","","","","","","","","","","","","","","","","","","","","","","","","","","","","","","","","","","","","","","","","","","","","","","","","","","","","","","","","","",""]
[14,"Pr. skind","","","","","","","","","","","","","","","","","","","","","","","","","","","","","","","","","","","","","","","","","","","","","","","","","","","","","","","","","","","","","","","","","","","","","","","","","","","","","","","","","","","","","","","","","","","","","","","","","","","","","","","","","","","","","","","","","","","","","","","","","","","","","","","","","",""]
[15,"Salg af skind og dyr",424.5603383659921,424.20184899845918,435.32419414598002,329.14741758241757,449.35991301196083,448.37169274537695,386.06294235236913,340.85808061628603,411.51376623376626,440.2749754661433,448.54598720222032,373.29059668853483,385.00662499999999,361.81346595256315,348.40573913043477,369.05804480651733,417.0757705761996,444.15879910571704,534.69952231154605,368.81379995740753,381.83620618556699,338.29379657814633,399.72847904191616,374.12158203125,489.51079456933007,421.04341841841841,369.81476744186045,399.85902702702703,356.39673263381593,423.43297406534185,433.06464379947232,390.63240063353192,396.39351932074163,468.56837078651688,426.74984415353106,424.91281174577637,368.3748581157775,383.01118431132221,385.72693872195248,436.1878969654199,488.30651595744683,353.87441112260143,378.2882222222222,441.12003940332113,313.94453044375643,376.83437080434516,354.27552152288263,251.68774999999999,375.75383059811776,338.36017130620985,384.89635157545604,303.33978814961932,409.32236842105266,294.63335242780602,474.00221238938053,473.34669130384572,362.00338672768879,436.82497461928932,425.92825328036594,371.6061544064093,366.65957172342621,435.66605255502765,360.2794620738469,382.77192362093353,373.89558993304087,311.86558139534884,409.90453074433657,369.18778625954201,285.70862650602407,333.90190605311426,386.42345779220778,414.49095403977975,400.06821540462255,305.4708783466416,487.15061874894047,412.29078450320651,422.51190869996691,323.87955693247886,351.18557422969189,359.90006896551722,357.45702222222224,263.54993581514765,309.98783324387188,353.55270018621974,400.27402355858646,258.92458915681158,348.77983267283133,392.17776049766718,422.33681474707612,245.99255639097746,390.66453265044817,376.29787460148776,333.70986689042297,349.41757181895423,375.13015873015871,393.89842963559494,249.44336842105264,304.55212275914681,433.72164092343462,388.46423964454635,345.38407948143214,370.00966910184786,358.99438891811326,408.54473929857312,356.6252688172043,337.71402383134739,369.47707367336426,353.68403462634234,365.14152657882778,333.2043535045712,408.51353727144868,529.73915084848079,395.1217606707317,396.93357798165135,268.14352117160138,296.30943634213639,340.39791787160209,220.51266868631231,398.73277328796257,365.22500000000002,396.77574815390597,400.1881967213115,348.06085714285712,340.51195696661404,262.37371989712415,300.21406851814311,277.48382851647517,279.76993487062134,335.85203366058909,308.60860959920831]
[16,"Køb mink",-12.046257629296498,-13.071391884951208,-13.875509447943683,-2.8434065934065935,0,-1.2162162162162162,-8.0829866551407417,0,0,-11.702649656526006,0,-2.3617619493908153,-9.84375,-5.4055087987758226,-1.8782608695652174,0,-3.4882185994323809,-6.0204407537527942,-81.236455784690662,0,-4.4020618556701034,-17.156502571638502,0,-3.5546875,-12.44435789005119,-16.341341341341341,0,-2.0108108108108107,0,-6.2142135399124285,0,-4.2989667395731201,-2.1660024259227169,-4.213483146067416,-6.0023154332531838,-6.3857602574416736,-1.0357548240635641,-8.0971349777845862,-5.2650570791234745,-21.907198306280875,-9.474734042553191,-4.2571527059634606,-19.814814814814813,-15.479876160990711,0,0,-3.2740544602282893,0,-9.4501050011666798,-5.2482292867731841,-8.1260364842454393,-15.741034977380558,-5.8486842105263159,0,-15.415929203539823,0,-26.017543859649123,-4.3654822335025383,-0.90285301552907182,0,0,-5.5560942499757591,-0.75498407455467731,-9.1053748231966054,-11.055183560378666,-3.1524547803617571,-5.4611650485436893,-3.7213740458015265,-5.5662650602409638,-6.2744237977510169,0,-8.278008765029778,-14.769167110007684,0,-60.469740634005767,-5.4379337608714753,0,-7.2231888978483214,0,-2.2137931034482761,-14.942222222222222,-9.1228070175438596,-19.538378958668815,-24.00418994413408,-2.6348419094854307,0,-5.5812417437252311,-10.915629860031105,0,-28.265563909774436,0,-13.416578108395324,-5.209008734124108,-5.1415711759707898,-8.3809523809523814,-1.9025568753774915,-47.315789473684212,-2.7139629727430097,-5.4808171400099654,-25.971047728249964,-2.853334948809596,0,-8.1755216552691561,-15.792105614081878,-13.894444444444444,-5.3947885295273013,-12.815558990211231,-18.544543063773833,0,0,-13.30872011251758,-42.786236501442083,-8.0030487804878057,-2.7522935779816513,0,-23.447063460780448,-8.6176980913823016,0,-5.2690344534240747,-24.871287128712872,-4.5472211426350562,-7.9098360655737707,0,0,0,0,-4.1007237940982941,-15.353810948776625,-5.1192145862552598,0]
[17,"Besætnings- og beholdningsforskydning",6.3577470821287072,29.958911145351824,46.128195628010374,71.15384615384616,-13.754983689742661,-12.091038406827881,3.4442703549624505,26.365757066131394,7.9437229437229435,-14.327772325809617,8.8659316937784283,24.039362699156513,24.25,42.081101759755164,36,43.228105906313644,-7.4747541416408154,-27.419354838709676,-9.3760922754281726,14.197487044793071,26.597938144329898,18.368846436443793,7.5808383233532934,50.048828125,3.1716002670821277,33.946446446446444,-1.5406976744186047,0.97297297297297303,1.0293531677513614,-20.33512967329067,-2.9683377308707124,22.305603740855268,-32.446716340322304,-88.275280898876403,6.4564965713776825,-10.001005631536605,8.7400681044267881,1.7619120576068639,-4.1464374753969295,24.923547400611621,1.2688386524822695,16.023210387222797,8.3333333333333339,-30.530537573881226,21.104231166150672,6.4079091907726111,22.093605753748164,43.75,16.975188613206814,56.015483445890297,-1.2437810945273631,11.944168597594615,-23.94736842105263,29.677865013309972,-22.898230088495577,-38.83242868691535,27.649122807017545,-17.725888324873097,-18.80943782352233,48.540301043942705,14.480134158926729,-11.393386987297585,30.99563524831898,28.071958981612447,-18.679288847841146,66.020671834625318,-23.693943596856219,21.545801526717558,74.096385542168676,27.936837068346758,18.782467532467532,-12.922800314642094,-10.374179819116865,36.63691874119305,-36.256145109340565,-12.123341825529298,-15.781784099680229,31.681025336332386,-19.782913165266105,-8.6206896551724146,2,95.917843388960208,21.35891930577921,39.00139664804469,1.5499070055796653,81.016740900015364,35.281814178775868,-26.283048211508554,-36.205900755643256,65.037593984962399,-7.3869792179651332,6.6684378320935176,28.090316182920784,10.264771396422256,11.896825396825397,-9.8147775317092805,106.65789473684211,28.936713317489659,-29.397110114598902,-9.0655009316325064,39.492336584479311,-0.26858616244091105,13.58933894441522,-2.6670222696359516,-4.9283154121863799E-2,51.296320544716515,23.505924781040701,25.424611001534078,-20.757610177192184,22.768828907270354,-3.6919831223628692,-76.88309075055335,1.953125,-2.5688073394495414,53.00859598853868,40.536066219944814,-2.1515326778484671,100.0413109336271,7.4170565716716288,22.14108910891089,-24.251846094053633,12.295081967213115,0,18.710167806817516,28.711713818096797,-63.534698290425027,10.629144100825025,28.269670832599893,-7.8892005610098179,22.934190994557149]
[18,"Andre indtægter (overskud)",7.8545882856836924,3.8245505906522856,0.57965913301222671,0,12.512432040594419,1.6710881934566144,5.9847101410124806,3.6245863397168123,3.4970129870129871,2.9221295387634938,1.5759771798627709,3.4739768822243051,6.5564375000000004,16.633511859219588,8.1788695652173917,4.2492871690427698,2.1575143554880865,9.488022995847972,6.4659210066410342,1.2592461134379216,0.15152577319587629,11.707777894405375,4.9696766467065867,0,8.7543957266859564,3.8803803803803802,7.4361627906976748,12.751783783783784,47.329260193916852,7.9390367126978783,9.7150395778364125,14.894863866053246,0.93562640790157681,1.9830898876404495,9.1190667022887162,19.369569589702333,9.3980703745743472,3.1935039068484756,4.0005904736911164,2.8168666196189132,25.307070035460992,13.471446627599679,2.6385925925925924,8.8072051787222065,0,0,13.058145775933015,0,2.2482694252158359,6.8522483940042829,20.352321724709785,12.320037515171578,0,2.9595309498938573,3.8825221238938052,3.2671209146552718,1.2939130434782609,3.4373604060913707,4.563380281690141,2.948652585579024,2.7908926728586172,9.6325996315330169,8.7122802878376788,4.0079561527581333,8.0089586700531061,16.762325581395348,12.993527508090615,8.408015267175573,6.2375421686746986,3.3300103676529229,14.334577922077923,18.44780312394651,6.1916415440089851,0,12.326156975758604,2.4300272335939561,9.0030874407321644,13.437295760302169,0,0,7.2461333333333338,8.0906290115532737,6.7385936661298977,14.346787709497207,0,0.16418368914145293,5.2398723029502419,20.04374027993779,14.741156086056698,6.7461654135338343,4.8364030335861319,8.2570669500531348,3.336931233075251,2.8701173444783796,1.4485714285714286,11.916196899536944,0,12.53413725317607,3.1885899352267066,10.677225168410491,1.8575755739989095,0,14.150973172014728,3.4320576076810241,3.3948028673835124,3.5599057221422026,3.5561566202988151,12.937102783256629,3.1873012267151295,3.7932085328689595,11.129395218002813,9.897645717351935,3.9213033536585367,9.1639143730886854,2.7873925501432666,2.8630035474970437,13.862001156738,6.8460479206830076,2.9523606975754997,7.4747524752475245,13.539577665500712,4.8424590163934429,0,0,0,0,3.3678696158323631,2.7887695828199259,9.298971482000935,2.0232558139534884]
[19,"Bruttoudbytte i alt",426.72641610450796,444.91391884951207,468.15653945905893,397.45785714285716,448.11736136281263,436.73552631578946,387.40893619320332,370.84842402213422,422.95450216450217,417.16668302257114,458.98789607586156,398.44217432052483,405.9693125,415.12257077276206,390.70634782608698,416.53543788187375,408.2703121906145,420.20702650910255,450.55289525806825,384.27053311563856,404.18360824742268,351.21391833735697,412.27899401197607,420.61572265625,488.99243267304695,442.52890390390388,375.71023255813952,411.57297297297299,404.75534599548411,404.82266756483665,439.81134564643799,423.53390150086733,362.7164269623982,378.06269662921346,436.32309199394427,427.89561544650041,385.47724177071512,379.86946529799297,380.31603464112322,442.02111267936954,505.40769060283685,379.11191543146043,369.44533333333334,403.91683084717141,335.0487616099071,383.24227999511777,386.15321859233552,295.43774999999999,385.52718363537372,395.97967385933123,395.87885572139305,311.86295928500499,379.5263157894737,327.27074839100987,439.57057522123893,437.78138353158562,364.92887871853549,418.17096446700509,410.77934272300467,423.09510803593105,383.93059855521153,428.34917094928733,399.23239353544886,405.74646393210747,352.17007619487418,391.49612403100775,393.7429496070273,395.42022900763357,360.47628915662648,358.89432969136294,419.54050324675325,411.73794808405438,381.11651001950702,342.10779708783468,402.75088998135277,397.15953615039973,415.73321204101887,361.77468913126512,331.40266106442579,349.06558620689657,351.76093333333336,358.43560119811724,318.54696725711216,382.89669459962755,399.18908865468075,340.10551374596838,383.72027741083224,375.02282270606531,400.87207007748952,289.51075187969923,388.11395646606917,377.80680127523908,359.9281055722949,357.41088938388407,380.09460317460315,394.09729212804513,308.7854736842105,343.3090103570695,402.03230360405246,364.10491615307438,383.88065669110074,369.74108293940697,378.55917937927404,393.51766902253632,346.07634408602149,387.17546156867883,383.72359608449256,373.50120534735919,347.57121762835072,359.76639094471051,402.64222925457102,419.96746931383728,392.99314024390242,400.77639143730886,323.93950971028335,316.26144264879781,343.49068825910933,327.40002754062243,403.8331561037856,369.96955445544552,381.51625858271797,409.41590163934427,348.06085714285712,359.22212477343157,291.08543371522097,236.6793702277181,287.38011843903428,295.47456433726455,332.1425899953249,333.56605640771897]
[20,"","","","","","","","","","","","","","","","","","","","","","","","","","","","","","","","","","","","","","","","","","","","","","","","","","","","","","","","","","","","","","","","","","","","","","","","","","","","","","","","","","","","","","","","","","","","","","","","","","","","","","","","","","","","","","","","","","","","","","","","","","","","","","","","","","",""]
[21,"Foder",-117.53881571902774,-131.79630200308168,-136.01889588736569,-140.92521978021978,-127.7208408843784,-131.00469416785205,-121.63677130044843,-117.53019041935659,-118.69632034632035,-131.75407262021591,-138.53496260889676,-99.098719150265538,-137.19612499999999,-141.76205049732212,-114.19347826086957,-131.79959266802445,-146.91657316348756,-136.43136378153943,-150.76913666550158,-128.79328458862781,-125.38235051546391,-117.31730870158496,-138.91535329341318,-117.046142578125,-154.89895392833296,-139.18718718718719,-128.58000000000001,-126.38124324324325,-115.41957763315182,-125.46227686089593,-138.27440633245382,-132.85519269929858,-127.25385548431814,-101.4206179775281,-132.24935435034286,-138.45122687047467,-111.38291713961408,-133.61008120116441,-130.63121637580369,-141.61738414490708,-147.29266400709218,-120.53946914856945,-134.92262962962963,-134.29172530256122,-122.80185758513932,-129.45258147198828,-122.04640927469853,-129.38499999999999,-131.13642373804154,-128.22128150222369,-126.56873963515754,-106.72900805472801,-144.6757894736842,-110.24931765340162,-148.98362831858407,-150.29114216422221,-143.58620900076278,-124.16812182741117,-131.66654628626461,-125.94822772517601,-119.92285861713107,-137.19169979637351,-124.46797215996224,-137.80357142857142,-136.60831216809052,-133.56062015503875,-127.04438280166436,-135.93740458015267,-129.43330120481929,-137.28128239891538,-132.65324675324675,-121.96179345993932,-137.57770290240586,-120.37905119774543,-133.08628581115443,-128.58069050338224,-130.40897563127137,-140.22645673301363,-133.70028011204482,-126.47951724137931,-132.32017777777779,-126.34112109542149,-104.82402934335302,-138.18994413407822,-123.39677619342839,-117.8918752879742,-139.80944517833552,-114.87290046656298,-121.82042643307504,-104.52203007518797,-124.89116517285531,-120.23719447396387,-125.14836568900415,-125.70877442762992,-130.59857142857143,-119.80878800080532,-119.00368421052632,-124.93750550127629,-110.05954160438465,-127.10376952845063,-146.43872296601441,-125.42973785990546,-116.50394529195161,-135.04227230297374,-133.11335125448028,-141.74702108157655,-131.31903657908293,-119.30719921104536,-144.47592003634711,-126.29194601654332,-131.95094936708861,-154.45764303440873,-135.80125762195121,-106.4754740061162,-112.19758038841134,-145.89825778478519,-133.18704453441296,-137.26356375654089,-134.81242024670354,-142.48811881188118,-128.05583624821867,-142.8404918032787,-142.50635714285715,-140.32713559024734,-121.4388590133271,-106.13311710250693,-121.34079060586122,-120.22302411547263,-141.73118279569891,-147.36615536862939]
[22,"Dyrlæge og medicin",-5.3538922796873327E-2,-6.3189522342064715,-6.470544646165246,-1.8131868131868132,-14.250163102573396,-3.6847439544807967,-7.7467178129558594,-0.68301415938805399,-5.92987012987013,-0.58959764474975462,-5.6290185799090278,-4.9064042486722901,-6.6894999999999998,-9.4873756694720743,-6.4413043478260867,-1.0026476578411405,-6.2173783908652895,-4.8088150750558931,-7.8907724571828028,-5.1939376730318729,-4.6853195876288662,-1.6977012700745251,-5.9503233532934132,-8.4520507812499996,-7.0213665702203425,-7.9839839839839843,-0.38546511627906976,-6.9298918918918915,-6.2985788285296849,-1.7293701583024588,-5.5996042216358841,-5.9399653065842069,-1.2576676485877665,-4.5122471910112356,-7.6280167423635232,-5.652855993563958,-0.68297389330306468,-2.2981461620959092,-3.3963390631150769,-5.5388143966125618,-8.3129432624113484,-5.8104102033781455,-6.0868148148148151,-4.6507177033492821,-3.1893704850361195,-5.8322958623214936,-1.0734604787633735,-2.5,-11.989266547406082,-0.16287267336517872,-7.8140961857379772,-5.0118062451726804,-1.4815789473684211,-4.1797351484314449,-7.3690265486725668,-4.9837163644762672,-4.8306331045003814,-5.7185786802030458,-5.4039966293487423,-6.057841709152707,-5.5792053663570691,-10.044216038010278,-10.466438598560812,-1.5454384724186705,-4.8936966058646965,-6.1111627906976747,-1.5286638927415626,-6.530152671755725,-1.875132530120482,-6.9979264694154235,-5.3674512987012983,-8.7533430722553103,-5.3489389371637994,-4.2548927509002663,-6.2616545177148666,-7.536853202143547,-6.4768441945087663,-4.8821032975427574,-7.0028011204481793,-1.7081379310344829,-7.7288888888888891,-6.7658536585365852,-0.72419037394882801,-7.3425046554934825,-4.9597024178549285,-2.6168023345108278,-6.8974020255394102,-4.1038880248833589,-8.2916205419454201,-0.85285714285714287,-14.896779277060967,-5.473963868225292,-5.9688775315610814,-5.6825269249316834,-8.5712698412698405,-5.6945842560901951,-6.3835263157894735,-7.1648915881817912,-9.4152134196977251,-5.0440017199369356,-8.9786151329738892,-5.6491190373871936,-3.6833245660178853,-8.6715562074943318,-6.202956989247312,-8.6209244467722925,-8.4246522411128293,-5.588264299802761,-13.136983189459336,-9.6451023073574227,-9.8505625879043599,-4.5363874169964449,-9.7067454268292686,-4.4537003058103979,-1.7329512893982808,-2.9980449349625542,-4.5363794100636206,-1.9461580831726797,-6.0585920884729898,-5.8132425742574254,-7.3453815261044175,-0.7686885245901639,-2.2282857142857142,-6.6773080746067945,-3.4018237082066869,-4.457328197851206,-3.2699802601609558,-6.5338848794226365,-1.0364656381486677,-5.9143988124690745]
[23,"Diverse vedr. husdyr",-14.289110183103116,-11.604108885464818,-11.909410892923304,-14.626428571428571,-13.53664371148967,-14.814224751066856,-26.701712680317684,-9.7910812130418279,-17.583073593073593,-19.360107948969578,-14.6480610592861,-13.021180880974695,-35.185749999999999,-12.337260902830911,-36.608695652173914,-11.088391038696537,-18.690680483136425,-11.224209517725965,-11.92490970523127,-11.755377298218216,-17.124556701030929,-8.8038207200587806,-16.657676646706587,-32.781591796874999,-16.276430002225684,-26.369744744744743,-11.93,-13.560702702702702,-11.424491964404304,-14.716402829235433,-11.135883905013193,-13.473791386982427,-11.733061861029285,-18.237865168539326,-15.082375990738267,-14.394609814963797,-11.656469920544835,-18.546345947602269,-10.219000131216376,-11.304634203716773,-15.215868794326241,-11.621280018384466,-12.599703703703703,-11.886293273290176,-5.052889576883385,-12.290125717075552,-21.294163953197124,-4.5715000000000003,-15.092245469394104,-16.08795915005765,-11.534908789386401,-21.069954761116627,-12.918421052631579,-14.928193550561041,-12.818362831858407,-18.743041921699966,-11.561861174675821,-4.9183756345177665,-12.88467557481642,-15.522274823986404,-13.297729618163055,-17.725492097352856,-38.440132122213051,-13.273426449787836,-10.44317709535904,-10.792248062015505,-26.237632917244568,-15.740076335877863,-11.885638554216868,-10.873434883164526,-26.266152597402598,-26.191369816833351,-14.529644736064315,-12.489431658055425,-23.198084421088321,-14.920934727224809,-13.975521005623552,-15.04108135636379,-9.1491596638655466,-19.448275862068964,-15.7308,-10.002909713307659,-14.879405976024334,-34.673836126629425,-6.7321760694358339,-5.1399170634311169,-10.837516512549538,-13.842496111975116,-13.55065697646436,-20.855714285714285,-2.5954890180242294,-9.8906482465462275,-10.793661085472367,-17.100374308218708,-2.151904761904762,-23.97981679081941,-11.28042105263158,-15.85456092480122,-13.050074738415546,-13.596244804357173,-17.740958381292785,-3.0801461108723678,-10.442048044888654,-7.2968395786104816,-13.117025089605734,-12.402383134738772,-17.37223080886141,-18.055226824457595,-3.8523398455247615,-13.264780148019156,-14.257559774964838,-26.072573613253738,-17.714748475609756,-58.747645259938835,-15.475644699140402,-13.987370910524241,-16.972816657027185,-10.996144312861471,-12.36580178647384,-13.001237623762377,-14.478170747506153,-15.244426229508196,-16.288714285714285,-14.913173127521487,-7.299415478138882,-16.681937968781675,-1.5647618565571697,-16.625066009505368,-11.593501636278635,-14.022266204849085]
[24,"Stykomkostninger i alt",-131.88146482492772,-149.71936312275295,-154.39885142645423,-157.36483516483517,-155.50764769844147,-149.50366287339972,-156.08520179372198,-128.00428579178646,-142.20926406926407,-151.70377821393524,-158.8120422480919,-117.02630427991252,-179.07137499999999,-163.5866870696251,-157.24347826086955,-143.89063136456213,-171.82463203748927,-152.46438837432132,-170.58481882791565,-145.7425995598779,-147.19222680412372,-127.81883069171828,-161.52335329341318,-158.27978515625,-178.19675050077899,-173.54091591591592,-140.89546511627907,-146.87183783783783,-133.1426484260858,-141.90804984843382,-155.0098944591029,-152.26894939286521,-140.24458499393521,-124.17073033707865,-154.95974708344465,-158.4986926790024,-123.72236095346197,-154.45457331086257,-144.24655557013514,-158.46083274523642,-170.82147606382978,-137.97115937033206,-153.60914814814814,-150.82873627920068,-131.04411764705881,-147.57500305138532,-144.41403370665904,-136.45650000000001,-158.21793575484173,-144.47211332564652,-145.91774461028191,-132.81076906101731,-159.07578947368421,-129.3572463523941,-169.17101769911505,-174.01790045039843,-159.97870327993897,-134.80507614213198,-149.95521849042976,-147.52834425831512,-138.79979360165117,-164.96140793173663,-173.3745428807361,-152.62243635077795,-151.94518586931426,-150.46403100775194,-154.8106796116505,-158.20763358778626,-143.19407228915662,-155.15264375149533,-164.28685064935064,-156.90650634902798,-157.45628657563398,-137.1233756067011,-162.54602474995761,-151.03847843275059,-150.86134083140368,-160.14964138692017,-149.85224089635855,-147.63593103448275,-155.77986666666666,-143.10988446726572,-120.42762569332618,-180.20628491620113,-135.08865468071915,-125.64859468591614,-157.54436371642447,-132.81928460342147,-143.66270395148481,-126.2306015037594,-142.38343346794051,-135.6018065887354,-141.91090430603759,-148.49167566078032,-141.32174603174604,-149.48318904771492,-136.66763157894738,-147.9569580142593,-132.52482976249792,-145.74401605274474,-173.15829648028108,-134.15900300816503,-130.62931790285813,-151.01066808907854,-152.43333333333334,-162.77032866308761,-157.11591962905717,-142.95069033530572,-161.4652430713312,-149.2018284719199,-156.05907172995779,-185.06660406465892,-163.22275152439025,-169.67681957186545,-129.40617637695001,-162.88367363027197,-154.69624060150375,-150.20586615257506,-153.23681412165035,-161.302599009901,-149.87938852182924,-158.85360655737705,-161.02335714285715,-161.91761679237561,-132.14009819967268,-127.27238326913981,-126.17553272257933,-143.38197500440063,-154.36115007012623,-167.30282038594754]
[25,0,"","","","","","","","","","","","","","","","","","","","","","","","","","","","","","","","","","","","","","","","","","","","","","","","","","","","","","","","","","","","","","","","","","","","","","","","","","","","","","","","","","","","","","","","","","","","","","","","","","","","","","","","","","","","","","","","","","","","","","","","","","","","","","","","","",""]
[26,"Dækningsbidrag",294.84495127958024,295.19455572675912,313.75768803260468,240.09302197802197,292.60971366437116,287.23186344238974,231.32373439948134,242.84413823034774,280.74523809523811,265.46290480863593,300.17585382776963,281.41587004061233,226.89793750000001,251.53588370313696,233.4628695652174,272.64480651731162,236.44568015312521,267.7426381347812,279.96807643015262,238.52793355576063,256.99138144329896,223.39508764563871,250.75564071856289,262.3359375,310.79568217226796,268.98798798798799,234.81476744186045,264.70113513513513,271.61269756939834,262.9146177164028,284.80145118733509,271.26495210800209,222.471841968463,253.89196629213484,281.36334491049962,269.39692276749798,261.75488081725314,225.41489198713037,236.06947907098805,283.56027993413312,334.58621453900707,241.14075606112834,215.83618518518517,253.08809456797073,204.00464396284829,235.66727694373245,241.73918488567645,158.98124999999999,227.30924788053201,251.50756053368474,249.96111111111111,179.05219022398765,220.45052631578946,197.91350203861577,270.39955752212387,263.76348308118719,204.95017543859649,283.36588832487308,260.82412423257495,275.5667637776159,245.13080495356039,263.38776301755064,225.85785065471276,253.12402758132956,200.22489032555993,241.03209302325581,238.9322699953768,237.21259541984733,217.28221686746988,203.74168593986761,255.25365259740261,254.8314417350264,223.66022344387304,204.98442148113355,240.20486523139516,246.12105771764914,264.87187120961516,201.62504774434495,181.55042016806723,201.42965517241379,195.98106666666666,215.32571673085152,198.11934156378601,202.69040968342645,264.10043397396157,214.45691906005223,226.17591369440774,242.20353810264385,257.20936612600474,163.28015037593985,245.73052299812863,242.20499468650371,218.0172012662573,208.91921372310378,238.77285714285713,244.61410308033018,172.11784210526315,195.3520523428102,269.50747384155454,218.36090010032964,210.72236021081966,235.58207993124194,247.92986147641591,242.50700093345779,193.64301075268818,224.40513290559119,226.60767645543535,230.55051501205347,186.10597455701955,210.56456247279058,246.58315752461323,234.90086524917834,229.7703887195122,231.09957186544344,194.53333333333333,153.37776901852581,188.79444765760556,177.19416138804738,250.59634198213527,208.66695544554455,231.63687006088873,250.56229508196722,187.03749999999999,197.30450798105596,158.94533551554829,109.40698695857829,161.20458571645491,152.09258933286392,177.7814399251987,166.26323602177141]
[27,null,null,null,"Pr. Skind",null,null,null,null,null,null,null,null,null,"Pr. Skind",null,null,null,null,null,null,null,null,null,"Pr. Skind",null,null,null,null,null,null,null,null,null,"Pr. Skind",null,null,null,null,null,null,null,null,null,"Pr. Skind",null,null,null,null,null,null,null,null,null,"Pr. Skind",null,null,null,null,null,null,null,null,null,"Pr. Skind",null,null,null,null,null,null,null,null,null,"Pr. Skind",null,null,null,null,null,null,null,null,null,"Pr. Skind",null,null,null,null,null,null,null,null,null,"Pr. Skind",null,null,null,null,null,null,null,null,null,"Pr. Skind",null,null,null,null,null,null,null,null,null,"Pr. Skind",null,null,null,null,null,null,null,null,null,"Pr. Skind"]
[28,"Energi og brændstof",-0.62463861227112105,-2.8392398561890086,-5.9833271582067429,-2.7287362637362635,-2.5371511417180139,-2.5877667140825036,-1.334269814684748,-1.5190148103944014,-2.2458441558441558,-4.1287536800785087,-5.8653920283709811,-4.427116526085598,-1.3382499999999999,-2.4483550114766639,-1.1821739130434783,-2.6230142566191446,-1.7160583459837635,-4.1520281060364104,-2.7131539088896655,-1.8967842691843544,-1.6440824742268041,0.36590742101396034,-1.8841676646706587,-2.5368164062499998,-1.6445582016470064,-2.9353103103103102,-2.9069767441860463,-4.5945945945945947,-1.59383716296985,-2.0106096328730212,-1.3271767810026385,-2.660532468511954,-2.5992029111072603,-3.3563483146067417,-2.6232077656069106,-2.2051488334674176,-1.3058456299659478,-2.4296001225677952,-4.5925731531295106,-3.3174547165372852,-1.9127881205673758,-1.3411467310122946,-1.5146666666666666,-1.9701660568533634,-1.2899896800825594,-0.48333943610399122,-2.5218807027587933,-0.74175000000000002,-3.6511627906976742,-1.7843518366002307,-2.9418739635157545,-1.5030894847180845,-4.0789473684210522,-2.8180072109714596,-3.0831858407079644,-3.4225661161796976,-2.8554996186117467,-2.7606091370558374,-2.0757192729023717,-4.5887351298858947,-2.339138286893705,-4.7851255696693498,-2.0330305532617672,-4.723567892503536,-0.90519510505656897,-2.8981912144702844,-1.6807674526121128,-2.2900763358778624,-3.2654457831325301,-5.6872956376106547,-4.0816558441558444,-2.0249466232160915,-2.3004669858721996,-1.9781587599812118,-1.7578403119172741,-3.206448212246332,-4.1927996471496307,-2.7627636548826549,-3.5014005602240896,-4.1044827586206898,-2.7936444444444444,-1.9400085579803166,-1.723385220969762,-2.989385474860335,-3.0998140111593306,-5.547381354630625,-3.4625715543813298,-3.5755832037325037,-2.7158396303604948,-1.6224060150375941,-0.45966709346991036,-2.165462274176408,-3.6047141386017771,-3.4755321836177004,-3.2304761904761903,-2.3776927722971615,-1.760578947368421,-1.7557433324531291,-4.8119083208769311,-1.6147341264153647,-4.189253044163082,-2.5186935969058872,-3.1213396458004561,-3.1610881450860115,-2.9723118279569891,-2.7806730391514991,-6.5121071612570836,-3.5173131711593251,-3.975465697410268,-4.2316064431867657,-2.1251758087201127,-4.442081963914414,-0.68197408536585369,-2.5754128440366975,-4.5565106653931871,-4.4179739850216793,-2.6617698091382302,-1.9798953456348114,2.1531263292216076,-2.1014851485148514,-3.9753854126182149,-7.3245901639344266,-2.2662142857142857,-3.3770683505817694,-2.69408463876549,-2.9731738630988582,-0.68735131852001818,-0.51276183770462946,-17.010986442262741,-7.8218703612073233]
[29,"Vedligehold og maskinstation",-2.6325088339222615,-4.0177709296353363,-28.39403482771397,-4.0885164835164831,-1.5791953606379123,-17.470803698435276,-6.3635528661732135,-19.476699397819129,-16.816363636363636,-8.2196270853778213,-8.4273379076401209,-10.05360824742268,-11.241250000000001,-7.1017597551644984,-8.0374782608695661,-4.0301425661914463,-15.981123358194179,-11.094282976684765,-10.273214493766748,-12.942216227727693,-12.747855670103093,-3.1567125013120605,-13.044359281437126,-14.32138671875,-16.984754061874025,-24.338213213213212,-14.4,-10.449891891891891,-21.066144242263249,-21.857359380262714,-12.178759894459104,-13.809714156422054,-8.5451394905562292,-12.324775280898876,-35.726244545373589,-18.428097345132745,-8.0007377979568677,-5.7043051938103266,-6.2141451253116387,-15.16343213361562,-28.162788120567377,-8.7775479719636902,-9.4156296296296293,-15.859555305375739,-12.219556243550052,-8.4237763944830952,-7.1039467563602532,-5,-27.442793808820099,-8.6759018283643545,-14.266500829187397,-8.7148295266468061,-12.992105263157894,-4.988846581527782,-16.811061946902655,-7.6116179697424649,-10.956430205949657,-33.696852791878172,-9.4420368364030338,-15.851784413692643,-15.437951496388029,-33.057985067390675,-14.447799929220244,-9.4941654879773694,-4.7066728238282156,-9.0957105943152463,-16.566805362921869,-4.0530534351145038,-14.469638554216868,-8.5581784831326271,-35.699350649350649,-29.079334756714239,-4.949045339008098,-25.661499921715986,-17.956518053907441,-24.809364842308707,-17.319770647259897,-14.171879641811314,-8.4103641456582636,-16.464965517241378,-24.343466666666668,-8.054257595207531,-14.600017892288424,-22.832169459962756,-6.1996280223186613,-8.2359084626017509,-9.9773227653016292,-22.70715396578538,-26.595995572026759,-6.0442105263157897,-20.105683049345021,-30.727523910733261,-14.312368892787672,-22.256091119939377,-10.312857142857142,-29.836470706663981,-11.128947368421052,-11.527946483584191,-22.570420195980734,-11.901533610434283,-26.776034409644392,-10.750537172324881,-9.5488339470454147,-19.631950926790239,-12.794802867383513,-6.062851905198376,-12.448093766099948,-41.952388779311853,-7.160040890504316,-12.379277318241185,-20.718706047819971,-20.765577838889261,-14.623094512195122,-19.660183486238534,-8.5027698185291314,-14.609113125739063,-13.1631000578369,-15.099972459377582,-19.811782220331775,-16.608415841584158,-19.585956730146393,-16.826393442622951,-13.038571428571428,-8.044845933461966,-9.6807575403320083,-7.1868369484424619,-23.367110391253732,-29.543918324238689,-5.8438522674146798,-34.362691736763978]
[30,"Løn - inkl. ejerløn",-31.955562694078594,-49.608320493066259,-35.781585772508336,-33.846153846153847,-36.353026458861905,-41.064687055476526,-52.94721486844238,-50.355340964574403,-66.515151515151516,-85.346418056918552,-77.172153264975719,-72.130646672914708,-53.125,-43.671614384085693,-43.913043478260867,-58.942769857433809,-50.458715596330272,-54.295752155860747,-62.240184084818829,-50.328671825086957,-75.813876288659799,-53.080717959483572,-72.659449101796412,-76.882226562499994,-56.793456487870017,-63.837212212212215,-43.604651162790695,-45.945945945945944,-48.468455306149558,-51.931458403502866,-69.261213720316618,-70.022324458858137,-34.65603881476347,-57.536853932584272,-61.292100810401635,-64.954847144006436,-61.268501702610671,-53.623410448904551,-60.884398372916941,-80.151729004940009,-119.92896719858156,-56.105136159944848,-46.449592592592595,-47.102307908809458,-26.827399380804952,-62.218723300378372,-80.689412101477799,-35.137500000000003,-44.74978610873454,-70.759479492670067,-74.226782752902153,-52.005461767626613,-19.736842105263158,-59.388954409138393,-78.021017699115049,-46.772144589444508,-66.62306636155607,-80.777461928934017,-72.989165763813645,-76.190640932265111,-81.760577915376672,-97.177348977019292,-85.21092367582871,-116.63817185289957,-46.307827291618565,-76.227390180878558,-69.34812760055479,-65.899236641221378,-63.179903614457828,-100.41582263338384,-55.826785714285712,-104.15934374648837,-54.113495300585207,-31.31360576170346,-82.556365485675542,-57.243257489238339,-86.17361340831404,-47.597080168060096,-35.0140056022409,-89.65517241379311,-67.700577777777781,-64.20864356011981,-43.514761137949542,-58.198789571694597,-83.040917544947305,-34.556903701428354,-74.221928665785995,-75.958048211508554,-76.815709678971942,-54.9787969924812,-66.768935290062046,-77.876301806588742,-90.763949807391583,-70.502445633453505,-73.175396825396831,-69.188594725186235,-61.501736842105267,-56.224540093301648,-123.10139511709018,-51.987960441450483,-57.952323256800142,-99.642243231628711,-108.65579519551113,-86.544872649686624,-78.709677419354833,-83.758543930862899,-68.240468830499736,-98.520819636204251,-72.290663334847792,-122.26504135829343,-80.762130801687761,-124.52035683144409,-84.671493902439025,-131.95229357798166,-90.333460681311678,-68.801781631848641,-65.719722382880278,-68.083172679702557,-161.1482347937048,-63.854084158415844,-112.44746728850888,-107.4739344262295,-110.75235714285714,-106.41407940127463,-75.159831657704004,-62.436651125076018,-96.773396770764791,-71.797218799507135,-137.91491351098645,-84.116773874319648]
[31,"Diverse inkl. forsikring",-7.0615162222936076,-17.46276322547509,-15.853649499814747,-12.088241758241757,-13.292062341428053,-18.182788051209105,-8.75444378410503,-8.6274616177507735,-10.229004329004329,-7.4948478900883222,-11.64135378922211,-11.758388003748829,-12.9103125,-13.51690895179801,-11.478260869565217,-15.140733197556008,-6.5012210415154117,-12.810028744809966,-14.834265408365374,-10.645204798750621,-9.7360206185567009,-12.309016479479375,-9.0059880239520957,-11.728564453124999,-14.271867349209883,-15.459834834834835,-11.814186046511628,-14.801351351351352,-8.7073980608314514,-19.405355338497809,-27.70448548812665,-11.342786032129119,-6.6712874718419686,-15.377303370786517,-13.509751536200909,-20.113636363636363,-10.562542565266742,-4.5962923241918183,-13.515286707781131,-12.666254998823806,-19.758421985815602,-16.878892335976101,-10.634,-9.7192513368983953,-13.123065015479876,-13.981813743439522,-10.921708949082191,-3.5390000000000001,-11.180679785330948,-11.804084994234888,-24.126368159203981,-6.7673507668542427,-19.90078947368421,-7.3425885365771473,-14.685619469026548,-14.682988797782654,-7.6578794813119755,-16.086497461928936,-17.487179487179485,-25.032046613255645,-13.067853457172342,-13.029574323669156,-10.087884864928631,-14.233557284299858,-9.4666820595705374,-10.899793281653746,-21.960240406842349,-26.717557251908396,-10.050265060240964,-9.6136853018582027,-17.288961038961038,-9.9683110461849651,-13.565052905361471,-13.860967590418037,-19.8398033565011,-17.394360010542037,-21.082533906715184,-10.804354284259221,-10.504201680672269,-8.9655172413793096,-9.309333333333333,-14.988104407359863,-21.37385936661299,-14.545903165735568,-25.781773093614383,-13.572262325295654,-15.023117569352708,-13.511430793157077,-14.991047793232902,-3.9827067669172931,-18.957155520535803,-23.379277364505846,-13.867843929974446,-13.651824465520013,-14.307301587301588,-17.836068049124219,-20.707263157894737,-13.800545726608574,-28.18618169739246,-16.830156227604988,-11.871206154964561,-16.123334765792865,-22.361914781693844,-19.95106014135218,-9.9515232974910397,-32.305748330496272,-26.401725914477073,-21.751150558842866,-10.324738755111314,-11.000522420548542,-31.180907172995781,-14.418673284593199,-16.790967987804876,-12.247951070336391,-22.669914040114612,-9.6720063066614106,-20.788548293811452,-13.546819058110714,-16.376010208421949,-12.3,-16.786500842077988,-25.887704918032785,-16.2515,-16.437876395953925,-9.475005845218611,-11.28454625312521,-9.2626917042061034,-18.413835592325295,-26.595605423094906,-31.21326076199901]
[32,"Pelsning - netto",-22.006424670735626,-4.7793528505392908,-21.828454983327159,0,-29.523523015585358,5.1129089615931722,1.8255983575557837,-1.4530461672001302,-1.332077922077922,9.0893523061825316,-4.3823914887055739,-29.58481724461106,-6.2845000000000004,-22.047436878347359,0,-21.434419551934827,0,-27.300351325455125,-8.3974134917860894,-26.906864484986158,0,-25.314684580665478,0,0,-5.2765412864455818,-9.3704954954954953,-24.394534883720929,-28.434162162162163,-25.715500066409881,-13.132704614348265,-28.00131926121372,-20.970435176106797,-35.929215040720848,-3.9215168539325842,-21.729450529877994,-4.9164320193081252,-27.431214528944381,-29.608855523211275,-27.456239338669466,0,-12.677415780141844,-25.063196598873951,-19.550962962962963,-28.588376020264565,-18.007997936016512,-23.213230806786282,0,0,-3.9817997977755311,-3.180728051391863,-13.057794361525705,0,-26.823947368421052,-3.1706708899147489,-33.348008849557523,-18.740039265504098,-2.2637986270022883,-30.048730964467005,-28.306247742867463,-9.1759529011896088,-28.051341589267285,-7.8705517308251718,0,0,-28.450519510505657,-9.7534883720930239,-30.628756356911698,-27.461450381679388,-4.7837108433734938,2.1138846797990269,-37.547240259740256,-7.3138554893808294,-27.370633090973577,-26.466572725849382,-17.684014239701643,-26.691645436176756,-23.871871209615172,-8.7931927173959181,-31.013305322128851,8.8860689655172411,-1.5236888888888889,-24.665810868635003,-27.797459295043836,0,-20.384996900185989,-20.307172477346029,-29.631770145310437,-23.837091757387249,-4.8548394859700634,-29.586090225563911,-21.404018516694574,-14.226461211477153,-4.3219802433349859,-1.9550830137552528,-29.743492063492063,-20.77144151399235,-3.538736842105263,-24.000293401402459,0,-25.050594811523577,-26.836251287332647,-29.767296948861194,-4.6731544800981943,-39.347913055074009,-26.468100358422941,-28.004844834359041,-24.974884080370941,0,-31.510222626079056,-20.061210274270788,-33.499296765119553,-9.1743913072640684,-31.076981707317074,0,-6.680483922317733,-3.5925739061884117,-27.644534412955466,-29.956210410355276,0,-35.693069306930695,-25.538800362741288,-18.756393442622951,0,-8.7703911594457118,-3.3514145429039046,-11.061287924859787,-24.028597459128409,-39.528604118993137,-30.388966806919122,-30.875804057397328]
[33,"Kapacitetsomkostninger i alt",-64.280651033301211,-78.707447354904986,-107.84105224157095,-52.751648351648349,-83.284958318231247,-74.193136557610245,-67.573882975849585,-81.431562957738834,-97.138441558441556,-96.100294406280668,-107.48862847891451,-127.95457669478289,-84.899312499999994,-88.786074980872229,-64.610956521739126,-102.17107942973523,-74.657118342023622,-109.65244330884701,-98.458231387626711,-102.71974160573579,-99.941835051546391,-93.495224099926531,-96.593964071856291,-105.468994140625,-94.971177387046524,-115.94106606606607,-97.120348837209306,-104.22594594594595,-105.55133483862399,-108.33748736948468,-138.47295514511873,-118.80579229202806,-88.400883728989783,-92.516797752808984,-134.88075518746103,-110.61816170555109,-108.56884222474461,-95.962463612685767,-112.66264269780869,-111.29887085391672,-182.44038120567376,-108.16591979777088,-87.564851851851856,-103.23965662820152,-71.468008255933952,-108.32088368119126,-101.23694850967904,-44.41825,-91.006222291358796,-96.204546203261401,-128.61932006633498,-68.990731545845748,-83.532631578947374,-77.709067628129532,-145.94889380530972,-91.229356738653422,-90.356674294431727,-163.37015228426395,-130.30034910316601,-130.83915999028889,-140.65686274509804,-155.92058566857364,-111.77963902323935,-145.08946251768035,-89.836896790579544,-108.87457364341086,-140.1846971798428,-126.42137404580153,-95.879084337349397,-122.16109737618631,-150.44399350649351,-152.54579166198448,-102.29869362180055,-99.280804759668072,-139.79454144770301,-129.34507599051216,-152.64058881905393,-84.129270466409196,-88.443277310924373,-110.30406896551725,-105.67071111111112,-113.85682498930252,-109.00948291286456,-98.566247672253255,-138.50712957222567,-82.219628321302409,-132.31671070013209,-139.58930793157077,-125.97343216056215,-96.214210526315796,-127.69545947010735,-148.3750265674814,-126.87085701209047,-111.84097641628586,-130.7695238095238,-140.01026776726394,-98.637263157894736,-107.30906903735,-178.66990533134032,-107.38497921742869,-127.62506815290483,-158.97400085947572,-148.36103805014903,-168.63688491798908,-131.29964157706092,-152.91266204006808,-138.57727975270478,-165.74167214551829,-125.26113130395275,-169.9376578145407,-168.28621659634317,-173.32108122610504,-147.84451219512195,-166.43584097859326,-132.74313912766635,-101.09344895545921,-129.97767495662234,-128.66606995318094,-195.18290089323693,-130.55705445544555,-178.33411063609276,-176.26901639344263,-142.30864285714287,-143.04426124071801,-100.36109422492402,-94.942496114602335,-154.11914764387305,-159.79633867276888,-217.7543244506779,-188.39040079168728]
[34,"","","","","","","","","","","","","","","","","","","","","","","","","","","","","","","","","","","","","","","","","","","","","","","","","","","","","","","","","","","","","","","","","","","","","","","","","","","","","","","","","","","","","","","","","","","","","","","","","","","","","","","","","","","","","","","","","","","","","","","","","","","","","","","","","","",""]
[35,"Afskrivning inkl. leasing",-11.417068208587644,-21.229686697483309,-21.887180437198964,-11.387692307692308,-41.971728887277997,-35.260170697012803,-29.335026203468583,-30.967178429989694,-45.69199134199134,-29.229342492639844,-14.223190193508596,-25.343455170259293,-20.0784375,-14.350726855394033,-24.284521739130433,-36.682281059063136,-27.923338393505379,-18.477483232194189,-33.273389257835255,-18.920990984595726,-36.911649484536085,-19.018158916762886,-27.250922155688624,-36.373339843750003,-70.786445582016469,-27.113238238238239,-12.015813953488372,-29.540054054054053,-33.046752556780447,-47.180363758841359,-16.688654353562004,-37.300173467078963,-9.6763992375671464,-39.923707865168538,-29.135363790186126,-40.569086886564762,-36.236095346197501,-22.935192278228897,-15.483532344836636,-39.559338979063753,-42.98936170212766,-34.220268872802485,-31.075481481481482,-24.292991837883477,-8.0105779153766772,-24.81142438667155,-34.654381507854154,-20.726749999999999,-33.659096212180138,-43.824015812880909,-24.384908789386401,-33.387730332119609,-7.8947368421052628,-19.208680122653906,-18.916592920353981,-46.635870192862917,-22.107520976353928,-35.472690355329952,-30.361141206211627,-50.185542607428985,-20.67763157894737,-34.368176088432079,-28.393653415123275,-26.29508486562942,-21.424844146848304,-46.441860465116278,-14.22746185852982,-27.435496183206109,-34.996674698795182,-8.5330568625887224,-26.626136363636363,-28.094842117091808,-32.822959153514219,-26.674651636135902,-23.152059671130701,-37.900289906000175,-32.246223398390121,-36.911513814030471,-21.275910364145659,-16.201103448275862,-20.934577777777779,-31.52614462986735,-23.457237430667384,-37.093901303538175,-49.210787352758835,-53.443249884810321,-29.51354029062087,-43.261897356143081,-47.949030177600228,-27.428421052631577,-37.289372599231754,-29.764824654622743,-30.400167817231779,-33.519737295336071,-49.669206349206348,-37.654066841151604,-20.330473684210528,-28.345744212657337,-32.739162929745888,-49.992976924179445,-24.571999757678562,-24.956811345079501,-49.550412063826059,-27.054140552073608,-26.703405017921146,-22.949456592902973,-48.474111282843893,-24.666337935568706,-18.516242616992276,-7.2652154984762731,-31.814521800281295,-20.255751559460727,-38.295160060975611,-33.36379204892966,-32.561540910538042,-27.152889239258968,-37.771428571428572,-16.120490223079042,-36.886218630370053,-58.586386138613861,-41.248995983935743,-54.574590163934424,-32.760428571428569,-47.944805004969886,-57.508019639934531,-15.947023447530238,-27.041099357189857,-25.179193803907761,-51.030388031790558,-70.198416625432955]
[36,"Renteomk. af bundet kapital",-19.48189608095085,-14.378089881869542,-19.486039273805112,-14.879273076923077,-24.464375860819139,-23.639299964438123,-18.215808525582151,-14.312056908804863,-24.59696818181818,-19.615622914622179,-17.628308148947653,-19.188397375820056,-18.091548125000003,-16.942624330527927,-22.524243913043478,-20.481401221995924,-23.12824533034123,-13.877447460875119,-30.649332401258299,-23.13056257542415,-27.435805773195877,-19.09009184423218,-19.185212694610779,-22.157219970703125,-33.185262074337864,-20.598323323323321,-21.723653488372094,-26.746553513513511,-23.992618541638993,-25.905399124284273,-23.757773746701851,-22.878754808054904,-16.247371772656386,-25.233126123595508,-27.255455962240628,-21.593014883346743,-25.778147559591375,-15.884900413666308,-19.789103792153263,-38.245677781698426,-23.679113475177306,-16.021466161093876,-19.008892777777778,-22.681118069237264,-15.635166408668731,-17.618695837910412,-24.482868823129493,-20.2036625,-25.569074823053587,-34.355606819304889,-22.957686981757877,-19.176095663687519,-25.814968421052633,-17.052893486538395,-14.625268805309734,-32.591289409862569,-25.186657818459189,-14.50989847715736,-21.350653063681232,-26.106072165574169,-21.660566305469555,-21.407497333462619,-22.844483897605286,-21.421215965346537,-19.001599399676749,-22.230171317829459,-15.063454692556634,-24.089337786259541,-25.62366530120482,-16.638197224659063,-22.917593750000002,-17.288041352961006,-30.053014718921794,-24.085175747612336,-18.599687658925241,-25.053155582886763,-27.464603043334435,-24.361925051988287,-13.83578431372549,-19.223412068965516,-17.909851555555555,-24.764721009841679,-17.854017266058328,-21.810165270018622,-31.412141971481713,-40.239888649976962,-17.899036217525321,-19.64876730171073,-29.266719690041874,-8.3179789473684203,-29.954939426770412,-28.398151965993623,-19.868753384949844,-25.737567111396881,-22.682811111111111,-36.24184643648077,-17.673196578947369,-25.602532347504621,-23.897126307922271,-26.541101476279206,-23.967193009026474,-20.946289213579718,-25.962893214097843,-18.10159487931724,-16.024066308243725,-22.540000000000003,-20.31010690365791,-20.044196252465483,-20.424599045888232,-14.246654767087504,-26.109526195499296,-20.57023408679321,-26.319119664634144,-19.609919877675843,-22.881656160458451,-18.828334016554987,-19.851473684210525,-33.23443266317819,-22.343361335601873,-23.8916974009901,-17.762207539836769,-28.497717213114758,-22.512050000000002,-29.079658831783899,-28.530813420621929,-20.508904993580646,-19.641673330971301,-20.392148389368067,-20.958945769050956,-39.663762988619496]
[37,"Kapitalomkostninger i alt",-30.898964289538494,-35.607776579352851,-41.373219711004076,-26.266965384615386,-66.436104748097137,-58.899470661450927,-47.550834729050734,-45.279235338794557,-70.288959523809524,-48.844965407262023,-31.851498342456246,-42.313795688847236,-38.169985625000002,-31.293351185921956,-46.808765652173918,-57.16368228105906,-51.051583723846612,-32.354930693069306,-63.922721659093554,-42.051553560019876,-64.347455257731966,-38.108250760995062,-46.436134850299396,-58.530559814453127,-103.97170765635433,-47.71156156156156,-33.739467441860462,-56.286607567567565,-57.039371098419444,-73.085762883125639,-40.446428100263851,-60.17892827513387,-25.923771010223529,-65.156833988764049,-56.390819752426751,-62.162101769911501,-62.014242905788876,-38.820092691895205,-35.272636136989895,-77.805016760762172,-66.668475177304956,-50.241735033896362,-50.084374259259256,-46.974109907120749,-36.02964525283798,-42.430120224581955,-59.137250330983655,-40.930412499999996,-59.228171035233721,-78.179622632185797,-47.342595771144275,-52.563825995807129,-33.709705263157893,-36.261573609192304,-33.541861725663715,-79.227159602725479,-47.294178794813121,-49.982588832487309,-51.711794269892863,-76.291614773003161,-42.338197884416928,-55.775673421894695,-51.238137312728561,-47.71630083097596,-40.42644354652505,-68.672031782945737,-29.290916551086454,-51.524833969465647,-60.620339999999999,-25.171254087247785,-49.543730113636364,-45.382883470052818,-62.875973872436013,-50.759827383748238,-41.751747330055942,-62.953445488886935,-59.710826441724556,-61.273438866018758,-35.111694677871149,-35.424515517241375,-38.844429333333338,-56.290865639709033,-41.311254696725712,-58.904066573556804,-80.622929324240545,-93.68313853478729,-47.412576508146188,-62.910664657853808,-77.215749867642103,-35.746400000000001,-73.153895400374267,-58.162976620616362,-50.268921202181623,-59.257304406732956,-72.352017460317469,-73.895913277632374,-38.003670263157893,-53.948276560161958,-56.636289237668159,-76.534078400458654,-48.539192766705028,-45.903100558659219,-75.513305277923905,-45.155735431390852,-40.218510752688175,-45.489456592902968,-68.784218186501803,-44.78395079991234,-38.940841662880509,-21.511870265563779,-57.92404799578059,-40.82598564625394,-64.614279725609748,-52.973711926605503,-55.443197070996497,-45.981223255813951,-57.622902255639097,-49.354922886257228,-59.229579965971922,-82.478083539603972,-59.011203523772508,-83.072307377049185,-55.272478571428572,-77.024463836753782,-86.03883306055647,-36.455928441110885,-48.201221845421877,-45.571342193275832,-71.989333800841507,-109.86217961405245]
[38,"","","","","","","","","","","","","","","","","","","","","","","","","","","","","","","","","","","","","","","","","","","","","","","","","","","","","","","","","","","","","","","","","","","","","","","","","","","","","","","","","","","","","","","","","","","","","","","","","","","","","","","","","","","","","","","","","","","","","","","","","","","","","","","","","","",""]
[39,"Årets resultat",199.66533595674056,180.87933179250129,164.54341608002963,161.07440824175825,142.88865059804277,154.13925622332857,116.19901669458102,116.13333993381436,113.31783701298701,120.51764499509322,160.83572700639888,111.1474976569822,103.82863937499999,131.45645753634275,122.04314739130436,113.3100448065173,110.73697808725497,125.7352641328649,117.58712338343237,93.756638390004966,92.70209113402062,91.791612784717117,107.72554179640719,98.336383544921873,111.85279712886712,105.33536036036035,103.95495116279069,104.18858162162162,109.02199163235488,81.491367463792528,105.8820679419525,92.280231540840191,108.1471872292497,96.218334550561792,90.091769970611807,96.616659292035408,91.171795686719634,90.63233568254941,88.134200236189471,94.456392319454253,85.477358156028373,82.733101229461113,78.186959074074082,102.87432803264846,96.506990454076359,84.916273037959243,81.364986045013779,73.6325875,77.074854553939488,77.123391698237526,73.999195273631841,57.497632682334768,103.20818947368421,83.942860801293918,90.90880199115044,93.306966739808288,67.299322349351641,70.013147208121822,78.811980859516069,68.435989014323866,62.135744324045405,51.691503927082323,62.840074318744847,60.318264232673265,69.961549988455317,63.485487596899226,69.456656264447531,59.266387404580151,60.782792530120489,56.409334476433528,55.265928977272729,56.902766602989097,58.485555949636463,54.943789337717234,58.658576453636208,53.822536238250024,52.520455948836698,56.222338411916986,57.995448179271712,55.701070689655175,51.465926222222222,45.178026101839961,47.798603954195748,45.220095437616386,44.970375077495348,38.554152203962524,46.44662648612946,39.703565513219282,54.020184097800453,31.319539849624061,44.881168127647001,35.666991498405956,40.877423051985204,37.820932900084969,35.651315873015875,30.707922035433864,35.476908684210528,34.09470674529824,34.201279272546088,34.441842482442311,34.558099291209793,30.704978513107005,24.055518148342976,28.71438058407788,22.12485842293907,26.003014272620138,19.246178516228746,20.024892066622836,21.904001590186276,19.115034392686113,20.372892932489453,20.753798376819372,17.311596798780485,11.690018960244648,6.3469971346704872,6.3030968072526603,1.1938704453441296,-0.82683145139080139,-3.8161388770735858,-4.3681825495049509,-5.7084440989765515,-8.7790286885245905,-10.543621428571429,-22.764217096415834,-27.454591769932193,-21.99143759713494,-41.115783772840011,-53.275091533180778,-111.96221832632071,-131.98934438396836]
[40,"","","","","","","","","","","","","","","","","","","","","","","","","","","","","","","","","","","","","","","","","","","","","","","","","","","","","","","","","","","","","","","","","","","","","","","","","","","","","","","","","","","","","","","","","","","","","","","","","","","","","","","","","","","","","","","","","","","","","","","","","","","","","","","","","","",""]
[41,"Nøgletal","","","","","","","","","","","","","","","","","","","","","","","","","","","","","","","","","","","","","","","","","","","","","","","","","","","","","","","","","","","","","","","","","","","","","","","","","","","","","","","","","","","","","","","","","","","","","","","","","","","","","","","","","","","","","","","","","","","","","","","","","","","","","","","","","",""]
[42,"","","","","","","","","","","","","","","","","","","","","","","","","","","","","","","","","","","","","","","","","","","","","","","","","","","","","","","","","","","","","","","","","","","","","","","","","","","","","","","","","","","","","","","","","","","","","","","","","","","","","","","","","","","","","","","","","","","","","","","","","","","","","","","","","","",""]
[43,"Bundet kapital pr. tæve",3465.5509999999999,2161.7097297297296,3163.4778947368422,2275.6535294117648,4186.9122883195832,3652.4017307692307,3428.1281138790036,2691.9810714285713,4638.2854285714284,3461.1809090909092,2252.7762068965517,3509.8319999999999,3375.6824489795918,2433.4076923076923,3482.7402352941176,3192.4977777777776,3575.6739285714284,1880.9648484848485,4421.2305882352939,4119.3455752212385,4937.4270129870129,3464.2153333333335,2934.0023076923076,3704.3254285714283,4868.6165714285717,3139.8397863818423,3336.1325000000002,4039.2754285714286,3440.77,4883.373333333333,3430.17,3688.1387234042554,2232.4662499999999,3888.7415151515152,4484.2712820512825,3228.8863157894739,4055.4549999999999,2468.5891666666666,3133.7716363636364,5630.558484848485,3815.72,2655.9013333333332,3258.6673333333333,2933.0668789808919,2150.9105590062113,2749.5233333333335,3902.0401197604792,3552.2923076923075,4269.3713636363636,5730.0244230769231,3955.2815000000001,4137.9274999999998,3013.7290322580643,2409.8986666666665,1888.749,4031.5425,4288.2738181818186,2268.6111111111113,2815.2361111111113,3840.3896875,3426.79,4069.5948387096773,3569.6348387096773,3461.6685000000002,2612.5691111111109,3321.651081081081,2023.7423913043478,3680.1204081632654,3797.7932500000002,2649.2235555555558,3666.8150000000001,2680.2487804878047,4401.7909090909088,3740.5961702127661,2612.3704166666666,3789.7683720930231,4223.4249258160235,3489.6051063829786,1881.6666666666667,2654.6616666666669,2558.5502222222221,3994.1444444444446,2664.5154205607478,3346.3024999999998,4825.5033333333331,6805.244545454545,2508.4055075593951,3208.6748888888887,3509.8103030303032,1663.5957894736841,4137.8571428571431,4771.9037500000004,2878.9104448742746,3767.3742352941176,3402.4216666666666,6050.8655882352941,2460.0053846153846,3561.6779999999999,3263.9845176657404,3527.1860000000001,3139.8924999999999,2994.9010752688173,4453.1242105263154,2281.409411764706,2554.694,2980.7442424242422,3465.6630769230769,2986.5034285714287,2671.6911076443057,2124.971818181818,3535.9758333333334,2696.1021538461537,3288.6366666666668,3271.6550000000002,4026.4023529411766,2751.5831451612903,2664.8445652173914,5516.5360000000001,3531.3776470588236,3501.9485714285715,2729.8452961672474,4138.9541666666664,2728.7333333333331,4440.6196874999996,3831.2806593406594,3468.7004000000002,2771.8609999999999,2829.0059829059828,2561.7820000000002,5089.5533333333333]
[44,"Afkastningsgrad",39.370670541759928,47.530720803328094,33.054592813239523,41.388976560321005,23.942388554620766,26.321631672394279,25.826571881773564,31.900298598469767,19.624443736875925,25.003867571209931,35.433015906350647,23.773513945966645,23.586740797507069,30.656218092387061,22.464055686779698,22.863184799919811,20.257839506179003,35.211409876040406,16.927859584475549,17.686781376155096,15.326053940287737,20.329182770201161,23.152604445367313,19.033417227536088,15.29694736398571,21.398241302184765,20.248671178377958,17.133907467421313,19.403931871838765,14.510051794797585,19.098567515118297,17.617062449536327,26.797008316101827,16.846113726751362,15.069103644201858,19.160541584812364,15.878751582744725,23.469478349138022,19.0878560275669,12.144045348211597,16.134373067206191,21.573617694633235,17.896122907230719,19.374885312758217,25.103509534890033,20.368839689788654,15.131702690352725,16.255808816841995,14.050322716235527,11.356996162622075,14.781501645331691,13.994405009109833,17.492992641560058,20.728748484030309,25.255552749465387,13.520296511818989,12.852079578025588,20.388196400146931,16.419601671460356,12.675105317681384,13.540139397428581,11.951257095895414,13.127718494382909,13.355366061192745,16.38656916763329,13.49538885293857,19.638283142026474,12.110961320586782,11.802472396305406,15.366229736410819,11.940273160023814,15.020083683531379,10.311278260707935,11.484299749237833,14.53808952884266,11.019167643797829,10.19303668911178,11.577283877271,18.170947741364039,13.641474713977988,13.557634549288156,9.8850140404812414,12.870166464313005,10.756723278902609,8.5106838595766519,6.8533773884820652,12.582231619950804,10.572325564371086,9.9602608814623554,16.678488448610999,8.7440128891190518,7.8958659843044829,10.700803085628987,8.6431926171328382,9.001064437927301,6.4655698506528694,10.525847295935668,8.1609246299878073,8.5091578339370209,8.0418781430863024,8.5466213324890017,8.630618779301594,6.7428710015062165,9.0520153176725646,8.3325439367689427,7.5377351355000215,6.81665535422015,6.9966292162779569,7.2535133685322233,8.1960231344244576,6.2310003532735303,7.031233237909726,5.8021510433401478,5.586447400911335,4.4708427491247473,4.6716829968061493,3.7104904968354058,3.4129243423771731,2.9022167985765264,2.8600856956009437,2.3751649083252664,2.4217873073813938,1.8607590157271328,0.7601205434235917,0.13202482950210837,-0.25300541955136857,-3.8265266548358672,-5.6438536443442882,-15.19692151791214,-8.1469712033232362]
[45,0,"","","","","","","","","","","","","","","","","","","","","","","","","","","","","","","","","","","","","","","","","","","","","","","","","","","","","","","","","","","","","","","","","","","","","","","","","","","","","","","","","","","","","","","","","","","","","","","","","","","","","","","","","","","","","","","","","","","","","","","","","","","","","","","","","",""]
[46,"Fremstillingspris kr. pr. skind",227.06108014776746,264.03458705701081,303.61312337902928,236.38344890109889,305.2287107647698,282.59627009246088,271.2099194986223,254.71508408831983,309.63666515151516,296.6490380274779,298.15216906946267,287.29467666354265,302.14067312499998,283.66611323641928,268.6632004347826,303.22539307535641,297.53333410335949,294.47176237623768,332.96577187463589,290.51389472563358,311.48151711340205,259.4223055526399,304.55345221556883,322.27933911132811,377.13963554417984,337.19354354354351,271.75528139534885,307.38439135135138,295.73335436312919,323.33130010104412,333.92927770448551,331.25366996002714,254.56923973314849,281.84436207865167,346.23132202333244,331.27895615446499,294.30544608399543,289.23712961544356,292.18183440493368,347.56472035991533,419.93033244680851,296.37881420199932,291.25837425925926,301.04250281452295,238.54177115583076,298.32600695715854,304.78823254732168,221.80516249999999,308.45232908143424,318.85628216109376,321.87966044776118,254.36532660267019,276.31812631578947,243.32788758971594,348.6617732300885,344.47441679177734,297.62955636918383,348.15781725888326,331.96736186348863,354.65911902160718,321.79485423116614,376.65766702220498,336.39231921670404,345.42819969943423,282.20852620641881,328.01063643410851,324.28629334257971,336.15384160305342,299.69349662650603,302.48499521492943,364.27457426948052,354.83518148106532,322.63095406987054,287.16400775011743,344.09231352771656,343.33699991214968,363.21275609218213,305.55235071934811,273.40721288515408,293.36451551724133,300.29500711111109,313.25757509627726,270.74836330291646,337.67659916201114,354.21871357718538,301.55136154200585,337.27365092470274,335.31925719284601,346.85188597968909,258.19121203007518,343.23278833842215,342.13980977683315,319.05068252030969,319.58995648379914,344.4432873015873,363.38937009261122,273.30856500000004,309.21430361177124,367.8310243315064,329.66307367063212,349.32255739989097,339.03610442629997,354.50366123093107,364.80328843845842,323.95148566308245,361.17244729605864,364.47741756826377,353.47631328073635,325.66721603816444,340.65135655202437,382.26933632208153,399.21367093701792,375.68154344512197,389.08637247706417,317.59251257561289,309.95834584154517,342.29681781376519,328.22685899201326,407.64929498085917,374.3377370049505,387.22470268169451,418.19493032786886,358.60447857142856,381.98634186984742,318.54002548515314,258.67080782485306,328.4959022118743,348.74965587044534,444.10480832164563,465.55540079168725]
[47,"Kr. pr. Skind",418,463,503,362,424,424,420,378,422,425,397,432,429,441,407,446,395,394,402,379,409,367,403,405,430,453,349,409,358,405,427,415,368,382,433,398,385,392,370,413,375,391,381,370,348,399,380,313,398,359,360,363,371,354,405,358,411,400,396,456,390,423,415,413,350,421,396,403,415,378,387,410,374,339,388,391,382,369,326,360,380,392,376,376,407,374,397,344,368,380,379,385,382,363,380,395,418,350,387,361,414,359,375,381,335,381,392,370,329,367,385,372,392,417,345,327,332,356,399,379,381,382,308,360,288,346,289,323,323,343]
[48,"Producerede skind pr. tæve",6.2,5.3,5.7,5.4,6,5.4,6.6,6.6,6.6,6.2,4.5,6.4,6.5,5,5.4,5.5,5.4,4.7,5,6.2,6.3,6.4,5.4,5.9,5.0999999999999996,5.3,5.4,5.3,5,6.6,5.0999999999999996,5.6,4.8,5.4,5.8,5.2,5.5,5.4,5.5,5.2,5.6,5.8,6,4.5,4.8,5.5,5.6,6.2,5.8,5.8,6,7.6,4.0999999999999996,4.9000000000000004,4.5,4.3,6,5.5,4.5999999999999996,5.0999999999999996,5.5,6.7,5.5,5.7,4.8,5.2,4.7,5.3,5.2,5.6,5.6,5.4,5.0999999999999996,5.4,4.9000000000000004,5.3,5.4,5,4.8,4.8,5,5.6,5.2,5.4,5.4,5.9,4.9000000000000004,5.7,4.2,7,4.8,5.9,5.0999999999999996,5.0999999999999996,5.2,5.8,4.9000000000000004,4.9000000000000004,4.8,4.7,4.5999999999999996,5,6,4.4000000000000004,5.6,4.5999999999999996,6,5.2,4.5999999999999996,5.2,4.7,4.5999999999999996,4.4000000000000004,5.8,6.2,5.0999999999999996,4.7,5.8,5.5,5.0999999999999996,5.4,5.0999999999999996,4.2,5.3,4.7,5.9,4.9000000000000004,4.9000000000000004,4.3,4.5]
[49,0,"","","","","","","","","","","","","","","","","","","","","","","","","","","","","","","","","","","","","","","","","","","","","","","","","","","","","","","","","","","","","","","","","","","","","","","","","","","","","","","","","","","","","","","","","","","","","","","","","","","","","","","","","","","","","","","","","","","","","","","","","","","","","","","","","",""]
[50,"Lønningsevne kr. pr. skind",231.62089865081913,230.48765228556752,200.32500185253795,194.92056208791209,179.24167705690468,195.2039432788051,169.14623156302341,166.48868089838876,179.83298852813854,205.8640630520118,238.0078802713746,183.27814432989692,156.95363937499999,175.12807192042845,165.95619086956523,172.25281466395111,161.19569368358523,180.03101628872565,179.82730746825121,144.08531021509191,168.5159674226804,144.87233074420067,180.3849908982036,175.21861010742185,168.64625361673714,169.17257257257256,147.55960232558141,150.13452756756755,157.49044693850445,133.42282586729539,175.14328166226912,162.30255599969831,142.80322604401317,153.75518848314607,151.38387078101343,161.57150643604183,152.44029738933031,144.25574613145398,149.01859860910642,174.60812132439426,205.40632535460995,138.83823738940598,124.63655166666666,149.97663594145794,123.33438983488131,147.1349963383376,162.05439814649159,108.77008749999999,121.82464066267403,147.88287119090759,148.22597802653399,109.50309444996137,122.94503157894736,143.3318152104323,168.92981969026548,140.07911132925278,133.92238871090771,150.79060913705584,151.80114662332971,144.62662994658896,143.89632223942209,148.86885290410163,148.05099799457355,176.95643608557285,116.2693772800739,139.71287777777778,138.80478386500232,125.16562404580152,123.96269614457833,156.82515710981738,111.09271469155846,161.06211034947748,112.59905125022166,86.257395099420691,141.21494193931176,111.06579372748837,138.69406935715074,103.81941857997708,93.009453781512605,145.35624310344826,119.16650399999999,109.38666966195977,91.31336509214529,103.41888500931098,128.01129262244265,73.11105590539087,120.66855515191546,115.66161372472784,130.83589377677239,86.298336842105257,111.65010341770905,113.54329330499471,131.64137285937679,108.32337853353847,108.82671269841271,99.896516760620102,96.978645526315802,90.319246838599881,157.30267438963628,86.429802923892794,92.510422548009927,130.34722174473569,132.7113133438541,115.2592532337645,100.8345358422939,109.76155820348305,87.486647346728489,118.54571170282709,94.194664925034076,141.38007575097953,101.13502373417722,145.27415520826347,101.98309070121951,143.64231253822629,96.68045781598218,75.104878439101299,66.913592828224409,67.256341228311754,157.33209591663123,59.485901608910893,106.73902318953232,98.694905737704929,100.20873571428572,83.6498623048588,47.705239887771803,40.445213527941085,55.657612997924787,18.522127266326354,25.952695184665732,-47.872570509648703]
[51]
[52]
[53]
[54]
[55]
[56]
[57]
[58]
[59]
[60]
[61]
[62]
[63]
[64]
[65]
[66]
[67]
[68]
[69]
[70]
[71]
[72]
[73]
[74]
[75]
[76]

{"sheet":"Diagrammer-orig","index":9,"n_rows":126,"n_cols":107,"rows_kept":126,"cut":false,"hidden":true,"merged":[[0,82,2,85],[11,25,11,28],[46,53,48,56],[92,53,94,56],[2,0,3,22],[43,0,44,22],[0,25,2,28],[0,53,2,56],[55,25,55,28]]}
[null,null,null,null,null,null,null,null,null,null,null,null,null,null,null,null,null,null,null,null,null,null,null,null,null,"Slagtekalve",null,null,null,null,"Løbenummer/",null,"Løbenummer/","Løbenummer/","Løbenummer/","Løbenummer/","Løbenummer/","Løbenummer/","Løbenummer/","Løbenummer/",null,null,null,null,"Løbenummer/",null,null,null,null,"Løbenummer/",null,null,null,"SVIN, Søer med smågrise og fravænnede",null,null,null,null,null,null,"Løbenummer/","Løbenummer/","Løbenummer/","Løbenummer/","Løbenummer/","Løbenummer/","Løbenummer/","Løbenummer/","Løbenummer/",null,"Løbenummer/","Løbenummer/","Løbenummer/","Løbenummer/","Løbenummer/","Løbenummer/",null,null,null,null,null,null,"Slagtekalve",null,null,null,null,null,null,"Løbenummer/","Løbenummer/","Løbenummer/","Løbenummer/","Løbenummer/","Løbenummer/","Løbenummer/","Løbenummer/","Løbenummer/","Løbenummer/","Løbenummer/","Løbenummer/","Løbenummer/","Løbenummer/","Løbenummer/"]
[null,null,null,null,null,null,null,null,null,null,null,null,null,null,null,null,null,null,null,null,null,null,null,null,null,null,null,null,null,null,"Kg EKM pr. årsko (leveret)",null,"Dyreomsætning og andre landbrugsindtægter ekskl. værdiændringer pr. kg EKM","Foderomkostninger ekskl. værdiændring pr. kg EKM","Dyrlæge og diverse pr. kg EKM","Arbejdsomkostninger pr. kg EKM","Bygninger pr. kg EKM","Inventar inkl. Energi pr. kg EKM","Forrentning driftskapital pr. kg EKM","Øvrige omkostninger pr. kg EKM",null,null,null,null,"Arbejdsomkostninger pr. årsko",null,null,null,null,"Fremstillingspris pr. kg EKM",null,null,null,null,null,null,null,null,null,null,"Bruttoudbytte i alt","Foderomkostninger pr. enhed","Dyrlæge og medicin","Arbejdsomkostninger pr. enhed","Energi svin","kapitalomkostninger i alt",{"$f":"IF($AB$13=BF5,$BO$4,$BO$5)","v":{"$error":"#REF!"}},null,"Øvrige omkostninger pr. enhed",null,"Bruttoudbytte i alt","Foderomkostninger pr. enhed","Dyrlæge og medicin","Arbejdsomkostninger pr. enhed","Energi svin","kapitalomkostninger i alt",null,null,null,null,null,null,null,null,null,null,null,null,null,"Bruttoudbytte i alt","kvæg andet",null,null,null,null,null,null,null,"foderomkostninger","Dyrlæge og medicin","Arbejdsomkostninger","bygninger","inventar inkl. Energi","diverse kapacitetsomkostninger"]
[{"$f":"IF(#REF!=4,VLOOKUP(#REF!*10+#REF!,'Diagrammer-orig'!$Z$13:$AA$23,2,FALSE)&\" \"&VLOOKUP(#REF!*10+#REF!,$Z$13:$AB$23,3,FALSE),\nVLOOKUP(#REF!,'Diagrammer-orig'!$Z$13:$AA$23,2,FALSE)&\" \"&VLOOKUP(#REF!,$Z$13:$AB$23,3,FALSE))","v":{"$error":"#REF!"}},null,null,null,null,null,null,null,null,null,null,null,null,null,null,null,null,null,null,null,null,null,null,null,null,null,null,null,null,null,null,null,"Dyreomsætning","Foder","Dyrlæge og diverse","Arbejdsomkostninger","Bygninger","Inventar inkl. energi","Forrentning driftskapital","Øvrige omkostninger","Total","Dyreomsætning","Foder","Dyrlæge og diverse","Arbejdsomkostninger","Bygninger","Inventar inkl. energi","Forrentning driftskapital","Øvrige omkostninger","Total",null,null,null,null,null,null,null,null,null,null,"Salg/overførsel smågrise",null,"Avl, rådgivning og kontrol",null,"vedligehold",null,null,null,null,null,"Salg/overførsel smågrise",null,"Avl, rådgivning og kontrol",null,"vedligehold",null,null,null,null,null,null,null,null,null,null,null,null,null,null,null,null,null,null,null,null,null,null,null,null,"Avl, Rådgivning og Kontrol",null,null,null,"afskrivning, øvrigt"]
[null,null,null,null,null,null,null,null,null,null,null,null,null,null,null,null,null,null,null,null,null,null,null,null,null,"Akserne","Først","Anden",null,{"$f":"IF(OR(Præsentation!$G$11=0,Præsentation!$G$11=\"Vælg\")=TRUE,\"Ingen valgt\",Præsentation!$G$11)","v":"Gns. BC    166 ejd."},{"$f":"IFERROR(\"EKM pr. ko:  \"&ROUND(DGET(Præsentation!$F$11:$T$89,\"\"&'Diagrammer-orig'!$AD4&\"\",$AE$1:$AE$2),0),\"\")","v":""},"Kr. pr. årsko",{"$f":"IF($AF4=$AF$4,IFERROR(AP5*DGET(Præsentation!$F$11:$T$89,\"\"&'Diagrammer-orig'!$AD4&\"\",$AE$1:$AE$2)/100,0),\"\")","v":0},{"$f":"IF($AF4=$AF$4,IFERROR(AQ5*DGET(Præsentation!$F$11:$T$89,\"\"&'Diagrammer-orig'!$AD4&\"\",$AE$1:$AE$2)/100,0),\"\")","v":0},{"$f":"-IFERROR(DGET(Præsentation!$F$11:$T$89,\"\"&'Diagrammer-orig'!$AD4&\"\",$AH$30:$AH$31)+DGET(Præsentation!$F$11:$T$89,\"\"&'Diagrammer-orig'!$AD4&\"\",$AJ$30:$AJ$31)+DGET(Præsentation!$F$11:$T$89,\"\"&'Diagrammer-orig'!$AD4&\"\",$AI$30:$AI$31),0)","v":0},{"$f":"IFERROR(DGET(Præsentation!$F$11:$T$89,\"\"&'Diagrammer-orig'!$AD4&\"\",'Diagrammer-orig'!AS$1:AS$2),0)","v":0},{"$f":"IFERROR(DGET(Præsentation!$F$11:$T$89,\"\"&'Diagrammer-orig'!$AD4&\"\",'Diagrammer-orig'!AK$30:AK$31),0)","v":0},{"$f":"IFERROR(DGET(Præsentation!$F$11:$T$89,\"\"&'Diagrammer-orig'!$AD4&\"\",'Diagrammer-orig'!AL$30:AL$31),0)","v":0},{"$f":"IFERROR(DGET(Præsentation!$F$11:$T$89,\"\"&'Diagrammer-orig'!$AD4&\"\",'Diagrammer-orig'!AM$30:AM$31),0)","v":0},{"$f":"IFERROR(DGET(Præsentation!$F$11:$T$89,\"\"&'Diagrammer-orig'!$AD4&\"\",'Diagrammer-orig'!AN$30:AN$31),0)","v":0},{"$f":"IF($AF4=$AF$4,IFERROR(AX5*DGET(Præsentation!$F$11:$T$89,\"\"&'Diagrammer-orig'!$AD4&\"\",$AE$1:$AE$2)/100,0),\"\")","v":0},null,null,null,null,null,null,null,null,null,null,null,null,null,null,null,null,null,null,null,"værdiændring besætning",null,"Diverse vedr. husdyr",null,"forsikring",null,"Fremstillingspris pr. smågris",null,null,null,"værdiændring besætning",null,"Diverse vedr. husdyr",null,"forsikring",null,null,null,null,null,null,null,null,null,null,null,null,null,null,null,null,null,null,null,null,null,null,null,null,"diverse stykomkostninger",null,null,null,"øvrige kapitalomkostninger"]
[null,null,null,null,null,null,null,null,null,null,null,null,null,null,null,null,null,null,null,null,null,null,null,null,null,"min",{"$f":"MIN(AG4:AG29)*$AA$8","v":0},{"$f":"MIN(AP4:AP29)","v":0},null,null,null,"Øre pr. kg EKM",null,null,null,null,null,null,null,null,null,{"$f":"IFERROR(DGET(Præsentation!$F$11:$T$89,\"\"&'Diagrammer-orig'!$AD4&\"\",'Diagrammer-orig'!AG$1:AG$2)*100,0)","v":0},{"$f":"IFERROR(DGET(Præsentation!$F$11:$T$89,\"\"&'Diagrammer-orig'!$AD4&\"\",'Diagrammer-orig'!AH$1:AH$2)*100,0)","v":0},{"$f":"(AI4*100)/(IFERROR(DGET(Præsentation!$F$11:$T$89,\"\"&'Diagrammer-orig'!$AD4&\"\",$AE$1:$AE$2),0))","v":{"$error":"#DIV/0!"}},{"$f":"(AJ4*100)/(IFERROR(DGET(Præsentation!$F$11:$T$89,\"\"&'Diagrammer-orig'!$AD4&\"\",$AE$1:$AE$2),0))","v":{"$error":"#DIV/0!"}},{"$f":"(AK4*100)/(IFERROR(DGET(Præsentation!$F$11:$T$89,\"\"&'Diagrammer-orig'!$AD4&\"\",$AE$1:$AE$2),0))","v":{"$error":"#DIV/0!"}},{"$f":"(AL4*100)/(IFERROR(DGET(Præsentation!$F$11:$T$89,\"\"&'Diagrammer-orig'!$AD4&\"\",$AE$1:$AE$2),0))","v":{"$error":"#DIV/0!"}},{"$f":"(AM4*100)/(IFERROR(DGET(Præsentation!$F$11:$T$89,\"\"&'Diagrammer-orig'!$AD4&\"\",$AE$1:$AE$2),0))","v":{"$error":"#DIV/0!"}},{"$f":"(AN4*100)/(IFERROR(DGET(Præsentation!$F$11:$T$89,\"\"&'Diagrammer-orig'!$AD4&\"\",$AE$1:$AE$2),0))","v":{"$error":"#DIV/0!"}},{"$f":"IFERROR(DGET(Præsentation!$F$11:$T$89,\"\"&'Diagrammer-orig'!$AD4&\"\",'Diagrammer-orig'!AX$1:AX$2)*100,0)","v":0},null,null,"Akserne","Primær","Sekundær",null,null,"Søer med smågrise","og",null,null,null,null,null,"diverse kapacitetsomkostninger",null,"Fremstillingspris pr. frav. smågris",null,null,null,null,null,null,null,"diverse kapacitetsomkostninger",null,null,null,null,null,null,null,null,null,null,null,null,null,null,null,null,null,null,null,null,null,null,null,null,null,null,null,null,"renteomk. af bundet kapital"]
[null,null,null,null,null,null,null,null,null,null,null,null,null,null,null,null,null,null,null,null,null,null,null,null,null,null,{"$f":"MAX(AO4:AO29)-IF(AA5<0,AA5,0)","v":0},{"$f":"MAX(AX4:AX29)-IF(AB5<0,AB5,0)","v":0},null,{"$f":"IF(OR(Præsentation!$H$11=0,Præsentation!$H$11=\"Vælg\")=TRUE,\"Ingen valgt\",Præsentation!$H$11)","v":"Gns. BC Top 10"},{"$f":"IFERROR(\"EKM pr. ko:  \"&ROUND(DGET(Præsentation!$F$11:$T$89,\"\"&'Diagrammer-orig'!$AD6&\"\",$AE$1:$AE$2),0),\"\")","v":""},"Kr. pr. årsko",{"$f":"IF($AF6=$AF$4,IFERROR(AP7*DGET(Præsentation!$F$11:$T$89,\"\"&'Diagrammer-orig'!$AD6&\"\",$AE$1:$AE$2)/100,0),\"\")","v":0},{"$f":"IF($AF6=$AF$4,IFERROR(AQ7*DGET(Præsentation!$F$11:$T$89,\"\"&'Diagrammer-orig'!$AD6&\"\",$AE$1:$AE$2)/100,0),\"\")","v":0},{"$f":"-IFERROR(DGET(Præsentation!$F$11:$T$89,\"\"&'Diagrammer-orig'!$AD6&\"\",$AH$30:$AH$31)+DGET(Præsentation!$F$11:$T$89,\"\"&'Diagrammer-orig'!$AD6&\"\",$AJ$30:$AJ$31)+DGET(Præsentation!$F$11:$T$89,\"\"&'Diagrammer-orig'!$AD6&\"\",$AI$30:$AI$31),0)","v":0},{"$f":"IFERROR(DGET(Præsentation!$F$11:$T$89,\"\"&'Diagrammer-orig'!$AD6&\"\",'Diagrammer-orig'!AS$1:AS$2),0)","v":0},{"$f":"IFERROR(DGET(Præsentation!$F$11:$T$89,\"\"&'Diagrammer-orig'!$AD6&\"\",'Diagrammer-orig'!AK$30:AK$31),0)","v":0},{"$f":"IFERROR(DGET(Præsentation!$F$11:$T$89,\"\"&'Diagrammer-orig'!$AD6&\"\",'Diagrammer-orig'!AL$30:AL$31),0)","v":0},{"$f":"IFERROR(DGET(Præsentation!$F$11:$T$89,\"\"&'Diagrammer-orig'!$AD6&\"\",'Diagrammer-orig'!AM$30:AM$31),0)","v":0},{"$f":"IFERROR(DGET(Præsentation!$F$11:$T$89,\"\"&'Diagrammer-orig'!$AD6&\"\",'Diagrammer-orig'!AN$30:AN$31),0)","v":0},{"$f":"IF($AF6=$AF$4,IFERROR(AX7*DGET(Præsentation!$F$11:$T$89,\"\"&'Diagrammer-orig'!$AD6&\"\",$AE$1:$AE$2)/100,0),\"\")","v":0},null,null,null,null,null,null,null,null,null,null,null,"Min værdi",{"$f":"MIN(BI8:BI32)","v":0},{"$f":"MIN(BS9:BS33)","v":-468.15653945905893},null,null,"Søer med fravænnede",null,null,null,null,null,null,null,null,null,null,null,null,null,null,null,null,null,null,null,null,null,null,null,null,"Akserne","Først",null,null,"Slagtekalve"]
[null,null,null,null,null,null,null,null,null,null,null,null,null,null,null,null,null,null,null,null,null,null,null,null,null,"maks",{"$f":"IFERROR(IF(AB6/AB5*AA5<AA6,AA6,AB6/AB5*AA5),0)","v":0},{"$f":"IFERROR(IF(AA6/AA5*AB5<AB6,AB6,AA6/AA5*AB5),0)","v":0},null,null,null,"Øre pr. kg EKM",null,null,null,null,null,null,null,null,null,{"$f":"IFERROR(DGET(Præsentation!$F$11:$T$89,\"\"&'Diagrammer-orig'!$AD6&\"\",'Diagrammer-orig'!AG$1:AG$2)*100,0)","v":0},{"$f":"IFERROR(DGET(Præsentation!$F$11:$T$89,\"\"&'Diagrammer-orig'!$AD6&\"\",'Diagrammer-orig'!AH$1:AH$2)*100,0)","v":0},{"$f":"(AI6*100)/(IFERROR(DGET(Præsentation!$F$11:$T$89,\"\"&'Diagrammer-orig'!$AD6&\"\",$AE$1:$AE$2),0))","v":{"$error":"#DIV/0!"}},{"$f":"(AJ6*100)/(IFERROR(DGET(Præsentation!$F$11:$T$89,\"\"&'Diagrammer-orig'!$AD6&\"\",$AE$1:$AE$2),0))","v":{"$error":"#DIV/0!"}},{"$f":"(AK6*100)/(IFERROR(DGET(Præsentation!$F$11:$T$89,\"\"&'Diagrammer-orig'!$AD6&\"\",$AE$1:$AE$2),0))","v":{"$error":"#DIV/0!"}},{"$f":"(AL6*100)/(IFERROR(DGET(Præsentation!$F$11:$T$89,\"\"&'Diagrammer-orig'!$AD6&\"\",$AE$1:$AE$2),0))","v":{"$error":"#DIV/0!"}},{"$f":"(AM6*100)/(IFERROR(DGET(Præsentation!$F$11:$T$89,\"\"&'Diagrammer-orig'!$AD6&\"\",$AE$1:$AE$2),0))","v":{"$error":"#DIV/0!"}},{"$f":"(AN6*100)/(IFERROR(DGET(Præsentation!$F$11:$T$89,\"\"&'Diagrammer-orig'!$AD6&\"\",$AE$1:$AE$2),0))","v":{"$error":"#DIV/0!"}},{"$f":"IFERROR(DGET(Præsentation!$F$11:$T$89,\"\"&'Diagrammer-orig'!$AD6&\"\",'Diagrammer-orig'!AX$1:AX$2)*100,0)","v":0},null,null,"Skale. min",{"$f":"IF(BB6<0,BB6*1.1,BB6*0.9)","v":0},{"$f":"IF(BC6<0,BC6*1.1,BC6*0.9)","v":-514.97219340496486},null,null,null,null,null,"Køb af grise og andre indtægter","Foderomkostninger","Dyrlæge, medicin og diverse","Arbejdsomkostninger","Energi, vedl. bygn. mv.","Forrentning driftskapital og øvrige omk.",null,null,null,null,"Køb af grise og andre indtægter","Foderomkostninger","Dyrlæge, medicin og diverse","Arbejdsomkostninger","Energi, vedl. bygn. mv.","Forrentning driftskapital og øvrige omk.","(total (bruges kun til at finde størrelsen af grafen))",{"$f":"BP7","v":0},0,null,null,null,"min",{"$f":"-(MAX(CT8:CT33,DB8:DB33)-MIN(0,MIN(CL8:CS33,CU8:DA33)))*($CF$9-1)-MIN(0,MIN(CL8:CS33,CU8:DA33))","v":0},null,null,null,null,null,"Bruttoudbytte","Handypræmie","øvrige omkostnigner","Inventar inkl. Energi","Stykomkostninger","Maskinomk. inkl. Arbejde","Dyrlæge og medicin","Jordleje","Total","foderomkostninger","Dyrlæge og diverse","Arbejdsomkostninger","Bygninger","Inventar inkl. Energi","Øvrige omkostninger",null,{"$f":"CT7","v":"Total"}]
[null,null,null,null,null,null,null,null,null,null,null,null,null,null,null,null,null,null,null,null,null,null,null,null,null,"Skalering nedre",1.1299999999999999,null,null,{"$f":"IF(OR(Præsentation!$I$11=0,Præsentation!$I$11=\"vælg\")=TRUE,\"Ingen valgt\",Præsentation!$I$11)","v":"Gns. Alle Kreds"},{"$f":"IFERROR(\"EKM pr. ko:  \"&ROUND(DGET(Præsentation!$F$11:$T$89,\"\"&'Diagrammer-orig'!$AD8&\"\",$AE$1:$AE$2),0),\"\")","v":""},"Kr. pr. årsko",{"$f":"IF($AF8=$AF$4,IFERROR(AP9*DGET(Præsentation!$F$11:$T$89,\"\"&'Diagrammer-orig'!$AD8&\"\",$AE$1:$AE$2)/100,0),\"\")","v":0},{"$f":"IF($AF8=$AF$4,IFERROR(AQ9*DGET(Præsentation!$F$11:$T$89,\"\"&'Diagrammer-orig'!$AD8&\"\",$AE$1:$AE$2)/100,0),\"\")","v":0},{"$f":"IF($AF8=$AF$4,IFERROR(AR9*DGET(Præsentation!$F$11:$T$89,\"\"&'Diagrammer-orig'!$AD8&\"\",$AE$1:$AE$2)/100,0),\"\")","v":0},{"$f":"IF($AF8=$AF$4,IFERROR(AS9*DGET(Præsentation!$F$11:$T$89,\"\"&'Diagrammer-orig'!$AD8&\"\",$AE$1:$AE$2)/100,0),\"\")","v":0},{"$f":"IF($AF8=$AF$4,IFERROR(AT9*DGET(Præsentation!$F$11:$T$89,\"\"&'Diagrammer-orig'!$AD8&\"\",$AE$1:$AE$2)/100,0),\"\")","v":0},{"$f":"IF($AF8=$AF$4,IFERROR(AU9*DGET(Præsentation!$F$11:$T$89,\"\"&'Diagrammer-orig'!$AD8&\"\",$AE$1:$AE$2)/100,0),\"\")","v":0},{"$f":"IF($AF8=$AF$4,IFERROR(AV9*DGET(Præsentation!$F$11:$T$89,\"\"&'Diagrammer-orig'!$AD8&\"\",$AE$1:$AE$2)/100,0),\"\")","v":0},{"$f":"IF($AF8=$AF$4,IFERROR(AW9*DGET(Præsentation!$F$11:$T$89,\"\"&'Diagrammer-orig'!$AD8&\"\",$AE$1:$AE$2)/100,0),\"\")","v":0},{"$f":"IFERROR(SUM(AG8:AN8),0)","v":0},null,null,null,null,null,null,null,null,null,null,null,"Max værdi",{"$f":"MAX(BO8:BO33)","v":0},{"$f":"MAX(BY8:BY33)","v":0},2,{"$f":"BF8","v":"Gns. BC    166 ejd."},{"$f":"$AD4","v":"Gns. BC    166 ejd."},{"$f":"IFERROR(\"Grise pr årsso: \"&ROUND(VLOOKUP($BB$14,Præsentation!$F$11:$T$80,$BD8,FALSE),1),\"\")","v":""},"Smågris",{"$f":"IFERROR((BS9)/IFERROR(VLOOKUP($BB$14,Præsentation!$F$11:$T$80,$BD8,FALSE),0),\"\")","v":""},{"$f":"IFERROR((BT9)/IFERROR(VLOOKUP($BB$14,Præsentation!$F$11:$T$80,$BD8,FALSE),0),\"\")","v":""},{"$f":"IFERROR((BU9)/IFERROR(VLOOKUP($BB$14,Præsentation!$F$11:$T$80,$BD8,FALSE),0),\"\")","v":""},{"$f":"IFERROR((BV9)/IFERROR(VLOOKUP($BB$14,Præsentation!$F$11:$T$80,$BD8,FALSE),0),\"\")","v":""},{"$f":"IFERROR((BW9)/IFERROR(VLOOKUP($BB$14,Præsentation!$F$11:$T$80,$BD8,FALSE),0),\"\")","v":""},{"$f":"IFERROR((BX9)/IFERROR(VLOOKUP($BB$14,Præsentation!$F$11:$T$80,$BD8,FALSE),0),\"\")","v":""},{"$f":"IFERROR(ABS(IFERROR(VLOOKUP(BO$2,Præsentation!$F$11:$T$80,$BD8,FALSE),0)),\"\")","v":0},{"$f":"IFERROR(ABS(IFERROR(VLOOKUP(BP$2,Præsentation!$F$11:$T$80,$BD8,FALSE),0)+IFERROR(VLOOKUP(BP$3,Præsentation!$F$11:$T$80,$BD8,FALSE),0)+IFERROR(VLOOKUP(BP$4,Præsentation!$F$11:$T$80,$BD8,FALSE),0)+IFERROR(VLOOKUP(BP$5,Præsentation!$F$11:$T$80,$BD8,FALSE),0))/IFERROR(VLOOKUP($BB$14,Præsentation!$F$11:$T$80,$BD8,FALSE),0),\"\")","v":""},null,null,null,null,null,null,null,null,null,null,null,null,null,null,"maks",{"$f":"MAX(CT8:CT33,DB8:DB33)*CF10","v":0},2,{"$f":"CI8","v":"Gns. BC    166 ejd."},{"$f":"$AD4","v":"Gns. BC    166 ejd."},null,"Bruttoudbytte",{"$f":"IFERROR(ABS(DSUM(Præsentation!$F$11:$T$89,\"\"&'Diagrammer-orig'!$CH8&\"\",'Diagrammer-orig'!CL$1:INDIRECT(ADDRESS(SUMPRODUCT(--(LEN(CL$1:CL$4)>1)),COLUMN(CL$1)))))/ABS(DGET(Præsentation!$F$11:$T$89,\"\"&$CH9&\"\",CL$34:CL$35))-CM8,\"\")","v":""},{"$f":"IFERROR((ABS(DSUM(Præsentation!$F$11:$T$89,\"\"&'Diagrammer-orig'!$CH8&\"\",'Diagrammer-orig'!CM$1:INDIRECT(ADDRESS(SUMPRODUCT(--(LEN(CM$1:CM$5)>1)),COLUMN(CM$1))))))/ABS(DGET(Præsentation!$F$11:$T$89,\"\"&$CH9&\"\",CM$34:CM$35)),\"\")","v":""},{"$f":"IFERROR(ABS(DSUM(Præsentation!$F$11:$T$89,\"\"&'Diagrammer-orig'!$CH8&\"\",'Diagrammer-orig'!CN$1:INDIRECT(ADDRESS(SUMPRODUCT(--(LEN(CN$1:CN$5)>1)),COLUMN(CN$1))))),\"\")","v":""},null,null,null,null,null,{"$f":"IFERROR(SUM(CL8:CS8),0)","v":0}]
[null,null,null,null,null,null,null,null,null,null,null,null,null,null,null,null,null,null,null,null,null,null,null,null,null,"Skalering øvre",1.03,null,null,null,null,"Øre pr. kg EKM",null,null,null,null,null,null,null,null,null,{"$f":"IFERROR(DGET(Præsentation!$F$11:$T$89,\"\"&'Diagrammer-orig'!$AD8&\"\",'Diagrammer-orig'!AG$1:AG$2)*100,0)","v":0},{"$f":"IFERROR(DGET(Præsentation!$F$11:$T$89,\"\"&'Diagrammer-orig'!$AD8&\"\",'Diagrammer-orig'!AH$1:AH$2)*100,0)","v":0},{"$f":"IFERROR(DGET(Præsentation!$F$11:$T$89,\"\"&'Diagrammer-orig'!$AD8&\"\",'Diagrammer-orig'!AI$1:AI$2)*100,0)","v":0},{"$f":"IFERROR(DGET(Præsentation!$F$11:$T$89,\"\"&'Diagrammer-orig'!$AD8&\"\",'Diagrammer-orig'!AJ$1:AJ$2)*100,0)","v":0},{"$f":"IFERROR(DGET(Præsentation!$F$11:$T$89,\"\"&'Diagrammer-orig'!$AD8&\"\",'Diagrammer-orig'!AK$1:AK$2)*100,0)","v":0},{"$f":"IFERROR(DGET(Præsentation!$F$11:$T$89,\"\"&'Diagrammer-orig'!$AD8&\"\",'Diagrammer-orig'!AL$1:AL$2)*100,0)","v":0},{"$f":"IFERROR(DGET(Præsentation!$F$11:$T$89,\"\"&'Diagrammer-orig'!$AD8&\"\",'Diagrammer-orig'!AM$1:AM$2)*100,0)","v":0},{"$f":"IFERROR(DGET(Præsentation!$F$11:$T$89,\"\"&'Diagrammer-orig'!$AD8&\"\",'Diagrammer-orig'!AN$1:AN$2)*100,0)","v":0},{"$f":"IFERROR(SUM(AP9:AW9),0)","v":0},null,null,"Skale. Max",{"$f":"IF(BB8>0,BB8*1.1,BB8*0.9)","v":0},{"$f":"IF(BC8>0,BC8*1.1,BC8*0.9)","v":0},2,{"$f":"BE8","v":"Gns. BC    166 ejd."},null,null,"Årsso",null,null,null,null,null,null,null,null,null,null,{"$f":"IFERROR(-IFERROR((IFERROR(VLOOKUP(BS$2,Præsentation!$F$11:$T$80,$BD8,FALSE),0)-IFERROR(VLOOKUP(BS$3,Præsentation!$F$11:$T$80,$BD8,FALSE),0)-IFERROR(VLOOKUP(BS$4,Præsentation!$F$11:$T$80,$BD8,FALSE),0)),\"\"),\"\")","v":-382.64996373714609},{"$f":"IFERROR(ABS(IFERROR(VLOOKUP(BT$2,Præsentation!$F$11:$T$80,$BD9,FALSE),0)+IFERROR(VLOOKUP(BT$3,Præsentation!$F$11:$T$80,$BD9,FALSE),0)+IFERROR(VLOOKUP(BT$4,Præsentation!$F$11:$T$80,$BD9,FALSE),0)+IFERROR(VLOOKUP(BT$5,Præsentation!$F$11:$T$80,$BD9,FALSE),0)),\"\")","v":""},{"$f":"IFERROR(ABS(IFERROR(VLOOKUP(BU$2,Præsentation!$F$11:$T$80,$BD9,FALSE),0)+IFERROR(VLOOKUP(BU$3,Præsentation!$F$11:$T$80,$BD9,FALSE),0)+IFERROR(VLOOKUP(BU$4,Præsentation!$F$11:$T$80,$BD9,FALSE),0)+IFERROR(VLOOKUP(BU$5,Præsentation!$F$11:$T$80,$BD9,FALSE),0)),\"\")","v":""},{"$f":"IFERROR(ABS(IFERROR(VLOOKUP(BV$2,Præsentation!$F$11:$T$80,$BD9,FALSE),0)+IFERROR(VLOOKUP(BV$3,Præsentation!$F$11:$T$80,$BD9,FALSE),0)+IFERROR(VLOOKUP(BV$4,Præsentation!$F$11:$T$80,$BD9,FALSE),0)+IFERROR(VLOOKUP(BV$5,Præsentation!$F$11:$T$80,$BD9,FALSE),0)),\"\")","v":""},{"$f":"IFERROR(ABS(IFERROR(VLOOKUP(BW$2,Præsentation!$F$11:$T$80,$BD9,FALSE),0)+IFERROR(VLOOKUP(BW$3,Præsentation!$F$11:$T$80,$BD9,FALSE),0)+IFERROR(VLOOKUP(BW$4,Præsentation!$F$11:$T$80,$BD9,FALSE),0)+IFERROR(VLOOKUP(BW$5,Præsentation!$F$11:$T$80,$BD9,FALSE),0)),\"\")","v":0},{"$f":"IFERROR(ABS(IFERROR(VLOOKUP(BX$2,Præsentation!$F$11:$T$80,$BD9,FALSE),0)+IFERROR(VLOOKUP(BX$3,Præsentation!$F$11:$T$80,$BD9,FALSE),0)+IFERROR(VLOOKUP(BX$4,Præsentation!$F$11:$T$80,$BD9,FALSE),0)+IFERROR(VLOOKUP(BX$5,Præsentation!$F$11:$T$80,$BD9,FALSE),0)),\"\")","v":""},{"$f":"SUM(BS9:BX9)","v":-382.64996373714609},null,null,null,null,null,"Skalering nedre",1.01,2,{"$f":"CH8","v":"Gns. BC    166 ejd."},null,null,"Omkostninger",null,null,null,null,null,null,null,null,null,{"$f":"IFERROR(ABS(DSUM(Præsentation!$F$11:$T$89,\"\"&'Diagrammer-orig'!$CH8&\"\",'Diagrammer-orig'!CU$1:INDIRECT(ADDRESS(SUMPRODUCT(--(LEN(CU$1:CU$6)>1)),COLUMN(CU$1)))))/ABS(DGET(Præsentation!$F$11:$T$89,\"\"&$CH9&\"\",CU$34:CU$35)),\"\")","v":""},{"$f":"IFERROR(ABS(DSUM(Præsentation!$F$11:$T$89,\"\"&'Diagrammer-orig'!$CH8&\"\",'Diagrammer-orig'!CV$1:INDIRECT(ADDRESS(SUMPRODUCT(--(LEN(CV$1:CV$6)>1)),COLUMN(CV$1)))))/ABS(DGET(Præsentation!$F$11:$T$89,\"\"&$CH9&\"\",CV$34:CV$35)),\"\")","v":""},{"$f":"IFERROR(ABS(DSUM(Præsentation!$F$11:$T$89,\"\"&'Diagrammer-orig'!$CH8&\"\",'Diagrammer-orig'!CW$1:INDIRECT(ADDRESS(SUMPRODUCT(--(LEN(CW$1:CW$6)>1)),COLUMN(CW$1)))))/ABS(DGET(Præsentation!$F$11:$T$89,\"\"&$CH9&\"\",CW$34:CW$35)),\"\")","v":""},{"$f":"IFERROR(ABS(DSUM(Præsentation!$F$11:$T$89,\"\"&'Diagrammer-orig'!$CH8&\"\",'Diagrammer-orig'!CX$1:INDIRECT(ADDRESS(SUMPRODUCT(--(LEN(CX$1:CX$6)>1)),COLUMN(CX$1)))))/ABS(DGET(Præsentation!$F$11:$T$89,\"\"&$CH9&\"\",CX$34:CX$35)),\"\")","v":""},{"$f":"IFERROR(ABS(DSUM(Præsentation!$F$11:$T$89,\"\"&'Diagrammer-orig'!$CH8&\"\",'Diagrammer-orig'!CY$1:INDIRECT(ADDRESS(SUMPRODUCT(--(LEN(CY$1:CY$6)>1)),COLUMN(CY$1)))))/ABS(DGET(Præsentation!$F$11:$T$89,\"\"&$CH9&\"\",CY$34:CY$35)),\"\")","v":""},{"$f":"IFERROR(ABS(DSUM(Præsentation!$F$11:$T$89,\"\"&'Diagrammer-orig'!$CH8&\"\",'Diagrammer-orig'!CZ$1:INDIRECT(ADDRESS(SUMPRODUCT(--(LEN(CZ$1:CZ$6)>1)),COLUMN(CZ$1)))))/ABS(DGET(Præsentation!$F$11:$T$89,\"\"&$CH9&\"\",CZ$34:CZ$35)),\"\")","v":""},null,{"$f":"IFERROR(SUM(CU9:DA9),0)","v":0},{"$f":"12839-13690","v":-851}]
[null,null,null,null,null,null,null,null,null,null,null,null,null,null,null,null,null,null,null,null,null,null,null,null,null,null,null,null,null,{"$f":"IF(OR(Præsentation!$K$11=0,Præsentation!$K$11=\"vælg\")=TRUE,\"Ingen valgt\",Præsentation!$K$11)","v":"Ingen valgt"},{"$f":"IFERROR(\"EKM pr. ko:  \"&ROUND(DGET(Præsentation!$F$11:$T$89,\"\"&'Diagrammer-orig'!$AD10&\"\",$AE$1:$AE$2),0),\"\")","v":""},"Kr. pr. årsko",{"$f":"IF($AF10=$AF$4,IFERROR(AP11*DGET(Præsentation!$F$11:$T$89,\"\"&'Diagrammer-orig'!$AD10&\"\",$AE$1:$AE$2)/100,0),\"\")","v":0},{"$f":"IF($AF10=$AF$4,IFERROR(AQ11*DGET(Præsentation!$F$11:$T$89,\"\"&'Diagrammer-orig'!$AD10&\"\",$AE$1:$AE$2)/100,0),\"\")","v":0},{"$f":"IF($AF10=$AF$4,IFERROR(AR11*DGET(Præsentation!$F$11:$T$89,\"\"&'Diagrammer-orig'!$AD10&\"\",$AE$1:$AE$2)/100,0),\"\")","v":0},{"$f":"IF($AF10=$AF$4,IFERROR(AS11*DGET(Præsentation!$F$11:$T$89,\"\"&'Diagrammer-orig'!$AD10&\"\",$AE$1:$AE$2)/100,0),\"\")","v":0},{"$f":"IF($AF10=$AF$4,IFERROR(AT11*DGET(Præsentation!$F$11:$T$89,\"\"&'Diagrammer-orig'!$AD10&\"\",$AE$1:$AE$2)/100,0),\"\")","v":0},{"$f":"IF($AF10=$AF$4,IFERROR(AU11*DGET(Præsentation!$F$11:$T$89,\"\"&'Diagrammer-orig'!$AD10&\"\",$AE$1:$AE$2)/100,0),\"\")","v":0},{"$f":"IF($AF10=$AF$4,IFERROR(AV11*DGET(Præsentation!$F$11:$T$89,\"\"&'Diagrammer-orig'!$AD10&\"\",$AE$1:$AE$2)/100,0),\"\")","v":0},{"$f":"IF($AF10=$AF$4,IFERROR(AW11*DGET(Præsentation!$F$11:$T$89,\"\"&'Diagrammer-orig'!$AD10&\"\",$AE$1:$AE$2)/100,0),\"\")","v":0},{"$f":"IFERROR(SUM(AG10:AN10),0)","v":0},null,null,null,null,null,null,null,null,null,null,null,"Forhold (mellem de to akser)",null,{"$f":"MAX((BC7/BB7),BC9/BB9)","v":{"$error":"#DIV/0!"}},3,{"$f":"BF10","v":"Gns. BC Top 10"},{"$f":"$AD6","v":"Gns. BC Top 10"},{"$f":"IFERROR(\"Grise pr årsso: \"&ROUND(VLOOKUP($BB$14,Præsentation!$F$11:$T$80,$BD10,FALSE),1),\"\")","v":""},"Smågris",{"$f":"IFERROR((BS11)/IFERROR(VLOOKUP($BB$14,Præsentation!$F$11:$T$80,$BD10,FALSE),0),\"\")","v":""},{"$f":"IFERROR((BT11)/IFERROR(VLOOKUP($BB$14,Præsentation!$F$11:$T$80,$BD10,FALSE),0),\"\")","v":""},{"$f":"IFERROR((BU11)/IFERROR(VLOOKUP($BB$14,Præsentation!$F$11:$T$80,$BD10,FALSE),0),\"\")","v":""},{"$f":"IFERROR((BV11)/IFERROR(VLOOKUP($BB$14,Præsentation!$F$11:$T$80,$BD10,FALSE),0),\"\")","v":""},{"$f":"IFERROR((BW11)/IFERROR(VLOOKUP($BB$14,Præsentation!$F$11:$T$80,$BD10,FALSE),0),\"\")","v":""},{"$f":"IFERROR((BX11)/IFERROR(VLOOKUP($BB$14,Præsentation!$F$11:$T$80,$BD10,FALSE),0),\"\")","v":""},{"$f":"IFERROR(ABS(IFERROR(VLOOKUP(BO$2,Præsentation!$F$11:$T$80,$BD10,FALSE),0)),\"\")","v":0},null,null,null,null,null,null,null,null,null,null,null,null,null,null,null,"Skalering øvre",1.0249999999999999,3,{"$f":"CI10","v":"Gns. BC Top 10"},{"$f":"$AD6","v":"Gns. BC Top 10"},null,"Bruttoudbytte",{"$f":"IFERROR(ABS(DSUM(Præsentation!$F$11:$T$89,\"\"&'Diagrammer-orig'!$CH10&\"\",'Diagrammer-orig'!CL$1:INDIRECT(ADDRESS(SUMPRODUCT(--(LEN(CL$1:CL$4)>1)),COLUMN(CL$1)))))/ABS(DGET(Præsentation!$F$11:$T$89,\"\"&$CH11&\"\",CL$34:CL$35))-CM10,\"\")","v":""},{"$f":"IFERROR((ABS(DSUM(Præsentation!$F$11:$T$89,\"\"&'Diagrammer-orig'!$CH10&\"\",'Diagrammer-orig'!CM$1:INDIRECT(ADDRESS(SUMPRODUCT(--(LEN(CM$1:CM$5)>1)),COLUMN(CM$1))))))/ABS(DGET(Præsentation!$F$11:$T$89,\"\"&$CH11&\"\",CM$34:CM$35)),\"\")","v":""},{"$f":"IFERROR(ABS(DSUM(Præsentation!$F$11:$T$89,\"\"&'Diagrammer-orig'!$CH10&\"\",'Diagrammer-orig'!CN$1:INDIRECT(ADDRESS(SUMPRODUCT(--(LEN(CN$1:CN$5)>1)),COLUMN(CN$1))))),\"\")","v":""},null,null,null,null,null,{"$f":"IFERROR(SUM(CL10:CS10),0)","v":0},null,null,null,null,null,null,null,null,{"$f":"12863-13690","v":-827}]
[null,null,null,null,null,null,null,null,null,null,null,null,null,null,null,null,null,null,null,null,null,null,null,null,null,null,null,null,null,null,null,"Øre pr. kg EKM",null,null,null,null,null,null,null,null,null,{"$f":"IFERROR(DGET(Præsentation!$F$11:$T$89,\"\"&'Diagrammer-orig'!$AD10&\"\",'Diagrammer-orig'!AG$1:AG$2)*100,0)","v":0},{"$f":"IFERROR(DGET(Præsentation!$F$11:$T$89,\"\"&'Diagrammer-orig'!$AD10&\"\",'Diagrammer-orig'!AH$1:AH$2)*100,0)","v":0},{"$f":"IFERROR(DGET(Præsentation!$F$11:$T$89,\"\"&'Diagrammer-orig'!$AD10&\"\",'Diagrammer-orig'!AI$1:AI$2)*100,0)","v":0},{"$f":"IFERROR(DGET(Præsentation!$F$11:$T$89,\"\"&'Diagrammer-orig'!$AD10&\"\",'Diagrammer-orig'!AJ$1:AJ$2)*100,0)","v":0},{"$f":"IFERROR(DGET(Præsentation!$F$11:$T$89,\"\"&'Diagrammer-orig'!$AD10&\"\",'Diagrammer-orig'!AK$1:AK$2)*100,0)","v":0},{"$f":"IFERROR(DGET(Præsentation!$F$11:$T$89,\"\"&'Diagrammer-orig'!$AD10&\"\",'Diagrammer-orig'!AL$1:AL$2)*100,0)","v":0},{"$f":"IFERROR(DGET(Præsentation!$F$11:$T$89,\"\"&'Diagrammer-orig'!$AD10&\"\",'Diagrammer-orig'!AM$1:AM$2)*100,0)","v":0},{"$f":"IFERROR(DGET(Præsentation!$F$11:$T$89,\"\"&'Diagrammer-orig'!$AD10&\"\",'Diagrammer-orig'!AN$1:AN$2)*100,0)","v":0},{"$f":"IFERROR(SUM(AP11:AW11),0)","v":0},null,null,"Min y-akse",{"$f":"BB7","v":0},{"$f":"IFERROR(BB11*BC10,0)","v":0},3,{"$f":"BE10","v":"Gns. BC Top 10"},null,null,"Årsso",null,null,null,null,null,null,null,null,null,null,{"$f":"IFERROR(-IFERROR((IFERROR(VLOOKUP(BS$2,Præsentation!$F$11:$T$80,$BD10,FALSE),0)-IFERROR(VLOOKUP(BS$3,Præsentation!$F$11:$T$80,$BD10,FALSE),0)-IFERROR(VLOOKUP(BS$4,Præsentation!$F$11:$T$80,$BD10,FALSE),0)),\"\"),\"\")","v":-413.70146868006844},{"$f":"IFERROR(ABS(IFERROR(VLOOKUP(BT$2,Præsentation!$F$11:$T$80,$BD11,FALSE),0)+IFERROR(VLOOKUP(BT$3,Præsentation!$F$11:$T$80,$BD11,FALSE),0)+IFERROR(VLOOKUP(BT$4,Præsentation!$F$11:$T$80,$BD11,FALSE),0)+IFERROR(VLOOKUP(BT$5,Præsentation!$F$11:$T$80,$BD11,FALSE),0)),\"\")","v":""},{"$f":"IFERROR(ABS(IFERROR(VLOOKUP(BU$2,Præsentation!$F$11:$T$80,$BD11,FALSE),0)+IFERROR(VLOOKUP(BU$3,Præsentation!$F$11:$T$80,$BD11,FALSE),0)+IFERROR(VLOOKUP(BU$4,Præsentation!$F$11:$T$80,$BD11,FALSE),0)+IFERROR(VLOOKUP(BU$5,Præsentation!$F$11:$T$80,$BD11,FALSE),0)),\"\")","v":""},{"$f":"IFERROR(ABS(IFERROR(VLOOKUP(BV$2,Præsentation!$F$11:$T$80,$BD11,FALSE),0)+IFERROR(VLOOKUP(BV$3,Præsentation!$F$11:$T$80,$BD11,FALSE),0)+IFERROR(VLOOKUP(BV$4,Præsentation!$F$11:$T$80,$BD11,FALSE),0)+IFERROR(VLOOKUP(BV$5,Præsentation!$F$11:$T$80,$BD11,FALSE),0)),\"\")","v":""},{"$f":"IFERROR(ABS(IFERROR(VLOOKUP(BW$2,Præsentation!$F$11:$T$80,$BD11,FALSE),0)+IFERROR(VLOOKUP(BW$3,Præsentation!$F$11:$T$80,$BD11,FALSE),0)+IFERROR(VLOOKUP(BW$4,Præsentation!$F$11:$T$80,$BD11,FALSE),0)+IFERROR(VLOOKUP(BW$5,Præsentation!$F$11:$T$80,$BD11,FALSE),0)),\"\")","v":0},{"$f":"IFERROR(ABS(IFERROR(VLOOKUP(BX$2,Præsentation!$F$11:$T$80,$BD11,FALSE),0)+IFERROR(VLOOKUP(BX$3,Præsentation!$F$11:$T$80,$BD11,FALSE),0)+IFERROR(VLOOKUP(BX$4,Præsentation!$F$11:$T$80,$BD11,FALSE),0)+IFERROR(VLOOKUP(BX$5,Præsentation!$F$11:$T$80,$BD11,FALSE),0)),\"\")","v":""},{"$f":"SUM(BS11:BX11)","v":-413.70146868006844},null,null,null,null,"Divisor:","Antal foderdage pr. produceret slagtekalv",null,3,{"$f":"CH10","v":"Gns. BC Top 10"},null,null,"Omkostninger",null,null,null,null,null,null,null,null,null,{"$f":"IFERROR(ABS(DSUM(Præsentation!$F$11:$T$89,\"\"&'Diagrammer-orig'!$CH10&\"\",'Diagrammer-orig'!CU$1:INDIRECT(ADDRESS(SUMPRODUCT(--(LEN(CU$1:CU$6)>1)),COLUMN(CU$1)))))/ABS(DGET(Præsentation!$F$11:$T$89,\"\"&$CH11&\"\",CU$34:CU$35)),\"\")","v":""},{"$f":"IFERROR(ABS(DSUM(Præsentation!$F$11:$T$89,\"\"&'Diagrammer-orig'!$CH10&\"\",'Diagrammer-orig'!CV$1:INDIRECT(ADDRESS(SUMPRODUCT(--(LEN(CV$1:CV$6)>1)),COLUMN(CV$1)))))/ABS(DGET(Præsentation!$F$11:$T$89,\"\"&$CH11&\"\",CV$34:CV$35)),\"\")","v":""},{"$f":"IFERROR(ABS(DSUM(Præsentation!$F$11:$T$89,\"\"&'Diagrammer-orig'!$CH10&\"\",'Diagrammer-orig'!CW$1:INDIRECT(ADDRESS(SUMPRODUCT(--(LEN(CW$1:CW$6)>1)),COLUMN(CW$1)))))/ABS(DGET(Præsentation!$F$11:$T$89,\"\"&$CH11&\"\",CW$34:CW$35)),\"\")","v":""},{"$f":"IFERROR(ABS(DSUM(Præsentation!$F$11:$T$89,\"\"&'Diagrammer-orig'!$CH10&\"\",'Diagrammer-orig'!CX$1:INDIRECT(ADDRESS(SUMPRODUCT(--(LEN(CX$1:CX$6)>1)),COLUMN(CX$1)))))/ABS(DGET(Præsentation!$F$11:$T$89,\"\"&$CH11&\"\",CX$34:CX$35)),\"\")","v":""},{"$f":"IFERROR(ABS(DSUM(Præsentation!$F$11:$T$89,\"\"&'Diagrammer-orig'!$CH10&\"\",'Diagrammer-orig'!CY$1:INDIRECT(ADDRESS(SUMPRODUCT(--(LEN(CY$1:CY$6)>1)),COLUMN(CY$1)))))/ABS(DGET(Præsentation!$F$11:$T$89,\"\"&$CH11&\"\",CY$34:CY$35)),\"\")","v":""},{"$f":"IFERROR(ABS(DSUM(Præsentation!$F$11:$T$89,\"\"&'Diagrammer-orig'!$CH10&\"\",'Diagrammer-orig'!CZ$1:INDIRECT(ADDRESS(SUMPRODUCT(--(LEN(CZ$1:CZ$6)>1)),COLUMN(CZ$1)))))/ABS(DGET(Præsentation!$F$11:$T$89,\"\"&$CH11&\"\",CZ$34:CZ$35)),\"\")","v":""},null,{"$f":"IFERROR(SUM(CU11:DA11),0)","v":0}]
[null,null,null,null,null,null,null,null,null,null,null,null,null,null,null,null,null,null,null,null,null,null,null,null,null,"Tekst til ovenover grafen",null,null,null,{"$f":"IF(OR(Præsentation!$L$11=0,Præsentation!$L$11=\"vælg\")=TRUE,\"Ingen valgt\",Præsentation!$L$11)","v":"Ingen valgt"},{"$f":"IFERROR(\"EKM pr. ko:  \"&ROUND(DGET(Præsentation!$F$11:$T$89,\"\"&'Diagrammer-orig'!$AD12&\"\",$AE$1:$AE$2),0),\"\")","v":""},"Kr. pr. årsko",{"$f":"IF($AF12=$AF$4,IFERROR(AP13*DGET(Præsentation!$F$11:$T$89,\"\"&'Diagrammer-orig'!$AD12&\"\",$AE$1:$AE$2)/100,0),\"\")","v":0},{"$f":"IF($AF12=$AF$4,IFERROR(AQ13*DGET(Præsentation!$F$11:$T$89,\"\"&'Diagrammer-orig'!$AD12&\"\",$AE$1:$AE$2)/100,0),\"\")","v":0},{"$f":"IF($AF12=$AF$4,IFERROR(AR13*DGET(Præsentation!$F$11:$T$89,\"\"&'Diagrammer-orig'!$AD12&\"\",$AE$1:$AE$2)/100,0),\"\")","v":0},{"$f":"IF($AF12=$AF$4,IFERROR(AS13*DGET(Præsentation!$F$11:$T$89,\"\"&'Diagrammer-orig'!$AD12&\"\",$AE$1:$AE$2)/100,0),\"\")","v":0},{"$f":"IF($AF12=$AF$4,IFERROR(AT13*DGET(Præsentation!$F$11:$T$89,\"\"&'Diagrammer-orig'!$AD12&\"\",$AE$1:$AE$2)/100,0),\"\")","v":0},{"$f":"IF($AF12=$AF$4,IFERROR(AU13*DGET(Præsentation!$F$11:$T$89,\"\"&'Diagrammer-orig'!$AD12&\"\",$AE$1:$AE$2)/100,0),\"\")","v":0},{"$f":"IF($AF12=$AF$4,IFERROR(AV13*DGET(Præsentation!$F$11:$T$89,\"\"&'Diagrammer-orig'!$AD12&\"\",$AE$1:$AE$2)/100,0),\"\")","v":0},{"$f":"IF($AF12=$AF$4,IFERROR(AW13*DGET(Præsentation!$F$11:$T$89,\"\"&'Diagrammer-orig'!$AD12&\"\",$AE$1:$AE$2)/100,0),\"\")","v":0},{"$f":"IFERROR(SUM(AG12:AN12),0)","v":0},null,null,null,null,null,null,null,null,null,null,null,"Max y-akse",{"$f":"BB9","v":0},{"$f":"IFERROR(BB12*BC10,0)","v":0},4,{"$f":"BF12","v":"Gns. Alle Kreds"},{"$f":"$AD8","v":"Gns. Alle Kreds"},{"$f":"IFERROR(\"Grise pr årsso: \"&ROUND(VLOOKUP($BB$14,Præsentation!$F$11:$T$80,$BD12,FALSE),1),\"\")","v":""},"Smågris",{"$f":"IFERROR((BS13)/IFERROR(VLOOKUP($BB$14,Præsentation!$F$11:$T$80,$BD12,FALSE),0),\"\")","v":""},{"$f":"IFERROR((BT13)/IFERROR(VLOOKUP($BB$14,Præsentation!$F$11:$T$80,$BD12,FALSE),0),\"\")","v":""},{"$f":"IFERROR((BU13)/IFERROR(VLOOKUP($BB$14,Præsentation!$F$11:$T$80,$BD12,FALSE),0),\"\")","v":""},{"$f":"IFERROR((BV13)/IFERROR(VLOOKUP($BB$14,Præsentation!$F$11:$T$80,$BD12,FALSE),0),\"\")","v":""},{"$f":"IFERROR((BW13)/IFERROR(VLOOKUP($BB$14,Præsentation!$F$11:$T$80,$BD12,FALSE),0),\"\")","v":""},{"$f":"IFERROR((BX13)/IFERROR(VLOOKUP($BB$14,Præsentation!$F$11:$T$80,$BD12,FALSE),0),\"\")","v":""},{"$f":"IFERROR(ABS(IFERROR(VLOOKUP(BO$2,Præsentation!$F$11:$T$80,$BD12,FALSE),0)),\"\")","v":0},null,null,null,null,null,null,null,null,null,null,null,null,null,null,null,null,null,4,{"$f":"CI12","v":"Gns. Alle Kreds"},{"$f":"$AD8","v":"Gns. Alle Kreds"},null,"Bruttoudbytte",{"$f":"IFERROR(ABS(DSUM(Præsentation!$F$11:$T$89,\"\"&'Diagrammer-orig'!$CH12&\"\",'Diagrammer-orig'!CL$1:INDIRECT(ADDRESS(SUMPRODUCT(--(LEN(CL$1:CL$4)>1)),COLUMN(CL$1)))))/ABS(DGET(Præsentation!$F$11:$T$89,\"\"&$CH13&\"\",CL$34:CL$35))-CM12,\"\")","v":""},{"$f":"IFERROR((ABS(DSUM(Præsentation!$F$11:$T$89,\"\"&'Diagrammer-orig'!$CH12&\"\",'Diagrammer-orig'!CM$1:INDIRECT(ADDRESS(SUMPRODUCT(--(LEN(CM$1:CM$5)>1)),COLUMN(CM$1))))))/ABS(DGET(Præsentation!$F$11:$T$89,\"\"&$CH13&\"\",CM$34:CM$35)),\"\")","v":""},{"$f":"IFERROR(ABS(DSUM(Præsentation!$F$11:$T$89,\"\"&'Diagrammer-orig'!$CH12&\"\",'Diagrammer-orig'!CN$1:INDIRECT(ADDRESS(SUMPRODUCT(--(LEN(CN$1:CN$5)>1)),COLUMN(CN$1))))),\"\")","v":""},null,null,null,null,null,{"$f":"IFERROR(SUM(CL12:CS12),0)","v":0}]
[null,null,null,null,null,null,null,null,null,null,null,null,null,null,null,null,null,null,null,null,null,null,null,null,null,2,"Fremstillingspris på mælk pr. årsko og kg EKM for ",{"$f":"INDIRECT(ADDRESS(#REF!,COLUMN(#REF!),1,,\"Choices\"))","v":{"$error":"#REF!"}},"KVÆG",null,null,"Øre pr. kg EKM",null,null,null,null,null,null,null,null,null,{"$f":"IFERROR(DGET(Præsentation!$F$11:$T$89,\"\"&'Diagrammer-orig'!$AD12&\"\",'Diagrammer-orig'!AG$1:AG$2)*100,0)","v":0},{"$f":"IFERROR(DGET(Præsentation!$F$11:$T$89,\"\"&'Diagrammer-orig'!$AD12&\"\",'Diagrammer-orig'!AH$1:AH$2)*100,0)","v":0},{"$f":"IFERROR(DGET(Præsentation!$F$11:$T$89,\"\"&'Diagrammer-orig'!$AD12&\"\",'Diagrammer-orig'!AI$1:AI$2)*100,0)","v":0},{"$f":"IFERROR(DGET(Præsentation!$F$11:$T$89,\"\"&'Diagrammer-orig'!$AD12&\"\",'Diagrammer-orig'!AJ$1:AJ$2)*100,0)","v":0},{"$f":"IFERROR(DGET(Præsentation!$F$11:$T$89,\"\"&'Diagrammer-orig'!$AD12&\"\",'Diagrammer-orig'!AK$1:AK$2)*100,0)","v":0},{"$f":"IFERROR(DGET(Præsentation!$F$11:$T$89,\"\"&'Diagrammer-orig'!$AD12&\"\",'Diagrammer-orig'!AL$1:AL$2)*100,0)","v":0},{"$f":"IFERROR(DGET(Præsentation!$F$11:$T$89,\"\"&'Diagrammer-orig'!$AD12&\"\",'Diagrammer-orig'!AM$1:AM$2)*100,0)","v":0},{"$f":"IFERROR(DGET(Præsentation!$F$11:$T$89,\"\"&'Diagrammer-orig'!$AD12&\"\",'Diagrammer-orig'!AN$1:AN$2)*100,0)","v":0},{"$f":"IFERROR(SUM(AP13:AW13),0)","v":0},null,null,null,"#GS",null,4,{"$f":"BE12","v":"Gns. Alle Kreds"},null,null,"Årsso",null,null,null,null,null,null,null,null,null,null,{"$f":"IFERROR(-IFERROR((IFERROR(VLOOKUP(BS$2,Præsentation!$F$11:$T$80,$BD12,FALSE),0)-IFERROR(VLOOKUP(BS$3,Præsentation!$F$11:$T$80,$BD12,FALSE),0)-IFERROR(VLOOKUP(BS$4,Præsentation!$F$11:$T$80,$BD12,FALSE),0)),\"\"),\"\")","v":""},{"$f":"IFERROR(ABS(IFERROR(VLOOKUP(BT$2,Præsentation!$F$11:$T$80,$BD13,FALSE),0)+IFERROR(VLOOKUP(BT$3,Præsentation!$F$11:$T$80,$BD13,FALSE),0)+IFERROR(VLOOKUP(BT$4,Præsentation!$F$11:$T$80,$BD13,FALSE),0)+IFERROR(VLOOKUP(BT$5,Præsentation!$F$11:$T$80,$BD13,FALSE),0)),\"\")","v":""},{"$f":"IFERROR(ABS(IFERROR(VLOOKUP(BU$2,Præsentation!$F$11:$T$80,$BD13,FALSE),0)+IFERROR(VLOOKUP(BU$3,Præsentation!$F$11:$T$80,$BD13,FALSE),0)+IFERROR(VLOOKUP(BU$4,Præsentation!$F$11:$T$80,$BD13,FALSE),0)+IFERROR(VLOOKUP(BU$5,Præsentation!$F$11:$T$80,$BD13,FALSE),0)),\"\")","v":""},{"$f":"IFERROR(ABS(IFERROR(VLOOKUP(BV$2,Præsentation!$F$11:$T$80,$BD13,FALSE),0)+IFERROR(VLOOKUP(BV$3,Præsentation!$F$11:$T$80,$BD13,FALSE),0)+IFERROR(VLOOKUP(BV$4,Præsentation!$F$11:$T$80,$BD13,FALSE),0)+IFERROR(VLOOKUP(BV$5,Præsentation!$F$11:$T$80,$BD13,FALSE),0)),\"\")","v":""},{"$f":"IFERROR(ABS(IFERROR(VLOOKUP(BW$2,Præsentation!$F$11:$T$80,$BD13,FALSE),0)+IFERROR(VLOOKUP(BW$3,Præsentation!$F$11:$T$80,$BD13,FALSE),0)+IFERROR(VLOOKUP(BW$4,Præsentation!$F$11:$T$80,$BD13,FALSE),0)+IFERROR(VLOOKUP(BW$5,Præsentation!$F$11:$T$80,$BD13,FALSE),0)),\"\")","v":0},{"$f":"IFERROR(ABS(IFERROR(VLOOKUP(BX$2,Præsentation!$F$11:$T$80,$BD13,FALSE),0)+IFERROR(VLOOKUP(BX$3,Præsentation!$F$11:$T$80,$BD13,FALSE),0)+IFERROR(VLOOKUP(BX$4,Præsentation!$F$11:$T$80,$BD13,FALSE),0)+IFERROR(VLOOKUP(BX$5,Præsentation!$F$11:$T$80,$BD13,FALSE),0)),\"\")","v":""},{"$f":"SUM(BS13:BX13)","v":0},null,null,null,null,null,null,null,4,{"$f":"CH12","v":"Gns. Alle Kreds"},null,null,"Omkostninger",null,null,null,null,null,null,null,null,null,{"$f":"IFERROR(ABS(DSUM(Præsentation!$F$11:$T$89,\"\"&'Diagrammer-orig'!$CH12&\"\",'Diagrammer-orig'!CU$1:INDIRECT(ADDRESS(SUMPRODUCT(--(LEN(CU$1:CU$6)>1)),COLUMN(CU$1)))))/ABS(DGET(Præsentation!$F$11:$T$89,\"\"&$CH13&\"\",CU$34:CU$35)),\"\")","v":""},{"$f":"IFERROR(ABS(DSUM(Præsentation!$F$11:$T$89,\"\"&'Diagrammer-orig'!$CH12&\"\",'Diagrammer-orig'!CV$1:INDIRECT(ADDRESS(SUMPRODUCT(--(LEN(CV$1:CV$6)>1)),COLUMN(CV$1)))))/ABS(DGET(Præsentation!$F$11:$T$89,\"\"&$CH13&\"\",CV$34:CV$35)),\"\")","v":""},{"$f":"IFERROR(ABS(DSUM(Præsentation!$F$11:$T$89,\"\"&'Diagrammer-orig'!$CH12&\"\",'Diagrammer-orig'!CW$1:INDIRECT(ADDRESS(SUMPRODUCT(--(LEN(CW$1:CW$6)>1)),COLUMN(CW$1)))))/ABS(DGET(Præsentation!$F$11:$T$89,\"\"&$CH13&\"\",CW$34:CW$35)),\"\")","v":""},{"$f":"IFERROR(ABS(DSUM(Præsentation!$F$11:$T$89,\"\"&'Diagrammer-orig'!$CH12&\"\",'Diagrammer-orig'!CX$1:INDIRECT(ADDRESS(SUMPRODUCT(--(LEN(CX$1:CX$6)>1)),COLUMN(CX$1)))))/ABS(DGET(Præsentation!$F$11:$T$89,\"\"&$CH13&\"\",CX$34:CX$35)),\"\")","v":""},{"$f":"IFERROR(ABS(DSUM(Præsentation!$F$11:$T$89,\"\"&'Diagrammer-orig'!$CH12&\"\",'Diagrammer-orig'!CY$1:INDIRECT(ADDRESS(SUMPRODUCT(--(LEN(CY$1:CY$6)>1)),COLUMN(CY$1)))))/ABS(DGET(Præsentation!$F$11:$T$89,\"\"&$CH13&\"\",CY$34:CY$35)),\"\")","v":""},{"$f":"IFERROR(ABS(DSUM(Præsentation!$F$11:$T$89,\"\"&'Diagrammer-orig'!$CH12&\"\",'Diagrammer-orig'!CZ$1:INDIRECT(ADDRESS(SUMPRODUCT(--(LEN(CZ$1:CZ$6)>1)),COLUMN(CZ$1)))))/ABS(DGET(Præsentation!$F$11:$T$89,\"\"&$CH13&\"\",CZ$34:CZ$35)),\"\")","v":""},null,{"$f":"IFERROR(SUM(CU13:DA13),0)","v":0}]
[null,null,null,null,null,null,null,null,null,null,null,null,null,null,null,null,null,null,null,null,null,null,null,null,null,3,"Fremstillingspris",{"$f":"INDIRECT(ADDRESS(#REF!,COLUMN(#REF!),1,,\"Choices\"))","v":{"$error":"#REF!"}},"SVIN",{"$f":"IF(OR(Præsentation!$M$11=0,Præsentation!$M$11=\"vælg\")=TRUE,\"Ingen valgt\",Præsentation!$M$11)","v":"Ingen valgt"},{"$f":"IFERROR(\"EKM pr. ko:  \"&ROUND(DGET(Præsentation!$F$11:$T$89,\"\"&'Diagrammer-orig'!$AD14&\"\",$AE$1:$AE$2),0),\"\")","v":""},"Kr. pr. årsko",{"$f":"IF($AF14=$AF$4,IFERROR(AP15*DGET(Præsentation!$F$11:$T$89,\"\"&'Diagrammer-orig'!$AD14&\"\",$AE$1:$AE$2)/100,0),\"\")","v":0},{"$f":"IF($AF14=$AF$4,IFERROR(AQ15*DGET(Præsentation!$F$11:$T$89,\"\"&'Diagrammer-orig'!$AD14&\"\",$AE$1:$AE$2)/100,0),\"\")","v":0},{"$f":"IF($AF14=$AF$4,IFERROR(AR15*DGET(Præsentation!$F$11:$T$89,\"\"&'Diagrammer-orig'!$AD14&\"\",$AE$1:$AE$2)/100,0),\"\")","v":0},{"$f":"IF($AF14=$AF$4,IFERROR(AS15*DGET(Præsentation!$F$11:$T$89,\"\"&'Diagrammer-orig'!$AD14&\"\",$AE$1:$AE$2)/100,0),\"\")","v":0},{"$f":"IF($AF14=$AF$4,IFERROR(AT15*DGET(Præsentation!$F$11:$T$89,\"\"&'Diagrammer-orig'!$AD14&\"\",$AE$1:$AE$2)/100,0),\"\")","v":0},{"$f":"IF($AF14=$AF$4,IFERROR(AU15*DGET(Præsentation!$F$11:$T$89,\"\"&'Diagrammer-orig'!$AD14&\"\",$AE$1:$AE$2)/100,0),\"\")","v":0},{"$f":"IF($AF14=$AF$4,IFERROR(AV15*DGET(Præsentation!$F$11:$T$89,\"\"&'Diagrammer-orig'!$AD14&\"\",$AE$1:$AE$2)/100,0),\"\")","v":0},{"$f":"IF($AF14=$AF$4,IFERROR(AW15*DGET(Præsentation!$F$11:$T$89,\"\"&'Diagrammer-orig'!$AD14&\"\",$AE$1:$AE$2)/100,0),\"\")","v":0},{"$f":"IFERROR(SUM(AG14:AN14),0)","v":0},null,null,null,null,null,null,null,null,null,null,null,null,{"$f":"IF($AB$13=BF5,$BB$17,$BB$18)","v":{"$error":"#REF!"}}," ",5,{"$f":"BF14","v":"Ingen valgt"},{"$f":"$AD10","v":"Ingen valgt"},{"$f":"IFERROR(\"Grise pr årsso: \"&ROUND(VLOOKUP($BB$14,Præsentation!$F$11:$T$80,$BD14,FALSE),1),\"\")","v":""},"Smågris",{"$f":"IFERROR((BS15)/IFERROR(VLOOKUP($BB$14,Præsentation!$F$11:$T$80,$BD14,FALSE),0),\"\")","v":""},{"$f":"IFERROR((BT15)/IFERROR(VLOOKUP($BB$14,Præsentation!$F$11:$T$80,$BD14,FALSE),0),\"\")","v":""},{"$f":"IFERROR((BU15)/IFERROR(VLOOKUP($BB$14,Præsentation!$F$11:$T$80,$BD14,FALSE),0),\"\")","v":""},{"$f":"IFERROR((BV15)/IFERROR(VLOOKUP($BB$14,Præsentation!$F$11:$T$80,$BD14,FALSE),0),\"\")","v":""},{"$f":"IFERROR((BW15)/IFERROR(VLOOKUP($BB$14,Præsentation!$F$11:$T$80,$BD14,FALSE),0),\"\")","v":""},{"$f":"IFERROR((BX15)/IFERROR(VLOOKUP($BB$14,Præsentation!$F$11:$T$80,$BD14,FALSE),0),\"\")","v":""},{"$f":"IFERROR(ABS(IFERROR(VLOOKUP(BO$2,Præsentation!$F$11:$T$80,$BD14,FALSE),0)),\"\")","v":0},null,null,null,null,null,null,null,null,null,null,null,null,null,null,null,null,null,5,{"$f":"CI14","v":"Ingen valgt"},{"$f":"$AD10","v":"Ingen valgt"},null,"Bruttoudbytte",{"$f":"IFERROR(ABS(DSUM(Præsentation!$F$11:$T$89,\"\"&'Diagrammer-orig'!$CH14&\"\",'Diagrammer-orig'!CL$1:INDIRECT(ADDRESS(SUMPRODUCT(--(LEN(CL$1:CL$4)>1)),COLUMN(CL$1)))))/ABS(DGET(Præsentation!$F$11:$T$89,\"\"&$CH15&\"\",CL$34:CL$35))-CM14,\"\")","v":""},{"$f":"IFERROR((ABS(DSUM(Præsentation!$F$11:$T$89,\"\"&'Diagrammer-orig'!$CH14&\"\",'Diagrammer-orig'!CM$1:INDIRECT(ADDRESS(SUMPRODUCT(--(LEN(CM$1:CM$5)>1)),COLUMN(CM$1))))))/ABS(DGET(Præsentation!$F$11:$T$89,\"\"&$CH15&\"\",CM$34:CM$35)),\"\")","v":""},{"$f":"IFERROR(ABS(DSUM(Præsentation!$F$11:$T$89,\"\"&'Diagrammer-orig'!$CH14&\"\",'Diagrammer-orig'!CN$1:INDIRECT(ADDRESS(SUMPRODUCT(--(LEN(CN$1:CN$5)>1)),COLUMN(CN$1))))),\"\")","v":""},null,null,null,null,null,{"$f":"IFERROR(SUM(CL14:CS14),0)","v":0}]
[null,null,null,null,null,null,null,null,null,null,null,null,null,null,null,null,null,null,null,null,null,null,null,null,null,42,"Kr. Pr. foderdag",{"$f":"INDIRECT(ADDRESS(#REF!,COLUMN(#REF!),1,,\"Choices\"))","v":{"$error":"#REF!"}},"PLANTER",null,null,"Øre pr. kg EKM",null,null,null,null,null,null,null,null,null,{"$f":"IFERROR(DGET(Præsentation!$F$11:$T$89,\"\"&'Diagrammer-orig'!$AD14&\"\",'Diagrammer-orig'!AG$1:AG$2)*100,0)","v":0},{"$f":"IFERROR(DGET(Præsentation!$F$11:$T$89,\"\"&'Diagrammer-orig'!$AD14&\"\",'Diagrammer-orig'!AH$1:AH$2)*100,0)","v":0},{"$f":"IFERROR(DGET(Præsentation!$F$11:$T$89,\"\"&'Diagrammer-orig'!$AD14&\"\",'Diagrammer-orig'!AI$1:AI$2)*100,0)","v":0},{"$f":"IFERROR(DGET(Præsentation!$F$11:$T$89,\"\"&'Diagrammer-orig'!$AD14&\"\",'Diagrammer-orig'!AJ$1:AJ$2)*100,0)","v":0},{"$f":"IFERROR(DGET(Præsentation!$F$11:$T$89,\"\"&'Diagrammer-orig'!$AD14&\"\",'Diagrammer-orig'!AK$1:AK$2)*100,0)","v":0},{"$f":"IFERROR(DGET(Præsentation!$F$11:$T$89,\"\"&'Diagrammer-orig'!$AD14&\"\",'Diagrammer-orig'!AL$1:AL$2)*100,0)","v":0},{"$f":"IFERROR(DGET(Præsentation!$F$11:$T$89,\"\"&'Diagrammer-orig'!$AD14&\"\",'Diagrammer-orig'!AM$1:AM$2)*100,0)","v":0},{"$f":"IFERROR(DGET(Præsentation!$F$11:$T$89,\"\"&'Diagrammer-orig'!$AD14&\"\",'Diagrammer-orig'!AN$1:AN$2)*100,0)","v":0},{"$f":"IFERROR(SUM(AP15:AW15),0)","v":0},null,null,null,null,null,5,{"$f":"BE14","v":"Ingen valgt"},null,null,"Årsso",null,null,null,null,null,null,null,null,null,null,{"$f":"IFERROR(-IFERROR((IFERROR(VLOOKUP(BS$2,Præsentation!$F$11:$T$80,$BD14,FALSE),0)-IFERROR(VLOOKUP(BS$3,Præsentation!$F$11:$T$80,$BD14,FALSE),0)-IFERROR(VLOOKUP(BS$4,Præsentation!$F$11:$T$80,$BD14,FALSE),0)),\"\"),\"\")","v":""},{"$f":"IFERROR(ABS(IFERROR(VLOOKUP(BT$2,Præsentation!$F$11:$T$80,$BD15,FALSE),0)+IFERROR(VLOOKUP(BT$3,Præsentation!$F$11:$T$80,$BD15,FALSE),0)+IFERROR(VLOOKUP(BT$4,Præsentation!$F$11:$T$80,$BD15,FALSE),0)+IFERROR(VLOOKUP(BT$5,Præsentation!$F$11:$T$80,$BD15,FALSE),0)),\"\")","v":""},{"$f":"IFERROR(ABS(IFERROR(VLOOKUP(BU$2,Præsentation!$F$11:$T$80,$BD15,FALSE),0)+IFERROR(VLOOKUP(BU$3,Præsentation!$F$11:$T$80,$BD15,FALSE),0)+IFERROR(VLOOKUP(BU$4,Præsentation!$F$11:$T$80,$BD15,FALSE),0)+IFERROR(VLOOKUP(BU$5,Præsentation!$F$11:$T$80,$BD15,FALSE),0)),\"\")","v":""},{"$f":"IFERROR(ABS(IFERROR(VLOOKUP(BV$2,Præsentation!$F$11:$T$80,$BD15,FALSE),0)+IFERROR(VLOOKUP(BV$3,Præsentation!$F$11:$T$80,$BD15,FALSE),0)+IFERROR(VLOOKUP(BV$4,Præsentation!$F$11:$T$80,$BD15,FALSE),0)+IFERROR(VLOOKUP(BV$5,Præsentation!$F$11:$T$80,$BD15,FALSE),0)),\"\")","v":""},{"$f":"IFERROR(ABS(IFERROR(VLOOKUP(BW$2,Præsentation!$F$11:$T$80,$BD15,FALSE),0)+IFERROR(VLOOKUP(BW$3,Præsentation!$F$11:$T$80,$BD15,FALSE),0)+IFERROR(VLOOKUP(BW$4,Præsentation!$F$11:$T$80,$BD15,FALSE),0)+IFERROR(VLOOKUP(BW$5,Præsentation!$F$11:$T$80,$BD15,FALSE),0)),\"\")","v":0},{"$f":"IFERROR(ABS(IFERROR(VLOOKUP(BX$2,Præsentation!$F$11:$T$80,$BD15,FALSE),0)+IFERROR(VLOOKUP(BX$3,Præsentation!$F$11:$T$80,$BD15,FALSE),0)+IFERROR(VLOOKUP(BX$4,Præsentation!$F$11:$T$80,$BD15,FALSE),0)+IFERROR(VLOOKUP(BX$5,Præsentation!$F$11:$T$80,$BD15,FALSE),0)),\"\")","v":""},{"$f":"SUM(BS15:BX15)","v":0},null,null,null,null,null,null,null,5,{"$f":"CH14","v":"Ingen valgt"},null,null,"Omkostninger",null,null,null,null,null,null,null,null,null,{"$f":"IFERROR(ABS(DSUM(Præsentation!$F$11:$T$89,\"\"&'Diagrammer-orig'!$CH14&\"\",'Diagrammer-orig'!CU$1:INDIRECT(ADDRESS(SUMPRODUCT(--(LEN(CU$1:CU$6)>1)),COLUMN(CU$1)))))/ABS(DGET(Præsentation!$F$11:$T$89,\"\"&$CH15&\"\",CU$34:CU$35)),\"\")","v":""},{"$f":"IFERROR(ABS(DSUM(Præsentation!$F$11:$T$89,\"\"&'Diagrammer-orig'!$CH14&\"\",'Diagrammer-orig'!CV$1:INDIRECT(ADDRESS(SUMPRODUCT(--(LEN(CV$1:CV$6)>1)),COLUMN(CV$1)))))/ABS(DGET(Præsentation!$F$11:$T$89,\"\"&$CH15&\"\",CV$34:CV$35)),\"\")","v":""},{"$f":"IFERROR(ABS(DSUM(Præsentation!$F$11:$T$89,\"\"&'Diagrammer-orig'!$CH14&\"\",'Diagrammer-orig'!CW$1:INDIRECT(ADDRESS(SUMPRODUCT(--(LEN(CW$1:CW$6)>1)),COLUMN(CW$1)))))/ABS(DGET(Præsentation!$F$11:$T$89,\"\"&$CH15&\"\",CW$34:CW$35)),\"\")","v":""},{"$f":"IFERROR(ABS(DSUM(Præsentation!$F$11:$T$89,\"\"&'Diagrammer-orig'!$CH14&\"\",'Diagrammer-orig'!CX$1:INDIRECT(ADDRESS(SUMPRODUCT(--(LEN(CX$1:CX$6)>1)),COLUMN(CX$1)))))/ABS(DGET(Præsentation!$F$11:$T$89,\"\"&$CH15&\"\",CX$34:CX$35)),\"\")","v":""},{"$f":"IFERROR(ABS(DSUM(Præsentation!$F$11:$T$89,\"\"&'Diagrammer-orig'!$CH14&\"\",'Diagrammer-orig'!CY$1:INDIRECT(ADDRESS(SUMPRODUCT(--(LEN(CY$1:CY$6)>1)),COLUMN(CY$1)))))/ABS(DGET(Præsentation!$F$11:$T$89,\"\"&$CH15&\"\",CY$34:CY$35)),\"\")","v":""},{"$f":"IFERROR(ABS(DSUM(Præsentation!$F$11:$T$89,\"\"&'Diagrammer-orig'!$CH14&\"\",'Diagrammer-orig'!CZ$1:INDIRECT(ADDRESS(SUMPRODUCT(--(LEN(CZ$1:CZ$6)>1)),COLUMN(CZ$1)))))/ABS(DGET(Præsentation!$F$11:$T$89,\"\"&$CH15&\"\",CZ$34:CZ$35)),\"\")","v":""},null,{"$f":"IFERROR(SUM(CU15:DA15),0)","v":0}]
[null,null,null,null,null,null,null,null,null,null,null,null,null,null,null,null,null,null,null,null,null,null,null,null,null,43,"Kr. pr. foderdag",{"$f":"INDIRECT(ADDRESS(#REF!,COLUMN(#REF!),1,,\"Choices\"))","v":{"$error":"#REF!"}},null,{"$f":"IF(OR(Præsentation!$N$11=0,Præsentation!$N$11=\"vælg\")=TRUE,\"Ingen valgt\",Præsentation!$N$11)","v":"Ingen valgt"},{"$f":"IFERROR(\"EKM pr. ko:  \"&ROUND(DGET(Præsentation!$F$11:$T$89,\"\"&'Diagrammer-orig'!$AD16&\"\",$AE$1:$AE$2),0),\"\")","v":""},"Kr. pr. årsko",{"$f":"IF($AF16=$AF$4,IFERROR(AP17*DGET(Præsentation!$F$11:$T$89,\"\"&'Diagrammer-orig'!$AD16&\"\",$AE$1:$AE$2)/100,0),\"\")","v":0},{"$f":"IF($AF16=$AF$4,IFERROR(AQ17*DGET(Præsentation!$F$11:$T$89,\"\"&'Diagrammer-orig'!$AD16&\"\",$AE$1:$AE$2)/100,0),\"\")","v":0},{"$f":"IF($AF16=$AF$4,IFERROR(AR17*DGET(Præsentation!$F$11:$T$89,\"\"&'Diagrammer-orig'!$AD16&\"\",$AE$1:$AE$2)/100,0),\"\")","v":0},{"$f":"IF($AF16=$AF$4,IFERROR(AS17*DGET(Præsentation!$F$11:$T$89,\"\"&'Diagrammer-orig'!$AD16&\"\",$AE$1:$AE$2)/100,0),\"\")","v":0},{"$f":"IF($AF16=$AF$4,IFERROR(AT17*DGET(Præsentation!$F$11:$T$89,\"\"&'Diagrammer-orig'!$AD16&\"\",$AE$1:$AE$2)/100,0),\"\")","v":0},{"$f":"IF($AF16=$AF$4,IFERROR(AU17*DGET(Præsentation!$F$11:$T$89,\"\"&'Diagrammer-orig'!$AD16&\"\",$AE$1:$AE$2)/100,0),\"\")","v":0},{"$f":"IF($AF16=$AF$4,IFERROR(AV17*DGET(Præsentation!$F$11:$T$89,\"\"&'Diagrammer-orig'!$AD16&\"\",$AE$1:$AE$2)/100,0),\"\")","v":0},{"$f":"IF($AF16=$AF$4,IFERROR(AW17*DGET(Præsentation!$F$11:$T$89,\"\"&'Diagrammer-orig'!$AD16&\"\",$AE$1:$AE$2)/100,0),\"\")","v":0},{"$f":"IFERROR(SUM(AG16:AN16),0)","v":0},null,null,null,null,null,null,null,null,null,null,null,null,null,null,6,{"$f":"BF16","v":"Ingen valgt"},{"$f":"$AD12","v":"Ingen valgt"},{"$f":"IFERROR(\"Grise pr årsso: \"&ROUND(VLOOKUP($BB$14,Præsentation!$F$11:$T$80,$BD16,FALSE),1),\"\")","v":""},"Smågris",{"$f":"IFERROR((BS17)/IFERROR(VLOOKUP($BB$14,Præsentation!$F$11:$T$80,$BD16,FALSE),0),\"\")","v":""},{"$f":"IFERROR((BT17)/IFERROR(VLOOKUP($BB$14,Præsentation!$F$11:$T$80,$BD16,FALSE),0),\"\")","v":""},{"$f":"IFERROR((BU17)/IFERROR(VLOOKUP($BB$14,Præsentation!$F$11:$T$80,$BD16,FALSE),0),\"\")","v":""},{"$f":"IFERROR((BV17)/IFERROR(VLOOKUP($BB$14,Præsentation!$F$11:$T$80,$BD16,FALSE),0),\"\")","v":""},{"$f":"IFERROR((BW17)/IFERROR(VLOOKUP($BB$14,Præsentation!$F$11:$T$80,$BD16,FALSE),0),\"\")","v":""},{"$f":"IFERROR((BX17)/IFERROR(VLOOKUP($BB$14,Præsentation!$F$11:$T$80,$BD16,FALSE),0),\"\")","v":""},{"$f":"IFERROR(ABS(IFERROR(VLOOKUP(BO$2,Præsentation!$F$11:$T$80,$BD16,FALSE),0)),\"\")","v":0},null,null,null,null,null,null,null,null,null,null,null,null,null,null,null,null,null,6,{"$f":"CI16","v":"Ingen valgt"},{"$f":"$AD12","v":"Ingen valgt"},null,"Bruttoudbytte",{"$f":"IFERROR(ABS(DSUM(Præsentation!$F$11:$T$89,\"\"&'Diagrammer-orig'!$CH16&\"\",'Diagrammer-orig'!CL$1:INDIRECT(ADDRESS(SUMPRODUCT(--(LEN(CL$1:CL$4)>1)),COLUMN(CL$1)))))/ABS(DGET(Præsentation!$F$11:$T$89,\"\"&$CH17&\"\",CL$34:CL$35))-CM16,\"\")","v":""},{"$f":"IFERROR((ABS(DSUM(Præsentation!$F$11:$T$89,\"\"&'Diagrammer-orig'!$CH16&\"\",'Diagrammer-orig'!CM$1:INDIRECT(ADDRESS(SUMPRODUCT(--(LEN(CM$1:CM$5)>1)),COLUMN(CM$1))))))/ABS(DGET(Præsentation!$F$11:$T$89,\"\"&$CH17&\"\",CM$34:CM$35)),\"\")","v":""},{"$f":"IFERROR(ABS(DSUM(Præsentation!$F$11:$T$89,\"\"&'Diagrammer-orig'!$CH16&\"\",'Diagrammer-orig'!CN$1:INDIRECT(ADDRESS(SUMPRODUCT(--(LEN(CN$1:CN$5)>1)),COLUMN(CN$1))))),\"\")","v":""},null,null,null,null,null,{"$f":"IFERROR(SUM(CL16:CS16),0)","v":0}]
[null,null,null,null,null,null,null,null,null,null,null,null,null,null,null,null,null,null,null,null,null,null,null,null,null,null,null,null,null,null,null,"Øre pr. kg EKM",null,null,null,null,null,null,null,null,null,{"$f":"IFERROR(DGET(Præsentation!$F$11:$T$89,\"\"&'Diagrammer-orig'!$AD16&\"\",'Diagrammer-orig'!AG$1:AG$2)*100,0)","v":0},{"$f":"IFERROR(DGET(Præsentation!$F$11:$T$89,\"\"&'Diagrammer-orig'!$AD16&\"\",'Diagrammer-orig'!AH$1:AH$2)*100,0)","v":0},{"$f":"IFERROR(DGET(Præsentation!$F$11:$T$89,\"\"&'Diagrammer-orig'!$AD16&\"\",'Diagrammer-orig'!AI$1:AI$2)*100,0)","v":0},{"$f":"IFERROR(DGET(Præsentation!$F$11:$T$89,\"\"&'Diagrammer-orig'!$AD16&\"\",'Diagrammer-orig'!AJ$1:AJ$2)*100,0)","v":0},{"$f":"IFERROR(DGET(Præsentation!$F$11:$T$89,\"\"&'Diagrammer-orig'!$AD16&\"\",'Diagrammer-orig'!AK$1:AK$2)*100,0)","v":0},{"$f":"IFERROR(DGET(Præsentation!$F$11:$T$89,\"\"&'Diagrammer-orig'!$AD16&\"\",'Diagrammer-orig'!AL$1:AL$2)*100,0)","v":0},{"$f":"IFERROR(DGET(Præsentation!$F$11:$T$89,\"\"&'Diagrammer-orig'!$AD16&\"\",'Diagrammer-orig'!AM$1:AM$2)*100,0)","v":0},{"$f":"IFERROR(DGET(Præsentation!$F$11:$T$89,\"\"&'Diagrammer-orig'!$AD16&\"\",'Diagrammer-orig'!AN$1:AN$2)*100,0)","v":0},{"$f":"IFERROR(SUM(AP17:AW17),0)","v":0},null,null,null,"Producerede grise pr. årsso",null,6,{"$f":"BE16","v":"Ingen valgt"},null,null,"Årsso",null,null,null,null,null,null,null,null,null,null,{"$f":"IFERROR(-IFERROR((IFERROR(VLOOKUP(BS$2,Præsentation!$F$11:$T$80,$BD16,FALSE),0)-IFERROR(VLOOKUP(BS$3,Præsentation!$F$11:$T$80,$BD16,FALSE),0)-IFERROR(VLOOKUP(BS$4,Præsentation!$F$11:$T$80,$BD16,FALSE),0)),\"\"),\"\")","v":-426.72641610450796},{"$f":"IFERROR(ABS(IFERROR(VLOOKUP(BT$2,Præsentation!$F$11:$T$80,$BD17,FALSE),0)+IFERROR(VLOOKUP(BT$3,Præsentation!$F$11:$T$80,$BD17,FALSE),0)+IFERROR(VLOOKUP(BT$4,Præsentation!$F$11:$T$80,$BD17,FALSE),0)+IFERROR(VLOOKUP(BT$5,Præsentation!$F$11:$T$80,$BD17,FALSE),0)),\"\")","v":""},{"$f":"IFERROR(ABS(IFERROR(VLOOKUP(BU$2,Præsentation!$F$11:$T$80,$BD17,FALSE),0)+IFERROR(VLOOKUP(BU$3,Præsentation!$F$11:$T$80,$BD17,FALSE),0)+IFERROR(VLOOKUP(BU$4,Præsentation!$F$11:$T$80,$BD17,FALSE),0)+IFERROR(VLOOKUP(BU$5,Præsentation!$F$11:$T$80,$BD17,FALSE),0)),\"\")","v":""},{"$f":"IFERROR(ABS(IFERROR(VLOOKUP(BV$2,Præsentation!$F$11:$T$80,$BD17,FALSE),0)+IFERROR(VLOOKUP(BV$3,Præsentation!$F$11:$T$80,$BD17,FALSE),0)+IFERROR(VLOOKUP(BV$4,Præsentation!$F$11:$T$80,$BD17,FALSE),0)+IFERROR(VLOOKUP(BV$5,Præsentation!$F$11:$T$80,$BD17,FALSE),0)),\"\")","v":""},{"$f":"IFERROR(ABS(IFERROR(VLOOKUP(BW$2,Præsentation!$F$11:$T$80,$BD17,FALSE),0)+IFERROR(VLOOKUP(BW$3,Præsentation!$F$11:$T$80,$BD17,FALSE),0)+IFERROR(VLOOKUP(BW$4,Præsentation!$F$11:$T$80,$BD17,FALSE),0)+IFERROR(VLOOKUP(BW$5,Præsentation!$F$11:$T$80,$BD17,FALSE),0)),\"\")","v":0},{"$f":"IFERROR(ABS(IFERROR(VLOOKUP(BX$2,Præsentation!$F$11:$T$80,$BD17,FALSE),0)+IFERROR(VLOOKUP(BX$3,Præsentation!$F$11:$T$80,$BD17,FALSE),0)+IFERROR(VLOOKUP(BX$4,Præsentation!$F$11:$T$80,$BD17,FALSE),0)+IFERROR(VLOOKUP(BX$5,Præsentation!$F$11:$T$80,$BD17,FALSE),0)),\"\")","v":""},{"$f":"SUM(BS17:BX17)","v":-426.72641610450796},null,null,null,null,null,null,null,6,{"$f":"CH16","v":"Ingen valgt"},null,null,"Omkostninger",null,null,null,null,null,null,null,null,null,{"$f":"IFERROR(ABS(DSUM(Præsentation!$F$11:$T$89,\"\"&'Diagrammer-orig'!$CH16&\"\",'Diagrammer-orig'!CU$1:INDIRECT(ADDRESS(SUMPRODUCT(--(LEN(CU$1:CU$6)>1)),COLUMN(CU$1)))))/ABS(DGET(Præsentation!$F$11:$T$89,\"\"&$CH17&\"\",CU$34:CU$35)),\"\")","v":""},{"$f":"IFERROR(ABS(DSUM(Præsentation!$F$11:$T$89,\"\"&'Diagrammer-orig'!$CH16&\"\",'Diagrammer-orig'!CV$1:INDIRECT(ADDRESS(SUMPRODUCT(--(LEN(CV$1:CV$6)>1)),COLUMN(CV$1)))))/ABS(DGET(Præsentation!$F$11:$T$89,\"\"&$CH17&\"\",CV$34:CV$35)),\"\")","v":""},{"$f":"IFERROR(ABS(DSUM(Præsentation!$F$11:$T$89,\"\"&'Diagrammer-orig'!$CH16&\"\",'Diagrammer-orig'!CW$1:INDIRECT(ADDRESS(SUMPRODUCT(--(LEN(CW$1:CW$6)>1)),COLUMN(CW$1)))))/ABS(DGET(Præsentation!$F$11:$T$89,\"\"&$CH17&\"\",CW$34:CW$35)),\"\")","v":""},{"$f":"IFERROR(ABS(DSUM(Præsentation!$F$11:$T$89,\"\"&'Diagrammer-orig'!$CH16&\"\",'Diagrammer-orig'!CX$1:INDIRECT(ADDRESS(SUMPRODUCT(--(LEN(CX$1:CX$6)>1)),COLUMN(CX$1)))))/ABS(DGET(Præsentation!$F$11:$T$89,\"\"&$CH17&\"\",CX$34:CX$35)),\"\")","v":""},{"$f":"IFERROR(ABS(DSUM(Præsentation!$F$11:$T$89,\"\"&'Diagrammer-orig'!$CH16&\"\",'Diagrammer-orig'!CY$1:INDIRECT(ADDRESS(SUMPRODUCT(--(LEN(CY$1:CY$6)>1)),COLUMN(CY$1)))))/ABS(DGET(Præsentation!$F$11:$T$89,\"\"&$CH17&\"\",CY$34:CY$35)),\"\")","v":""},{"$f":"IFERROR(ABS(DSUM(Præsentation!$F$11:$T$89,\"\"&'Diagrammer-orig'!$CH16&\"\",'Diagrammer-orig'!CZ$1:INDIRECT(ADDRESS(SUMPRODUCT(--(LEN(CZ$1:CZ$6)>1)),COLUMN(CZ$1)))))/ABS(DGET(Præsentation!$F$11:$T$89,\"\"&$CH17&\"\",CZ$34:CZ$35)),\"\")","v":""},null,{"$f":"IFERROR(SUM(CU17:DA17),0)","v":0}]
[null,null,null,null,null,null,null,null,null,null,null,null,null,null,null,null,null,null,null,null,null,null,null,null,null,null,null,null,null,{"$f":"IF(OR(Præsentation!$O$11=0,Præsentation!$O$11=\"vælg\")=TRUE,\"Ingen valgt\",Præsentation!$O$11)","v":"Ingen valgt"},{"$f":"IFERROR(\"EKM pr. ko:  \"&ROUND(DGET(Præsentation!$F$11:$T$89,\"\"&'Diagrammer-orig'!$AD18&\"\",$AE$1:$AE$2),0),\"\")","v":""},"Kr. pr. årsko",{"$f":"IF($AF18=$AF$4,IFERROR(AP19*DGET(Præsentation!$F$11:$T$89,\"\"&'Diagrammer-orig'!$AD18&\"\",$AE$1:$AE$2)/100,0),\"\")","v":0},{"$f":"IF($AF18=$AF$4,IFERROR(AQ19*DGET(Præsentation!$F$11:$T$89,\"\"&'Diagrammer-orig'!$AD18&\"\",$AE$1:$AE$2)/100,0),\"\")","v":0},{"$f":"IF($AF18=$AF$4,IFERROR(AR19*DGET(Præsentation!$F$11:$T$89,\"\"&'Diagrammer-orig'!$AD18&\"\",$AE$1:$AE$2)/100,0),\"\")","v":0},{"$f":"IF($AF18=$AF$4,IFERROR(AS19*DGET(Præsentation!$F$11:$T$89,\"\"&'Diagrammer-orig'!$AD18&\"\",$AE$1:$AE$2)/100,0),\"\")","v":0},{"$f":"IF($AF18=$AF$4,IFERROR(AT19*DGET(Præsentation!$F$11:$T$89,\"\"&'Diagrammer-orig'!$AD18&\"\",$AE$1:$AE$2)/100,0),\"\")","v":0},{"$f":"IF($AF18=$AF$4,IFERROR(AU19*DGET(Præsentation!$F$11:$T$89,\"\"&'Diagrammer-orig'!$AD18&\"\",$AE$1:$AE$2)/100,0),\"\")","v":0},{"$f":"IF($AF18=$AF$4,IFERROR(AV19*DGET(Præsentation!$F$11:$T$89,\"\"&'Diagrammer-orig'!$AD18&\"\",$AE$1:$AE$2)/100,0),\"\")","v":0},{"$f":"IF($AF18=$AF$4,IFERROR(AW19*DGET(Præsentation!$F$11:$T$89,\"\"&'Diagrammer-orig'!$AD18&\"\",$AE$1:$AE$2)/100,0),\"\")","v":0},{"$f":"IFERROR(SUM(AG18:AN18),0)","v":0},null,null,null,null,null,null,null,null,null,null,null,null,"Fravænnede grise pr. årsso",null,7,{"$f":"BF18","v":"Ingen valgt"},{"$f":"$AD14","v":"Ingen valgt"},{"$f":"IFERROR(\"Grise pr årsso: \"&ROUND(VLOOKUP($BB$14,Præsentation!$F$11:$T$80,$BD18,FALSE),1),\"\")","v":""},"Smågris",{"$f":"IFERROR((BS19)/IFERROR(VLOOKUP($BB$14,Præsentation!$F$11:$T$80,$BD18,FALSE),0),\"\")","v":""},{"$f":"IFERROR((BT19)/IFERROR(VLOOKUP($BB$14,Præsentation!$F$11:$T$80,$BD18,FALSE),0),\"\")","v":""},{"$f":"IFERROR((BU19)/IFERROR(VLOOKUP($BB$14,Præsentation!$F$11:$T$80,$BD18,FALSE),0),\"\")","v":""},{"$f":"IFERROR((BV19)/IFERROR(VLOOKUP($BB$14,Præsentation!$F$11:$T$80,$BD18,FALSE),0),\"\")","v":""},{"$f":"IFERROR((BW19)/IFERROR(VLOOKUP($BB$14,Præsentation!$F$11:$T$80,$BD18,FALSE),0),\"\")","v":""},{"$f":"IFERROR((BX19)/IFERROR(VLOOKUP($BB$14,Præsentation!$F$11:$T$80,$BD18,FALSE),0),\"\")","v":""},{"$f":"IFERROR(ABS(IFERROR(VLOOKUP(BO$2,Præsentation!$F$11:$T$80,$BD18,FALSE),0)),\"\")","v":0},null,null,null,null,null,null,null,null,null,null,null,null,null,null,null,null,null,7,{"$f":"CI18","v":"Ingen valgt"},{"$f":"$AD14","v":"Ingen valgt"},null,"Bruttoudbytte",{"$f":"IFERROR(ABS(DSUM(Præsentation!$F$11:$T$89,\"\"&'Diagrammer-orig'!$CH18&\"\",'Diagrammer-orig'!CL$1:INDIRECT(ADDRESS(SUMPRODUCT(--(LEN(CL$1:CL$4)>1)),COLUMN(CL$1)))))/ABS(DGET(Præsentation!$F$11:$T$89,\"\"&$CH19&\"\",CL$34:CL$35))-CM18,\"\")","v":""},{"$f":"IFERROR((ABS(DSUM(Præsentation!$F$11:$T$89,\"\"&'Diagrammer-orig'!$CH18&\"\",'Diagrammer-orig'!CM$1:INDIRECT(ADDRESS(SUMPRODUCT(--(LEN(CM$1:CM$5)>1)),COLUMN(CM$1))))))/ABS(DGET(Præsentation!$F$11:$T$89,\"\"&$CH19&\"\",CM$34:CM$35)),\"\")","v":""},{"$f":"IFERROR(ABS(DSUM(Præsentation!$F$11:$T$89,\"\"&'Diagrammer-orig'!$CH18&\"\",'Diagrammer-orig'!CN$1:INDIRECT(ADDRESS(SUMPRODUCT(--(LEN(CN$1:CN$5)>1)),COLUMN(CN$1))))),\"\")","v":""},null,null,null,null,null,{"$f":"IFERROR(SUM(CL18:CS18),0)","v":0}]
[null,null,null,null,null,null,null,null,null,null,null,null,null,null,null,null,null,null,null,null,null,null,null,null,null,{"$f":"102+23+144+57-45","v":281},null,null,null,null,null,"Øre pr. kg EKM",null,null,null,null,null,null,null,null,null,{"$f":"IFERROR(DGET(Præsentation!$F$11:$T$89,\"\"&'Diagrammer-orig'!$AD18&\"\",'Diagrammer-orig'!AG$1:AG$2)*100,0)","v":0},{"$f":"IFERROR(DGET(Præsentation!$F$11:$T$89,\"\"&'Diagrammer-orig'!$AD18&\"\",'Diagrammer-orig'!AH$1:AH$2)*100,0)","v":0},{"$f":"IFERROR(DGET(Præsentation!$F$11:$T$89,\"\"&'Diagrammer-orig'!$AD18&\"\",'Diagrammer-orig'!AI$1:AI$2)*100,0)","v":0},{"$f":"IFERROR(DGET(Præsentation!$F$11:$T$89,\"\"&'Diagrammer-orig'!$AD18&\"\",'Diagrammer-orig'!AJ$1:AJ$2)*100,0)","v":0},{"$f":"IFERROR(DGET(Præsentation!$F$11:$T$89,\"\"&'Diagrammer-orig'!$AD18&\"\",'Diagrammer-orig'!AK$1:AK$2)*100,0)","v":0},{"$f":"IFERROR(DGET(Præsentation!$F$11:$T$89,\"\"&'Diagrammer-orig'!$AD18&\"\",'Diagrammer-orig'!AL$1:AL$2)*100,0)","v":0},{"$f":"IFERROR(DGET(Præsentation!$F$11:$T$89,\"\"&'Diagrammer-orig'!$AD18&\"\",'Diagrammer-orig'!AM$1:AM$2)*100,0)","v":0},{"$f":"IFERROR(DGET(Præsentation!$F$11:$T$89,\"\"&'Diagrammer-orig'!$AD18&\"\",'Diagrammer-orig'!AN$1:AN$2)*100,0)","v":0},{"$f":"IFERROR(SUM(AP19:AW19),0)","v":0},null,null,null,null,null,7,{"$f":"BE18","v":"Ingen valgt"},null,null,"Årsso",null,null,null,null,null,null,null,null,null,null,{"$f":"IFERROR(-IFERROR((IFERROR(VLOOKUP(BS$2,Præsentation!$F$11:$T$80,$BD18,FALSE),0)-IFERROR(VLOOKUP(BS$3,Præsentation!$F$11:$T$80,$BD18,FALSE),0)-IFERROR(VLOOKUP(BS$4,Præsentation!$F$11:$T$80,$BD18,FALSE),0)),\"\"),\"\")","v":-444.91391884951207},{"$f":"IFERROR(ABS(IFERROR(VLOOKUP(BT$2,Præsentation!$F$11:$T$80,$BD19,FALSE),0)+IFERROR(VLOOKUP(BT$3,Præsentation!$F$11:$T$80,$BD19,FALSE),0)+IFERROR(VLOOKUP(BT$4,Præsentation!$F$11:$T$80,$BD19,FALSE),0)+IFERROR(VLOOKUP(BT$5,Præsentation!$F$11:$T$80,$BD19,FALSE),0)),\"\")","v":""},{"$f":"IFERROR(ABS(IFERROR(VLOOKUP(BU$2,Præsentation!$F$11:$T$80,$BD19,FALSE),0)+IFERROR(VLOOKUP(BU$3,Præsentation!$F$11:$T$80,$BD19,FALSE),0)+IFERROR(VLOOKUP(BU$4,Præsentation!$F$11:$T$80,$BD19,FALSE),0)+IFERROR(VLOOKUP(BU$5,Præsentation!$F$11:$T$80,$BD19,FALSE),0)),\"\")","v":""},{"$f":"IFERROR(ABS(IFERROR(VLOOKUP(BV$2,Præsentation!$F$11:$T$80,$BD19,FALSE),0)+IFERROR(VLOOKUP(BV$3,Præsentation!$F$11:$T$80,$BD19,FALSE),0)+IFERROR(VLOOKUP(BV$4,Præsentation!$F$11:$T$80,$BD19,FALSE),0)+IFERROR(VLOOKUP(BV$5,Præsentation!$F$11:$T$80,$BD19,FALSE),0)),\"\")","v":""},{"$f":"IFERROR(ABS(IFERROR(VLOOKUP(BW$2,Præsentation!$F$11:$T$80,$BD19,FALSE),0)+IFERROR(VLOOKUP(BW$3,Præsentation!$F$11:$T$80,$BD19,FALSE),0)+IFERROR(VLOOKUP(BW$4,Præsentation!$F$11:$T$80,$BD19,FALSE),0)+IFERROR(VLOOKUP(BW$5,Præsentation!$F$11:$T$80,$BD19,FALSE),0)),\"\")","v":0},{"$f":"IFERROR(ABS(IFERROR(VLOOKUP(BX$2,Præsentation!$F$11:$T$80,$BD19,FALSE),0)+IFERROR(VLOOKUP(BX$3,Præsentation!$F$11:$T$80,$BD19,FALSE),0)+IFERROR(VLOOKUP(BX$4,Præsentation!$F$11:$T$80,$BD19,FALSE),0)+IFERROR(VLOOKUP(BX$5,Præsentation!$F$11:$T$80,$BD19,FALSE),0)),\"\")","v":""},{"$f":"SUM(BS19:BX19)","v":-444.91391884951207},null,null,null,null,null,null,null,7,{"$f":"CH18","v":"Ingen valgt"},null,null,"Omkostninger",null,null,null,null,null,null,null,null,null,{"$f":"IFERROR(ABS(DSUM(Præsentation!$F$11:$T$89,\"\"&'Diagrammer-orig'!$CH18&\"\",'Diagrammer-orig'!CU$1:INDIRECT(ADDRESS(SUMPRODUCT(--(LEN(CU$1:CU$6)>1)),COLUMN(CU$1)))))/ABS(DGET(Præsentation!$F$11:$T$89,\"\"&$CH19&\"\",CU$34:CU$35)),\"\")","v":""},{"$f":"IFERROR(ABS(DSUM(Præsentation!$F$11:$T$89,\"\"&'Diagrammer-orig'!$CH18&\"\",'Diagrammer-orig'!CV$1:INDIRECT(ADDRESS(SUMPRODUCT(--(LEN(CV$1:CV$6)>1)),COLUMN(CV$1)))))/ABS(DGET(Præsentation!$F$11:$T$89,\"\"&$CH19&\"\",CV$34:CV$35)),\"\")","v":""},{"$f":"IFERROR(ABS(DSUM(Præsentation!$F$11:$T$89,\"\"&'Diagrammer-orig'!$CH18&\"\",'Diagrammer-orig'!CW$1:INDIRECT(ADDRESS(SUMPRODUCT(--(LEN(CW$1:CW$6)>1)),COLUMN(CW$1)))))/ABS(DGET(Præsentation!$F$11:$T$89,\"\"&$CH19&\"\",CW$34:CW$35)),\"\")","v":""},{"$f":"IFERROR(ABS(DSUM(Præsentation!$F$11:$T$89,\"\"&'Diagrammer-orig'!$CH18&\"\",'Diagrammer-orig'!CX$1:INDIRECT(ADDRESS(SUMPRODUCT(--(LEN(CX$1:CX$6)>1)),COLUMN(CX$1)))))/ABS(DGET(Præsentation!$F$11:$T$89,\"\"&$CH19&\"\",CX$34:CX$35)),\"\")","v":""},{"$f":"IFERROR(ABS(DSUM(Præsentation!$F$11:$T$89,\"\"&'Diagrammer-orig'!$CH18&\"\",'Diagrammer-orig'!CY$1:INDIRECT(ADDRESS(SUMPRODUCT(--(LEN(CY$1:CY$6)>1)),COLUMN(CY$1)))))/ABS(DGET(Præsentation!$F$11:$T$89,\"\"&$CH19&\"\",CY$34:CY$35)),\"\")","v":""},{"$f":"IFERROR(ABS(DSUM(Præsentation!$F$11:$T$89,\"\"&'Diagrammer-orig'!$CH18&\"\",'Diagrammer-orig'!CZ$1:INDIRECT(ADDRESS(SUMPRODUCT(--(LEN(CZ$1:CZ$6)>1)),COLUMN(CZ$1)))))/ABS(DGET(Præsentation!$F$11:$T$89,\"\"&$CH19&\"\",CZ$34:CZ$35)),\"\")","v":""},null,{"$f":"IFERROR(SUM(CU19:DA19),0)","v":0}]
[null,null,null,null,null,null,null,null,null,null,null,null,null,null,null,null,null,null,null,null,null,null,null,null,null,{"$f":"77+21+106+26-56-17","v":157},null,null,null,{"$f":"IF(OR(Præsentation!$P$11=0,Præsentation!$P$11=\"vælg\")=TRUE,\"Ingen valgt\",Præsentation!$P$11)","v":"Ingen valgt"},{"$f":"IFERROR(\"EKM pr. ko:  \"&ROUND(DGET(Præsentation!$F$11:$T$89,\"\"&'Diagrammer-orig'!$AD20&\"\",$AE$1:$AE$2),0),\"\")","v":""},"Kr. pr. årsko",{"$f":"IF($AF20=$AF$4,IFERROR(AP21*DGET(Præsentation!$F$11:$T$89,\"\"&'Diagrammer-orig'!$AD20&\"\",$AE$1:$AE$2)/100,0),\"\")","v":0},{"$f":"IF($AF20=$AF$4,IFERROR(AQ21*DGET(Præsentation!$F$11:$T$89,\"\"&'Diagrammer-orig'!$AD20&\"\",$AE$1:$AE$2)/100,0),\"\")","v":0},{"$f":"IF($AF20=$AF$4,IFERROR(AR21*DGET(Præsentation!$F$11:$T$89,\"\"&'Diagrammer-orig'!$AD20&\"\",$AE$1:$AE$2)/100,0),\"\")","v":0},{"$f":"IF($AF20=$AF$4,IFERROR(AS21*DGET(Præsentation!$F$11:$T$89,\"\"&'Diagrammer-orig'!$AD20&\"\",$AE$1:$AE$2)/100,0),\"\")","v":0},{"$f":"IF($AF20=$AF$4,IFERROR(AT21*DGET(Præsentation!$F$11:$T$89,\"\"&'Diagrammer-orig'!$AD20&\"\",$AE$1:$AE$2)/100,0),\"\")","v":0},{"$f":"IF($AF20=$AF$4,IFERROR(AU21*DGET(Præsentation!$F$11:$T$89,\"\"&'Diagrammer-orig'!$AD20&\"\",$AE$1:$AE$2)/100,0),\"\")","v":0},{"$f":"IF($AF20=$AF$4,IFERROR(AV21*DGET(Præsentation!$F$11:$T$89,\"\"&'Diagrammer-orig'!$AD20&\"\",$AE$1:$AE$2)/100,0),\"\")","v":0},{"$f":"IF($AF20=$AF$4,IFERROR(AW21*DGET(Præsentation!$F$11:$T$89,\"\"&'Diagrammer-orig'!$AD20&\"\",$AE$1:$AE$2)/100,0),\"\")","v":0},{"$f":"IFERROR(SUM(AG20:AN20),0)","v":0},null,null,null,null,null,null,null,null,null,null,null,null,null,null,8,{"$f":"BF20","v":"Ingen valgt"},{"$f":"$AD16","v":"Ingen valgt"},{"$f":"IFERROR(\"Grise pr årsso: \"&ROUND(VLOOKUP($BB$14,Præsentation!$F$11:$T$80,$BD20,FALSE),1),\"\")","v":""},"Smågris",{"$f":"IFERROR((BS21)/IFERROR(VLOOKUP($BB$14,Præsentation!$F$11:$T$80,$BD20,FALSE),0),\"\")","v":""},{"$f":"IFERROR((BT21)/IFERROR(VLOOKUP($BB$14,Præsentation!$F$11:$T$80,$BD20,FALSE),0),\"\")","v":""},{"$f":"IFERROR((BU21)/IFERROR(VLOOKUP($BB$14,Præsentation!$F$11:$T$80,$BD20,FALSE),0),\"\")","v":""},{"$f":"IFERROR((BV21)/IFERROR(VLOOKUP($BB$14,Præsentation!$F$11:$T$80,$BD20,FALSE),0),\"\")","v":""},{"$f":"IFERROR((BW21)/IFERROR(VLOOKUP($BB$14,Præsentation!$F$11:$T$80,$BD20,FALSE),0),\"\")","v":""},{"$f":"IFERROR((BX21)/IFERROR(VLOOKUP($BB$14,Præsentation!$F$11:$T$80,$BD20,FALSE),0),\"\")","v":""},{"$f":"IFERROR(ABS(IFERROR(VLOOKUP(BO$2,Præsentation!$F$11:$T$80,$BD20,FALSE),0)),\"\")","v":0},null,null,null,null,null,null,null,null,null,null,null,null,null,null,null,null,null,8,{"$f":"CI20","v":"Ingen valgt"},{"$f":"$AD16","v":"Ingen valgt"},null,"Bruttoudbytte",{"$f":"IFERROR(ABS(DSUM(Præsentation!$F$11:$T$89,\"\"&'Diagrammer-orig'!$CH20&\"\",'Diagrammer-orig'!CL$1:INDIRECT(ADDRESS(SUMPRODUCT(--(LEN(CL$1:CL$4)>1)),COLUMN(CL$1)))))/ABS(DGET(Præsentation!$F$11:$T$89,\"\"&$CH21&\"\",CL$34:CL$35))-CM20,\"\")","v":""},{"$f":"IFERROR((ABS(DSUM(Præsentation!$F$11:$T$89,\"\"&'Diagrammer-orig'!$CH20&\"\",'Diagrammer-orig'!CM$1:INDIRECT(ADDRESS(SUMPRODUCT(--(LEN(CM$1:CM$5)>1)),COLUMN(CM$1))))))/ABS(DGET(Præsentation!$F$11:$T$89,\"\"&$CH21&\"\",CM$34:CM$35)),\"\")","v":""},{"$f":"IFERROR(ABS(DSUM(Præsentation!$F$11:$T$89,\"\"&'Diagrammer-orig'!$CH20&\"\",'Diagrammer-orig'!CN$1:INDIRECT(ADDRESS(SUMPRODUCT(--(LEN(CN$1:CN$5)>1)),COLUMN(CN$1))))),\"\")","v":""},null,null,null,null,null,{"$f":"IFERROR(SUM(CL20:CS20),0)","v":0}]
[null,null,null,null,null,null,null,null,null,null,null,null,null,null,null,null,null,null,null,null,null,null,null,null,null,null,null,null,null,null,null,"Øre pr. kg EKM",null,null,null,null,null,null,null,null,null,{"$f":"IFERROR(DGET(Præsentation!$F$11:$T$89,\"\"&'Diagrammer-orig'!$AD20&\"\",'Diagrammer-orig'!AG$1:AG$2)*100,0)","v":0},{"$f":"IFERROR(DGET(Præsentation!$F$11:$T$89,\"\"&'Diagrammer-orig'!$AD20&\"\",'Diagrammer-orig'!AH$1:AH$2)*100,0)","v":0},{"$f":"IFERROR(DGET(Præsentation!$F$11:$T$89,\"\"&'Diagrammer-orig'!$AD20&\"\",'Diagrammer-orig'!AI$1:AI$2)*100,0)","v":0},{"$f":"IFERROR(DGET(Præsentation!$F$11:$T$89,\"\"&'Diagrammer-orig'!$AD20&\"\",'Diagrammer-orig'!AJ$1:AJ$2)*100,0)","v":0},{"$f":"IFERROR(DGET(Præsentation!$F$11:$T$89,\"\"&'Diagrammer-orig'!$AD20&\"\",'Diagrammer-orig'!AK$1:AK$2)*100,0)","v":0},{"$f":"IFERROR(DGET(Præsentation!$F$11:$T$89,\"\"&'Diagrammer-orig'!$AD20&\"\",'Diagrammer-orig'!AL$1:AL$2)*100,0)","v":0},{"$f":"IFERROR(DGET(Præsentation!$F$11:$T$89,\"\"&'Diagrammer-orig'!$AD20&\"\",'Diagrammer-orig'!AM$1:AM$2)*100,0)","v":0},{"$f":"IFERROR(DGET(Præsentation!$F$11:$T$89,\"\"&'Diagrammer-orig'!$AD20&\"\",'Diagrammer-orig'!AN$1:AN$2)*100,0)","v":0},{"$f":"IFERROR(SUM(AP21:AW21),0)","v":0},null,null,null,null,null,8,{"$f":"BE20","v":"Ingen valgt"},null,null,"Årsso",null,null,null,null,null,null,null,null,null,null,{"$f":"IFERROR(-IFERROR((IFERROR(VLOOKUP(BS$2,Præsentation!$F$11:$T$80,$BD20,FALSE),0)-IFERROR(VLOOKUP(BS$3,Præsentation!$F$11:$T$80,$BD20,FALSE),0)-IFERROR(VLOOKUP(BS$4,Præsentation!$F$11:$T$80,$BD20,FALSE),0)),\"\"),\"\")","v":-468.15653945905893},{"$f":"IFERROR(ABS(IFERROR(VLOOKUP(BT$2,Præsentation!$F$11:$T$80,$BD21,FALSE),0)+IFERROR(VLOOKUP(BT$3,Præsentation!$F$11:$T$80,$BD21,FALSE),0)+IFERROR(VLOOKUP(BT$4,Præsentation!$F$11:$T$80,$BD21,FALSE),0)+IFERROR(VLOOKUP(BT$5,Præsentation!$F$11:$T$80,$BD21,FALSE),0)),\"\")","v":""},{"$f":"IFERROR(ABS(IFERROR(VLOOKUP(BU$2,Præsentation!$F$11:$T$80,$BD21,FALSE),0)+IFERROR(VLOOKUP(BU$3,Præsentation!$F$11:$T$80,$BD21,FALSE),0)+IFERROR(VLOOKUP(BU$4,Præsentation!$F$11:$T$80,$BD21,FALSE),0)+IFERROR(VLOOKUP(BU$5,Præsentation!$F$11:$T$80,$BD21,FALSE),0)),\"\")","v":""},{"$f":"IFERROR(ABS(IFERROR(VLOOKUP(BV$2,Præsentation!$F$11:$T$80,$BD21,FALSE),0)+IFERROR(VLOOKUP(BV$3,Præsentation!$F$11:$T$80,$BD21,FALSE),0)+IFERROR(VLOOKUP(BV$4,Præsentation!$F$11:$T$80,$BD21,FALSE),0)+IFERROR(VLOOKUP(BV$5,Præsentation!$F$11:$T$80,$BD21,FALSE),0)),\"\")","v":""},{"$f":"IFERROR(ABS(IFERROR(VLOOKUP(BW$2,Præsentation!$F$11:$T$80,$BD21,FALSE),0)+IFERROR(VLOOKUP(BW$3,Præsentation!$F$11:$T$80,$BD21,FALSE),0)+IFERROR(VLOOKUP(BW$4,Præsentation!$F$11:$T$80,$BD21,FALSE),0)+IFERROR(VLOOKUP(BW$5,Præsentation!$F$11:$T$80,$BD21,FALSE),0)),\"\")","v":0},{"$f":"IFERROR(ABS(IFERROR(VLOOKUP(BX$2,Præsentation!$F$11:$T$80,$BD21,FALSE),0)+IFERROR(VLOOKUP(BX$3,Præsentation!$F$11:$T$80,$BD21,FALSE),0)+IFERROR(VLOOKUP(BX$4,Præsentation!$F$11:$T$80,$BD21,FALSE),0)+IFERROR(VLOOKUP(BX$5,Præsentation!$F$11:$T$80,$BD21,FALSE),0)),\"\")","v":""},{"$f":"SUM(BS21:BX21)","v":-468.15653945905893},null,null,null,null,null,null,null,8,{"$f":"CH20","v":"Ingen valgt"},null,null,"Omkostninger",null,null,null,null,null,null,null,null,null,{"$f":"IFERROR(ABS(DSUM(Præsentation!$F$11:$T$89,\"\"&'Diagrammer-orig'!$CH20&\"\",'Diagrammer-orig'!CU$1:INDIRECT(ADDRESS(SUMPRODUCT(--(LEN(CU$1:CU$6)>1)),COLUMN(CU$1)))))/ABS(DGET(Præsentation!$F$11:$T$89,\"\"&$CH21&\"\",CU$34:CU$35)),\"\")","v":""},{"$f":"IFERROR(ABS(DSUM(Præsentation!$F$11:$T$89,\"\"&'Diagrammer-orig'!$CH20&\"\",'Diagrammer-orig'!CV$1:INDIRECT(ADDRESS(SUMPRODUCT(--(LEN(CV$1:CV$6)>1)),COLUMN(CV$1)))))/ABS(DGET(Præsentation!$F$11:$T$89,\"\"&$CH21&\"\",CV$34:CV$35)),\"\")","v":""},{"$f":"IFERROR(ABS(DSUM(Præsentation!$F$11:$T$89,\"\"&'Diagrammer-orig'!$CH20&\"\",'Diagrammer-orig'!CW$1:INDIRECT(ADDRESS(SUMPRODUCT(--(LEN(CW$1:CW$6)>1)),COLUMN(CW$1)))))/ABS(DGET(Præsentation!$F$11:$T$89,\"\"&$CH21&\"\",CW$34:CW$35)),\"\")","v":""},{"$f":"IFERROR(ABS(DSUM(Præsentation!$F$11:$T$89,\"\"&'Diagrammer-orig'!$CH20&\"\",'Diagrammer-orig'!CX$1:INDIRECT(ADDRESS(SUMPRODUCT(--(LEN(CX$1:CX$6)>1)),COLUMN(CX$1)))))/ABS(DGET(Præsentation!$F$11:$T$89,\"\"&$CH21&\"\",CX$34:CX$35)),\"\")","v":""},{"$f":"IFERROR(ABS(DSUM(Præsentation!$F$11:$T$89,\"\"&'Diagrammer-orig'!$CH20&\"\",'Diagrammer-orig'!CY$1:INDIRECT(ADDRESS(SUMPRODUCT(--(LEN(CY$1:CY$6)>1)),COLUMN(CY$1)))))/ABS(DGET(Præsentation!$F$11:$T$89,\"\"&$CH21&\"\",CY$34:CY$35)),\"\")","v":""},{"$f":"IFERROR(ABS(DSUM(Præsentation!$F$11:$T$89,\"\"&'Diagrammer-orig'!$CH20&\"\",'Diagrammer-orig'!CZ$1:INDIRECT(ADDRESS(SUMPRODUCT(--(LEN(CZ$1:CZ$6)>1)),COLUMN(CZ$1)))))/ABS(DGET(Præsentation!$F$11:$T$89,\"\"&$CH21&\"\",CZ$34:CZ$35)),\"\")","v":""},null,{"$f":"IFERROR(SUM(CU21:DA21),0)","v":0}]
[null,null,null,null,null,null,null,null,null,null,null,null,null,null,null,null,null,null,null,null,null,null,null,null,null,null,null,null,null,{"$f":"IF(OR(Præsentation!$Q$11=0,Præsentation!$Q$11=\"vælg\")=TRUE,\"Ingen valgt\",Præsentation!$Q$11)","v":"Ingen valgt"},{"$f":"IFERROR(\"EKM pr. ko:  \"&ROUND(DGET(Præsentation!$F$11:$T$89,\"\"&'Diagrammer-orig'!$AD22&\"\",$AE$1:$AE$2),0),\"\")","v":""},"Kr. pr. årsko",{"$f":"IF($AF22=$AF$4,IFERROR(AP23*DGET(Præsentation!$F$11:$T$89,\"\"&'Diagrammer-orig'!$AD22&\"\",$AE$1:$AE$2)/100,0),\"\")","v":0},{"$f":"IF($AF22=$AF$4,IFERROR(AQ23*DGET(Præsentation!$F$11:$T$89,\"\"&'Diagrammer-orig'!$AD22&\"\",$AE$1:$AE$2)/100,0),\"\")","v":0},{"$f":"IF($AF22=$AF$4,IFERROR(AR23*DGET(Præsentation!$F$11:$T$89,\"\"&'Diagrammer-orig'!$AD22&\"\",$AE$1:$AE$2)/100,0),\"\")","v":0},{"$f":"IF($AF22=$AF$4,IFERROR(AS23*DGET(Præsentation!$F$11:$T$89,\"\"&'Diagrammer-orig'!$AD22&\"\",$AE$1:$AE$2)/100,0),\"\")","v":0},{"$f":"IF($AF22=$AF$4,IFERROR(AT23*DGET(Præsentation!$F$11:$T$89,\"\"&'Diagrammer-orig'!$AD22&\"\",$AE$1:$AE$2)/100,0),\"\")","v":0},{"$f":"IF($AF22=$AF$4,IFERROR(AU23*DGET(Præsentation!$F$11:$T$89,\"\"&'Diagrammer-orig'!$AD22&\"\",$AE$1:$AE$2)/100,0),\"\")","v":0},{"$f":"IF($AF22=$AF$4,IFERROR(AV23*DGET(Præsentation!$F$11:$T$89,\"\"&'Diagrammer-orig'!$AD22&\"\",$AE$1:$AE$2)/100,0),\"\")","v":0},{"$f":"IF($AF22=$AF$4,IFERROR(AW23*DGET(Præsentation!$F$11:$T$89,\"\"&'Diagrammer-orig'!$AD22&\"\",$AE$1:$AE$2)/100,0),\"\")","v":0},{"$f":"IFERROR(SUM(AG22:AN22),0)","v":0},null,null,null,null,null,null,null,null,null,null,null,null,null,null,9,{"$f":"BF22","v":"Ingen valgt"},{"$f":"$AD18","v":"Ingen valgt"},{"$f":"IFERROR(\"Grise pr årsso: \"&ROUND(VLOOKUP($BB$14,Præsentation!$F$11:$T$80,$BD22,FALSE),1),\"\")","v":""},"Smågris",{"$f":"IFERROR((BS23)/IFERROR(VLOOKUP($BB$14,Præsentation!$F$11:$T$80,$BD22,FALSE),0),\"\")","v":""},{"$f":"IFERROR((BT23)/IFERROR(VLOOKUP($BB$14,Præsentation!$F$11:$T$80,$BD22,FALSE),0),\"\")","v":""},{"$f":"IFERROR((BU23)/IFERROR(VLOOKUP($BB$14,Præsentation!$F$11:$T$80,$BD22,FALSE),0),\"\")","v":""},{"$f":"IFERROR((BV23)/IFERROR(VLOOKUP($BB$14,Præsentation!$F$11:$T$80,$BD22,FALSE),0),\"\")","v":""},{"$f":"IFERROR((BW23)/IFERROR(VLOOKUP($BB$14,Præsentation!$F$11:$T$80,$BD22,FALSE),0),\"\")","v":""},{"$f":"IFERROR((BX23)/IFERROR(VLOOKUP($BB$14,Præsentation!$F$11:$T$80,$BD22,FALSE),0),\"\")","v":""},{"$f":"IFERROR(ABS(IFERROR(VLOOKUP(BO$2,Præsentation!$F$11:$T$80,$BD22,FALSE),0)),\"\")","v":0},null,null,null,null,null,null,null,null,null,null,null,null,null,null,null,null,null,9,{"$f":"CI22","v":"Ingen valgt"},{"$f":"$AD18","v":"Ingen valgt"},null,"Bruttoudbytte",{"$f":"IFERROR(ABS(DSUM(Præsentation!$F$11:$T$89,\"\"&'Diagrammer-orig'!$CH22&\"\",'Diagrammer-orig'!CL$1:INDIRECT(ADDRESS(SUMPRODUCT(--(LEN(CL$1:CL$4)>1)),COLUMN(CL$1)))))/ABS(DGET(Præsentation!$F$11:$T$89,\"\"&$CH23&\"\",CL$34:CL$35))-CM22,\"\")","v":""},{"$f":"IFERROR((ABS(DSUM(Præsentation!$F$11:$T$89,\"\"&'Diagrammer-orig'!$CH22&\"\",'Diagrammer-orig'!CM$1:INDIRECT(ADDRESS(SUMPRODUCT(--(LEN(CM$1:CM$5)>1)),COLUMN(CM$1))))))/ABS(DGET(Præsentation!$F$11:$T$89,\"\"&$CH23&\"\",CM$34:CM$35)),\"\")","v":""},{"$f":"IFERROR(ABS(DSUM(Præsentation!$F$11:$T$89,\"\"&'Diagrammer-orig'!$CH22&\"\",'Diagrammer-orig'!CN$1:INDIRECT(ADDRESS(SUMPRODUCT(--(LEN(CN$1:CN$5)>1)),COLUMN(CN$1))))),\"\")","v":""},null,null,null,null,null,{"$f":"IFERROR(SUM(CL22:CS22),0)","v":0}]
[null,null,null,null,null,null,null,null,null,null,null,null,null,null,null,null,null,null,null,null,null,null,null,null,null,1,"Ingen valgt ",".. Gå om og vælg en gruppe",null,null,null,"Øre pr. kg EKM",null,null,null,null,null,null,null,null,null,{"$f":"IFERROR(DGET(Præsentation!$F$11:$T$89,\"\"&'Diagrammer-orig'!$AD22&\"\",'Diagrammer-orig'!AG$1:AG$2)*100,0)","v":0},{"$f":"IFERROR(DGET(Præsentation!$F$11:$T$89,\"\"&'Diagrammer-orig'!$AD22&\"\",'Diagrammer-orig'!AH$1:AH$2)*100,0)","v":0},{"$f":"IFERROR(DGET(Præsentation!$F$11:$T$89,\"\"&'Diagrammer-orig'!$AD22&\"\",'Diagrammer-orig'!AI$1:AI$2)*100,0)","v":0},{"$f":"IFERROR(DGET(Præsentation!$F$11:$T$89,\"\"&'Diagrammer-orig'!$AD22&\"\",'Diagrammer-orig'!AJ$1:AJ$2)*100,0)","v":0},{"$f":"IFERROR(DGET(Præsentation!$F$11:$T$89,\"\"&'Diagrammer-orig'!$AD22&\"\",'Diagrammer-orig'!AK$1:AK$2)*100,0)","v":0},{"$f":"IFERROR(DGET(Præsentation!$F$11:$T$89,\"\"&'Diagrammer-orig'!$AD22&\"\",'Diagrammer-orig'!AL$1:AL$2)*100,0)","v":0},{"$f":"IFERROR(DGET(Præsentation!$F$11:$T$89,\"\"&'Diagrammer-orig'!$AD22&\"\",'Diagrammer-orig'!AM$1:AM$2)*100,0)","v":0},{"$f":"IFERROR(DGET(Præsentation!$F$11:$T$89,\"\"&'Diagrammer-orig'!$AD22&\"\",'Diagrammer-orig'!AN$1:AN$2)*100,0)","v":0},{"$f":"IFERROR(SUM(AP23:AW23),0)","v":0},null,null,null,null,null,9,{"$f":"BE22","v":"Ingen valgt"},null,null,"Årsso",null,null,null,null,null,null,null,null,null,null,{"$f":"IFERROR(-IFERROR((IFERROR(VLOOKUP(BS$2,Præsentation!$F$11:$T$80,$BD22,FALSE),0)-IFERROR(VLOOKUP(BS$3,Præsentation!$F$11:$T$80,$BD22,FALSE),0)-IFERROR(VLOOKUP(BS$4,Præsentation!$F$11:$T$80,$BD22,FALSE),0)),\"\"),\"\")","v":-397.45785714285716},{"$f":"IFERROR(ABS(IFERROR(VLOOKUP(BT$2,Præsentation!$F$11:$T$80,$BD23,FALSE),0)+IFERROR(VLOOKUP(BT$3,Præsentation!$F$11:$T$80,$BD23,FALSE),0)+IFERROR(VLOOKUP(BT$4,Præsentation!$F$11:$T$80,$BD23,FALSE),0)+IFERROR(VLOOKUP(BT$5,Præsentation!$F$11:$T$80,$BD23,FALSE),0)),\"\")","v":""},{"$f":"IFERROR(ABS(IFERROR(VLOOKUP(BU$2,Præsentation!$F$11:$T$80,$BD23,FALSE),0)+IFERROR(VLOOKUP(BU$3,Præsentation!$F$11:$T$80,$BD23,FALSE),0)+IFERROR(VLOOKUP(BU$4,Præsentation!$F$11:$T$80,$BD23,FALSE),0)+IFERROR(VLOOKUP(BU$5,Præsentation!$F$11:$T$80,$BD23,FALSE),0)),\"\")","v":""},{"$f":"IFERROR(ABS(IFERROR(VLOOKUP(BV$2,Præsentation!$F$11:$T$80,$BD23,FALSE),0)+IFERROR(VLOOKUP(BV$3,Præsentation!$F$11:$T$80,$BD23,FALSE),0)+IFERROR(VLOOKUP(BV$4,Præsentation!$F$11:$T$80,$BD23,FALSE),0)+IFERROR(VLOOKUP(BV$5,Præsentation!$F$11:$T$80,$BD23,FALSE),0)),\"\")","v":""},{"$f":"IFERROR(ABS(IFERROR(VLOOKUP(BW$2,Præsentation!$F$11:$T$80,$BD23,FALSE),0)+IFERROR(VLOOKUP(BW$3,Præsentation!$F$11:$T$80,$BD23,FALSE),0)+IFERROR(VLOOKUP(BW$4,Præsentation!$F$11:$T$80,$BD23,FALSE),0)+IFERROR(VLOOKUP(BW$5,Præsentation!$F$11:$T$80,$BD23,FALSE),0)),\"\")","v":0},{"$f":"IFERROR(ABS(IFERROR(VLOOKUP(BX$2,Præsentation!$F$11:$T$80,$BD23,FALSE),0)+IFERROR(VLOOKUP(BX$3,Præsentation!$F$11:$T$80,$BD23,FALSE),0)+IFERROR(VLOOKUP(BX$4,Præsentation!$F$11:$T$80,$BD23,FALSE),0)+IFERROR(VLOOKUP(BX$5,Præsentation!$F$11:$T$80,$BD23,FALSE),0)),\"\")","v":""},{"$f":"SUM(BS23:BX23)","v":-397.45785714285716},null,null,null,null,null,null,null,9,{"$f":"CH22","v":"Ingen valgt"},null,null,"Omkostninger",null,null,null,null,null,null,null,null,null,{"$f":"IFERROR(ABS(DSUM(Præsentation!$F$11:$T$89,\"\"&'Diagrammer-orig'!$CH22&\"\",'Diagrammer-orig'!CU$1:INDIRECT(ADDRESS(SUMPRODUCT(--(LEN(CU$1:CU$6)>1)),COLUMN(CU$1)))))/ABS(DGET(Præsentation!$F$11:$T$89,\"\"&$CH23&\"\",CU$34:CU$35)),\"\")","v":""},{"$f":"IFERROR(ABS(DSUM(Præsentation!$F$11:$T$89,\"\"&'Diagrammer-orig'!$CH22&\"\",'Diagrammer-orig'!CV$1:INDIRECT(ADDRESS(SUMPRODUCT(--(LEN(CV$1:CV$6)>1)),COLUMN(CV$1)))))/ABS(DGET(Præsentation!$F$11:$T$89,\"\"&$CH23&\"\",CV$34:CV$35)),\"\")","v":""},{"$f":"IFERROR(ABS(DSUM(Præsentation!$F$11:$T$89,\"\"&'Diagrammer-orig'!$CH22&\"\",'Diagrammer-orig'!CW$1:INDIRECT(ADDRESS(SUMPRODUCT(--(LEN(CW$1:CW$6)>1)),COLUMN(CW$1)))))/ABS(DGET(Præsentation!$F$11:$T$89,\"\"&$CH23&\"\",CW$34:CW$35)),\"\")","v":""},{"$f":"IFERROR(ABS(DSUM(Præsentation!$F$11:$T$89,\"\"&'Diagrammer-orig'!$CH22&\"\",'Diagrammer-orig'!CX$1:INDIRECT(ADDRESS(SUMPRODUCT(--(LEN(CX$1:CX$6)>1)),COLUMN(CX$1)))))/ABS(DGET(Præsentation!$F$11:$T$89,\"\"&$CH23&\"\",CX$34:CX$35)),\"\")","v":""},{"$f":"IFERROR(ABS(DSUM(Præsentation!$F$11:$T$89,\"\"&'Diagrammer-orig'!$CH22&\"\",'Diagrammer-orig'!CY$1:INDIRECT(ADDRESS(SUMPRODUCT(--(LEN(CY$1:CY$6)>1)),COLUMN(CY$1)))))/ABS(DGET(Præsentation!$F$11:$T$89,\"\"&$CH23&\"\",CY$34:CY$35)),\"\")","v":""},{"$f":"IFERROR(ABS(DSUM(Præsentation!$F$11:$T$89,\"\"&'Diagrammer-orig'!$CH22&\"\",'Diagrammer-orig'!CZ$1:INDIRECT(ADDRESS(SUMPRODUCT(--(LEN(CZ$1:CZ$6)>1)),COLUMN(CZ$1)))))/ABS(DGET(Præsentation!$F$11:$T$89,\"\"&$CH23&\"\",CZ$34:CZ$35)),\"\")","v":""},null,{"$f":"IFERROR(SUM(CU23:DA23),0)","v":0}]
[null,null,null,null,null,null,null,null,null,null,null,null,null,null,null,null,null,null,null,null,null,null,null,null,null,null,null,null,null,{"$f":"IF(OR(Præsentation!$R$11=0,Præsentation!$R$11=\"vælg\")=TRUE,\"Ingen valgt\",Præsentation!$R$11)","v":"Ingen valgt"},{"$f":"IFERROR(\"EKM pr. ko:  \"&ROUND(DGET(Præsentation!$F$11:$T$89,\"\"&'Diagrammer-orig'!$AD24&\"\",$AE$1:$AE$2),0),\"\")","v":""},"Kr. pr. årsko",{"$f":"IF($AF24=$AF$4,IFERROR(AP25*DGET(Præsentation!$F$11:$T$89,\"\"&'Diagrammer-orig'!$AD24&\"\",$AE$1:$AE$2)/100,0),\"\")","v":0},{"$f":"IF($AF24=$AF$4,IFERROR(AQ25*DGET(Præsentation!$F$11:$T$89,\"\"&'Diagrammer-orig'!$AD24&\"\",$AE$1:$AE$2)/100,0),\"\")","v":0},{"$f":"IF($AF24=$AF$4,IFERROR(AR25*DGET(Præsentation!$F$11:$T$89,\"\"&'Diagrammer-orig'!$AD24&\"\",$AE$1:$AE$2)/100,0),\"\")","v":0},{"$f":"IF($AF24=$AF$4,IFERROR(AS25*DGET(Præsentation!$F$11:$T$89,\"\"&'Diagrammer-orig'!$AD24&\"\",$AE$1:$AE$2)/100,0),\"\")","v":0},{"$f":"IF($AF24=$AF$4,IFERROR(AT25*DGET(Præsentation!$F$11:$T$89,\"\"&'Diagrammer-orig'!$AD24&\"\",$AE$1:$AE$2)/100,0),\"\")","v":0},{"$f":"IF($AF24=$AF$4,IFERROR(AU25*DGET(Præsentation!$F$11:$T$89,\"\"&'Diagrammer-orig'!$AD24&\"\",$AE$1:$AE$2)/100,0),\"\")","v":0},{"$f":"IF($AF24=$AF$4,IFERROR(AV25*DGET(Præsentation!$F$11:$T$89,\"\"&'Diagrammer-orig'!$AD24&\"\",$AE$1:$AE$2)/100,0),\"\")","v":0},{"$f":"IF($AF24=$AF$4,IFERROR(AW25*DGET(Præsentation!$F$11:$T$89,\"\"&'Diagrammer-orig'!$AD24&\"\",$AE$1:$AE$2)/100,0),\"\")","v":0},{"$f":"IFERROR(SUM(AG24:AN24),0)","v":0},null,null,null,null,null,null,null,null,null,null,null,null,null,null,10,{"$f":"BF24","v":"Ingen valgt"},{"$f":"$AD20","v":"Ingen valgt"},{"$f":"IFERROR(\"Grise pr årsso: \"&ROUND(VLOOKUP($BB$14,Præsentation!$F$11:$T$80,$BD24,FALSE),1),\"\")","v":""},"Smågris",{"$f":"IFERROR((BS25)/IFERROR(VLOOKUP($BB$14,Præsentation!$F$11:$T$80,$BD24,FALSE),0),\"\")","v":""},{"$f":"IFERROR((BT25)/IFERROR(VLOOKUP($BB$14,Præsentation!$F$11:$T$80,$BD24,FALSE),0),\"\")","v":""},{"$f":"IFERROR((BU25)/IFERROR(VLOOKUP($BB$14,Præsentation!$F$11:$T$80,$BD24,FALSE),0),\"\")","v":""},{"$f":"IFERROR((BV25)/IFERROR(VLOOKUP($BB$14,Præsentation!$F$11:$T$80,$BD24,FALSE),0),\"\")","v":""},{"$f":"IFERROR((BW25)/IFERROR(VLOOKUP($BB$14,Præsentation!$F$11:$T$80,$BD24,FALSE),0),\"\")","v":""},{"$f":"IFERROR((BX25)/IFERROR(VLOOKUP($BB$14,Præsentation!$F$11:$T$80,$BD24,FALSE),0),\"\")","v":""},{"$f":"IFERROR(ABS(IFERROR(VLOOKUP(BO$2,Præsentation!$F$11:$T$80,$BD24,FALSE),0)),\"\")","v":0},null,null,null,null,null,null,null,null,null,null,null,null,null,null,null,null,null,10,{"$f":"CI24","v":"Ingen valgt"},{"$f":"$AD20","v":"Ingen valgt"},null,"Bruttoudbytte",{"$f":"IFERROR(ABS(DSUM(Præsentation!$F$11:$T$89,\"\"&'Diagrammer-orig'!$CH24&\"\",'Diagrammer-orig'!CL$1:INDIRECT(ADDRESS(SUMPRODUCT(--(LEN(CL$1:CL$4)>1)),COLUMN(CL$1)))))/ABS(DGET(Præsentation!$F$11:$T$89,\"\"&$CH25&\"\",CL$34:CL$35))-CM24,\"\")","v":""},{"$f":"IFERROR((ABS(DSUM(Præsentation!$F$11:$T$89,\"\"&'Diagrammer-orig'!$CH24&\"\",'Diagrammer-orig'!CM$1:INDIRECT(ADDRESS(SUMPRODUCT(--(LEN(CM$1:CM$5)>1)),COLUMN(CM$1))))))/ABS(DGET(Præsentation!$F$11:$T$89,\"\"&$CH25&\"\",CM$34:CM$35)),\"\")","v":""},{"$f":"IFERROR(ABS(DSUM(Præsentation!$F$11:$T$89,\"\"&'Diagrammer-orig'!$CH24&\"\",'Diagrammer-orig'!CN$1:INDIRECT(ADDRESS(SUMPRODUCT(--(LEN(CN$1:CN$5)>1)),COLUMN(CN$1))))),\"\")","v":""},null,null,null,null,null,{"$f":"IFERROR(SUM(CL24:CS24),0)","v":0}]
[null,null,null,null,null,null,null,null,null,null,null,null,null,null,null,null,null,null,null,null,null,null,null,null,null,null,null,null,null,null,null,"Øre pr. kg EKM",null,null,null,null,null,null,null,null,null,{"$f":"IFERROR(DGET(Præsentation!$F$11:$T$89,\"\"&'Diagrammer-orig'!$AD24&\"\",'Diagrammer-orig'!AG$1:AG$2)*100,0)","v":0},{"$f":"IFERROR(DGET(Præsentation!$F$11:$T$89,\"\"&'Diagrammer-orig'!$AD24&\"\",'Diagrammer-orig'!AH$1:AH$2)*100,0)","v":0},{"$f":"IFERROR(DGET(Præsentation!$F$11:$T$89,\"\"&'Diagrammer-orig'!$AD24&\"\",'Diagrammer-orig'!AI$1:AI$2)*100,0)","v":0},{"$f":"IFERROR(DGET(Præsentation!$F$11:$T$89,\"\"&'Diagrammer-orig'!$AD24&\"\",'Diagrammer-orig'!AJ$1:AJ$2)*100,0)","v":0},{"$f":"IFERROR(DGET(Præsentation!$F$11:$T$89,\"\"&'Diagrammer-orig'!$AD24&\"\",'Diagrammer-orig'!AK$1:AK$2)*100,0)","v":0},{"$f":"IFERROR(DGET(Præsentation!$F$11:$T$89,\"\"&'Diagrammer-orig'!$AD24&\"\",'Diagrammer-orig'!AL$1:AL$2)*100,0)","v":0},{"$f":"IFERROR(DGET(Præsentation!$F$11:$T$89,\"\"&'Diagrammer-orig'!$AD24&\"\",'Diagrammer-orig'!AM$1:AM$2)*100,0)","v":0},{"$f":"IFERROR(DGET(Præsentation!$F$11:$T$89,\"\"&'Diagrammer-orig'!$AD24&\"\",'Diagrammer-orig'!AN$1:AN$2)*100,0)","v":0},{"$f":"IFERROR(SUM(AP25:AW25),0)","v":0},null,null,null,null,null,10,{"$f":"BE24","v":"Ingen valgt"},null,null,"Årsso",null,null,null,null,null,null,null,null,null,null,{"$f":"IFERROR(-IFERROR((IFERROR(VLOOKUP(BS$2,Præsentation!$F$11:$T$80,$BD24,FALSE),0)-IFERROR(VLOOKUP(BS$3,Præsentation!$F$11:$T$80,$BD24,FALSE),0)-IFERROR(VLOOKUP(BS$4,Præsentation!$F$11:$T$80,$BD24,FALSE),0)),\"\"),\"\")","v":-448.11736136281263},{"$f":"IFERROR(ABS(IFERROR(VLOOKUP(BT$2,Præsentation!$F$11:$T$80,$BD25,FALSE),0)+IFERROR(VLOOKUP(BT$3,Præsentation!$F$11:$T$80,$BD25,FALSE),0)+IFERROR(VLOOKUP(BT$4,Præsentation!$F$11:$T$80,$BD25,FALSE),0)+IFERROR(VLOOKUP(BT$5,Præsentation!$F$11:$T$80,$BD25,FALSE),0)),\"\")","v":""},{"$f":"IFERROR(ABS(IFERROR(VLOOKUP(BU$2,Præsentation!$F$11:$T$80,$BD25,FALSE),0)+IFERROR(VLOOKUP(BU$3,Præsentation!$F$11:$T$80,$BD25,FALSE),0)+IFERROR(VLOOKUP(BU$4,Præsentation!$F$11:$T$80,$BD25,FALSE),0)+IFERROR(VLOOKUP(BU$5,Præsentation!$F$11:$T$80,$BD25,FALSE),0)),\"\")","v":""},{"$f":"IFERROR(ABS(IFERROR(VLOOKUP(BV$2,Præsentation!$F$11:$T$80,$BD25,FALSE),0)+IFERROR(VLOOKUP(BV$3,Præsentation!$F$11:$T$80,$BD25,FALSE),0)+IFERROR(VLOOKUP(BV$4,Præsentation!$F$11:$T$80,$BD25,FALSE),0)+IFERROR(VLOOKUP(BV$5,Præsentation!$F$11:$T$80,$BD25,FALSE),0)),\"\")","v":""},{"$f":"IFERROR(ABS(IFERROR(VLOOKUP(BW$2,Præsentation!$F$11:$T$80,$BD25,FALSE),0)+IFERROR(VLOOKUP(BW$3,Præsentation!$F$11:$T$80,$BD25,FALSE),0)+IFERROR(VLOOKUP(BW$4,Præsentation!$F$11:$T$80,$BD25,FALSE),0)+IFERROR(VLOOKUP(BW$5,Præsentation!$F$11:$T$80,$BD25,FALSE),0)),\"\")","v":0},{"$f":"IFERROR(ABS(IFERROR(VLOOKUP(BX$2,Præsentation!$F$11:$T$80,$BD25,FALSE),0)+IFERROR(VLOOKUP(BX$3,Præsentation!$F$11:$T$80,$BD25,FALSE),0)+IFERROR(VLOOKUP(BX$4,Præsentation!$F$11:$T$80,$BD25,FALSE),0)+IFERROR(VLOOKUP(BX$5,Præsentation!$F$11:$T$80,$BD25,FALSE),0)),\"\")","v":""},{"$f":"SUM(BS25:BX25)","v":-448.11736136281263},null,null,null,null,null,null,null,10,{"$f":"CH24","v":"Ingen valgt"},null,null,"Omkostninger",null,null,null,null,null,null,null,null,null,{"$f":"IFERROR(ABS(DSUM(Præsentation!$F$11:$T$89,\"\"&'Diagrammer-orig'!$CH24&\"\",'Diagrammer-orig'!CU$1:INDIRECT(ADDRESS(SUMPRODUCT(--(LEN(CU$1:CU$6)>1)),COLUMN(CU$1)))))/ABS(DGET(Præsentation!$F$11:$T$89,\"\"&$CH25&\"\",CU$34:CU$35)),\"\")","v":""},{"$f":"IFERROR(ABS(DSUM(Præsentation!$F$11:$T$89,\"\"&'Diagrammer-orig'!$CH24&\"\",'Diagrammer-orig'!CV$1:INDIRECT(ADDRESS(SUMPRODUCT(--(LEN(CV$1:CV$6)>1)),COLUMN(CV$1)))))/ABS(DGET(Præsentation!$F$11:$T$89,\"\"&$CH25&\"\",CV$34:CV$35)),\"\")","v":""},{"$f":"IFERROR(ABS(DSUM(Præsentation!$F$11:$T$89,\"\"&'Diagrammer-orig'!$CH24&\"\",'Diagrammer-orig'!CW$1:INDIRECT(ADDRESS(SUMPRODUCT(--(LEN(CW$1:CW$6)>1)),COLUMN(CW$1)))))/ABS(DGET(Præsentation!$F$11:$T$89,\"\"&$CH25&\"\",CW$34:CW$35)),\"\")","v":""},{"$f":"IFERROR(ABS(DSUM(Præsentation!$F$11:$T$89,\"\"&'Diagrammer-orig'!$CH24&\"\",'Diagrammer-orig'!CX$1:INDIRECT(ADDRESS(SUMPRODUCT(--(LEN(CX$1:CX$6)>1)),COLUMN(CX$1)))))/ABS(DGET(Præsentation!$F$11:$T$89,\"\"&$CH25&\"\",CX$34:CX$35)),\"\")","v":""},{"$f":"IFERROR(ABS(DSUM(Præsentation!$F$11:$T$89,\"\"&'Diagrammer-orig'!$CH24&\"\",'Diagrammer-orig'!CY$1:INDIRECT(ADDRESS(SUMPRODUCT(--(LEN(CY$1:CY$6)>1)),COLUMN(CY$1)))))/ABS(DGET(Præsentation!$F$11:$T$89,\"\"&$CH25&\"\",CY$34:CY$35)),\"\")","v":""},{"$f":"IFERROR(ABS(DSUM(Præsentation!$F$11:$T$89,\"\"&'Diagrammer-orig'!$CH24&\"\",'Diagrammer-orig'!CZ$1:INDIRECT(ADDRESS(SUMPRODUCT(--(LEN(CZ$1:CZ$6)>1)),COLUMN(CZ$1)))))/ABS(DGET(Præsentation!$F$11:$T$89,\"\"&$CH25&\"\",CZ$34:CZ$35)),\"\")","v":""},null,{"$f":"IFERROR(SUM(CU25:DA25),0)","v":0}]
[null,null,null,null,null,null,null,null,null,null,null,null,null,null,null,null,null,null,null,null,null,null,null,null,null,null,null,null,null,{"$f":"IF(OR(Præsentation!$S$11=0,Præsentation!$S$11=\"vælg\")=TRUE,\"Ingen valgt\",Præsentation!$S$12)","v":"Ingen valgt"},{"$f":"IFERROR(\"EKM pr. ko:  \"&ROUND(DGET(Præsentation!$F$11:$T$89,\"\"&'Diagrammer-orig'!$AD26&\"\",$AE$1:$AE$2),0),\"\")","v":""},"Kr. pr. årsko",{"$f":"IF($AF26=$AF$4,IFERROR(AP27*DGET(Præsentation!$F$11:$T$89,\"\"&'Diagrammer-orig'!$AD26&\"\",$AE$1:$AE$2)/100,0),\"\")","v":0},{"$f":"IF($AF26=$AF$4,IFERROR(AQ27*DGET(Præsentation!$F$11:$T$89,\"\"&'Diagrammer-orig'!$AD26&\"\",$AE$1:$AE$2)/100,0),\"\")","v":0},{"$f":"IF($AF26=$AF$4,IFERROR(AR27*DGET(Præsentation!$F$11:$T$89,\"\"&'Diagrammer-orig'!$AD26&\"\",$AE$1:$AE$2)/100,0),\"\")","v":0},{"$f":"IF($AF26=$AF$4,IFERROR(AS27*DGET(Præsentation!$F$11:$T$89,\"\"&'Diagrammer-orig'!$AD26&\"\",$AE$1:$AE$2)/100,0),\"\")","v":0},{"$f":"IF($AF26=$AF$4,IFERROR(AT27*DGET(Præsentation!$F$11:$T$89,\"\"&'Diagrammer-orig'!$AD26&\"\",$AE$1:$AE$2)/100,0),\"\")","v":0},{"$f":"IF($AF26=$AF$4,IFERROR(AU27*DGET(Præsentation!$F$11:$T$89,\"\"&'Diagrammer-orig'!$AD26&\"\",$AE$1:$AE$2)/100,0),\"\")","v":0},{"$f":"IF($AF26=$AF$4,IFERROR(AV27*DGET(Præsentation!$F$11:$T$89,\"\"&'Diagrammer-orig'!$AD26&\"\",$AE$1:$AE$2)/100,0),\"\")","v":0},{"$f":"IF($AF26=$AF$4,IFERROR(AW27*DGET(Præsentation!$F$11:$T$89,\"\"&'Diagrammer-orig'!$AD26&\"\",$AE$1:$AE$2)/100,0),\"\")","v":0},{"$f":"IFERROR(SUM(AG26:AN26),0)","v":0},null,null,null,null,null,null,null,null,null,null,null,null,null,null,11,{"$f":"BF26","v":"Ingen valgt"},{"$f":"$AD22","v":"Ingen valgt"},{"$f":"IFERROR(\"Grise pr årsso: \"&ROUND(VLOOKUP($BB$14,Præsentation!$F$11:$T$80,$BD26,FALSE),1),\"\")","v":""},"Smågris",{"$f":"IFERROR((BS27)/IFERROR(VLOOKUP($BB$14,Præsentation!$F$11:$T$80,$BD26,FALSE),0),\"\")","v":""},{"$f":"IFERROR((BT27)/IFERROR(VLOOKUP($BB$14,Præsentation!$F$11:$T$80,$BD26,FALSE),0),\"\")","v":""},{"$f":"IFERROR((BU27)/IFERROR(VLOOKUP($BB$14,Præsentation!$F$11:$T$80,$BD26,FALSE),0),\"\")","v":""},{"$f":"IFERROR((BV27)/IFERROR(VLOOKUP($BB$14,Præsentation!$F$11:$T$80,$BD26,FALSE),0),\"\")","v":""},{"$f":"IFERROR((BW27)/IFERROR(VLOOKUP($BB$14,Præsentation!$F$11:$T$80,$BD26,FALSE),0),\"\")","v":""},{"$f":"IFERROR((BX27)/IFERROR(VLOOKUP($BB$14,Præsentation!$F$11:$T$80,$BD26,FALSE),0),\"\")","v":""},{"$f":"IFERROR(ABS(IFERROR(VLOOKUP(BO$2,Præsentation!$F$11:$T$80,$BD26,FALSE),0)),\"\")","v":0},null,null,null,null,null,null,null,null,null,null,null,null,null,null,null,null,null,11,{"$f":"CI26","v":"Ingen valgt"},{"$f":"$AD22","v":"Ingen valgt"},null,"Bruttoudbytte",{"$f":"IFERROR(ABS(DSUM(Præsentation!$F$11:$T$89,\"\"&'Diagrammer-orig'!$CH26&\"\",'Diagrammer-orig'!CL$1:INDIRECT(ADDRESS(SUMPRODUCT(--(LEN(CL$1:CL$4)>1)),COLUMN(CL$1)))))/ABS(DGET(Præsentation!$F$11:$T$89,\"\"&$CH27&\"\",CL$34:CL$35))-CM26,\"\")","v":""},{"$f":"IFERROR((ABS(DSUM(Præsentation!$F$11:$T$89,\"\"&'Diagrammer-orig'!$CH26&\"\",'Diagrammer-orig'!CM$1:INDIRECT(ADDRESS(SUMPRODUCT(--(LEN(CM$1:CM$5)>1)),COLUMN(CM$1))))))/ABS(DGET(Præsentation!$F$11:$T$89,\"\"&$CH27&\"\",CM$34:CM$35)),\"\")","v":""},{"$f":"IFERROR(ABS(DSUM(Præsentation!$F$11:$T$89,\"\"&'Diagrammer-orig'!$CH26&\"\",'Diagrammer-orig'!CN$1:INDIRECT(ADDRESS(SUMPRODUCT(--(LEN(CN$1:CN$5)>1)),COLUMN(CN$1))))),\"\")","v":""},null,null,null,null,null,{"$f":"IFERROR(SUM(CL26:CS26),0)","v":0}]
[null,null,null,null,null,null,null,null,null,null,null,null,null,null,null,null,null,null,null,null,null,null,null,null,null,null,null,null,null,null,null,"Øre pr. kg EKM",null,null,null,null,null,null,null,null,null,{"$f":"IFERROR(DGET(Præsentation!$F$11:$T$89,\"\"&'Diagrammer-orig'!$AD26&\"\",'Diagrammer-orig'!AG$1:AG$2)*100,0)","v":0},{"$f":"IFERROR(DGET(Præsentation!$F$11:$T$89,\"\"&'Diagrammer-orig'!$AD26&\"\",'Diagrammer-orig'!AH$1:AH$2)*100,0)","v":0},{"$f":"IFERROR(DGET(Præsentation!$F$11:$T$89,\"\"&'Diagrammer-orig'!$AD26&\"\",'Diagrammer-orig'!AI$1:AI$2)*100,0)","v":0},{"$f":"IFERROR(DGET(Præsentation!$F$11:$T$89,\"\"&'Diagrammer-orig'!$AD26&\"\",'Diagrammer-orig'!AJ$1:AJ$2)*100,0)","v":0},{"$f":"IFERROR(DGET(Præsentation!$F$11:$T$89,\"\"&'Diagrammer-orig'!$AD26&\"\",'Diagrammer-orig'!AK$1:AK$2)*100,0)","v":0},{"$f":"IFERROR(DGET(Præsentation!$F$11:$T$89,\"\"&'Diagrammer-orig'!$AD26&\"\",'Diagrammer-orig'!AL$1:AL$2)*100,0)","v":0},{"$f":"IFERROR(DGET(Præsentation!$F$11:$T$89,\"\"&'Diagrammer-orig'!$AD26&\"\",'Diagrammer-orig'!AM$1:AM$2)*100,0)","v":0},{"$f":"IFERROR(DGET(Præsentation!$F$11:$T$89,\"\"&'Diagrammer-orig'!$AD26&\"\",'Diagrammer-orig'!AN$1:AN$2)*100,0)","v":0},{"$f":"IFERROR(SUM(AP27:AW27),0)","v":0},null,null,null,null,null,11,{"$f":"BE26","v":"Ingen valgt"},null,null,"Årsso",null,null,null,null,null,null,null,null,null,null,{"$f":"IFERROR(-IFERROR((IFERROR(VLOOKUP(BS$2,Præsentation!$F$11:$T$80,$BD26,FALSE),0)-IFERROR(VLOOKUP(BS$3,Præsentation!$F$11:$T$80,$BD26,FALSE),0)-IFERROR(VLOOKUP(BS$4,Præsentation!$F$11:$T$80,$BD26,FALSE),0)),\"\"),\"\")","v":-436.73552631578946},{"$f":"IFERROR(ABS(IFERROR(VLOOKUP(BT$2,Præsentation!$F$11:$T$80,$BD27,FALSE),0)+IFERROR(VLOOKUP(BT$3,Præsentation!$F$11:$T$80,$BD27,FALSE),0)+IFERROR(VLOOKUP(BT$4,Præsentation!$F$11:$T$80,$BD27,FALSE),0)+IFERROR(VLOOKUP(BT$5,Præsentation!$F$11:$T$80,$BD27,FALSE),0)),\"\")","v":""},{"$f":"IFERROR(ABS(IFERROR(VLOOKUP(BU$2,Præsentation!$F$11:$T$80,$BD27,FALSE),0)+IFERROR(VLOOKUP(BU$3,Præsentation!$F$11:$T$80,$BD27,FALSE),0)+IFERROR(VLOOKUP(BU$4,Præsentation!$F$11:$T$80,$BD27,FALSE),0)+IFERROR(VLOOKUP(BU$5,Præsentation!$F$11:$T$80,$BD27,FALSE),0)),\"\")","v":""},{"$f":"IFERROR(ABS(IFERROR(VLOOKUP(BV$2,Præsentation!$F$11:$T$80,$BD27,FALSE),0)+IFERROR(VLOOKUP(BV$3,Præsentation!$F$11:$T$80,$BD27,FALSE),0)+IFERROR(VLOOKUP(BV$4,Præsentation!$F$11:$T$80,$BD27,FALSE),0)+IFERROR(VLOOKUP(BV$5,Præsentation!$F$11:$T$80,$BD27,FALSE),0)),\"\")","v":""},{"$f":"IFERROR(ABS(IFERROR(VLOOKUP(BW$2,Præsentation!$F$11:$T$80,$BD27,FALSE),0)+IFERROR(VLOOKUP(BW$3,Præsentation!$F$11:$T$80,$BD27,FALSE),0)+IFERROR(VLOOKUP(BW$4,Præsentation!$F$11:$T$80,$BD27,FALSE),0)+IFERROR(VLOOKUP(BW$5,Præsentation!$F$11:$T$80,$BD27,FALSE),0)),\"\")","v":0},{"$f":"IFERROR(ABS(IFERROR(VLOOKUP(BX$2,Præsentation!$F$11:$T$80,$BD27,FALSE),0)+IFERROR(VLOOKUP(BX$3,Præsentation!$F$11:$T$80,$BD27,FALSE),0)+IFERROR(VLOOKUP(BX$4,Præsentation!$F$11:$T$80,$BD27,FALSE),0)+IFERROR(VLOOKUP(BX$5,Præsentation!$F$11:$T$80,$BD27,FALSE),0)),\"\")","v":""},{"$f":"SUM(BS27:BX27)","v":-436.73552631578946},null,null,null,null,null,null,null,11,{"$f":"CH26","v":"Ingen valgt"},null,null,"Omkostninger",null,null,null,null,null,null,null,null,null,{"$f":"IFERROR(ABS(DSUM(Præsentation!$F$11:$T$89,\"\"&'Diagrammer-orig'!$CH26&\"\",'Diagrammer-orig'!CU$1:INDIRECT(ADDRESS(SUMPRODUCT(--(LEN(CU$1:CU$6)>1)),COLUMN(CU$1)))))/ABS(DGET(Præsentation!$F$11:$T$89,\"\"&$CH27&\"\",CU$34:CU$35)),\"\")","v":""},{"$f":"IFERROR(ABS(DSUM(Præsentation!$F$11:$T$89,\"\"&'Diagrammer-orig'!$CH26&\"\",'Diagrammer-orig'!CV$1:INDIRECT(ADDRESS(SUMPRODUCT(--(LEN(CV$1:CV$6)>1)),COLUMN(CV$1)))))/ABS(DGET(Præsentation!$F$11:$T$89,\"\"&$CH27&\"\",CV$34:CV$35)),\"\")","v":""},{"$f":"IFERROR(ABS(DSUM(Præsentation!$F$11:$T$89,\"\"&'Diagrammer-orig'!$CH26&\"\",'Diagrammer-orig'!CW$1:INDIRECT(ADDRESS(SUMPRODUCT(--(LEN(CW$1:CW$6)>1)),COLUMN(CW$1)))))/ABS(DGET(Præsentation!$F$11:$T$89,\"\"&$CH27&\"\",CW$34:CW$35)),\"\")","v":""},{"$f":"IFERROR(ABS(DSUM(Præsentation!$F$11:$T$89,\"\"&'Diagrammer-orig'!$CH26&\"\",'Diagrammer-orig'!CX$1:INDIRECT(ADDRESS(SUMPRODUCT(--(LEN(CX$1:CX$6)>1)),COLUMN(CX$1)))))/ABS(DGET(Præsentation!$F$11:$T$89,\"\"&$CH27&\"\",CX$34:CX$35)),\"\")","v":""},{"$f":"IFERROR(ABS(DSUM(Præsentation!$F$11:$T$89,\"\"&'Diagrammer-orig'!$CH26&\"\",'Diagrammer-orig'!CY$1:INDIRECT(ADDRESS(SUMPRODUCT(--(LEN(CY$1:CY$6)>1)),COLUMN(CY$1)))))/ABS(DGET(Præsentation!$F$11:$T$89,\"\"&$CH27&\"\",CY$34:CY$35)),\"\")","v":""},{"$f":"IFERROR(ABS(DSUM(Præsentation!$F$11:$T$89,\"\"&'Diagrammer-orig'!$CH26&\"\",'Diagrammer-orig'!CZ$1:INDIRECT(ADDRESS(SUMPRODUCT(--(LEN(CZ$1:CZ$6)>1)),COLUMN(CZ$1)))))/ABS(DGET(Præsentation!$F$11:$T$89,\"\"&$CH27&\"\",CZ$34:CZ$35)),\"\")","v":""},null,{"$f":"IFERROR(SUM(CU27:DA27),0)","v":0}]
[null,null,null,null,null,null,null,null,null,null,null,null,null,null,null,null,null,null,null,null,null,null,null,null,null,null,null,null,null,{"$f":"IF(OR(Præsentation!$T$11=0,Præsentation!$T$11=\"vælg\")=TRUE,\"Ingen valgt\",Præsentation!$T$12)","v":"Ingen valgt"},{"$f":"IFERROR(\"EKM pr. ko:  \"&ROUND(DGET(Præsentation!$F$11:$T$89,\"\"&'Diagrammer-orig'!$AD28&\"\",$AE$1:$AE$2),0),\"\")","v":""},"Kr. pr. årsko",{"$f":"IF($AF28=$AF$4,IFERROR(AP29*DGET(Præsentation!$F$11:$T$89,\"\"&'Diagrammer-orig'!$AD28&\"\",$AE$1:$AE$2)/100,0),\"\")","v":0},{"$f":"IF($AF28=$AF$4,IFERROR(AQ29*DGET(Præsentation!$F$11:$T$89,\"\"&'Diagrammer-orig'!$AD28&\"\",$AE$1:$AE$2)/100,0),\"\")","v":0},{"$f":"IF($AF28=$AF$4,IFERROR(AR29*DGET(Præsentation!$F$11:$T$89,\"\"&'Diagrammer-orig'!$AD28&\"\",$AE$1:$AE$2)/100,0),\"\")","v":0},{"$f":"IF($AF28=$AF$4,IFERROR(AS29*DGET(Præsentation!$F$11:$T$89,\"\"&'Diagrammer-orig'!$AD28&\"\",$AE$1:$AE$2)/100,0),\"\")","v":0},{"$f":"IF($AF28=$AF$4,IFERROR(AT29*DGET(Præsentation!$F$11:$T$89,\"\"&'Diagrammer-orig'!$AD28&\"\",$AE$1:$AE$2)/100,0),\"\")","v":0},{"$f":"IF($AF28=$AF$4,IFERROR(AU29*DGET(Præsentation!$F$11:$T$89,\"\"&'Diagrammer-orig'!$AD28&\"\",$AE$1:$AE$2)/100,0),\"\")","v":0},{"$f":"IF($AF28=$AF$4,IFERROR(AV29*DGET(Præsentation!$F$11:$T$89,\"\"&'Diagrammer-orig'!$AD28&\"\",$AE$1:$AE$2)/100,0),\"\")","v":0},{"$f":"IF($AF28=$AF$4,IFERROR(AW29*DGET(Præsentation!$F$11:$T$89,\"\"&'Diagrammer-orig'!$AD28&\"\",$AE$1:$AE$2)/100,0),\"\")","v":0},{"$f":"IFERROR(SUM(AG28:AN28),0)","v":0},null,null,null,null,null,null,null,null,null,null,null,null,null,null,12,{"$f":"BF28","v":"Ingen valgt"},{"$f":"$AD24","v":"Ingen valgt"},{"$f":"IFERROR(\"Grise pr årsso: \"&ROUND(VLOOKUP($BB$14,Præsentation!$F$11:$T$80,$BD28,FALSE),1),\"\")","v":""},"Smågris",{"$f":"IFERROR((BS29)/IFERROR(VLOOKUP($BB$14,Præsentation!$F$11:$T$80,$BD28,FALSE),0),\"\")","v":""},{"$f":"IFERROR((BT29)/IFERROR(VLOOKUP($BB$14,Præsentation!$F$11:$T$80,$BD28,FALSE),0),\"\")","v":""},{"$f":"IFERROR((BU29)/IFERROR(VLOOKUP($BB$14,Præsentation!$F$11:$T$80,$BD28,FALSE),0),\"\")","v":""},{"$f":"IFERROR((BV29)/IFERROR(VLOOKUP($BB$14,Præsentation!$F$11:$T$80,$BD28,FALSE),0),\"\")","v":""},{"$f":"IFERROR((BW29)/IFERROR(VLOOKUP($BB$14,Præsentation!$F$11:$T$80,$BD28,FALSE),0),\"\")","v":""},{"$f":"IFERROR((BX29)/IFERROR(VLOOKUP($BB$14,Præsentation!$F$11:$T$80,$BD28,FALSE),0),\"\")","v":""},{"$f":"IFERROR(ABS(IFERROR(VLOOKUP(BO$2,Præsentation!$F$11:$T$80,$BD28,FALSE),0)),\"\")","v":0},null,null,null,null,null,null,null,null,null,null,null,null,null,null,null,null,null,12,{"$f":"CI28","v":"Ingen valgt"},{"$f":"$AD24","v":"Ingen valgt"},null,"Bruttoudbytte",{"$f":"IFERROR(ABS(DSUM(Præsentation!$F$11:$T$89,\"\"&'Diagrammer-orig'!$CH28&\"\",'Diagrammer-orig'!CL$1:INDIRECT(ADDRESS(SUMPRODUCT(--(LEN(CL$1:CL$4)>1)),COLUMN(CL$1)))))/ABS(DGET(Præsentation!$F$11:$T$89,\"\"&$CH29&\"\",CL$34:CL$35))-CM28,\"\")","v":""},{"$f":"IFERROR((ABS(DSUM(Præsentation!$F$11:$T$89,\"\"&'Diagrammer-orig'!$CH28&\"\",'Diagrammer-orig'!CM$1:INDIRECT(ADDRESS(SUMPRODUCT(--(LEN(CM$1:CM$5)>1)),COLUMN(CM$1))))))/ABS(DGET(Præsentation!$F$11:$T$89,\"\"&$CH29&\"\",CM$34:CM$35)),\"\")","v":""},{"$f":"IFERROR(ABS(DSUM(Præsentation!$F$11:$T$89,\"\"&'Diagrammer-orig'!$CH28&\"\",'Diagrammer-orig'!CN$1:INDIRECT(ADDRESS(SUMPRODUCT(--(LEN(CN$1:CN$5)>1)),COLUMN(CN$1))))),\"\")","v":""},null,null,null,null,null,{"$f":"IFERROR(SUM(CL28:CS28),0)","v":0}]
[null,null,null,null,null,null,null,null,null,null,null,null,null,null,null,null,null,null,null,null,null,null,null,null,null,null,null,null,null,null,null,"Øre pr. kg EKM",null,null,null,null,null,null,null,null,null,{"$f":"IFERROR(DGET(Præsentation!$F$11:$T$89,\"\"&'Diagrammer-orig'!$AD28&\"\",'Diagrammer-orig'!AG$1:AG$2)*100,0)","v":0},{"$f":"IFERROR(DGET(Præsentation!$F$11:$T$89,\"\"&'Diagrammer-orig'!$AD28&\"\",'Diagrammer-orig'!AH$1:AH$2)*100,0)","v":0},{"$f":"IFERROR(DGET(Præsentation!$F$11:$T$89,\"\"&'Diagrammer-orig'!$AD28&\"\",'Diagrammer-orig'!AI$1:AI$2)*100,0)","v":0},{"$f":"IFERROR(DGET(Præsentation!$F$11:$T$89,\"\"&'Diagrammer-orig'!$AD28&\"\",'Diagrammer-orig'!AJ$1:AJ$2)*100,0)","v":0},{"$f":"IFERROR(DGET(Præsentation!$F$11:$T$89,\"\"&'Diagrammer-orig'!$AD28&\"\",'Diagrammer-orig'!AK$1:AK$2)*100,0)","v":0},{"$f":"IFERROR(DGET(Præsentation!$F$11:$T$89,\"\"&'Diagrammer-orig'!$AD28&\"\",'Diagrammer-orig'!AL$1:AL$2)*100,0)","v":0},{"$f":"IFERROR(DGET(Præsentation!$F$11:$T$89,\"\"&'Diagrammer-orig'!$AD28&\"\",'Diagrammer-orig'!AM$1:AM$2)*100,0)","v":0},{"$f":"IFERROR(DGET(Præsentation!$F$11:$T$89,\"\"&'Diagrammer-orig'!$AD28&\"\",'Diagrammer-orig'!AN$1:AN$2)*100,0)","v":0},{"$f":"IFERROR(SUM(AP29:AW29),0)","v":0},null,null,null,null,null,12,{"$f":"BE28","v":"Ingen valgt"},null,null,"Årsso",null,null,null,null,null,null,null,null,null,null,{"$f":"IFERROR(-IFERROR((IFERROR(VLOOKUP(BS$2,Præsentation!$F$11:$T$80,$BD28,FALSE),0)-IFERROR(VLOOKUP(BS$3,Præsentation!$F$11:$T$80,$BD28,FALSE),0)-IFERROR(VLOOKUP(BS$4,Præsentation!$F$11:$T$80,$BD28,FALSE),0)),\"\"),\"\")","v":-387.40893619320332},{"$f":"IFERROR(ABS(IFERROR(VLOOKUP(BT$2,Præsentation!$F$11:$T$80,$BD29,FALSE),0)+IFERROR(VLOOKUP(BT$3,Præsentation!$F$11:$T$80,$BD29,FALSE),0)+IFERROR(VLOOKUP(BT$4,Præsentation!$F$11:$T$80,$BD29,FALSE),0)+IFERROR(VLOOKUP(BT$5,Præsentation!$F$11:$T$80,$BD29,FALSE),0)),\"\")","v":""},{"$f":"IFERROR(ABS(IFERROR(VLOOKUP(BU$2,Præsentation!$F$11:$T$80,$BD29,FALSE),0)+IFERROR(VLOOKUP(BU$3,Præsentation!$F$11:$T$80,$BD29,FALSE),0)+IFERROR(VLOOKUP(BU$4,Præsentation!$F$11:$T$80,$BD29,FALSE),0)+IFERROR(VLOOKUP(BU$5,Præsentation!$F$11:$T$80,$BD29,FALSE),0)),\"\")","v":""},{"$f":"IFERROR(ABS(IFERROR(VLOOKUP(BV$2,Præsentation!$F$11:$T$80,$BD29,FALSE),0)+IFERROR(VLOOKUP(BV$3,Præsentation!$F$11:$T$80,$BD29,FALSE),0)+IFERROR(VLOOKUP(BV$4,Præsentation!$F$11:$T$80,$BD29,FALSE),0)+IFERROR(VLOOKUP(BV$5,Præsentation!$F$11:$T$80,$BD29,FALSE),0)),\"\")","v":""},{"$f":"IFERROR(ABS(IFERROR(VLOOKUP(BW$2,Præsentation!$F$11:$T$80,$BD29,FALSE),0)+IFERROR(VLOOKUP(BW$3,Præsentation!$F$11:$T$80,$BD29,FALSE),0)+IFERROR(VLOOKUP(BW$4,Præsentation!$F$11:$T$80,$BD29,FALSE),0)+IFERROR(VLOOKUP(BW$5,Præsentation!$F$11:$T$80,$BD29,FALSE),0)),\"\")","v":0},{"$f":"IFERROR(ABS(IFERROR(VLOOKUP(BX$2,Præsentation!$F$11:$T$80,$BD29,FALSE),0)+IFERROR(VLOOKUP(BX$3,Præsentation!$F$11:$T$80,$BD29,FALSE),0)+IFERROR(VLOOKUP(BX$4,Præsentation!$F$11:$T$80,$BD29,FALSE),0)+IFERROR(VLOOKUP(BX$5,Præsentation!$F$11:$T$80,$BD29,FALSE),0)),\"\")","v":""},{"$f":"SUM(BS29:BX29)","v":-387.40893619320332},null,null,null,null,null,null,null,12,{"$f":"CH28","v":"Ingen valgt"},null,null,"Omkostninger",null,null,null,null,null,null,null,null,null,{"$f":"IFERROR(ABS(DSUM(Præsentation!$F$11:$T$89,\"\"&'Diagrammer-orig'!$CH28&\"\",'Diagrammer-orig'!CU$1:INDIRECT(ADDRESS(SUMPRODUCT(--(LEN(CU$1:CU$6)>1)),COLUMN(CU$1)))))/ABS(DGET(Præsentation!$F$11:$T$89,\"\"&$CH29&\"\",CU$34:CU$35)),\"\")","v":""},{"$f":"IFERROR(ABS(DSUM(Præsentation!$F$11:$T$89,\"\"&'Diagrammer-orig'!$CH28&\"\",'Diagrammer-orig'!CV$1:INDIRECT(ADDRESS(SUMPRODUCT(--(LEN(CV$1:CV$6)>1)),COLUMN(CV$1)))))/ABS(DGET(Præsentation!$F$11:$T$89,\"\"&$CH29&\"\",CV$34:CV$35)),\"\")","v":""},{"$f":"IFERROR(ABS(DSUM(Præsentation!$F$11:$T$89,\"\"&'Diagrammer-orig'!$CH28&\"\",'Diagrammer-orig'!CW$1:INDIRECT(ADDRESS(SUMPRODUCT(--(LEN(CW$1:CW$6)>1)),COLUMN(CW$1)))))/ABS(DGET(Præsentation!$F$11:$T$89,\"\"&$CH29&\"\",CW$34:CW$35)),\"\")","v":""},{"$f":"IFERROR(ABS(DSUM(Præsentation!$F$11:$T$89,\"\"&'Diagrammer-orig'!$CH28&\"\",'Diagrammer-orig'!CX$1:INDIRECT(ADDRESS(SUMPRODUCT(--(LEN(CX$1:CX$6)>1)),COLUMN(CX$1)))))/ABS(DGET(Præsentation!$F$11:$T$89,\"\"&$CH29&\"\",CX$34:CX$35)),\"\")","v":""},{"$f":"IFERROR(ABS(DSUM(Præsentation!$F$11:$T$89,\"\"&'Diagrammer-orig'!$CH28&\"\",'Diagrammer-orig'!CY$1:INDIRECT(ADDRESS(SUMPRODUCT(--(LEN(CY$1:CY$6)>1)),COLUMN(CY$1)))))/ABS(DGET(Præsentation!$F$11:$T$89,\"\"&$CH29&\"\",CY$34:CY$35)),\"\")","v":""},{"$f":"IFERROR(ABS(DSUM(Præsentation!$F$11:$T$89,\"\"&'Diagrammer-orig'!$CH28&\"\",'Diagrammer-orig'!CZ$1:INDIRECT(ADDRESS(SUMPRODUCT(--(LEN(CZ$1:CZ$6)>1)),COLUMN(CZ$1)))))/ABS(DGET(Præsentation!$F$11:$T$89,\"\"&$CH29&\"\",CZ$34:CZ$35)),\"\")","v":""},null,{"$f":"IFERROR(SUM(CU29:DA29),0)","v":0}]
[null,null,null,null,null,null,null,null,null,null,null,null,null,null,null,null,null,null,null,null,null,null,null,null,null,null,null,null,null,null,null,null,null,"Løbenummer/","Løbenummer/","Løbenummer/","Løbenummer/","Løbenummer/","Løbenummer/","Løbenummer/",null,null,null,null,null,null,null,null,null,null,null,null,null,null,null,13,{"$f":"BF30","v":"Ingen valgt"},{"$f":"$AD26","v":"Ingen valgt"},{"$f":"IFERROR(\"Grise pr årsso: \"&ROUND(VLOOKUP($BB$14,Præsentation!$F$11:$T$80,$BD30,FALSE),1),\"\")","v":""},"Smågris",{"$f":"IFERROR((BS31)/IFERROR(VLOOKUP($BB$14,Præsentation!$F$11:$T$80,$BD30,FALSE),0),\"\")","v":""},{"$f":"IFERROR((BT31)/IFERROR(VLOOKUP($BB$14,Præsentation!$F$11:$T$80,$BD30,FALSE),0),\"\")","v":""},{"$f":"IFERROR((BU31)/IFERROR(VLOOKUP($BB$14,Præsentation!$F$11:$T$80,$BD30,FALSE),0),\"\")","v":""},{"$f":"IFERROR((BV31)/IFERROR(VLOOKUP($BB$14,Præsentation!$F$11:$T$80,$BD30,FALSE),0),\"\")","v":""},{"$f":"IFERROR((BW31)/IFERROR(VLOOKUP($BB$14,Præsentation!$F$11:$T$80,$BD30,FALSE),0),\"\")","v":""},{"$f":"IFERROR((BX31)/IFERROR(VLOOKUP($BB$14,Præsentation!$F$11:$T$80,$BD30,FALSE),0),\"\")","v":""},{"$f":"IFERROR(ABS(IFERROR(VLOOKUP(BO$2,Præsentation!$F$11:$T$80,$BD30,FALSE),0)),\"\")","v":0},null,null,null,null,null,null,null,null,null,null,null,null,null,null,null,null,null,13,{"$f":"CI30","v":"Ingen valgt"},{"$f":"$AD26","v":"Ingen valgt"},null,"Bruttoudbytte",{"$f":"IFERROR(ABS(DSUM(Præsentation!$F$11:$T$89,\"\"&'Diagrammer-orig'!$CH30&\"\",'Diagrammer-orig'!CL$1:INDIRECT(ADDRESS(SUMPRODUCT(--(LEN(CL$1:CL$4)>1)),COLUMN(CL$1)))))/ABS(DGET(Præsentation!$F$11:$T$89,\"\"&$CH31&\"\",CL$34:CL$35))-CM30,\"\")","v":""},{"$f":"IFERROR((ABS(DSUM(Præsentation!$F$11:$T$89,\"\"&'Diagrammer-orig'!$CH30&\"\",'Diagrammer-orig'!CM$1:INDIRECT(ADDRESS(SUMPRODUCT(--(LEN(CM$1:CM$5)>1)),COLUMN(CM$1))))))/ABS(DGET(Præsentation!$F$11:$T$89,\"\"&$CH31&\"\",CM$34:CM$35)),\"\")","v":""},{"$f":"IFERROR(ABS(DSUM(Præsentation!$F$11:$T$89,\"\"&'Diagrammer-orig'!$CH30&\"\",'Diagrammer-orig'!CN$1:INDIRECT(ADDRESS(SUMPRODUCT(--(LEN(CN$1:CN$5)>1)),COLUMN(CN$1))))),\"\")","v":""},null,null,null,null,null,{"$f":"IFERROR(SUM(CL30:CS30),0)","v":0}]
[null,null,null,null,null,null,null,null,null,null,null,null,null,null,null,null,null,null,null,null,null,null,null,null,null,null,null,null,null,null,null,null,null,"Avl, rådgivning og kontrol","Dyrlæge og medicin","Diverse stykomkostninger, inkl. pasningsaftale","Bygninger pr. årsko","Inventar inkl. Energi pr. årsko","Forrentning driftskapital pr. årsko","Øvrige omkostninger pr. årsko",null,null,null,null,null,null,null,null,null,null,null,null,null,null,null,13,{"$f":"BE30","v":"Ingen valgt"},null,null,"Årsso",null,null,null,null,null,null,null,null,null,null,{"$f":"IFERROR(-IFERROR((IFERROR(VLOOKUP(BS$2,Præsentation!$F$11:$T$80,$BD30,FALSE),0)-IFERROR(VLOOKUP(BS$3,Præsentation!$F$11:$T$80,$BD30,FALSE),0)-IFERROR(VLOOKUP(BS$4,Præsentation!$F$11:$T$80,$BD30,FALSE),0)),\"\"),\"\")","v":-370.84842402213422},{"$f":"IFERROR(ABS(IFERROR(VLOOKUP(BT$2,Præsentation!$F$11:$T$80,$BD31,FALSE),0)+IFERROR(VLOOKUP(BT$3,Præsentation!$F$11:$T$80,$BD31,FALSE),0)+IFERROR(VLOOKUP(BT$4,Præsentation!$F$11:$T$80,$BD31,FALSE),0)+IFERROR(VLOOKUP(BT$5,Præsentation!$F$11:$T$80,$BD31,FALSE),0)),\"\")","v":""},{"$f":"IFERROR(ABS(IFERROR(VLOOKUP(BU$2,Præsentation!$F$11:$T$80,$BD31,FALSE),0)+IFERROR(VLOOKUP(BU$3,Præsentation!$F$11:$T$80,$BD31,FALSE),0)+IFERROR(VLOOKUP(BU$4,Præsentation!$F$11:$T$80,$BD31,FALSE),0)+IFERROR(VLOOKUP(BU$5,Præsentation!$F$11:$T$80,$BD31,FALSE),0)),\"\")","v":""},{"$f":"IFERROR(ABS(IFERROR(VLOOKUP(BV$2,Præsentation!$F$11:$T$80,$BD31,FALSE),0)+IFERROR(VLOOKUP(BV$3,Præsentation!$F$11:$T$80,$BD31,FALSE),0)+IFERROR(VLOOKUP(BV$4,Præsentation!$F$11:$T$80,$BD31,FALSE),0)+IFERROR(VLOOKUP(BV$5,Præsentation!$F$11:$T$80,$BD31,FALSE),0)),\"\")","v":""},{"$f":"IFERROR(ABS(IFERROR(VLOOKUP(BW$2,Præsentation!$F$11:$T$80,$BD31,FALSE),0)+IFERROR(VLOOKUP(BW$3,Præsentation!$F$11:$T$80,$BD31,FALSE),0)+IFERROR(VLOOKUP(BW$4,Præsentation!$F$11:$T$80,$BD31,FALSE),0)+IFERROR(VLOOKUP(BW$5,Præsentation!$F$11:$T$80,$BD31,FALSE),0)),\"\")","v":0},{"$f":"IFERROR(ABS(IFERROR(VLOOKUP(BX$2,Præsentation!$F$11:$T$80,$BD31,FALSE),0)+IFERROR(VLOOKUP(BX$3,Præsentation!$F$11:$T$80,$BD31,FALSE),0)+IFERROR(VLOOKUP(BX$4,Præsentation!$F$11:$T$80,$BD31,FALSE),0)+IFERROR(VLOOKUP(BX$5,Præsentation!$F$11:$T$80,$BD31,FALSE),0)),\"\")","v":""},{"$f":"SUM(BS31:BX31)","v":-370.84842402213422},null,null,null,null,null,null,null,13,{"$f":"CH30","v":"Ingen valgt"},null,null,"Omkostninger",null,null,null,null,null,null,null,null,null,{"$f":"IFERROR(ABS(DSUM(Præsentation!$F$11:$T$89,\"\"&'Diagrammer-orig'!$CH30&\"\",'Diagrammer-orig'!CU$1:INDIRECT(ADDRESS(SUMPRODUCT(--(LEN(CU$1:CU$6)>1)),COLUMN(CU$1)))))/ABS(DGET(Præsentation!$F$11:$T$89,\"\"&$CH31&\"\",CU$34:CU$35)),\"\")","v":""},{"$f":"IFERROR(ABS(DSUM(Præsentation!$F$11:$T$89,\"\"&'Diagrammer-orig'!$CH30&\"\",'Diagrammer-orig'!CV$1:INDIRECT(ADDRESS(SUMPRODUCT(--(LEN(CV$1:CV$6)>1)),COLUMN(CV$1)))))/ABS(DGET(Præsentation!$F$11:$T$89,\"\"&$CH31&\"\",CV$34:CV$35)),\"\")","v":""},{"$f":"IFERROR(ABS(DSUM(Præsentation!$F$11:$T$89,\"\"&'Diagrammer-orig'!$CH30&\"\",'Diagrammer-orig'!CW$1:INDIRECT(ADDRESS(SUMPRODUCT(--(LEN(CW$1:CW$6)>1)),COLUMN(CW$1)))))/ABS(DGET(Præsentation!$F$11:$T$89,\"\"&$CH31&\"\",CW$34:CW$35)),\"\")","v":""},{"$f":"IFERROR(ABS(DSUM(Præsentation!$F$11:$T$89,\"\"&'Diagrammer-orig'!$CH30&\"\",'Diagrammer-orig'!CX$1:INDIRECT(ADDRESS(SUMPRODUCT(--(LEN(CX$1:CX$6)>1)),COLUMN(CX$1)))))/ABS(DGET(Præsentation!$F$11:$T$89,\"\"&$CH31&\"\",CX$34:CX$35)),\"\")","v":""},{"$f":"IFERROR(ABS(DSUM(Præsentation!$F$11:$T$89,\"\"&'Diagrammer-orig'!$CH30&\"\",'Diagrammer-orig'!CY$1:INDIRECT(ADDRESS(SUMPRODUCT(--(LEN(CY$1:CY$6)>1)),COLUMN(CY$1)))))/ABS(DGET(Præsentation!$F$11:$T$89,\"\"&$CH31&\"\",CY$34:CY$35)),\"\")","v":""},{"$f":"IFERROR(ABS(DSUM(Præsentation!$F$11:$T$89,\"\"&'Diagrammer-orig'!$CH30&\"\",'Diagrammer-orig'!CZ$1:INDIRECT(ADDRESS(SUMPRODUCT(--(LEN(CZ$1:CZ$6)>1)),COLUMN(CZ$1)))))/ABS(DGET(Præsentation!$F$11:$T$89,\"\"&$CH31&\"\",CZ$34:CZ$35)),\"\")","v":""},null,{"$f":"IFERROR(SUM(CU31:DA31),0)","v":0}]
[null,null,null,null,null,null,null,null,null,null,null,null,null,null,null,null,null,null,null,null,null,null,null,null,null,null,null,null,null,null,null,null,null,null,null,null,null,null,null,null,null,null,null,null,null,null,null,null,null,null,null,null,null,null,null,14,{"$f":"BF32","v":"Ingen valgt"},{"$f":"$AD28","v":"Ingen valgt"},{"$f":"IFERROR(\"Grise pr årsso: \"&ROUND(VLOOKUP($BB$14,Præsentation!$F$11:$T$80,$BD32,FALSE),1),\"\")","v":""},"Smågris",{"$f":"IFERROR((BS33)/IFERROR(VLOOKUP($BB$14,Præsentation!$F$11:$T$80,$BD32,FALSE),0),\"\")","v":""},{"$f":"IFERROR((BT33)/IFERROR(VLOOKUP($BB$14,Præsentation!$F$11:$T$80,$BD32,FALSE),0),\"\")","v":""},{"$f":"IFERROR((BU33)/IFERROR(VLOOKUP($BB$14,Præsentation!$F$11:$T$80,$BD32,FALSE),0),\"\")","v":""},{"$f":"IFERROR((BV33)/IFERROR(VLOOKUP($BB$14,Præsentation!$F$11:$T$80,$BD32,FALSE),0),\"\")","v":""},{"$f":"IFERROR((BW33)/IFERROR(VLOOKUP($BB$14,Præsentation!$F$11:$T$80,$BD32,FALSE),0),\"\")","v":""},{"$f":"IFERROR((BX33)/IFERROR(VLOOKUP($BB$14,Præsentation!$F$11:$T$80,$BD32,FALSE),0),\"\")","v":""},{"$f":"IFERROR(ABS(IFERROR(VLOOKUP(BO$2,Præsentation!$F$11:$T$80,$BD32,FALSE),0)),\"\")","v":0},null,null,null,null,null,null,null,null,null,null,null,null,null,null,null,null,null,14,{"$f":"CI32","v":"Ingen valgt"},{"$f":"$AD28","v":"Ingen valgt"},null,"Bruttoudbytte",{"$f":"IFERROR(ABS(DSUM(Præsentation!$F$11:$T$89,\"\"&'Diagrammer-orig'!$CH32&\"\",'Diagrammer-orig'!CL$1:INDIRECT(ADDRESS(SUMPRODUCT(--(LEN(CL$1:CL$4)>1)),COLUMN(CL$1)))))/ABS(DGET(Præsentation!$F$11:$T$89,\"\"&$CH33&\"\",CL$34:CL$35))-CM32,\"\")","v":""},{"$f":"IFERROR((ABS(DSUM(Præsentation!$F$11:$T$89,\"\"&'Diagrammer-orig'!$CH32&\"\",'Diagrammer-orig'!CM$1:INDIRECT(ADDRESS(SUMPRODUCT(--(LEN(CM$1:CM$5)>1)),COLUMN(CM$1))))))/ABS(DGET(Præsentation!$F$11:$T$89,\"\"&$CH33&\"\",CM$34:CM$35)),\"\")","v":""},{"$f":"IFERROR(ABS(DSUM(Præsentation!$F$11:$T$89,\"\"&'Diagrammer-orig'!$CH32&\"\",'Diagrammer-orig'!CN$1:INDIRECT(ADDRESS(SUMPRODUCT(--(LEN(CN$1:CN$5)>1)),COLUMN(CN$1))))),\"\")","v":""},null,null,null,null,null,{"$f":"IFERROR(SUM(CL32:CS32),0)","v":0}]
[null,null,null,null,null,null,null,null,null,null,null,null,null,null,null,null,null,null,null,null,null,null,null,null,null,"Stykomkostninger øre pr. FEN","Maskinomk. inkl. arbejde øre pr. FEN","Øvrige omkostninger øre pr. FEN","Jordleje øre pr. FEN","EU-støtte øre pr. FEN","Andre landbrugsindtægter øre pr. FEN",null,null,null,null,null,null,null,null,null,null,null,null,null,null,null,null,null,null,null,null,null,null,null,null,14,{"$f":"BE32","v":"Ingen valgt"},null,null,"Årsso",null,null,null,null,null,null,null,null,null,null,{"$f":"IFERROR(-IFERROR((IFERROR(VLOOKUP(BS$2,Præsentation!$F$11:$T$80,$BD32,FALSE),0)-IFERROR(VLOOKUP(BS$3,Præsentation!$F$11:$T$80,$BD32,FALSE),0)-IFERROR(VLOOKUP(BS$4,Præsentation!$F$11:$T$80,$BD32,FALSE),0)),\"\"),\"\")","v":""},{"$f":"IFERROR(ABS(IFERROR(VLOOKUP(BT$2,Præsentation!$F$11:$T$80,$BD33,FALSE),0)+IFERROR(VLOOKUP(BT$3,Præsentation!$F$11:$T$80,$BD33,FALSE),0)+IFERROR(VLOOKUP(BT$4,Præsentation!$F$11:$T$80,$BD33,FALSE),0)+IFERROR(VLOOKUP(BT$5,Præsentation!$F$11:$T$80,$BD33,FALSE),0)),\"\")","v":""},{"$f":"IFERROR(ABS(IFERROR(VLOOKUP(BU$2,Præsentation!$F$11:$T$80,$BD33,FALSE),0)+IFERROR(VLOOKUP(BU$3,Præsentation!$F$11:$T$80,$BD33,FALSE),0)+IFERROR(VLOOKUP(BU$4,Præsentation!$F$11:$T$80,$BD33,FALSE),0)+IFERROR(VLOOKUP(BU$5,Præsentation!$F$11:$T$80,$BD33,FALSE),0)),\"\")","v":""},{"$f":"IFERROR(ABS(IFERROR(VLOOKUP(BV$2,Præsentation!$F$11:$T$80,$BD33,FALSE),0)+IFERROR(VLOOKUP(BV$3,Præsentation!$F$11:$T$80,$BD33,FALSE),0)+IFERROR(VLOOKUP(BV$4,Præsentation!$F$11:$T$80,$BD33,FALSE),0)+IFERROR(VLOOKUP(BV$5,Præsentation!$F$11:$T$80,$BD33,FALSE),0)),\"\")","v":""},{"$f":"IFERROR(ABS(IFERROR(VLOOKUP(BW$2,Præsentation!$F$11:$T$80,$BD33,FALSE),0)+IFERROR(VLOOKUP(BW$3,Præsentation!$F$11:$T$80,$BD33,FALSE),0)+IFERROR(VLOOKUP(BW$4,Præsentation!$F$11:$T$80,$BD33,FALSE),0)+IFERROR(VLOOKUP(BW$5,Præsentation!$F$11:$T$80,$BD33,FALSE),0)),\"\")","v":0},{"$f":"IFERROR(ABS(IFERROR(VLOOKUP(BX$2,Præsentation!$F$11:$T$80,$BD33,FALSE),0)+IFERROR(VLOOKUP(BX$3,Præsentation!$F$11:$T$80,$BD33,FALSE),0)+IFERROR(VLOOKUP(BX$4,Præsentation!$F$11:$T$80,$BD33,FALSE),0)+IFERROR(VLOOKUP(BX$5,Præsentation!$F$11:$T$80,$BD33,FALSE),0)),\"\")","v":""},{"$f":"SUM(BS33:BX33)","v":0},null,null,null,null,null,null,null,14,{"$f":"CH32","v":"Ingen valgt"},null,null,"Omkostninger",null,null,null,null,null,null,null,null,null,{"$f":"IFERROR(ABS(DSUM(Præsentation!$F$11:$T$89,\"\"&'Diagrammer-orig'!$CH32&\"\",'Diagrammer-orig'!CU$1:INDIRECT(ADDRESS(SUMPRODUCT(--(LEN(CU$1:CU$6)>1)),COLUMN(CU$1)))))/ABS(DGET(Præsentation!$F$11:$T$89,\"\"&$CH33&\"\",CU$34:CU$35)),\"\")","v":""},{"$f":"IFERROR(ABS(DSUM(Præsentation!$F$11:$T$89,\"\"&'Diagrammer-orig'!$CH32&\"\",'Diagrammer-orig'!CV$1:INDIRECT(ADDRESS(SUMPRODUCT(--(LEN(CV$1:CV$6)>1)),COLUMN(CV$1)))))/ABS(DGET(Præsentation!$F$11:$T$89,\"\"&$CH33&\"\",CV$34:CV$35)),\"\")","v":""},{"$f":"IFERROR(ABS(DSUM(Præsentation!$F$11:$T$89,\"\"&'Diagrammer-orig'!$CH32&\"\",'Diagrammer-orig'!CW$1:INDIRECT(ADDRESS(SUMPRODUCT(--(LEN(CW$1:CW$6)>1)),COLUMN(CW$1)))))/ABS(DGET(Præsentation!$F$11:$T$89,\"\"&$CH33&\"\",CW$34:CW$35)),\"\")","v":""},{"$f":"IFERROR(ABS(DSUM(Præsentation!$F$11:$T$89,\"\"&'Diagrammer-orig'!$CH32&\"\",'Diagrammer-orig'!CX$1:INDIRECT(ADDRESS(SUMPRODUCT(--(LEN(CX$1:CX$6)>1)),COLUMN(CX$1)))))/ABS(DGET(Præsentation!$F$11:$T$89,\"\"&$CH33&\"\",CX$34:CX$35)),\"\")","v":""},{"$f":"IFERROR(ABS(DSUM(Præsentation!$F$11:$T$89,\"\"&'Diagrammer-orig'!$CH32&\"\",'Diagrammer-orig'!CY$1:INDIRECT(ADDRESS(SUMPRODUCT(--(LEN(CY$1:CY$6)>1)),COLUMN(CY$1)))))/ABS(DGET(Præsentation!$F$11:$T$89,\"\"&$CH33&\"\",CY$34:CY$35)),\"\")","v":""},{"$f":"IFERROR(ABS(DSUM(Præsentation!$F$11:$T$89,\"\"&'Diagrammer-orig'!$CH32&\"\",'Diagrammer-orig'!CZ$1:INDIRECT(ADDRESS(SUMPRODUCT(--(LEN(CZ$1:CZ$6)>1)),COLUMN(CZ$1)))))/ABS(DGET(Præsentation!$F$11:$T$89,\"\"&$CH33&\"\",CZ$34:CZ$35)),\"\")","v":""},null,{"$f":"IFERROR(SUM(CU33:DA33),0)","v":0}]
[null,null,null,null,null,null,null,null,null,null,null,null,null,null,null,null,null,null,null,null,null,null,null,null,null,null,null,null,null,null,null,null,null,null,null,null,null,null,null,null,null,null,null,null,null,null,null,null,null,null,null,null,null,null,null,null,null,null,null,"0=negative",{"$f":"IFERROR(ABS(IFERROR(VLOOKUP(BI$2,Præsentation!$F$11:$T$80,$BD34,FALSE),0)-IFERROR(VLOOKUP(BI$3,Præsentation!$F$11:$T$80,$BD34,FALSE),0)-IFERROR(VLOOKUP(BI$4,Præsentation!$F$11:$T$80,$BD34,FALSE),0))/IFERROR(VLOOKUP($BB$14,Præsentation!$F$11:$T$80,$BD34,FALSE),0),\"\")","v":""},{"$f":"IFERROR(ABS(IFERROR(VLOOKUP(BJ$2,Præsentation!$F$11:$T$80,$BD34,FALSE),0)-IFERROR(VLOOKUP(BJ$3,Præsentation!$F$11:$T$80,$BD34,FALSE),0)-IFERROR(VLOOKUP(BJ$4,Præsentation!$F$11:$T$80,$BD34,FALSE),0))/IFERROR(VLOOKUP($BB$14,Præsentation!$F$11:$T$80,$BD34,FALSE),0),\"\")","v":""},{"$f":"IFERROR(ABS(IFERROR(VLOOKUP(BK$2,Præsentation!$F$11:$T$80,$BD34,FALSE),0)-IFERROR(VLOOKUP(BK$3,Præsentation!$F$11:$T$80,$BD34,FALSE),0)-IFERROR(VLOOKUP(BK$4,Præsentation!$F$11:$T$80,$BD34,FALSE),0))/IFERROR(VLOOKUP($BB$14,Præsentation!$F$11:$T$80,$BD34,FALSE),0),\"\")","v":""},{"$f":"IFERROR(ABS(IFERROR(VLOOKUP(BL$2,Præsentation!$F$11:$T$80,$BD34,FALSE),0)-IFERROR(VLOOKUP(BL$3,Præsentation!$F$11:$T$80,$BD34,FALSE),0)-IFERROR(VLOOKUP(BL$4,Præsentation!$F$11:$T$80,$BD34,FALSE),0))/IFERROR(VLOOKUP($BB$14,Præsentation!$F$11:$T$80,$BD34,FALSE),0),\"\")","v":""},{"$f":"IFERROR(ABS(IFERROR(VLOOKUP(BM$2,Præsentation!$F$11:$T$80,$BD34,FALSE),0)-IFERROR(VLOOKUP(BM$3,Præsentation!$F$11:$T$80,$BD34,FALSE),0)-IFERROR(VLOOKUP(BM$4,Præsentation!$F$11:$T$80,$BD34,FALSE),0))/IFERROR(VLOOKUP($BB$14,Præsentation!$F$11:$T$80,$BD34,FALSE),0),\"\")","v":""},{"$f":"IFERROR(ABS(IFERROR(VLOOKUP(BN$2,Præsentation!$F$11:$T$80,$BD34,FALSE),0)-IFERROR(VLOOKUP(BN$3,Præsentation!$F$11:$T$80,$BD34,FALSE),0)-IFERROR(VLOOKUP(BN$4,Præsentation!$F$11:$T$80,$BD34,FALSE),0))/IFERROR(VLOOKUP($BB$14,Præsentation!$F$11:$T$80,$BD34,FALSE),0),\"\")","v":""},null,null,null,null,{"$f":"IF(BI34=0,1,0)","v":0},{"$f":"IF(BJ34=0,1,0)","v":0},0,0,0,0,1,1,1,null,null,null,null,null,null,null,null,null,null,"Løbenummer/","Løbenummer/","Løbenummer/","Løbenummer/","Løbenummer/","Løbenummer/","Løbenummer/","Løbenummer/","Løbenummer/","Løbenummer/","Løbenummer/","Løbenummer/","Løbenummer/","Løbenummer/","Løbenummer/","Løbenummer/","Løbenummer/"]
[null,null,null,null,null,null,null,null,null,null,null,null,null,null,null,null,null,null,null,null,null,null,null,null,null,null,null,null,null,null,null,null,null,null,null,null,null,null,null,null,null,null,null,null,null,null,null,null,null,null,null,null,null,null,null,null,null,null,null,null,null,null,null,null,null,null,null,null,null,null,null,null,null,null,null,null,null,null,null,null,null,null,null,null,null,null,null,null,null,"Antal foderdage pr. produceret slagtekalv","Antal foderdage pr. produceret slagtekalv","Antal foderdage pr. produceret slagtekalv","Antal foderdage pr. produceret slagtekalv","Antal foderdage pr. produceret slagtekalv","Antal foderdage pr. produceret slagtekalv","Antal foderdage pr. produceret slagtekalv","Antal foderdage pr. produceret slagtekalv","Antal foderdage pr. produceret slagtekalv","Antal foderdage pr. produceret slagtekalv","Antal foderdage pr. produceret slagtekalv","Antal foderdage pr. produceret slagtekalv","Antal foderdage pr. produceret slagtekalv","Antal foderdage pr. produceret slagtekalv","Antal foderdage pr. produceret slagtekalv","Antal foderdage pr. produceret slagtekalv","Antal foderdage pr. produceret slagtekalv"]
[]
[]
[null,null,null,null,null,null,null,null,null,null,null,null,null,null,null,null,null,null,null,null,null,null,null,null,null,null,{"$f":"2266/170","v":13.329411764705883}]
[]
[]
[]
[]
[]
[{"$f":"\"\"&VLOOKUP(#REF!,'Diagrammer-orig'!$Z$57:$AA$67,2,FALSE)&\" \"&VLOOKUP(#REF!,$Z$57:$AB$67,3,FALSE)&\"\"","v":{"$error":"#REF!"}}]
[]
[null,null,null,null,null,null,null,null,null,null,null,null,null,null,null,null,null,null,null,null,null,null,null,null,null,null,null,null,null,null,"Løbenummer/",null,"Løbenummer/","Løbenummer/","Løbenummer/","Løbenummer/","Løbenummer/","Løbenummer/"]
[null,null,null,null,null,null,null,null,null,null,null,null,null,null,null,null,null,null,null,null,null,null,null,null,null,null,null,null,null,null,null,null,"Arbejdsomkostninger pr. årsko","Bygninger pr. årsko","Inventar inkl. energi pr. årsko","Forrentning driftskapital pr. årsko","Øvrige omkostninger pr. årsko","Dækningsbidrag ekskl. værdiændringer pr. årsko",null,null,null,null,null,null,null,null,null,null,null,null,null,null,null,"SVIN, Slagtesvin",null,null,null,null,null,null,"Løbenummer/","Løbenummer/","Løbenummer/","Løbenummer/","Løbenummer/","Løbenummer/","Løbenummer/","Løbenummer/","Løbenummer/",null,"Løbenummer/","Løbenummer/","Løbenummer/","Løbenummer/","Løbenummer/","Løbenummer/"]
[null,null,null,null,null,null,null,null,null,null,null,null,null,null,null,null,null,null,null,null,null,null,null,null,null,null,null,null,null,null,null,null,"Arbejdsomkostninger","Bygninger","Inventar inkl. energi","Forrentning driftskapital","Øvrige omkostninger","Dækningsbidrag","Total",null,null,null,null,null,null,null,null,null,null,null,null,null,null,null,null,null,null,null,null,null,"Bruttoudbytte i alt","Foderomkostninger pr. enhed","Dyrlæge og medicin","Arbejdsomkostninger pr. enhed","Energi svin","kapitalomkostninger i alt","Fremstillingspris pr. kg sl.svin",null,"Øvrige omkostninger pr. enhed",null,"Bruttoudbytte i alt","Foderomkostninger pr. enhed","Dyrlæge og medicin","Arbejdsomkostninger pr. enhed","Energi svin","kapitalomkostninger i alt"]
[null,null,null,null,null,null,null,null,null,null,null,null,null,null,null,null,null,null,null,null,null,null,null,null,null,"Akserne","Først",null,null,{"$f":"AD4","v":"Gns. BC    166 ejd."},null,"Krav til DB",{"$f":"IFERROR(DGET(Præsentation!$F$11:$T$89,\"\"&'Diagrammer-orig'!$AD49&\"\",'Diagrammer-orig'!AG$46:AG$47),0)","v":0},{"$f":"IFERROR(DGET(Præsentation!$F$11:$T$89,\"\"&'Diagrammer-orig'!$AD49&\"\",'Diagrammer-orig'!AH$46:AH$47),0)","v":0},{"$f":"IFERROR(DGET(Præsentation!$F$11:$T$89,\"\"&'Diagrammer-orig'!$AD49&\"\",'Diagrammer-orig'!AI$46:AI$47),0)","v":0},{"$f":"IFERROR(DGET(Præsentation!$F$11:$T$89,\"\"&'Diagrammer-orig'!$AD49&\"\",'Diagrammer-orig'!AJ$46:AJ$47),0)","v":0},{"$f":"IFERROR(DGET(Præsentation!$F$11:$T$89,\"\"&'Diagrammer-orig'!$AD49&\"\",'Diagrammer-orig'!AK$46:AK$47),0)","v":0},null,{"$f":"SUM(AG49:AL49)","v":0},null,null,null,null,null,null,null,null,null,null,null,null,null,null,null,null,null,null,null,null,null,"Salg slagtesvin",null,"Avl, rådgivning og kontrol",null,"vedligehold",null,null,null,null,null,"Salg slagtesvin",null,"Avl, rådgivning og kontrol",null,"vedligehold"]
[null,null,null,null,null,null,null,null,null,null,null,null,null,null,null,null,null,null,null,null,null,null,null,null,null,"min",{"$f":"-(MAX(AM49:AM74)-MIN(0,MIN(AG49:AL74)))*($AA$52-1)-MIN(0,MIN(AG49:AL74))","v":0},null,null,null,null,"Opnået DB",null,null,null,null,null,{"$f":"IFERROR(DGET(Præsentation!$F$11:$T$89,\"\"&'Diagrammer-orig'!$AD49&\"\",'Diagrammer-orig'!AL$46:AL$47),0)","v":0},{"$f":"SUM(AG50:AL50)","v":0},null,null,null,null,null,null,null,null,null,null,null,null,null,null,null,null,null,null,null,null,null,"værdiændring besætning",null,"Diverse vedr. husdyr",null,"forsikring",null,null,null,null,null,"værdiændring besætning",null,"Diverse vedr. husdyr",null,"forsikring"]
[null,null,null,null,null,null,null,null,null,null,null,null,null,null,null,null,null,null,null,null,null,null,null,null,null,"maks",{"$f":"MAX(AM49:AM74)*AA53","v":0},null,null,{"$f":"AD6","v":"Gns. BC Top 10"},null,"Krav til DB",{"$f":"IFERROR(DGET(Præsentation!$F$11:$T$89,\"\"&'Diagrammer-orig'!$AD51&\"\",'Diagrammer-orig'!AG$46:AG$47),0)","v":0},{"$f":"IFERROR(DGET(Præsentation!$F$11:$T$89,\"\"&'Diagrammer-orig'!$AD51&\"\",'Diagrammer-orig'!AH$46:AH$47),0)","v":0},{"$f":"IFERROR(DGET(Præsentation!$F$11:$T$89,\"\"&'Diagrammer-orig'!$AD51&\"\",'Diagrammer-orig'!AI$46:AI$47),0)","v":0},{"$f":"IFERROR(DGET(Præsentation!$F$11:$T$89,\"\"&'Diagrammer-orig'!$AD51&\"\",'Diagrammer-orig'!AJ$46:AJ$47),0)","v":0},{"$f":"IFERROR(DGET(Præsentation!$F$11:$T$89,\"\"&'Diagrammer-orig'!$AD51&\"\",'Diagrammer-orig'!AK$46:AK$47),0)","v":0},null,0,null,null,null,null,null,null,null,null,null,null,null,null,null,"Akserne","Primær","Sekundær",null,null,"Slagtesvin",null,null,null,null,null,null,"diverse kapacitetsomkostninger",null,null,null,null,null,null,null,null,null,"diverse kapacitetsomkostninger"]
[null,null,null,null,null,null,null,null,null,null,null,null,null,null,null,null,null,null,null,null,null,null,null,null,null,"Skalering nedre",1.01,null,null,null,null,"Opnået DB",null,null,null,null,null,{"$f":"IFERROR(DGET(Præsentation!$F$11:$T$89,\"\"&'Diagrammer-orig'!$AD51&\"\",'Diagrammer-orig'!AL$46:AL$47),0)","v":0},0,null,null,null,null,null,null,null,null,null,null,null,null,null,"Min værdi",{"$f":"MIN(BI54:BI78)","v":0},{"$f":"MIN(BS55:BS79)","v":{"$error":"#VALUE!"}},null,null,null,null,null,null,null,null,null,null,null,"Fremstillingspris pr. kg. sl.svin"]
[null,null,null,null,null,null,null,null,null,null,null,null,null,null,null,null,null,null,null,null,null,null,null,null,null,"Skalering øvre",1.0249999999999999,null,null,"Gns. Alle Kreds",null,"Krav til DB",{"$f":"IFERROR(DGET(Præsentation!$F$11:$T$89,\"\"&'Diagrammer-orig'!$AD53&\"\",'Diagrammer-orig'!AG$46:AG$47),0)","v":0},{"$f":"IFERROR(DGET(Præsentation!$F$11:$T$89,\"\"&'Diagrammer-orig'!$AD53&\"\",'Diagrammer-orig'!AH$46:AH$47),0)","v":0},{"$f":"IFERROR(DGET(Præsentation!$F$11:$T$89,\"\"&'Diagrammer-orig'!$AD53&\"\",'Diagrammer-orig'!AI$46:AI$47),0)","v":0},{"$f":"IFERROR(DGET(Præsentation!$F$11:$T$89,\"\"&'Diagrammer-orig'!$AD53&\"\",'Diagrammer-orig'!AJ$46:AJ$47),0)","v":0},{"$f":"IFERROR(DGET(Præsentation!$F$11:$T$89,\"\"&'Diagrammer-orig'!$AD53&\"\",'Diagrammer-orig'!AK$46:AK$47),0)","v":0},null,0,null,null,null,null,null,null,null,null,null,null,null,null,null,"Skale. min",{"$f":"IF(BB52<0,BB52*1.1,BB52*0.9)","v":0},{"$f":"IF(BC52<0,BC52*1.1,BC52*0.9)","v":{"$error":"#VALUE!"}},null,null,null,null,null,"Køb af grise og andre landbrugsindtægter","Foderomkostninger","Dyrlæge, medicin og diverse","Arbejdsomkostninger","Energi, vedl. bygn. mv.","Forrentning driftskapital og øvrige omk.",null,null,null,null,"Køb af grise og andre indtægter","Foderomkostninger","Dyrlæge, medicin og diverse","Arbejdsomkostninger","Energi, vedl. bygn. mv.","Forrentning driftskapital og øvrige omk.","(total (bruges kun til at finde størrelsen af grafen))",{"$f":"BP53","v":0},{"$f":"BQ53","v":0}]
[null,null,null,null,null,null,null,null,null,null,null,null,null,null,null,null,null,null,null,null,null,null,null,null,null,null,null,null,null,null,null,"Opnået DB",null,null,null,null,null,{"$f":"IFERROR(DGET(Præsentation!$F$11:$T$89,\"\"&'Diagrammer-orig'!$AD53&\"\",'Diagrammer-orig'!AL$46:AL$47),0)","v":0},0,null,null,null,null,null,null,null,null,null,null,null,null,null,"Max værdi",{"$f":"MAX(BO54:BO79)","v":0},{"$f":"MAX(BY54:BY79)","v":{"$error":"#VALUE!"}},2,{"$f":"BF54","v":"Gns. BC    166 ejd."},{"$f":"BF8","v":"Gns. BC    166 ejd."},{"$f":"IFERROR(\"Slagtevægt:   \"&ROUND(VLOOKUP($BB$60,Præsentation!$F$11:$T$80,$BD54,FALSE),1),\"\")","v":""},"Kg. Slagtesvin",{"$f":"IFERROR(BS55/IFERROR(VLOOKUP($BB$60,Præsentation!$F$11:$T$80,$BD54,FALSE),0),\"\")","v":""},{"$f":"IFERROR(BT55/IFERROR(VLOOKUP($BB$60,Præsentation!$F$11:$T$80,$BD54,FALSE),0),\"\")","v":""},{"$f":"IFERROR(BU55/IFERROR(VLOOKUP($BB$60,Præsentation!$F$11:$T$80,$BD54,FALSE),0),\"\")","v":""},{"$f":"IFERROR(BV55/IFERROR(VLOOKUP($BB$60,Præsentation!$F$11:$T$80,$BD54,FALSE),0),\"\")","v":""},{"$f":"IFERROR(BW55/IFERROR(VLOOKUP($BB$60,Præsentation!$F$11:$T$80,$BD54,FALSE),0),\"\")","v":""},{"$f":"IFERROR(BX55/IFERROR(VLOOKUP($BB$60,Præsentation!$F$11:$T$80,$BD54,FALSE),0),\"\")","v":""},{"$f":"IFERROR(ABS(IFERROR(VLOOKUP(BO$48,Præsentation!$F$11:$T$80,$BD54,FALSE),0)),\"\")","v":0},{"$f":"IFERROR(ABS(IFERROR(VLOOKUP(BP$2,Præsentation!$F$11:$T$80,$BD54,FALSE),0)+IFERROR(VLOOKUP(BP$3,Præsentation!$F$11:$T$80,$BD54,FALSE),0)+IFERROR(VLOOKUP(BP$4,Præsentation!$F$11:$T$80,$BD54,FALSE),0)+IFERROR(VLOOKUP(BP$5,Præsentation!$F$11:$T$80,$BD54,FALSE),0))/IFERROR(VLOOKUP($BB$14,Præsentation!$F$11:$T$80,$BD54,FALSE),0),\"\")","v":""}]
[null,null,null,null,null,null,null,null,null,null,null,null,null,null,null,null,null,null,null,null,null,null,null,null,null,null,null,null,null,"Ingen valgt",null,"Krav til DB",{"$f":"IFERROR(DGET(Præsentation!$F$11:$T$89,\"\"&'Diagrammer-orig'!$AD55&\"\",'Diagrammer-orig'!AG$46:AG$47),0)","v":0},{"$f":"IFERROR(DGET(Præsentation!$F$11:$T$89,\"\"&'Diagrammer-orig'!$AD55&\"\",'Diagrammer-orig'!AH$46:AH$47),0)","v":0},{"$f":"IFERROR(DGET(Præsentation!$F$11:$T$89,\"\"&'Diagrammer-orig'!$AD55&\"\",'Diagrammer-orig'!AI$46:AI$47),0)","v":0},{"$f":"IFERROR(DGET(Præsentation!$F$11:$T$89,\"\"&'Diagrammer-orig'!$AD55&\"\",'Diagrammer-orig'!AJ$46:AJ$47),0)","v":0},{"$f":"IFERROR(DGET(Præsentation!$F$11:$T$89,\"\"&'Diagrammer-orig'!$AD55&\"\",'Diagrammer-orig'!AK$46:AK$47),0)","v":0},null,0,null,null,null,null,null,null,null,null,null,null,null,null,null,"Skale. Max",{"$f":"IF(BB54>0,BB54*1.1,BB54*0.9)","v":0},{"$f":"IF(BC54>0,BC54*1.1,BC54*0.9)","v":{"$error":"#VALUE!"}},2,{"$f":"BE54","v":"Gns. BC    166 ejd."},null,null,"Slagtesvin",null,null,null,null,null,null,null,null,null,null,{"$f":"-IFERROR((IFERROR(VLOOKUP(BS$48,Præsentation!$F$11:$T$80,$BD55,FALSE),0)-IFERROR(VLOOKUP(BS$49,Præsentation!$F$11:$T$80,$BD55,FALSE),0)-IFERROR(VLOOKUP(BS$50,Præsentation!$F$11:$T$80,$BD55,FALSE),0)),\"\")","v":-382.64996373714609},{"$f":"IFERROR((IFERROR(VLOOKUP(BT$48,Præsentation!$F$11:$T$80,$BD54,FALSE),0)-IFERROR(VLOOKUP(BT$49,Præsentation!$F$11:$T$80,$BD54,FALSE),0)-IFERROR(VLOOKUP(BT$50,Præsentation!$F$11:$T$80,$BD54,FALSE),0)),\"\")","v":""},{"$f":"IFERROR((IFERROR(-VLOOKUP(BU$48,Præsentation!$F$11:$T$80,$BD54,FALSE),0)-IFERROR(VLOOKUP(BU$49,Præsentation!$F$11:$T$80,$BD54,FALSE),0)-IFERROR(VLOOKUP(BU$50,Præsentation!$F$11:$T$80,$BD54,FALSE),0)),\"\")","v":21.513980193574568},{"$f":"IFERROR((IFERROR(VLOOKUP(BV$48,Præsentation!$F$11:$T$80,$BD54,FALSE),0)-IFERROR(VLOOKUP(BV$49,Præsentation!$F$11:$T$80,$BD54,FALSE),0)-IFERROR(VLOOKUP(BV$50,Præsentation!$F$11:$T$80,$BD54,FALSE),0)),\"\")","v":""},{"$f":"IFERROR((IFERROR(-VLOOKUP(BW$48,Præsentation!$F$11:$T$80,$BD54,FALSE),0)-IFERROR(VLOOKUP(BW$49,Præsentation!$F$11:$T$80,$BD54,FALSE),0)-IFERROR(VLOOKUP(BW$50,Præsentation!$F$11:$T$80,$BD54,FALSE),0)-IFERROR(VLOOKUP(BW$51,Præsentation!$F$11:$T$80,$BD54,FALSE),0)),\"\")","v":0},{"$f":"IFERROR(-(IFERROR(VLOOKUP(BX$48,Præsentation!$F$11:$T$80,$BD54,FALSE),0)-IFERROR(VLOOKUP(BX$49,Præsentation!$F$11:$T$80,$BD54,FALSE),0)-IFERROR(VLOOKUP(BX$50,Præsentation!$F$11:$T$80,$BD54,FALSE),0)),\"\")","v":""}]
[null,null,null,null,null,null,null,null,null,null,null,null,null,null,null,null,null,null,null,null,null,null,null,null,null,"Tekst til ovenover grafen",null,null,null,null,null,"Opnået DB",null,null,null,null,null,{"$f":"IFERROR(DGET(Præsentation!$F$11:$T$89,\"\"&'Diagrammer-orig'!$AD55&\"\",'Diagrammer-orig'!AL$46:AL$47),0)","v":0},0,null,null,null,null,null,null,null,null,null,null,null,null,null,"Forhold (mellem de to akser)",null,{"$f":"MAX((BC53/BB53),BC55/BB55)","v":{"$error":"#VALUE!"}},3,{"$f":"BF56","v":"Gns. BC Top 10"},{"$f":"BF10","v":"Gns. BC Top 10"},{"$f":"IFERROR(\"Slagtevægt:    \"&ROUND(VLOOKUP($BB$60,Præsentation!$F$11:$T$80,$BD56,FALSE),1),\"\")","v":""},"Kg. Slagtesvin",{"$f":"IFERROR(BS57/IFERROR(VLOOKUP($BB$60,Præsentation!$F$11:$T$80,$BD56,FALSE),0),\"\")","v":""},{"$f":"IFERROR(BT57/IFERROR(VLOOKUP($BB$60,Præsentation!$F$11:$T$80,$BD56,FALSE),0),\"\")","v":""},{"$f":"IFERROR(BU57/IFERROR(VLOOKUP($BB$60,Præsentation!$F$11:$T$80,$BD56,FALSE),0),\"\")","v":""},{"$f":"IFERROR(BV57/IFERROR(VLOOKUP($BB$60,Præsentation!$F$11:$T$80,$BD56,FALSE),0),\"\")","v":""},{"$f":"IFERROR(BW57/IFERROR(VLOOKUP($BB$60,Præsentation!$F$11:$T$80,$BD56,FALSE),0),\"\")","v":""},{"$f":"IFERROR(BX57/IFERROR(VLOOKUP($BB$60,Præsentation!$F$11:$T$80,$BD56,FALSE),0),\"\")","v":""},{"$f":"IFERROR(ABS(IFERROR(VLOOKUP(BO$48,Præsentation!$F$11:$T$80,$BD56,FALSE),0)),\"\")","v":0}]
[null,null,null,null,null,null,null,null,null,null,null,null,null,null,null,null,null,null,null,null,null,null,null,null,null,2,"Dækningsbidrag og \"krav til DB\", kr. pr. årsko",{"$f":"INDIRECT(ADDRESS(#REF!,COLUMN(#REF!),1,,\"Choices\"))","v":{"$error":"#REF!"}},"KVÆG","Ingen valgt",null,"Krav til DB",{"$f":"IFERROR(DGET(Præsentation!$F$11:$T$89,\"\"&'Diagrammer-orig'!$AD57&\"\",'Diagrammer-orig'!AG$46:AG$47),0)","v":0},{"$f":"IFERROR(DGET(Præsentation!$F$11:$T$89,\"\"&'Diagrammer-orig'!$AD57&\"\",'Diagrammer-orig'!AH$46:AH$47),0)","v":0},{"$f":"IFERROR(DGET(Præsentation!$F$11:$T$89,\"\"&'Diagrammer-orig'!$AD57&\"\",'Diagrammer-orig'!AI$46:AI$47),0)","v":0},{"$f":"IFERROR(DGET(Præsentation!$F$11:$T$89,\"\"&'Diagrammer-orig'!$AD57&\"\",'Diagrammer-orig'!AJ$46:AJ$47),0)","v":0},{"$f":"IFERROR(DGET(Præsentation!$F$11:$T$89,\"\"&'Diagrammer-orig'!$AD57&\"\",'Diagrammer-orig'!AK$46:AK$47),0)","v":0},null,0,null,null,null,null,null,null,null,null,null,null,null,null,null,"Min y-akse",{"$f":"BB53","v":0},{"$f":"IFERROR(BB57*BC56,0)","v":0},3,{"$f":"BE56","v":"Gns. BC Top 10"},null,null,"Slagtesvin",null,null,null,null,null,null,null,null,null,null,{"$f":"-IFERROR((IFERROR(VLOOKUP(BS$48,Præsentation!$F$11:$T$80,$BD57,FALSE),0)-IFERROR(VLOOKUP(BS$49,Præsentation!$F$11:$T$80,$BD57,FALSE),0)-IFERROR(VLOOKUP(BS$50,Præsentation!$F$11:$T$80,$BD57,FALSE),0)),\"\")","v":-413.70146868006844},{"$f":"IFERROR((IFERROR(VLOOKUP(BT$48,Præsentation!$F$11:$T$80,$BD56,FALSE),0)-IFERROR(VLOOKUP(BT$49,Præsentation!$F$11:$T$80,$BD56,FALSE),0)-IFERROR(VLOOKUP(BT$50,Præsentation!$F$11:$T$80,$BD56,FALSE),0)),\"\")","v":""},{"$f":"IFERROR((IFERROR(-VLOOKUP(BU$48,Præsentation!$F$11:$T$80,$BD56,FALSE),0)-IFERROR(VLOOKUP(BU$49,Præsentation!$F$11:$T$80,$BD56,FALSE),0)-IFERROR(VLOOKUP(BU$50,Præsentation!$F$11:$T$80,$BD56,FALSE),0)),\"\")","v":18.792322495314391},{"$f":"IFERROR((IFERROR(VLOOKUP(BV$48,Præsentation!$F$11:$T$80,$BD56,FALSE),0)-IFERROR(VLOOKUP(BV$49,Præsentation!$F$11:$T$80,$BD56,FALSE),0)-IFERROR(VLOOKUP(BV$50,Præsentation!$F$11:$T$80,$BD56,FALSE),0)),\"\")","v":""},{"$f":"IFERROR((IFERROR(-VLOOKUP(BW$48,Præsentation!$F$11:$T$80,$BD56,FALSE),0)-IFERROR(VLOOKUP(BW$49,Præsentation!$F$11:$T$80,$BD56,FALSE),0)-IFERROR(VLOOKUP(BW$50,Præsentation!$F$11:$T$80,$BD56,FALSE),0)-IFERROR(VLOOKUP(BW$51,Præsentation!$F$11:$T$80,$BD56,FALSE),0)),\"\")","v":0},{"$f":"IFERROR(-(IFERROR(VLOOKUP(BX$48,Præsentation!$F$11:$T$80,$BD56,FALSE),0)-IFERROR(VLOOKUP(BX$49,Præsentation!$F$11:$T$80,$BD56,FALSE),0)-IFERROR(VLOOKUP(BX$50,Præsentation!$F$11:$T$80,$BD56,FALSE),0)),\"\")","v":""},{"$f":"SUM(BS57:BX57)","v":-394.90914618475404}]
[null,null,null,null,null,null,null,null,null,null,null,null,null,null,null,null,null,null,null,null,null,null,null,null,null,3,"Dækningsbidrag og \"krav til DB\"",{"$f":"INDIRECT(ADDRESS(#REF!,COLUMN(#REF!),1,,\"Choices\"))","v":{"$error":"#REF!"}},"SVIN",null,null,"Opnået DB",null,null,null,null,null,{"$f":"IFERROR(DGET(Præsentation!$F$11:$T$89,\"\"&'Diagrammer-orig'!$AD57&\"\",'Diagrammer-orig'!AL$46:AL$47),0)","v":0},0,null,null,null,null,null,null,null,null,null,null,null,null,null,"Max y-akse",{"$f":"BB55","v":0},{"$f":"IFERROR(BB58*BC56,0)","v":0},4,{"$f":"BF58","v":"Gns. Alle Kreds"},{"$f":"BF12","v":"Gns. Alle Kreds"},{"$f":"IFERROR(\"Slagtevægt:    \"&ROUND(VLOOKUP($BB$60,Præsentation!$F$11:$T$80,$BD58,FALSE),1),\"\")","v":""},"Kg. Slagtesvin",{"$f":"IFERROR(BS59/IFERROR(VLOOKUP($BB$60,Præsentation!$F$11:$T$80,$BD58,FALSE),0),\"\")","v":""},{"$f":"IFERROR(BT59/IFERROR(VLOOKUP($BB$60,Præsentation!$F$11:$T$80,$BD58,FALSE),0),\"\")","v":""},{"$f":"IFERROR(BU59/IFERROR(VLOOKUP($BB$60,Præsentation!$F$11:$T$80,$BD58,FALSE),0),\"\")","v":""},{"$f":"IFERROR(BV59/IFERROR(VLOOKUP($BB$60,Præsentation!$F$11:$T$80,$BD58,FALSE),0),\"\")","v":""},{"$f":"IFERROR(BW59/IFERROR(VLOOKUP($BB$60,Præsentation!$F$11:$T$80,$BD58,FALSE),0),\"\")","v":""},{"$f":"IFERROR(BX59/IFERROR(VLOOKUP($BB$60,Præsentation!$F$11:$T$80,$BD58,FALSE),0),\"\")","v":""},{"$f":"IFERROR(ABS(IFERROR(VLOOKUP(BO$48,Præsentation!$F$11:$T$80,$BD58,FALSE),0)),\"\")","v":0}]
[null,null,null,null,null,null,null,null,null,null,null,null,null,null,null,null,null,null,null,null,null,null,null,null,null,4,"Dækningsbidrag og \"krav til DB\" - Øre pr. FEN og kr. pr. ha for",{"$f":"INDIRECT(ADDRESS(#REF!,COLUMN(#REF!),1,,\"Choices\"))","v":{"$error":"#REF!"}},"PLANTER","Ingen valgt",null,"Krav til DB",{"$f":"IFERROR(DGET(Præsentation!$F$11:$T$89,\"\"&'Diagrammer-orig'!$AD59&\"\",'Diagrammer-orig'!AG$46:AG$47),0)","v":0},{"$f":"IFERROR(DGET(Præsentation!$F$11:$T$89,\"\"&'Diagrammer-orig'!$AD59&\"\",'Diagrammer-orig'!AH$46:AH$47),0)","v":0},{"$f":"IFERROR(DGET(Præsentation!$F$11:$T$89,\"\"&'Diagrammer-orig'!$AD59&\"\",'Diagrammer-orig'!AI$46:AI$47),0)","v":0},{"$f":"IFERROR(DGET(Præsentation!$F$11:$T$89,\"\"&'Diagrammer-orig'!$AD59&\"\",'Diagrammer-orig'!AJ$46:AJ$47),0)","v":0},{"$f":"IFERROR(DGET(Præsentation!$F$11:$T$89,\"\"&'Diagrammer-orig'!$AD59&\"\",'Diagrammer-orig'!AK$46:AK$47),0)","v":0},null,0,null,null,null,null,null,null,null,null,null,null,null,null,null,null,"#GS",null,4,{"$f":"BE58","v":"Gns. Alle Kreds"},null,null,"Slagtesvin",null,null,null,null,null,null,null,null,null,null,{"$f":"-IFERROR((IFERROR(VLOOKUP(BS$48,Præsentation!$F$11:$T$80,$BD59,FALSE),0)-IFERROR(VLOOKUP(BS$49,Præsentation!$F$11:$T$80,$BD59,FALSE),0)-IFERROR(VLOOKUP(BS$50,Præsentation!$F$11:$T$80,$BD59,FALSE),0)),\"\")","v":{"$error":"#VALUE!"}},{"$f":"IFERROR((IFERROR(VLOOKUP(BT$48,Præsentation!$F$11:$T$80,$BD58,FALSE),0)-IFERROR(VLOOKUP(BT$49,Præsentation!$F$11:$T$80,$BD58,FALSE),0)-IFERROR(VLOOKUP(BT$50,Præsentation!$F$11:$T$80,$BD58,FALSE),0)),\"\")","v":""},{"$f":"IFERROR((IFERROR(-VLOOKUP(BU$48,Præsentation!$F$11:$T$80,$BD58,FALSE),0)-IFERROR(VLOOKUP(BU$49,Præsentation!$F$11:$T$80,$BD58,FALSE),0)-IFERROR(VLOOKUP(BU$50,Præsentation!$F$11:$T$80,$BD58,FALSE),0)),\"\")","v":""},{"$f":"IFERROR((IFERROR(VLOOKUP(BV$48,Præsentation!$F$11:$T$80,$BD58,FALSE),0)-IFERROR(VLOOKUP(BV$49,Præsentation!$F$11:$T$80,$BD58,FALSE),0)-IFERROR(VLOOKUP(BV$50,Præsentation!$F$11:$T$80,$BD58,FALSE),0)),\"\")","v":""},{"$f":"IFERROR((IFERROR(-VLOOKUP(BW$48,Præsentation!$F$11:$T$80,$BD58,FALSE),0)-IFERROR(VLOOKUP(BW$49,Præsentation!$F$11:$T$80,$BD58,FALSE),0)-IFERROR(VLOOKUP(BW$50,Præsentation!$F$11:$T$80,$BD58,FALSE),0)-IFERROR(VLOOKUP(BW$51,Præsentation!$F$11:$T$80,$BD58,FALSE),0)),\"\")","v":0},{"$f":"IFERROR(-(IFERROR(VLOOKUP(BX$48,Præsentation!$F$11:$T$80,$BD58,FALSE),0)-IFERROR(VLOOKUP(BX$49,Præsentation!$F$11:$T$80,$BD58,FALSE),0)-IFERROR(VLOOKUP(BX$50,Præsentation!$F$11:$T$80,$BD58,FALSE),0)),\"\")","v":""},{"$f":"SUM(BS59:BX59)","v":{"$error":"#VALUE!"}}]
[null,null,null,null,null,null,null,null,null,null,null,null,null,null,null,null,null,null,null,null,null,null,null,null,null,null,null,null,null,null,null,"Opnået DB",null,null,null,null,null,{"$f":"IFERROR(DGET(Præsentation!$F$11:$T$89,\"\"&'Diagrammer-orig'!$AD59&\"\",'Diagrammer-orig'!AL$46:AL$47),0)","v":0},0,null,null,null,null,null,null,null,null,null,null,null,null,null,null,"Slagtevægt, kg."," ",5,{"$f":"BF60","v":"Ingen valgt"},{"$f":"BF14","v":"Ingen valgt"},{"$f":"IFERROR(\"Slagtevægt:     \"&ROUND(VLOOKUP($BB$60,Præsentation!$F$11:$T$80,$BD60,FALSE),1),\"\")","v":""},"Kg. Slagtesvin",{"$f":"IFERROR(BS61/IFERROR(VLOOKUP($BB$60,Præsentation!$F$11:$T$80,$BD60,FALSE),0),\"\")","v":""},{"$f":"IFERROR(BT61/IFERROR(VLOOKUP($BB$60,Præsentation!$F$11:$T$80,$BD60,FALSE),0),\"\")","v":""},{"$f":"IFERROR(BU61/IFERROR(VLOOKUP($BB$60,Præsentation!$F$11:$T$80,$BD60,FALSE),0),\"\")","v":""},{"$f":"IFERROR(BV61/IFERROR(VLOOKUP($BB$60,Præsentation!$F$11:$T$80,$BD60,FALSE),0),\"\")","v":""},{"$f":"IFERROR(BW61/IFERROR(VLOOKUP($BB$60,Præsentation!$F$11:$T$80,$BD60,FALSE),0),\"\")","v":""},{"$f":"IFERROR(BX61/IFERROR(VLOOKUP($BB$60,Præsentation!$F$11:$T$80,$BD60,FALSE),0),\"\")","v":""},{"$f":"IFERROR(ABS(IFERROR(VLOOKUP(BO$48,Præsentation!$F$11:$T$80,$BD60,FALSE),0)),\"\")","v":0}]
[null,null,null,null,null,null,null,null,null,null,null,null,null,null,null,null,null,null,null,null,null,null,null,null,null,null,null,null,null,"Ingen valgt",null,"Krav til DB",{"$f":"IFERROR(DGET(Præsentation!$F$11:$T$89,\"\"&'Diagrammer-orig'!$AD61&\"\",'Diagrammer-orig'!AG$46:AG$47),0)","v":0},{"$f":"IFERROR(DGET(Præsentation!$F$11:$T$89,\"\"&'Diagrammer-orig'!$AD61&\"\",'Diagrammer-orig'!AH$46:AH$47),0)","v":0},{"$f":"IFERROR(DGET(Præsentation!$F$11:$T$89,\"\"&'Diagrammer-orig'!$AD61&\"\",'Diagrammer-orig'!AI$46:AI$47),0)","v":0},{"$f":"IFERROR(DGET(Præsentation!$F$11:$T$89,\"\"&'Diagrammer-orig'!$AD61&\"\",'Diagrammer-orig'!AJ$46:AJ$47),0)","v":0},{"$f":"IFERROR(DGET(Præsentation!$F$11:$T$89,\"\"&'Diagrammer-orig'!$AD61&\"\",'Diagrammer-orig'!AK$46:AK$47),0)","v":0},null,0,null,null,null,null,null,null,null,null,null,null,null,null,null,null,null,null,5,{"$f":"BE60","v":"Ingen valgt"},null,null,"Slagtesvin",null,null,null,null,null,null,null,null,null,null,{"$f":"-IFERROR((IFERROR(VLOOKUP(BS$48,Præsentation!$F$11:$T$80,$BD61,FALSE),0)-IFERROR(VLOOKUP(BS$49,Præsentation!$F$11:$T$80,$BD61,FALSE),0)-IFERROR(VLOOKUP(BS$50,Præsentation!$F$11:$T$80,$BD61,FALSE),0)),\"\")","v":{"$error":"#VALUE!"}},{"$f":"IFERROR((IFERROR(VLOOKUP(BT$48,Præsentation!$F$11:$T$80,$BD60,FALSE),0)-IFERROR(VLOOKUP(BT$49,Præsentation!$F$11:$T$80,$BD60,FALSE),0)-IFERROR(VLOOKUP(BT$50,Præsentation!$F$11:$T$80,$BD60,FALSE),0)),\"\")","v":""},{"$f":"IFERROR((IFERROR(-VLOOKUP(BU$48,Præsentation!$F$11:$T$80,$BD60,FALSE),0)-IFERROR(VLOOKUP(BU$49,Præsentation!$F$11:$T$80,$BD60,FALSE),0)-IFERROR(VLOOKUP(BU$50,Præsentation!$F$11:$T$80,$BD60,FALSE),0)),\"\")","v":""},{"$f":"IFERROR((IFERROR(VLOOKUP(BV$48,Præsentation!$F$11:$T$80,$BD60,FALSE),0)-IFERROR(VLOOKUP(BV$49,Præsentation!$F$11:$T$80,$BD60,FALSE),0)-IFERROR(VLOOKUP(BV$50,Præsentation!$F$11:$T$80,$BD60,FALSE),0)),\"\")","v":""},{"$f":"IFERROR((IFERROR(-VLOOKUP(BW$48,Præsentation!$F$11:$T$80,$BD60,FALSE),0)-IFERROR(VLOOKUP(BW$49,Præsentation!$F$11:$T$80,$BD60,FALSE),0)-IFERROR(VLOOKUP(BW$50,Præsentation!$F$11:$T$80,$BD60,FALSE),0)-IFERROR(VLOOKUP(BW$51,Præsentation!$F$11:$T$80,$BD60,FALSE),0)),\"\")","v":0},{"$f":"IFERROR(-(IFERROR(VLOOKUP(BX$48,Præsentation!$F$11:$T$80,$BD60,FALSE),0)-IFERROR(VLOOKUP(BX$49,Præsentation!$F$11:$T$80,$BD60,FALSE),0)-IFERROR(VLOOKUP(BX$50,Præsentation!$F$11:$T$80,$BD60,FALSE),0)),\"\")","v":""},{"$f":"SUM(BS61:BX61)","v":{"$error":"#VALUE!"}}]
[null,null,null,null,null,null,null,null,null,null,null,null,null,null,null,null,null,null,null,null,null,null,null,null,null,null,null,null,null,null,null,"Opnået DB",null,null,null,null,null,{"$f":"IFERROR(DGET(Præsentation!$F$11:$T$89,\"\"&'Diagrammer-orig'!$AD61&\"\",'Diagrammer-orig'!AL$46:AL$47),0)","v":0},0,null,null,null,null,null,null,null,null,null,null,null,null,null,null,null,null,6,{"$f":"BF62","v":"Ingen valgt"},{"$f":"BF16","v":"Ingen valgt"},{"$f":"IFERROR(\"Slagtevægt:     \"&ROUND(VLOOKUP($BB$60,Præsentation!$F$11:$T$80,$BD62,FALSE),1),\"\")","v":""},"Kg. Slagtesvin",{"$f":"IFERROR(BS63/IFERROR(VLOOKUP($BB$60,Præsentation!$F$11:$T$80,$BD62,FALSE),0),\"\")","v":""},{"$f":"IFERROR(BT63/IFERROR(VLOOKUP($BB$60,Præsentation!$F$11:$T$80,$BD62,FALSE),0),\"\")","v":""},{"$f":"IFERROR(BU63/IFERROR(VLOOKUP($BB$60,Præsentation!$F$11:$T$80,$BD62,FALSE),0),\"\")","v":""},{"$f":"IFERROR(BV63/IFERROR(VLOOKUP($BB$60,Præsentation!$F$11:$T$80,$BD62,FALSE),0),\"\")","v":""},{"$f":"IFERROR(BW63/IFERROR(VLOOKUP($BB$60,Præsentation!$F$11:$T$80,$BD62,FALSE),0),\"\")","v":""},{"$f":"IFERROR(BX63/IFERROR(VLOOKUP($BB$60,Præsentation!$F$11:$T$80,$BD62,FALSE),0),\"\")","v":""},{"$f":"IFERROR(ABS(IFERROR(VLOOKUP(BO$48,Præsentation!$F$11:$T$80,$BD62,FALSE),0)),\"\")","v":0}]
[null,null,null,null,null,null,null,null,null,null,null,null,null,null,null,null,null,null,null,null,null,null,null,null,null,{"$f":"102+23+144+57-45","v":281},null,null,null,"Ingen valgt",null,"Krav til DB",{"$f":"IFERROR(DGET(Præsentation!$F$11:$T$89,\"\"&'Diagrammer-orig'!$AD63&\"\",'Diagrammer-orig'!AG$46:AG$47),0)","v":0},{"$f":"IFERROR(DGET(Præsentation!$F$11:$T$89,\"\"&'Diagrammer-orig'!$AD63&\"\",'Diagrammer-orig'!AH$46:AH$47),0)","v":0},{"$f":"IFERROR(DGET(Præsentation!$F$11:$T$89,\"\"&'Diagrammer-orig'!$AD63&\"\",'Diagrammer-orig'!AI$46:AI$47),0)","v":0},{"$f":"IFERROR(DGET(Præsentation!$F$11:$T$89,\"\"&'Diagrammer-orig'!$AD63&\"\",'Diagrammer-orig'!AJ$46:AJ$47),0)","v":0},{"$f":"IFERROR(DGET(Præsentation!$F$11:$T$89,\"\"&'Diagrammer-orig'!$AD63&\"\",'Diagrammer-orig'!AK$46:AK$47),0)","v":0},null,0,null,null,null,null,null,null,null,null,null,null,null,null,null,null,null,null,6,{"$f":"BE62","v":"Ingen valgt"},null,null,"Slagtesvin",null,null,null,null,null,null,null,null,null,null,{"$f":"-IFERROR((IFERROR(VLOOKUP(BS$48,Præsentation!$F$11:$T$80,$BD63,FALSE),0)-IFERROR(VLOOKUP(BS$49,Præsentation!$F$11:$T$80,$BD63,FALSE),0)-IFERROR(VLOOKUP(BS$50,Præsentation!$F$11:$T$80,$BD63,FALSE),0)),\"\")","v":-426.72641610450796},{"$f":"IFERROR((IFERROR(VLOOKUP(BT$48,Præsentation!$F$11:$T$80,$BD62,FALSE),0)-IFERROR(VLOOKUP(BT$49,Præsentation!$F$11:$T$80,$BD62,FALSE),0)-IFERROR(VLOOKUP(BT$50,Præsentation!$F$11:$T$80,$BD62,FALSE),0)),\"\")","v":""},{"$f":"IFERROR((IFERROR(-VLOOKUP(BU$48,Præsentation!$F$11:$T$80,$BD62,FALSE),0)-IFERROR(VLOOKUP(BU$49,Præsentation!$F$11:$T$80,$BD62,FALSE),0)-IFERROR(VLOOKUP(BU$50,Præsentation!$F$11:$T$80,$BD62,FALSE),0)),\"\")","v":14.342649105899989},{"$f":"IFERROR((IFERROR(VLOOKUP(BV$48,Præsentation!$F$11:$T$80,$BD62,FALSE),0)-IFERROR(VLOOKUP(BV$49,Præsentation!$F$11:$T$80,$BD62,FALSE),0)-IFERROR(VLOOKUP(BV$50,Præsentation!$F$11:$T$80,$BD62,FALSE),0)),\"\")","v":""},{"$f":"IFERROR((IFERROR(-VLOOKUP(BW$48,Præsentation!$F$11:$T$80,$BD62,FALSE),0)-IFERROR(VLOOKUP(BW$49,Præsentation!$F$11:$T$80,$BD62,FALSE),0)-IFERROR(VLOOKUP(BW$50,Præsentation!$F$11:$T$80,$BD62,FALSE),0)-IFERROR(VLOOKUP(BW$51,Præsentation!$F$11:$T$80,$BD62,FALSE),0)),\"\")","v":0},{"$f":"IFERROR(-(IFERROR(VLOOKUP(BX$48,Præsentation!$F$11:$T$80,$BD62,FALSE),0)-IFERROR(VLOOKUP(BX$49,Præsentation!$F$11:$T$80,$BD62,FALSE),0)-IFERROR(VLOOKUP(BX$50,Præsentation!$F$11:$T$80,$BD62,FALSE),0)),\"\")","v":""},{"$f":"SUM(BS63:BX63)","v":-412.383766998608}]
[null,null,null,null,null,null,null,null,null,null,null,null,null,null,null,null,null,null,null,null,null,null,null,null,null,{"$f":"77+21+106+26-56-17","v":157},null,null,null,null,null,"Opnået DB",null,null,null,null,null,{"$f":"IFERROR(DGET(Præsentation!$F$11:$T$89,\"\"&'Diagrammer-orig'!$AD63&\"\",'Diagrammer-orig'!AL$46:AL$47),0)","v":0},0,null,null,null,null,null,null,null,null,null,null,null,null,null,null,null,null,7,{"$f":"BF64","v":"Ingen valgt"},{"$f":"BF18","v":"Ingen valgt"},{"$f":"IFERROR(\"Slagtevægt:     \"&ROUND(VLOOKUP($BB$60,Præsentation!$F$11:$T$80,$BD64,FALSE),1),\"\")","v":""},"Kg. Slagtesvin",{"$f":"IFERROR(BS65/IFERROR(VLOOKUP($BB$60,Præsentation!$F$11:$T$80,$BD64,FALSE),0),\"\")","v":""},{"$f":"IFERROR(BT65/IFERROR(VLOOKUP($BB$60,Præsentation!$F$11:$T$80,$BD64,FALSE),0),\"\")","v":""},{"$f":"IFERROR(BU65/IFERROR(VLOOKUP($BB$60,Præsentation!$F$11:$T$80,$BD64,FALSE),0),\"\")","v":""},{"$f":"IFERROR(BV65/IFERROR(VLOOKUP($BB$60,Præsentation!$F$11:$T$80,$BD64,FALSE),0),\"\")","v":""},{"$f":"IFERROR(BW65/IFERROR(VLOOKUP($BB$60,Præsentation!$F$11:$T$80,$BD64,FALSE),0),\"\")","v":""},{"$f":"IFERROR(BX65/IFERROR(VLOOKUP($BB$60,Præsentation!$F$11:$T$80,$BD64,FALSE),0),\"\")","v":""},{"$f":"IFERROR(ABS(IFERROR(VLOOKUP(BO$48,Præsentation!$F$11:$T$80,$BD64,FALSE),0)),\"\")","v":0}]
[null,null,null,null,null,null,null,null,null,null,null,null,null,null,null,null,null,null,null,null,null,null,null,null,null,null,null,null,null,"Ingen valgt",null,"Krav til DB",{"$f":"IFERROR(DGET(Præsentation!$F$11:$T$89,\"\"&'Diagrammer-orig'!$AD65&\"\",'Diagrammer-orig'!AG$46:AG$47),0)","v":0},{"$f":"IFERROR(DGET(Præsentation!$F$11:$T$89,\"\"&'Diagrammer-orig'!$AD65&\"\",'Diagrammer-orig'!AH$46:AH$47),0)","v":0},{"$f":"IFERROR(DGET(Præsentation!$F$11:$T$89,\"\"&'Diagrammer-orig'!$AD65&\"\",'Diagrammer-orig'!AI$46:AI$47),0)","v":0},{"$f":"IFERROR(DGET(Præsentation!$F$11:$T$89,\"\"&'Diagrammer-orig'!$AD65&\"\",'Diagrammer-orig'!AJ$46:AJ$47),0)","v":0},{"$f":"IFERROR(DGET(Præsentation!$F$11:$T$89,\"\"&'Diagrammer-orig'!$AD65&\"\",'Diagrammer-orig'!AK$46:AK$47),0)","v":0},null,0,null,null,null,null,null,null,null,null,null,null,null,null,null,null,null,null,7,{"$f":"BE64","v":"Ingen valgt"},null,null,"Slagtesvin",null,null,null,null,null,null,null,null,null,null,{"$f":"-IFERROR((IFERROR(VLOOKUP(BS$48,Præsentation!$F$11:$T$80,$BD65,FALSE),0)-IFERROR(VLOOKUP(BS$49,Præsentation!$F$11:$T$80,$BD65,FALSE),0)-IFERROR(VLOOKUP(BS$50,Præsentation!$F$11:$T$80,$BD65,FALSE),0)),\"\")","v":-444.91391884951207},{"$f":"IFERROR((IFERROR(VLOOKUP(BT$48,Præsentation!$F$11:$T$80,$BD64,FALSE),0)-IFERROR(VLOOKUP(BT$49,Præsentation!$F$11:$T$80,$BD64,FALSE),0)-IFERROR(VLOOKUP(BT$50,Præsentation!$F$11:$T$80,$BD64,FALSE),0)),\"\")","v":""},{"$f":"IFERROR((IFERROR(-VLOOKUP(BU$48,Præsentation!$F$11:$T$80,$BD64,FALSE),0)-IFERROR(VLOOKUP(BU$49,Præsentation!$F$11:$T$80,$BD64,FALSE),0)-IFERROR(VLOOKUP(BU$50,Præsentation!$F$11:$T$80,$BD64,FALSE),0)),\"\")","v":17.923061119671289},{"$f":"IFERROR((IFERROR(VLOOKUP(BV$48,Præsentation!$F$11:$T$80,$BD64,FALSE),0)-IFERROR(VLOOKUP(BV$49,Præsentation!$F$11:$T$80,$BD64,FALSE),0)-IFERROR(VLOOKUP(BV$50,Præsentation!$F$11:$T$80,$BD64,FALSE),0)),\"\")","v":""},{"$f":"IFERROR((IFERROR(-VLOOKUP(BW$48,Præsentation!$F$11:$T$80,$BD64,FALSE),0)-IFERROR(VLOOKUP(BW$49,Præsentation!$F$11:$T$80,$BD64,FALSE),0)-IFERROR(VLOOKUP(BW$50,Præsentation!$F$11:$T$80,$BD64,FALSE),0)-IFERROR(VLOOKUP(BW$51,Præsentation!$F$11:$T$80,$BD64,FALSE),0)),\"\")","v":0},{"$f":"IFERROR(-(IFERROR(VLOOKUP(BX$48,Præsentation!$F$11:$T$80,$BD64,FALSE),0)-IFERROR(VLOOKUP(BX$49,Præsentation!$F$11:$T$80,$BD64,FALSE),0)-IFERROR(VLOOKUP(BX$50,Præsentation!$F$11:$T$80,$BD64,FALSE),0)),\"\")","v":""},{"$f":"SUM(BS65:BX65)","v":-426.9908577298408}]
[null,null,null,null,null,null,null,null,null,null,null,null,null,null,null,null,null,null,null,null,null,null,null,null,null,null,null,null,null,null,null,"Opnået DB",null,null,null,null,null,{"$f":"IFERROR(DGET(Præsentation!$F$11:$T$89,\"\"&'Diagrammer-orig'!$AD65&\"\",'Diagrammer-orig'!AL$46:AL$47),0)","v":0},0,null,null,null,null,null,null,null,null,null,null,null,null,null,null,null,null,8,{"$f":"BF66","v":"Ingen valgt"},{"$f":"BF20","v":"Ingen valgt"},{"$f":"IFERROR(\"Slagtevægt:     \"&ROUND(VLOOKUP($BB$60,Præsentation!$F$11:$T$80,$BD66,FALSE),1),\"\")","v":""},"Kg. Slagtesvin",{"$f":"IFERROR(BS67/IFERROR(VLOOKUP($BB$60,Præsentation!$F$11:$T$80,$BD66,FALSE),0),\"\")","v":""},{"$f":"IFERROR(BT67/IFERROR(VLOOKUP($BB$60,Præsentation!$F$11:$T$80,$BD66,FALSE),0),\"\")","v":""},{"$f":"IFERROR(BU67/IFERROR(VLOOKUP($BB$60,Præsentation!$F$11:$T$80,$BD66,FALSE),0),\"\")","v":""},{"$f":"IFERROR(BV67/IFERROR(VLOOKUP($BB$60,Præsentation!$F$11:$T$80,$BD66,FALSE),0),\"\")","v":""},{"$f":"IFERROR(BW67/IFERROR(VLOOKUP($BB$60,Præsentation!$F$11:$T$80,$BD66,FALSE),0),\"\")","v":""},{"$f":"IFERROR(BX67/IFERROR(VLOOKUP($BB$60,Præsentation!$F$11:$T$80,$BD66,FALSE),0),\"\")","v":""},{"$f":"IFERROR(ABS(IFERROR(VLOOKUP(BO$48,Præsentation!$F$11:$T$80,$BD66,FALSE),0)),\"\")","v":0}]
[null,null,null,null,null,null,null,null,null,null,null,null,null,null,null,null,null,null,null,null,null,null,null,null,null,1,"Ingen valgt ",".. Gå om og vælg en gruppe",null,"Ingen valgt",null,"Krav til DB",{"$f":"IFERROR(DGET(Præsentation!$F$11:$T$89,\"\"&'Diagrammer-orig'!$AD67&\"\",'Diagrammer-orig'!AG$46:AG$47),0)","v":0},{"$f":"IFERROR(DGET(Præsentation!$F$11:$T$89,\"\"&'Diagrammer-orig'!$AD67&\"\",'Diagrammer-orig'!AH$46:AH$47),0)","v":0},{"$f":"IFERROR(DGET(Præsentation!$F$11:$T$89,\"\"&'Diagrammer-orig'!$AD67&\"\",'Diagrammer-orig'!AI$46:AI$47),0)","v":0},{"$f":"IFERROR(DGET(Præsentation!$F$11:$T$89,\"\"&'Diagrammer-orig'!$AD67&\"\",'Diagrammer-orig'!AJ$46:AJ$47),0)","v":0},{"$f":"IFERROR(DGET(Præsentation!$F$11:$T$89,\"\"&'Diagrammer-orig'!$AD67&\"\",'Diagrammer-orig'!AK$46:AK$47),0)","v":0},null,0,null,null,null,null,null,null,null,null,null,null,null,null,null,null,null,null,8,{"$f":"BE66","v":"Ingen valgt"},null,null,"Slagtesvin",null,null,null,null,null,null,null,null,null,null,{"$f":"-IFERROR((IFERROR(VLOOKUP(BS$48,Præsentation!$F$11:$T$80,$BD67,FALSE),0)-IFERROR(VLOOKUP(BS$49,Præsentation!$F$11:$T$80,$BD67,FALSE),0)-IFERROR(VLOOKUP(BS$50,Præsentation!$F$11:$T$80,$BD67,FALSE),0)),\"\")","v":-468.15653945905893},{"$f":"IFERROR((IFERROR(VLOOKUP(BT$48,Præsentation!$F$11:$T$80,$BD66,FALSE),0)-IFERROR(VLOOKUP(BT$49,Præsentation!$F$11:$T$80,$BD66,FALSE),0)-IFERROR(VLOOKUP(BT$50,Præsentation!$F$11:$T$80,$BD66,FALSE),0)),\"\")","v":""},{"$f":"IFERROR((IFERROR(-VLOOKUP(BU$48,Præsentation!$F$11:$T$80,$BD66,FALSE),0)-IFERROR(VLOOKUP(BU$49,Præsentation!$F$11:$T$80,$BD66,FALSE),0)-IFERROR(VLOOKUP(BU$50,Præsentation!$F$11:$T$80,$BD66,FALSE),0)),\"\")","v":18.379955539088549},{"$f":"IFERROR((IFERROR(VLOOKUP(BV$48,Præsentation!$F$11:$T$80,$BD66,FALSE),0)-IFERROR(VLOOKUP(BV$49,Præsentation!$F$11:$T$80,$BD66,FALSE),0)-IFERROR(VLOOKUP(BV$50,Præsentation!$F$11:$T$80,$BD66,FALSE),0)),\"\")","v":""},{"$f":"IFERROR((IFERROR(-VLOOKUP(BW$48,Præsentation!$F$11:$T$80,$BD66,FALSE),0)-IFERROR(VLOOKUP(BW$49,Præsentation!$F$11:$T$80,$BD66,FALSE),0)-IFERROR(VLOOKUP(BW$50,Præsentation!$F$11:$T$80,$BD66,FALSE),0)-IFERROR(VLOOKUP(BW$51,Præsentation!$F$11:$T$80,$BD66,FALSE),0)),\"\")","v":0},{"$f":"IFERROR(-(IFERROR(VLOOKUP(BX$48,Præsentation!$F$11:$T$80,$BD66,FALSE),0)-IFERROR(VLOOKUP(BX$49,Præsentation!$F$11:$T$80,$BD66,FALSE),0)-IFERROR(VLOOKUP(BX$50,Præsentation!$F$11:$T$80,$BD66,FALSE),0)),\"\")","v":""},{"$f":"SUM(BS67:BX67)","v":-449.77658391997039}]
[null,null,null,null,null,null,null,null,null,null,null,null,null,null,null,null,null,null,null,null,null,null,null,null,null,null,null,null,null,null,null,"Opnået DB",null,null,null,null,null,{"$f":"IFERROR(DGET(Præsentation!$F$11:$T$89,\"\"&'Diagrammer-orig'!$AD67&\"\",'Diagrammer-orig'!AL$46:AL$47),0)","v":0},0,null,null,null,null,null,null,null,null,null,null,null,null,null,null,null,null,9,{"$f":"BF68","v":"Ingen valgt"},{"$f":"BF22","v":"Ingen valgt"},{"$f":"IFERROR(\"Slagtevægt:     \"&ROUND(VLOOKUP($BB$60,Præsentation!$F$11:$T$80,$BD68,FALSE),1),\"\")","v":""},"Kg. Slagtesvin",{"$f":"IFERROR(BS69/IFERROR(VLOOKUP($BB$60,Præsentation!$F$11:$T$80,$BD68,FALSE),0),\"\")","v":""},{"$f":"IFERROR(BT69/IFERROR(VLOOKUP($BB$60,Præsentation!$F$11:$T$80,$BD68,FALSE),0),\"\")","v":""},{"$f":"IFERROR(BU69/IFERROR(VLOOKUP($BB$60,Præsentation!$F$11:$T$80,$BD68,FALSE),0),\"\")","v":""},{"$f":"IFERROR(BV69/IFERROR(VLOOKUP($BB$60,Præsentation!$F$11:$T$80,$BD68,FALSE),0),\"\")","v":""},{"$f":"IFERROR(BW69/IFERROR(VLOOKUP($BB$60,Præsentation!$F$11:$T$80,$BD68,FALSE),0),\"\")","v":""},{"$f":"IFERROR(BX69/IFERROR(VLOOKUP($BB$60,Præsentation!$F$11:$T$80,$BD68,FALSE),0),\"\")","v":""},{"$f":"IFERROR(ABS(IFERROR(VLOOKUP(BO$48,Præsentation!$F$11:$T$80,$BD68,FALSE),0)),\"\")","v":0}]
[null,null,null,null,null,null,null,null,null,null,null,null,null,null,null,null,null,null,null,null,null,null,null,null,null,null,null,null,null,"Ingen valgt",null,"Krav til DB",{"$f":"IFERROR(DGET(Præsentation!$F$11:$T$89,\"\"&'Diagrammer-orig'!$AD69&\"\",'Diagrammer-orig'!AG$46:AG$47),0)","v":0},{"$f":"IFERROR(DGET(Præsentation!$F$11:$T$89,\"\"&'Diagrammer-orig'!$AD69&\"\",'Diagrammer-orig'!AH$46:AH$47),0)","v":0},{"$f":"IFERROR(DGET(Præsentation!$F$11:$T$89,\"\"&'Diagrammer-orig'!$AD69&\"\",'Diagrammer-orig'!AI$46:AI$47),0)","v":0},{"$f":"IFERROR(DGET(Præsentation!$F$11:$T$89,\"\"&'Diagrammer-orig'!$AD69&\"\",'Diagrammer-orig'!AJ$46:AJ$47),0)","v":0},{"$f":"IFERROR(DGET(Præsentation!$F$11:$T$89,\"\"&'Diagrammer-orig'!$AD69&\"\",'Diagrammer-orig'!AK$46:AK$47),0)","v":0},null,0,null,null,null,null,null,null,null,null,null,null,null,null,null,null,null,null,9,{"$f":"BE68","v":"Ingen valgt"},null,null,"Slagtesvin",null,null,null,null,null,null,null,null,null,null,{"$f":"-IFERROR((IFERROR(VLOOKUP(BS$48,Præsentation!$F$11:$T$80,$BD69,FALSE),0)-IFERROR(VLOOKUP(BS$49,Præsentation!$F$11:$T$80,$BD69,FALSE),0)-IFERROR(VLOOKUP(BS$50,Præsentation!$F$11:$T$80,$BD69,FALSE),0)),\"\")","v":-397.45785714285716},{"$f":"IFERROR((IFERROR(VLOOKUP(BT$48,Præsentation!$F$11:$T$80,$BD68,FALSE),0)-IFERROR(VLOOKUP(BT$49,Præsentation!$F$11:$T$80,$BD68,FALSE),0)-IFERROR(VLOOKUP(BT$50,Præsentation!$F$11:$T$80,$BD68,FALSE),0)),\"\")","v":""},{"$f":"IFERROR((IFERROR(-VLOOKUP(BU$48,Præsentation!$F$11:$T$80,$BD68,FALSE),0)-IFERROR(VLOOKUP(BU$49,Præsentation!$F$11:$T$80,$BD68,FALSE),0)-IFERROR(VLOOKUP(BU$50,Præsentation!$F$11:$T$80,$BD68,FALSE),0)),\"\")","v":16.439615384615383},{"$f":"IFERROR((IFERROR(VLOOKUP(BV$48,Præsentation!$F$11:$T$80,$BD68,FALSE),0)-IFERROR(VLOOKUP(BV$49,Præsentation!$F$11:$T$80,$BD68,FALSE),0)-IFERROR(VLOOKUP(BV$50,Præsentation!$F$11:$T$80,$BD68,FALSE),0)),\"\")","v":""},{"$f":"IFERROR((IFERROR(-VLOOKUP(BW$48,Præsentation!$F$11:$T$80,$BD68,FALSE),0)-IFERROR(VLOOKUP(BW$49,Præsentation!$F$11:$T$80,$BD68,FALSE),0)-IFERROR(VLOOKUP(BW$50,Præsentation!$F$11:$T$80,$BD68,FALSE),0)-IFERROR(VLOOKUP(BW$51,Præsentation!$F$11:$T$80,$BD68,FALSE),0)),\"\")","v":0},{"$f":"IFERROR(-(IFERROR(VLOOKUP(BX$48,Præsentation!$F$11:$T$80,$BD68,FALSE),0)-IFERROR(VLOOKUP(BX$49,Præsentation!$F$11:$T$80,$BD68,FALSE),0)-IFERROR(VLOOKUP(BX$50,Præsentation!$F$11:$T$80,$BD68,FALSE),0)),\"\")","v":""},{"$f":"SUM(BS69:BX69)","v":-381.0182417582418}]
[null,null,null,null,null,null,null,null,null,null,null,null,null,null,null,null,null,null,null,null,null,null,null,null,null,null,null,null,null,null,null,"Opnået DB",null,null,null,null,null,{"$f":"IFERROR(DGET(Præsentation!$F$11:$T$89,\"\"&'Diagrammer-orig'!$AD69&\"\",'Diagrammer-orig'!AL$46:AL$47),0)","v":0},0,null,null,null,null,null,null,null,null,null,null,null,null,null,null,null,null,10,{"$f":"BF70","v":"Ingen valgt"},{"$f":"BF24","v":"Ingen valgt"},{"$f":"IFERROR(\"Slagtevægt:     \"&ROUND(VLOOKUP($BB$60,Præsentation!$F$11:$T$80,$BD70,FALSE),1),\"\")","v":""},"Kg. Slagtesvin",{"$f":"IFERROR(BS71/IFERROR(VLOOKUP($BB$60,Præsentation!$F$11:$T$80,$BD70,FALSE),0),\"\")","v":""},{"$f":"IFERROR(BT71/IFERROR(VLOOKUP($BB$60,Præsentation!$F$11:$T$80,$BD70,FALSE),0),\"\")","v":""},{"$f":"IFERROR(BU71/IFERROR(VLOOKUP($BB$60,Præsentation!$F$11:$T$80,$BD70,FALSE),0),\"\")","v":""},{"$f":"IFERROR(BV71/IFERROR(VLOOKUP($BB$60,Præsentation!$F$11:$T$80,$BD70,FALSE),0),\"\")","v":""},{"$f":"IFERROR(BW71/IFERROR(VLOOKUP($BB$60,Præsentation!$F$11:$T$80,$BD70,FALSE),0),\"\")","v":""},{"$f":"IFERROR(BX71/IFERROR(VLOOKUP($BB$60,Præsentation!$F$11:$T$80,$BD70,FALSE),0),\"\")","v":""},{"$f":"IFERROR(ABS(IFERROR(VLOOKUP(BO$48,Præsentation!$F$11:$T$80,$BD70,FALSE),0)),\"\")","v":0}]
[null,null,null,null,null,null,null,null,null,null,null,null,null,null,null,null,null,null,null,null,null,null,null,null,null,null,null,null,null,"Ingen valgt",null,"Krav til DB",{"$f":"IFERROR(DGET(Præsentation!$F$11:$T$89,\"\"&'Diagrammer-orig'!$AD71&\"\",'Diagrammer-orig'!AG$46:AG$47),0)","v":0},{"$f":"IFERROR(DGET(Præsentation!$F$11:$T$89,\"\"&'Diagrammer-orig'!$AD71&\"\",'Diagrammer-orig'!AH$46:AH$47),0)","v":0},{"$f":"IFERROR(DGET(Præsentation!$F$11:$T$89,\"\"&'Diagrammer-orig'!$AD71&\"\",'Diagrammer-orig'!AI$46:AI$47),0)","v":0},{"$f":"IFERROR(DGET(Præsentation!$F$11:$T$89,\"\"&'Diagrammer-orig'!$AD71&\"\",'Diagrammer-orig'!AJ$46:AJ$47),0)","v":0},{"$f":"IFERROR(DGET(Præsentation!$F$11:$T$89,\"\"&'Diagrammer-orig'!$AD71&\"\",'Diagrammer-orig'!AK$46:AK$47),0)","v":0},null,0,null,null,null,null,null,null,null,null,null,null,null,null,null,null,null,null,10,{"$f":"BE70","v":"Ingen valgt"},null,null,"Slagtesvin",null,null,null,null,null,null,null,null,null,null,{"$f":"-IFERROR((IFERROR(VLOOKUP(BS$48,Præsentation!$F$11:$T$80,$BD71,FALSE),0)-IFERROR(VLOOKUP(BS$49,Præsentation!$F$11:$T$80,$BD71,FALSE),0)-IFERROR(VLOOKUP(BS$50,Præsentation!$F$11:$T$80,$BD71,FALSE),0)),\"\")","v":-448.11736136281263},{"$f":"IFERROR((IFERROR(VLOOKUP(BT$48,Præsentation!$F$11:$T$80,$BD70,FALSE),0)-IFERROR(VLOOKUP(BT$49,Præsentation!$F$11:$T$80,$BD70,FALSE),0)-IFERROR(VLOOKUP(BT$50,Præsentation!$F$11:$T$80,$BD70,FALSE),0)),\"\")","v":""},{"$f":"IFERROR((IFERROR(-VLOOKUP(BU$48,Præsentation!$F$11:$T$80,$BD70,FALSE),0)-IFERROR(VLOOKUP(BU$49,Præsentation!$F$11:$T$80,$BD70,FALSE),0)-IFERROR(VLOOKUP(BU$50,Præsentation!$F$11:$T$80,$BD70,FALSE),0)),\"\")","v":27.786806814063066},{"$f":"IFERROR((IFERROR(VLOOKUP(BV$48,Præsentation!$F$11:$T$80,$BD70,FALSE),0)-IFERROR(VLOOKUP(BV$49,Præsentation!$F$11:$T$80,$BD70,FALSE),0)-IFERROR(VLOOKUP(BV$50,Præsentation!$F$11:$T$80,$BD70,FALSE),0)),\"\")","v":""},{"$f":"IFERROR((IFERROR(-VLOOKUP(BW$48,Præsentation!$F$11:$T$80,$BD70,FALSE),0)-IFERROR(VLOOKUP(BW$49,Præsentation!$F$11:$T$80,$BD70,FALSE),0)-IFERROR(VLOOKUP(BW$50,Præsentation!$F$11:$T$80,$BD70,FALSE),0)-IFERROR(VLOOKUP(BW$51,Præsentation!$F$11:$T$80,$BD70,FALSE),0)),\"\")","v":0},{"$f":"IFERROR(-(IFERROR(VLOOKUP(BX$48,Præsentation!$F$11:$T$80,$BD70,FALSE),0)-IFERROR(VLOOKUP(BX$49,Præsentation!$F$11:$T$80,$BD70,FALSE),0)-IFERROR(VLOOKUP(BX$50,Præsentation!$F$11:$T$80,$BD70,FALSE),0)),\"\")","v":""},{"$f":"SUM(BS71:BX71)","v":-420.33055454874955}]
[null,null,null,null,null,null,null,null,null,null,null,null,null,null,null,null,null,null,null,null,null,null,null,null,null,null,null,null,null,null,null,"Opnået DB",null,null,null,null,null,{"$f":"IFERROR(DGET(Præsentation!$F$11:$T$89,\"\"&'Diagrammer-orig'!$AD71&\"\",'Diagrammer-orig'!AL$46:AL$47),0)","v":0},0,null,null,null,null,null,null,null,null,null,null,null,null,null,null,null,null,11,{"$f":"BF72","v":"Ingen valgt"},{"$f":"BF26","v":"Ingen valgt"},{"$f":"IFERROR(\"Slagtevægt:     \"&ROUND(VLOOKUP($BB$60,Præsentation!$F$11:$T$80,$BD72,FALSE),1),\"\")","v":""},"Kg. Slagtesvin",{"$f":"IFERROR(BS73/IFERROR(VLOOKUP($BB$60,Præsentation!$F$11:$T$80,$BD72,FALSE),0),\"\")","v":""},{"$f":"IFERROR(BT73/IFERROR(VLOOKUP($BB$60,Præsentation!$F$11:$T$80,$BD72,FALSE),0),\"\")","v":""},{"$f":"IFERROR(BU73/IFERROR(VLOOKUP($BB$60,Præsentation!$F$11:$T$80,$BD72,FALSE),0),\"\")","v":""},{"$f":"IFERROR(BV73/IFERROR(VLOOKUP($BB$60,Præsentation!$F$11:$T$80,$BD72,FALSE),0),\"\")","v":""},{"$f":"IFERROR(BW73/IFERROR(VLOOKUP($BB$60,Præsentation!$F$11:$T$80,$BD72,FALSE),0),\"\")","v":""},{"$f":"IFERROR(BX73/IFERROR(VLOOKUP($BB$60,Præsentation!$F$11:$T$80,$BD72,FALSE),0),\"\")","v":""},{"$f":"IFERROR(ABS(IFERROR(VLOOKUP(BO$48,Præsentation!$F$11:$T$80,$BD72,FALSE),0)),\"\")","v":0}]
[null,null,null,null,null,null,null,null,null,null,null,null,null,null,null,null,null,null,null,null,null,null,null,null,null,null,null,null,null,"Ingen valgt",null,"Krav til DB",{"$f":"IFERROR(DGET(Præsentation!$F$11:$T$89,\"\"&'Diagrammer-orig'!$AD73&\"\",'Diagrammer-orig'!AG$46:AG$47),0)","v":0},{"$f":"IFERROR(DGET(Præsentation!$F$11:$T$89,\"\"&'Diagrammer-orig'!$AD73&\"\",'Diagrammer-orig'!AH$46:AH$47),0)","v":0},{"$f":"IFERROR(DGET(Præsentation!$F$11:$T$89,\"\"&'Diagrammer-orig'!$AD73&\"\",'Diagrammer-orig'!AI$46:AI$47),0)","v":0},{"$f":"IFERROR(DGET(Præsentation!$F$11:$T$89,\"\"&'Diagrammer-orig'!$AD73&\"\",'Diagrammer-orig'!AJ$46:AJ$47),0)","v":0},{"$f":"IFERROR(DGET(Præsentation!$F$11:$T$89,\"\"&'Diagrammer-orig'!$AD73&\"\",'Diagrammer-orig'!AK$46:AK$47),0)","v":0},null,0,null,null,null,null,null,null,null,null,null,null,null,null,null,null,null,null,11,{"$f":"BE72","v":"Ingen valgt"},null,null,"Slagtesvin",null,null,null,null,null,null,null,null,null,null,{"$f":"-IFERROR((IFERROR(VLOOKUP(BS$48,Præsentation!$F$11:$T$80,$BD73,FALSE),0)-IFERROR(VLOOKUP(BS$49,Præsentation!$F$11:$T$80,$BD73,FALSE),0)-IFERROR(VLOOKUP(BS$50,Præsentation!$F$11:$T$80,$BD73,FALSE),0)),\"\")","v":-436.73552631578946},{"$f":"IFERROR((IFERROR(VLOOKUP(BT$48,Præsentation!$F$11:$T$80,$BD72,FALSE),0)-IFERROR(VLOOKUP(BT$49,Præsentation!$F$11:$T$80,$BD72,FALSE),0)-IFERROR(VLOOKUP(BT$50,Præsentation!$F$11:$T$80,$BD72,FALSE),0)),\"\")","v":""},{"$f":"IFERROR((IFERROR(-VLOOKUP(BU$48,Præsentation!$F$11:$T$80,$BD72,FALSE),0)-IFERROR(VLOOKUP(BU$49,Præsentation!$F$11:$T$80,$BD72,FALSE),0)-IFERROR(VLOOKUP(BU$50,Præsentation!$F$11:$T$80,$BD72,FALSE),0)),\"\")","v":18.498968705547654},{"$f":"IFERROR((IFERROR(VLOOKUP(BV$48,Præsentation!$F$11:$T$80,$BD72,FALSE),0)-IFERROR(VLOOKUP(BV$49,Præsentation!$F$11:$T$80,$BD72,FALSE),0)-IFERROR(VLOOKUP(BV$50,Præsentation!$F$11:$T$80,$BD72,FALSE),0)),\"\")","v":""},{"$f":"IFERROR((IFERROR(-VLOOKUP(BW$48,Præsentation!$F$11:$T$80,$BD72,FALSE),0)-IFERROR(VLOOKUP(BW$49,Præsentation!$F$11:$T$80,$BD72,FALSE),0)-IFERROR(VLOOKUP(BW$50,Præsentation!$F$11:$T$80,$BD72,FALSE),0)-IFERROR(VLOOKUP(BW$51,Præsentation!$F$11:$T$80,$BD72,FALSE),0)),\"\")","v":0},{"$f":"IFERROR(-(IFERROR(VLOOKUP(BX$48,Præsentation!$F$11:$T$80,$BD72,FALSE),0)-IFERROR(VLOOKUP(BX$49,Præsentation!$F$11:$T$80,$BD72,FALSE),0)-IFERROR(VLOOKUP(BX$50,Præsentation!$F$11:$T$80,$BD72,FALSE),0)),\"\")","v":""},{"$f":"SUM(BS73:BX73)","v":-418.23655761024179}]
[null,null,null,null,null,null,null,null,null,null,null,null,null,null,null,null,null,null,null,null,null,null,null,null,null,null,null,null,null,null,null,"Opnået DB",null,null,null,null,null,{"$f":"IFERROR(DGET(Præsentation!$F$11:$T$89,\"\"&'Diagrammer-orig'!$AD73&\"\",'Diagrammer-orig'!AL$46:AL$47),0)","v":0},0,null,null,null,null,null,null,null,null,null,null,null,null,null,null,null,null,12,{"$f":"BF74","v":"Ingen valgt"},{"$f":"BF28","v":"Ingen valgt"},{"$f":"IFERROR(\"Slagtevægt:     \"&ROUND(VLOOKUP($BB$60,Præsentation!$F$11:$T$80,$BD74,FALSE),1),\"\")","v":""},"Kg. Slagtesvin",{"$f":"IFERROR(BS75/IFERROR(VLOOKUP($BB$60,Præsentation!$F$11:$T$80,$BD74,FALSE),0),\"\")","v":""},{"$f":"IFERROR(BT75/IFERROR(VLOOKUP($BB$60,Præsentation!$F$11:$T$80,$BD74,FALSE),0),\"\")","v":""},{"$f":"IFERROR(BU75/IFERROR(VLOOKUP($BB$60,Præsentation!$F$11:$T$80,$BD74,FALSE),0),\"\")","v":""},{"$f":"IFERROR(BV75/IFERROR(VLOOKUP($BB$60,Præsentation!$F$11:$T$80,$BD74,FALSE),0),\"\")","v":""},{"$f":"IFERROR(BW75/IFERROR(VLOOKUP($BB$60,Præsentation!$F$11:$T$80,$BD74,FALSE),0),\"\")","v":""},{"$f":"IFERROR(BX75/IFERROR(VLOOKUP($BB$60,Præsentation!$F$11:$T$80,$BD74,FALSE),0),\"\")","v":""},{"$f":"IFERROR(ABS(IFERROR(VLOOKUP(BO$48,Præsentation!$F$11:$T$80,$BD74,FALSE),0)),\"\")","v":0}]
[null,null,null,null,null,null,null,null,null,null,null,null,null,null,null,null,null,null,null,null,null,null,null,null,null,null,null,null,null,null,null,null,null,null,null,null,null,null,null,null,null,null,null,null,null,null,null,null,null,null,null,null,null,null,null,12,{"$f":"BE74","v":"Ingen valgt"},null,null,"Slagtesvin",null,null,null,null,null,null,null,null,null,null,{"$f":"-IFERROR((IFERROR(VLOOKUP(BS$48,Præsentation!$F$11:$T$80,$BD75,FALSE),0)-IFERROR(VLOOKUP(BS$49,Præsentation!$F$11:$T$80,$BD75,FALSE),0)-IFERROR(VLOOKUP(BS$50,Præsentation!$F$11:$T$80,$BD75,FALSE),0)),\"\")","v":-387.40893619320332},{"$f":"IFERROR((IFERROR(VLOOKUP(BT$48,Præsentation!$F$11:$T$80,$BD74,FALSE),0)-IFERROR(VLOOKUP(BT$49,Præsentation!$F$11:$T$80,$BD74,FALSE),0)-IFERROR(VLOOKUP(BT$50,Præsentation!$F$11:$T$80,$BD74,FALSE),0)),\"\")","v":""},{"$f":"IFERROR((IFERROR(-VLOOKUP(BU$48,Præsentation!$F$11:$T$80,$BD74,FALSE),0)-IFERROR(VLOOKUP(BU$49,Præsentation!$F$11:$T$80,$BD74,FALSE),0)-IFERROR(VLOOKUP(BU$50,Præsentation!$F$11:$T$80,$BD74,FALSE),0)),\"\")","v":34.448430493273541},{"$f":"IFERROR((IFERROR(VLOOKUP(BV$48,Præsentation!$F$11:$T$80,$BD74,FALSE),0)-IFERROR(VLOOKUP(BV$49,Præsentation!$F$11:$T$80,$BD74,FALSE),0)-IFERROR(VLOOKUP(BV$50,Præsentation!$F$11:$T$80,$BD74,FALSE),0)),\"\")","v":""},{"$f":"IFERROR((IFERROR(-VLOOKUP(BW$48,Præsentation!$F$11:$T$80,$BD74,FALSE),0)-IFERROR(VLOOKUP(BW$49,Præsentation!$F$11:$T$80,$BD74,FALSE),0)-IFERROR(VLOOKUP(BW$50,Præsentation!$F$11:$T$80,$BD74,FALSE),0)-IFERROR(VLOOKUP(BW$51,Præsentation!$F$11:$T$80,$BD74,FALSE),0)),\"\")","v":0},{"$f":"IFERROR(-(IFERROR(VLOOKUP(BX$48,Præsentation!$F$11:$T$80,$BD74,FALSE),0)-IFERROR(VLOOKUP(BX$49,Præsentation!$F$11:$T$80,$BD74,FALSE),0)-IFERROR(VLOOKUP(BX$50,Præsentation!$F$11:$T$80,$BD74,FALSE),0)),\"\")","v":""},{"$f":"SUM(BS75:BX75)","v":-352.9605056999298}]
[null,null,null,null,null,null,null,null,null,null,null,null,null,null,null,null,null,null,null,null,null,null,null,null,null,null,null,null,null,null,null,null,null,null,null,null,null,null,null,null,null,null,null,null,null,null,null,null,null,null,null,null,null,null,null,13,{"$f":"BF76","v":"Ingen valgt"},{"$f":"BF30","v":"Ingen valgt"},{"$f":"IFERROR(\"Slagtevægt:     \"&ROUND(VLOOKUP($BB$60,Præsentation!$F$11:$T$80,$BD76,FALSE),1),\"\")","v":""},"Kg. Slagtesvin",{"$f":"IFERROR(BS77/IFERROR(VLOOKUP($BB$60,Præsentation!$F$11:$T$80,$BD76,FALSE),0),\"\")","v":""},{"$f":"IFERROR(BT77/IFERROR(VLOOKUP($BB$60,Præsentation!$F$11:$T$80,$BD76,FALSE),0),\"\")","v":""},{"$f":"IFERROR(BU77/IFERROR(VLOOKUP($BB$60,Præsentation!$F$11:$T$80,$BD76,FALSE),0),\"\")","v":""},{"$f":"IFERROR(BV77/IFERROR(VLOOKUP($BB$60,Præsentation!$F$11:$T$80,$BD76,FALSE),0),\"\")","v":""},{"$f":"IFERROR(BW77/IFERROR(VLOOKUP($BB$60,Præsentation!$F$11:$T$80,$BD76,FALSE),0),\"\")","v":""},{"$f":"IFERROR(BX77/IFERROR(VLOOKUP($BB$60,Præsentation!$F$11:$T$80,$BD76,FALSE),0),\"\")","v":""},{"$f":"IFERROR(ABS(IFERROR(VLOOKUP(BO$48,Præsentation!$F$11:$T$80,$BD76,FALSE),0)),\"\")","v":0}]
[null,null,null,null,null,null,null,null,null,null,null,null,null,null,null,null,null,null,null,null,null,null,null,null,null,null,null,null,null,null,null,null,null,null,null,null,null,null,null,null,null,null,null,null,null,null,null,null,null,null,null,null,null,null,null,13,{"$f":"BE76","v":"Ingen valgt"},null,null,"Slagtesvin",null,null,null,null,null,null,null,null,null,null,{"$f":"-IFERROR((IFERROR(VLOOKUP(BS$48,Præsentation!$F$11:$T$80,$BD77,FALSE),0)-IFERROR(VLOOKUP(BS$49,Præsentation!$F$11:$T$80,$BD77,FALSE),0)-IFERROR(VLOOKUP(BS$50,Præsentation!$F$11:$T$80,$BD77,FALSE),0)),\"\")","v":-370.84842402213422},{"$f":"IFERROR((IFERROR(VLOOKUP(BT$48,Præsentation!$F$11:$T$80,$BD76,FALSE),0)-IFERROR(VLOOKUP(BT$49,Præsentation!$F$11:$T$80,$BD76,FALSE),0)-IFERROR(VLOOKUP(BT$50,Præsentation!$F$11:$T$80,$BD76,FALSE),0)),\"\")","v":""},{"$f":"IFERROR((IFERROR(-VLOOKUP(BU$48,Præsentation!$F$11:$T$80,$BD76,FALSE),0)-IFERROR(VLOOKUP(BU$49,Præsentation!$F$11:$T$80,$BD76,FALSE),0)-IFERROR(VLOOKUP(BU$50,Præsentation!$F$11:$T$80,$BD76,FALSE),0)),\"\")","v":10.474095372429883},{"$f":"IFERROR((IFERROR(VLOOKUP(BV$48,Præsentation!$F$11:$T$80,$BD76,FALSE),0)-IFERROR(VLOOKUP(BV$49,Præsentation!$F$11:$T$80,$BD76,FALSE),0)-IFERROR(VLOOKUP(BV$50,Præsentation!$F$11:$T$80,$BD76,FALSE),0)),\"\")","v":""},{"$f":"IFERROR((IFERROR(-VLOOKUP(BW$48,Præsentation!$F$11:$T$80,$BD76,FALSE),0)-IFERROR(VLOOKUP(BW$49,Præsentation!$F$11:$T$80,$BD76,FALSE),0)-IFERROR(VLOOKUP(BW$50,Præsentation!$F$11:$T$80,$BD76,FALSE),0)-IFERROR(VLOOKUP(BW$51,Præsentation!$F$11:$T$80,$BD76,FALSE),0)),\"\")","v":0},{"$f":"IFERROR(-(IFERROR(VLOOKUP(BX$48,Præsentation!$F$11:$T$80,$BD76,FALSE),0)-IFERROR(VLOOKUP(BX$49,Præsentation!$F$11:$T$80,$BD76,FALSE),0)-IFERROR(VLOOKUP(BX$50,Præsentation!$F$11:$T$80,$BD76,FALSE),0)),\"\")","v":""},{"$f":"SUM(BS77:BX77)","v":-360.37432864970435}]
[null,null,null,null,null,null,null,null,null,null,null,null,null,null,null,null,null,null,null,null,null,null,null,null,null,null,null,null,null,null,null,null,null,null,null,null,null,null,null,null,null,null,null,null,null,null,null,null,null,null,null,null,null,null,null,14,{"$f":"BF78","v":"Ingen valgt"},{"$f":"BF32","v":"Ingen valgt"},{"$f":"IFERROR(\"Slagtevægt:     \"&ROUND(VLOOKUP($BB$60,Præsentation!$F$11:$T$80,$BD78,FALSE),1),\"\")","v":""},"Kg. Slagtesvin",{"$f":"IFERROR(BS79/IFERROR(VLOOKUP($BB$60,Præsentation!$F$11:$T$80,$BD78,FALSE),0),\"\")","v":""},{"$f":"IFERROR(BT79/IFERROR(VLOOKUP($BB$60,Præsentation!$F$11:$T$80,$BD78,FALSE),0),\"\")","v":""},{"$f":"IFERROR(BU79/IFERROR(VLOOKUP($BB$60,Præsentation!$F$11:$T$80,$BD78,FALSE),0),\"\")","v":""},{"$f":"IFERROR(BV79/IFERROR(VLOOKUP($BB$60,Præsentation!$F$11:$T$80,$BD78,FALSE),0),\"\")","v":""},{"$f":"IFERROR(BW79/IFERROR(VLOOKUP($BB$60,Præsentation!$F$11:$T$80,$BD78,FALSE),0),\"\")","v":""},{"$f":"IFERROR(BX79/IFERROR(VLOOKUP($BB$60,Præsentation!$F$11:$T$80,$BD78,FALSE),0),\"\")","v":""},{"$f":"IFERROR(ABS(IFERROR(VLOOKUP(BO$48,Præsentation!$F$11:$T$80,$BD78,FALSE),0)),\"\")","v":0}]
[null,null,null,null,null,null,null,null,null,null,null,null,null,null,null,null,null,null,null,null,null,null,null,null,null,null,null,null,null,null,null,null,null,null,null,null,null,null,null,null,null,null,null,null,null,null,null,null,null,null,null,null,null,null,null,14,{"$f":"BE78","v":"Ingen valgt"},null,null,"Slagtesvin",null,null,null,null,null,null,null,null,null,null,{"$f":"-IFERROR((IFERROR(VLOOKUP(BS$48,Præsentation!$F$11:$T$80,$BD79,FALSE),0)-IFERROR(VLOOKUP(BS$49,Præsentation!$F$11:$T$80,$BD79,FALSE),0)-IFERROR(VLOOKUP(BS$50,Præsentation!$F$11:$T$80,$BD79,FALSE),0)),\"\")","v":{"$error":"#VALUE!"}},{"$f":"IFERROR((IFERROR(VLOOKUP(BT$48,Præsentation!$F$11:$T$80,$BD78,FALSE),0)-IFERROR(VLOOKUP(BT$49,Præsentation!$F$11:$T$80,$BD78,FALSE),0)-IFERROR(VLOOKUP(BT$50,Præsentation!$F$11:$T$80,$BD78,FALSE),0)),\"\")","v":""},{"$f":"IFERROR((IFERROR(-VLOOKUP(BU$48,Præsentation!$F$11:$T$80,$BD78,FALSE),0)-IFERROR(VLOOKUP(BU$49,Præsentation!$F$11:$T$80,$BD78,FALSE),0)-IFERROR(VLOOKUP(BU$50,Præsentation!$F$11:$T$80,$BD78,FALSE),0)),\"\")","v":""},{"$f":"IFERROR((IFERROR(VLOOKUP(BV$48,Præsentation!$F$11:$T$80,$BD78,FALSE),0)-IFERROR(VLOOKUP(BV$49,Præsentation!$F$11:$T$80,$BD78,FALSE),0)-IFERROR(VLOOKUP(BV$50,Præsentation!$F$11:$T$80,$BD78,FALSE),0)),\"\")","v":""},{"$f":"IFERROR((IFERROR(-VLOOKUP(BW$48,Præsentation!$F$11:$T$80,$BD78,FALSE),0)-IFERROR(VLOOKUP(BW$49,Præsentation!$F$11:$T$80,$BD78,FALSE),0)-IFERROR(VLOOKUP(BW$50,Præsentation!$F$11:$T$80,$BD78,FALSE),0)-IFERROR(VLOOKUP(BW$51,Præsentation!$F$11:$T$80,$BD78,FALSE),0)),\"\")","v":0},{"$f":"IFERROR(-(IFERROR(VLOOKUP(BX$48,Præsentation!$F$11:$T$80,$BD78,FALSE),0)-IFERROR(VLOOKUP(BX$49,Præsentation!$F$11:$T$80,$BD78,FALSE),0)-IFERROR(VLOOKUP(BX$50,Præsentation!$F$11:$T$80,$BD78,FALSE),0)),\"\")","v":""},{"$f":"SUM(BS79:BX79)","v":{"$error":"#VALUE!"}}]
[null,null,null,null,null,null,null,null,null,null,null,null,null,null,null,null,null,null,null,null,null,null,null,null,null,null,null,null,null,null,null,null,null,null,null,null,null,null,null,null,null,null,null,null,null,null,null,null,null,null,null,null,null,null,null,null,null,null,null,"0=negative",{"$f":"IFERROR(ABS(IFERROR(VLOOKUP(BI$2,Præsentation!$F$11:$T$80,$BD80,FALSE),0)-IFERROR(VLOOKUP(BI$3,Præsentation!$F$11:$T$80,$BD80,FALSE),0)-IFERROR(VLOOKUP(BI$4,Præsentation!$F$11:$T$80,$BD80,FALSE),0))/IFERROR(VLOOKUP($BB$14,Præsentation!$F$11:$T$80,$BD80,FALSE),0),\"\")","v":""},{"$f":"IFERROR(ABS(IFERROR(VLOOKUP(BJ$2,Præsentation!$F$11:$T$80,$BD80,FALSE),0)-IFERROR(VLOOKUP(BJ$3,Præsentation!$F$11:$T$80,$BD80,FALSE),0)-IFERROR(VLOOKUP(BJ$4,Præsentation!$F$11:$T$80,$BD80,FALSE),0))/IFERROR(VLOOKUP($BB$14,Præsentation!$F$11:$T$80,$BD80,FALSE),0),\"\")","v":""},{"$f":"IFERROR(ABS(IFERROR(VLOOKUP(BK$2,Præsentation!$F$11:$T$80,$BD80,FALSE),0)-IFERROR(VLOOKUP(BK$3,Præsentation!$F$11:$T$80,$BD80,FALSE),0)-IFERROR(VLOOKUP(BK$4,Præsentation!$F$11:$T$80,$BD80,FALSE),0))/IFERROR(VLOOKUP($BB$14,Præsentation!$F$11:$T$80,$BD80,FALSE),0),\"\")","v":""},{"$f":"IFERROR(ABS(IFERROR(VLOOKUP(BL$2,Præsentation!$F$11:$T$80,$BD80,FALSE),0)-IFERROR(VLOOKUP(BL$3,Præsentation!$F$11:$T$80,$BD80,FALSE),0)-IFERROR(VLOOKUP(BL$4,Præsentation!$F$11:$T$80,$BD80,FALSE),0))/IFERROR(VLOOKUP($BB$14,Præsentation!$F$11:$T$80,$BD80,FALSE),0),\"\")","v":""},{"$f":"IFERROR(ABS(IFERROR(VLOOKUP(BM$2,Præsentation!$F$11:$T$80,$BD80,FALSE),0)-IFERROR(VLOOKUP(BM$3,Præsentation!$F$11:$T$80,$BD80,FALSE),0)-IFERROR(VLOOKUP(BM$4,Præsentation!$F$11:$T$80,$BD80,FALSE),0))/IFERROR(VLOOKUP($BB$14,Præsentation!$F$11:$T$80,$BD80,FALSE),0),\"\")","v":""},{"$f":"IFERROR(ABS(IFERROR(VLOOKUP(BN$2,Præsentation!$F$11:$T$80,$BD80,FALSE),0)-IFERROR(VLOOKUP(BN$3,Præsentation!$F$11:$T$80,$BD80,FALSE),0)-IFERROR(VLOOKUP(BN$4,Præsentation!$F$11:$T$80,$BD80,FALSE),0))/IFERROR(VLOOKUP($BB$14,Præsentation!$F$11:$T$80,$BD80,FALSE),0),\"\")","v":""},{"$f":"IFERROR(ABS(IFERROR(VLOOKUP(BO$2,Præsentation!$F$11:$T$80,$BD80,FALSE),0)-IFERROR(VLOOKUP(BO$3,Præsentation!$F$11:$T$80,$BD80,FALSE),0)-IFERROR(VLOOKUP(BO$5,Præsentation!$F$11:$T$80,$BD80,FALSE),0))/IFERROR(VLOOKUP($BB$14,Præsentation!$F$11:$T$80,$BD80,FALSE),0),\"\")","v":""},null,null,null,{"$f":"IF(BI80=0,1,0)","v":0},{"$f":"IF(BJ80=0,1,0)","v":0},null,{"$f":"IF(BL80=0,1,0)","v":0},{"$f":"IF(BM80=0,1,0)","v":0},{"$f":"IF(BN80=0,1,0)","v":0},{"$f":"IF(BO80=0,1,0)","v":0},{"$f":"IF(BP80=0,1,0)","v":1},{"$f":"IF(BQ80=0,1,0)","v":1}]
[]
[]
[]
[]
[]
[]
[]
[]
[]
[]
[]
[]
[null,null,null,null,null,null,null,null,null,null,null,null,null,null,null,null,null,null,null,null,null,null,null,null,null,null,null,null,null,null,null,null,null,null,null,null,null,null,null,null,null,null,null,null,null,null,null,null,null,null,null,null,null,"SVIN ALLE, KRAV TIL DB",null,null,null,null,null,null,"Løbenummer/","Løbenummer/","Løbenummer/","Løbenummer/","Løbenummer/","Løbenummer/","Løbenummer/","Løbenummer/","Løbenummer/",null,"Løbenummer/","Løbenummer/","Løbenummer/","Løbenummer/","Løbenummer/","Løbenummer/"]
[null,null,null,null,null,null,null,null,null,null,null,null,null,null,null,null,null,null,null,null,null,null,null,null,null,null,null,null,null,null,null,null,null,null,null,null,null,null,null,null,null,null,null,null,null,null,null,null,null,null,null,null,null,null,null,null,null,null,null,null,"Bruttoudbytte i alt","Foderomkostninger pr. enhed","Dyrlæge og medicin","Arbejdsomkostninger pr. enhed","Energi svin","kapitalomkostninger i alt","Fremstillingspris pr. frav. smågris",null,"Øvrige omkostninger pr. enhed",null,"Bruttoudbytte i alt","Foderomkostninger pr. enhed","Dyrlæge og medicin","Arbejdsomkostninger pr. enhed","Energi svin","kapitalomkostninger i alt"]
[null,null,null,null,null,null,null,null,null,null,null,null,null,null,null,null,null,null,null,null,null,null,null,null,null,null,null,null,null,null,null,null,null,null,null,null,null,null,null,null,null,null,null,null,null,null,null,null,null,null,null,null,null,null,null,null,null,null,null,null,"Salg/overførsel smågrise",null,"Avl, rådgivning og kontrol",null,"vedligehold",null,null,null,null,null,"salg/overførsel smågrise",null,"Avl, rådgivning og kontrol",null,"vedligehold"]
[null,null,null,null,null,null,null,null,null,null,null,null,null,null,null,null,null,null,null,null,null,null,null,null,null,null,null,null,null,null,null,null,null,null,null,null,null,null,null,null,null,null,null,null,null,null,null,null,null,null,null,null,null,null,null,null,null,"Slagtesvin",null,null,"værdiændring besætning",null,"Diverse vedr. husdyr",null,"forsikring",null,null,null,null,null,"værdiændring besætning",null,"Diverse vedr. husdyr",null,"forsikring"]
[null,null,null,null,null,null,null,null,null,null,null,null,null,null,null,null,null,null,null,null,null,null,null,null,null,null,null,null,null,null,null,null,null,null,null,null,null,null,null,null,null,null,null,null,null,null,null,null,null,null,null,null,"Akserne","Primær","Sekundær",null,null,"Søer med smågrise","Løbenummer/",null,"Løbenummer/","Løbenummer/","Løbenummer/","Løbenummer/","Løbenummer/","Løbenummer/","Løbenummer/",null,null,null,null,null,null,null,"diverse kapacitetsomkostninger"]
[null,null,null,null,null,null,null,null,null,null,null,null,null,null,null,null,null,null,null,null,null,null,null,null,null,null,null,null,null,null,null,null,null,null,null,null,null,null,null,null,null,null,null,null,null,null,null,null,null,null,null,null,"Min værdi",{"$f":"MIN(BL100:BL124)","v":0},{"$f":"MIN(BS101:BS125)","v":{"$error":"#VALUE!"}},null,null,"Søer med fravænnede",null,null,"Arbejdsomkostninger pr. enhed","Bygninger pr. enhed","Inventar inkl. energi pr. enhed","Forrentning driftskapital pr. enhed","Øvrige omkostninger pr. enhed","Dækningsbidrag","Krav til dækningsbidrag pr. enhed"]
[null,null,null,null,null,null,null,null,null,null,null,null,null,null,null,null,null,null,null,null,null,null,null,null,null,null,null,null,null,null,null,null,null,null,null,null,null,null,null,null,null,null,null,null,null,null,null,null,null,null,null,null,"Skale. min",{"$f":"IF(BB98<0,BB98*1.1,BB98*0.9)","v":0},{"$f":"IF(BC98<0,BC98*1.1,BC98*0.9)","v":{"$error":"#VALUE!"}},null,null,null,null,null,"Arbejdsomkostninger","Bygninger","Inventar inkl. energi","Forrentning driftskapital","Øvrige omkostninger","Dækningsbidrag","Total",null,null,null,"Køb af grise og andre indtægter","Foderomkostninger","Dyrlæge, medicin og diverse","Arbejdsomkostninger","Energi, vedl. bygn. mv.","Forrentning driftskapital og øvrige omk.","(total (bruges kun til at finde størrelsen af grafen))",{"$f":"BP99","v":0},{"$f":"BQ99","v":0}]
[null,null,null,null,null,null,null,null,null,null,null,null,null,null,null,null,null,null,null,null,null,null,null,null,null,null,null,null,null,null,null,null,null,null,null,null,null,null,null,null,null,null,null,null,null,null,null,null,null,null,null,null,"Max værdi",{"$f":"MAX(BN100:BO125)","v":0},{"$f":"MAX(BY100:BY125)","v":{"$error":"#VALUE!"}},2,{"$f":"BF100","v":"Gns. BC    166 ejd."},{"$f":"BF54","v":"Gns. BC    166 ejd."},{"$f":"IFERROR(\"Grise pr årsso: \"&ROUND(VLOOKUP($BB$106,Præsentation!$F$11:$T$80,$BD100,FALSE),1),\"\")","v":""},"Krav til DB",{"$f":"IFERROR(DGET(Præsentation!$F$11:$T$89,\"\"&'Diagrammer-orig'!$BF100&\"\",'Diagrammer-orig'!BI$97:BI$98),0)","v":0},{"$f":"IFERROR(DGET(Præsentation!$F$11:$T$89,\"\"&'Diagrammer-orig'!$BF100&\"\",'Diagrammer-orig'!BJ$97:BJ$98),0)","v":0},{"$f":"IFERROR(DGET(Præsentation!$F$11:$T$89,\"\"&'Diagrammer-orig'!$BF100&\"\",'Diagrammer-orig'!BK$97:BK$98),0)","v":0},{"$f":"IFERROR(DGET(Præsentation!$F$11:$T$89,\"\"&'Diagrammer-orig'!$BF100&\"\",'Diagrammer-orig'!BL$97:BL$98),0)","v":0},{"$f":"IFERROR(DGET(Præsentation!$F$11:$T$89,\"\"&'Diagrammer-orig'!$BF100&\"\",'Diagrammer-orig'!BM$97:BM$98),0)","v":0},null,{"$f":"IFERROR(DGET(Præsentation!$F$11:$T$89,\"\"&'Diagrammer-orig'!$BF100&\"\",'Diagrammer-orig'!BO$97:BO$98),0)","v":0},{"$f":"IFERROR(ABS(IFERROR(VLOOKUP(BP$2,Præsentation!$F$11:$T$80,$BD100,FALSE),0)+IFERROR(VLOOKUP(BP$3,Præsentation!$F$11:$T$80,$BD100,FALSE),0)+IFERROR(VLOOKUP(BP$4,Præsentation!$F$11:$T$80,$BD100,FALSE),0)+IFERROR(VLOOKUP(BP$5,Præsentation!$F$11:$T$80,$BD100,FALSE),0))/IFERROR(VLOOKUP($BB$14,Præsentation!$F$11:$T$80,$BD100,FALSE),0),\"\")","v":""}]
[null,null,null,null,null,null,null,null,null,null,null,null,null,null,null,null,null,null,null,null,null,null,null,null,null,null,null,null,null,null,null,null,null,null,null,null,null,null,null,null,null,null,null,null,null,null,null,null,null,null,null,null,"Skale. Max",{"$f":"IF(BB100>0,BB100*1.1,BB100*0.9)","v":0},{"$f":"IF(BC100>0,BC100*1.1,BC100*0.9)","v":{"$error":"#VALUE!"}},2,{"$f":"BE100","v":"Gns. BC    166 ejd."},null,null,"Opnået DB",null,null,null,null,null,{"$f":"IFERROR(DGET(Præsentation!$F$11:$T$89,\"\"&'Diagrammer-orig'!$BF100&\"\",'Diagrammer-orig'!BN$97:BN$98),0)","v":0},null,null,null,null,{"$f":"-IFERROR((IFERROR(VLOOKUP(BS$94,Præsentation!$F$11:$T$80,$BD101,FALSE),0)-IFERROR(VLOOKUP(BS$95,Præsentation!$F$11:$T$80,$BD101,FALSE),0)-IFERROR(VLOOKUP(BS$96,Præsentation!$F$11:$T$80,$BD101,FALSE),0)),\"\")","v":-382.64996373714609},{"$f":"IFERROR((IFERROR(VLOOKUP(BT$94,Præsentation!$F$11:$T$80,$BD101,FALSE),0)-IFERROR(VLOOKUP(BT$95,Præsentation!$F$11:$T$80,$BD101,FALSE),0)-IFERROR(VLOOKUP(BT$96,Præsentation!$F$11:$T$80,$BD101,FALSE),0)),\"\")","v":""},{"$f":"IFERROR((IFERROR(-VLOOKUP(BU$94,Præsentation!$F$11:$T$80,$BD100,FALSE),0)-IFERROR(VLOOKUP(BU$95,Præsentation!$F$11:$T$80,$BD100,FALSE),0)-IFERROR(VLOOKUP(BU$96,Præsentation!$F$11:$T$80,$BD100,FALSE),0)),\"\")","v":21.513980193574568},{"$f":"IFERROR((IFERROR(VLOOKUP(BV$94,Præsentation!$F$11:$T$80,$BD100,FALSE),0)-IFERROR(VLOOKUP(BV$95,Præsentation!$F$11:$T$80,$BD100,FALSE),0)-IFERROR(VLOOKUP(BV$96,Præsentation!$F$11:$T$80,$BD100,FALSE),0)),\"\")","v":""},{"$f":"IFERROR((IFERROR(-VLOOKUP(BW$94,Præsentation!$F$11:$T$80,$BD100,FALSE),0)-IFERROR(VLOOKUP(BW$95,Præsentation!$F$11:$T$80,$BD100,FALSE),0)-IFERROR(VLOOKUP(BW$96,Præsentation!$F$11:$T$80,$BD100,FALSE),0)-IFERROR(VLOOKUP(BW$97,Præsentation!$F$11:$T$80,$BD100,FALSE),0)),\"\")","v":0},{"$f":"IFERROR(-(IFERROR(VLOOKUP(BX$94,Præsentation!$F$11:$T$80,$BD100,FALSE),0)-IFERROR(VLOOKUP(BX$95,Præsentation!$F$11:$T$80,$BD100,FALSE),0)-IFERROR(VLOOKUP(BX$96,Præsentation!$F$11:$T$80,$BD100,FALSE),0)),\"\")","v":""},{"$f":"SUM(BS101:BX101)","v":-361.13598354357151}]
[null,null,null,null,null,null,null,null,null,null,null,null,null,null,null,null,null,null,null,null,null,null,null,null,null,null,null,null,null,null,null,null,null,null,null,null,null,null,null,null,null,null,null,null,null,null,null,null,null,null,null,null,"Forhold (mellem de to akser)",null,{"$f":"MAX((BC99/BB99),BC101/BB101)","v":{"$error":"#VALUE!"}},3,{"$f":"BF102","v":"Gns. BC Top 10"},{"$f":"BF56","v":"Gns. BC Top 10"},{"$f":"IFERROR(\"Grise pr årsso: \"&ROUND(VLOOKUP($BB$106,Præsentation!$F$11:$T$80,$BD102,FALSE),1),\"\")","v":""},"Krav til DB",{"$f":"IFERROR(DGET(Præsentation!$F$11:$T$89,\"\"&'Diagrammer-orig'!$BF102&\"\",'Diagrammer-orig'!BI$97:BI$98),0)","v":0},{"$f":"IFERROR(DGET(Præsentation!$F$11:$T$89,\"\"&'Diagrammer-orig'!$BF102&\"\",'Diagrammer-orig'!BJ$97:BJ$98),0)","v":0},{"$f":"IFERROR(DGET(Præsentation!$F$11:$T$89,\"\"&'Diagrammer-orig'!$BF102&\"\",'Diagrammer-orig'!BK$97:BK$98),0)","v":0},{"$f":"IFERROR(DGET(Præsentation!$F$11:$T$89,\"\"&'Diagrammer-orig'!$BF102&\"\",'Diagrammer-orig'!BL$97:BL$98),0)","v":0},{"$f":"IFERROR(DGET(Præsentation!$F$11:$T$89,\"\"&'Diagrammer-orig'!$BF102&\"\",'Diagrammer-orig'!BM$97:BM$98),0)","v":0},{"$f":"IFERROR(BX103/IFERROR(VLOOKUP($BB$106,Præsentation!$F$11:$T$80,$BD102,FALSE),0),\"\")","v":""},{"$f":"IFERROR(DGET(Præsentation!$F$11:$T$89,\"\"&'Diagrammer-orig'!$BF102&\"\",'Diagrammer-orig'!BO$97:BO$98),0)","v":0}]
[null,null,null,null,null,null,null,null,null,null,null,null,null,null,null,null,null,null,null,null,null,null,null,null,null,null,null,null,null,null,null,null,null,null,null,null,null,null,null,null,null,null,null,null,null,null,null,null,null,null,null,null,"Min y-akse",{"$f":"BB99","v":0},{"$f":"IFERROR(BB103*BC102,0)","v":0},3,{"$f":"BE102","v":"Gns. BC Top 10"},null,null,"Opnået DB",null,null,null,null,null,{"$f":"IFERROR(DGET(Præsentation!$F$11:$T$89,\"\"&'Diagrammer-orig'!$BF102&\"\",'Diagrammer-orig'!BN$97:BN$98),0)","v":0},null,null,null,null,{"$f":"-IFERROR((IFERROR(VLOOKUP(BS$94,Præsentation!$F$11:$T$80,$BD103,FALSE),0)-IFERROR(VLOOKUP(BS$95,Præsentation!$F$11:$T$80,$BD103,FALSE),0)-IFERROR(VLOOKUP(BS$96,Præsentation!$F$11:$T$80,$BD103,FALSE),0)),\"\")","v":-413.70146868006844},{"$f":"IFERROR((IFERROR(VLOOKUP(BT$94,Præsentation!$F$11:$T$80,$BD103,FALSE),0)-IFERROR(VLOOKUP(BT$95,Præsentation!$F$11:$T$80,$BD103,FALSE),0)-IFERROR(VLOOKUP(BT$96,Præsentation!$F$11:$T$80,$BD103,FALSE),0)),\"\")","v":""},{"$f":"IFERROR((IFERROR(-VLOOKUP(BU$94,Præsentation!$F$11:$T$80,$BD102,FALSE),0)-IFERROR(VLOOKUP(BU$95,Præsentation!$F$11:$T$80,$BD102,FALSE),0)-IFERROR(VLOOKUP(BU$96,Præsentation!$F$11:$T$80,$BD102,FALSE),0)),\"\")","v":18.792322495314391},{"$f":"IFERROR((IFERROR(VLOOKUP(BV$94,Præsentation!$F$11:$T$80,$BD102,FALSE),0)-IFERROR(VLOOKUP(BV$95,Præsentation!$F$11:$T$80,$BD102,FALSE),0)-IFERROR(VLOOKUP(BV$96,Præsentation!$F$11:$T$80,$BD102,FALSE),0)),\"\")","v":""},{"$f":"IFERROR((IFERROR(-VLOOKUP(BW$94,Præsentation!$F$11:$T$80,$BD102,FALSE),0)-IFERROR(VLOOKUP(BW$95,Præsentation!$F$11:$T$80,$BD102,FALSE),0)-IFERROR(VLOOKUP(BW$96,Præsentation!$F$11:$T$80,$BD102,FALSE),0)-IFERROR(VLOOKUP(BW$97,Præsentation!$F$11:$T$80,$BD102,FALSE),0)),\"\")","v":0},{"$f":"IFERROR(-(IFERROR(VLOOKUP(BX$48,Præsentation!$F$11:$T$80,$BD102,FALSE),0)-IFERROR(VLOOKUP(BX$49,Præsentation!$F$11:$T$80,$BD102,FALSE),0)-IFERROR(VLOOKUP(BX$50,Præsentation!$F$11:$T$80,$BD102,FALSE),0)),\"\")","v":""},{"$f":"SUM(BS103:BX103)","v":-394.90914618475404}]
[null,null,null,null,null,null,null,null,null,null,null,null,null,null,null,null,null,null,null,null,null,null,null,null,null,null,null,null,null,null,null,null,null,null,null,null,null,null,null,null,null,null,null,null,null,null,null,null,null,null,null,null,"Max y-akse",{"$f":"BB101","v":0},{"$f":"IFERROR(BB104*BC102,0)","v":0},4,{"$f":"BF104","v":"Gns. Alle Kreds"},{"$f":"BF58","v":"Gns. Alle Kreds"},{"$f":"IFERROR(\"Grise pr årsso: \"&ROUND(VLOOKUP($BB$106,Præsentation!$F$11:$T$80,$BD104,FALSE),1),\"\")","v":""},"Krav til DB",{"$f":"IFERROR(DGET(Præsentation!$F$11:$T$89,\"\"&'Diagrammer-orig'!$BF104&\"\",'Diagrammer-orig'!BI$97:BI$98),0)","v":0},{"$f":"IFERROR(DGET(Præsentation!$F$11:$T$89,\"\"&'Diagrammer-orig'!$BF104&\"\",'Diagrammer-orig'!BJ$97:BJ$98),0)","v":0},{"$f":"IFERROR(DGET(Præsentation!$F$11:$T$89,\"\"&'Diagrammer-orig'!$BF104&\"\",'Diagrammer-orig'!BK$97:BK$98),0)","v":0},{"$f":"IFERROR(DGET(Præsentation!$F$11:$T$89,\"\"&'Diagrammer-orig'!$BF104&\"\",'Diagrammer-orig'!BL$97:BL$98),0)","v":0},{"$f":"IFERROR(DGET(Præsentation!$F$11:$T$89,\"\"&'Diagrammer-orig'!$BF104&\"\",'Diagrammer-orig'!BM$97:BM$98),0)","v":0},{"$f":"IFERROR(BX105/IFERROR(VLOOKUP($BB$106,Præsentation!$F$11:$T$80,$BD104,FALSE),0),\"\")","v":""},{"$f":"IFERROR(DGET(Præsentation!$F$11:$T$89,\"\"&'Diagrammer-orig'!$BF104&\"\",'Diagrammer-orig'!BO$97:BO$98),0)","v":0}]
[null,null,null,null,null,null,null,null,null,null,null,null,null,null,null,null,null,null,null,null,null,null,null,null,null,null,null,null,null,null,null,null,null,null,null,null,null,null,null,null,null,null,null,null,null,null,null,null,null,null,null,null,null,"#GS",null,4,{"$f":"BE104","v":"Gns. Alle Kreds"},null,null,"Opnået DB",null,null,null,null,null,{"$f":"IFERROR(DGET(Præsentation!$F$11:$T$89,\"\"&'Diagrammer-orig'!$BF104&\"\",'Diagrammer-orig'!BN$97:BN$98),0)","v":0},null,null,null,null,{"$f":"-IFERROR((IFERROR(VLOOKUP(BS$94,Præsentation!$F$11:$T$80,$BD105,FALSE),0)-IFERROR(VLOOKUP(BS$95,Præsentation!$F$11:$T$80,$BD105,FALSE),0)-IFERROR(VLOOKUP(BS$96,Præsentation!$F$11:$T$80,$BD105,FALSE),0)),\"\")","v":{"$error":"#VALUE!"}},{"$f":"IFERROR((IFERROR(VLOOKUP(BT$94,Præsentation!$F$11:$T$80,$BD105,FALSE),0)-IFERROR(VLOOKUP(BT$95,Præsentation!$F$11:$T$80,$BD105,FALSE),0)-IFERROR(VLOOKUP(BT$96,Præsentation!$F$11:$T$80,$BD105,FALSE),0)),\"\")","v":""},{"$f":"IFERROR((IFERROR(-VLOOKUP(BU$94,Præsentation!$F$11:$T$80,$BD104,FALSE),0)-IFERROR(VLOOKUP(BU$95,Præsentation!$F$11:$T$80,$BD104,FALSE),0)-IFERROR(VLOOKUP(BU$96,Præsentation!$F$11:$T$80,$BD104,FALSE),0)),\"\")","v":""},{"$f":"IFERROR((IFERROR(VLOOKUP(BV$94,Præsentation!$F$11:$T$80,$BD104,FALSE),0)-IFERROR(VLOOKUP(BV$95,Præsentation!$F$11:$T$80,$BD104,FALSE),0)-IFERROR(VLOOKUP(BV$96,Præsentation!$F$11:$T$80,$BD104,FALSE),0)),\"\")","v":""},{"$f":"IFERROR((IFERROR(-VLOOKUP(BW$94,Præsentation!$F$11:$T$80,$BD104,FALSE),0)-IFERROR(VLOOKUP(BW$95,Præsentation!$F$11:$T$80,$BD104,FALSE),0)-IFERROR(VLOOKUP(BW$96,Præsentation!$F$11:$T$80,$BD104,FALSE),0)-IFERROR(VLOOKUP(BW$97,Præsentation!$F$11:$T$80,$BD104,FALSE),0)),\"\")","v":0},{"$f":"IFERROR(-(IFERROR(VLOOKUP(BX$48,Præsentation!$F$11:$T$80,$BD104,FALSE),0)-IFERROR(VLOOKUP(BX$49,Præsentation!$F$11:$T$80,$BD104,FALSE),0)-IFERROR(VLOOKUP(BX$50,Præsentation!$F$11:$T$80,$BD104,FALSE),0)),\"\")","v":""},{"$f":"SUM(BS105:BX105)","v":{"$error":"#VALUE!"}}]
[null,null,null,null,null,null,null,null,null,null,null,null,null,null,null,null,null,null,null,null,null,null,null,null,null,null,null,null,null,null,null,null,null,null,null,null,null,null,null,null,null,null,null,null,null,null,null,null,null,null,null,null,null,"Fravænnede grise pr. årsso"," ",5,{"$f":"BF106","v":"Ingen valgt"},{"$f":"BF60","v":"Ingen valgt"},{"$f":"IFERROR(\"Grise pr årsso: \"&ROUND(VLOOKUP($BB$106,Præsentation!$F$11:$T$80,$BD106,FALSE),1),\"\")","v":""},"Krav til DB",{"$f":"IFERROR(DGET(Præsentation!$F$11:$T$89,\"\"&'Diagrammer-orig'!$BF106&\"\",'Diagrammer-orig'!BI$97:BI$98),0)","v":0},{"$f":"IFERROR(DGET(Præsentation!$F$11:$T$89,\"\"&'Diagrammer-orig'!$BF106&\"\",'Diagrammer-orig'!BJ$97:BJ$98),0)","v":0},{"$f":"IFERROR(DGET(Præsentation!$F$11:$T$89,\"\"&'Diagrammer-orig'!$BF106&\"\",'Diagrammer-orig'!BK$97:BK$98),0)","v":0},{"$f":"IFERROR(DGET(Præsentation!$F$11:$T$89,\"\"&'Diagrammer-orig'!$BF106&\"\",'Diagrammer-orig'!BL$97:BL$98),0)","v":0},{"$f":"IFERROR(DGET(Præsentation!$F$11:$T$89,\"\"&'Diagrammer-orig'!$BF106&\"\",'Diagrammer-orig'!BM$97:BM$98),0)","v":0},{"$f":"IFERROR(BX107/IFERROR(VLOOKUP($BB$106,Præsentation!$F$11:$T$80,$BD106,FALSE),0),\"\")","v":""},{"$f":"IFERROR(DGET(Præsentation!$F$11:$T$89,\"\"&'Diagrammer-orig'!$BF106&\"\",'Diagrammer-orig'!BO$97:BO$98),0)","v":0}]
[null,null,null,null,null,null,null,null,null,null,null,null,null,null,null,null,null,null,null,null,null,null,null,null,null,null,null,null,null,null,null,null,null,null,null,null,null,null,null,null,null,null,null,null,null,null,null,null,null,null,null,null,null,null,null,5,{"$f":"BE106","v":"Ingen valgt"},null,null,"Opnået DB",null,null,null,null,null,{"$f":"IFERROR(DGET(Præsentation!$F$11:$T$89,\"\"&'Diagrammer-orig'!$BF106&\"\",'Diagrammer-orig'!BN$97:BN$98),0)","v":0},null,null,null,null,{"$f":"-IFERROR((IFERROR(VLOOKUP(BS$94,Præsentation!$F$11:$T$80,$BD107,FALSE),0)-IFERROR(VLOOKUP(BS$95,Præsentation!$F$11:$T$80,$BD107,FALSE),0)-IFERROR(VLOOKUP(BS$96,Præsentation!$F$11:$T$80,$BD107,FALSE),0)),\"\")","v":{"$error":"#VALUE!"}},{"$f":"IFERROR((IFERROR(VLOOKUP(BT$94,Præsentation!$F$11:$T$80,$BD107,FALSE),0)-IFERROR(VLOOKUP(BT$95,Præsentation!$F$11:$T$80,$BD107,FALSE),0)-IFERROR(VLOOKUP(BT$96,Præsentation!$F$11:$T$80,$BD107,FALSE),0)),\"\")","v":""},{"$f":"IFERROR((IFERROR(-VLOOKUP(BU$94,Præsentation!$F$11:$T$80,$BD106,FALSE),0)-IFERROR(VLOOKUP(BU$95,Præsentation!$F$11:$T$80,$BD106,FALSE),0)-IFERROR(VLOOKUP(BU$96,Præsentation!$F$11:$T$80,$BD106,FALSE),0)),\"\")","v":""},{"$f":"IFERROR((IFERROR(VLOOKUP(BV$94,Præsentation!$F$11:$T$80,$BD106,FALSE),0)-IFERROR(VLOOKUP(BV$95,Præsentation!$F$11:$T$80,$BD106,FALSE),0)-IFERROR(VLOOKUP(BV$96,Præsentation!$F$11:$T$80,$BD106,FALSE),0)),\"\")","v":""},{"$f":"IFERROR((IFERROR(-VLOOKUP(BW$94,Præsentation!$F$11:$T$80,$BD106,FALSE),0)-IFERROR(VLOOKUP(BW$95,Præsentation!$F$11:$T$80,$BD106,FALSE),0)-IFERROR(VLOOKUP(BW$96,Præsentation!$F$11:$T$80,$BD106,FALSE),0)-IFERROR(VLOOKUP(BW$97,Præsentation!$F$11:$T$80,$BD106,FALSE),0)),\"\")","v":0},{"$f":"IFERROR(-(IFERROR(VLOOKUP(BX$48,Præsentation!$F$11:$T$80,$BD106,FALSE),0)-IFERROR(VLOOKUP(BX$49,Præsentation!$F$11:$T$80,$BD106,FALSE),0)-IFERROR(VLOOKUP(BX$50,Præsentation!$F$11:$T$80,$BD106,FALSE),0)),\"\")","v":""},{"$f":"SUM(BS107:BX107)","v":{"$error":"#VALUE!"}}]
[null,null,null,null,null,null,null,null,null,null,null,null,null,null,null,null,null,null,null,null,null,null,null,null,null,null,null,null,null,null,null,null,null,null,null,null,null,null,null,null,null,null,null,null,null,null,null,null,null,null,null,null,null,null,null,6,{"$f":"BF108","v":"Ingen valgt"},{"$f":"BF62","v":"Ingen valgt"},{"$f":"IFERROR(\"Grise pr årsso: \"&ROUND(VLOOKUP($BB$106,Præsentation!$F$11:$T$80,$BD108,FALSE),1),\"\")","v":""},"Krav til DB",{"$f":"IFERROR(DGET(Præsentation!$F$11:$T$89,\"\"&'Diagrammer-orig'!$BF108&\"\",'Diagrammer-orig'!BI$97:BI$98),0)","v":0},{"$f":"IFERROR(DGET(Præsentation!$F$11:$T$89,\"\"&'Diagrammer-orig'!$BF108&\"\",'Diagrammer-orig'!BJ$97:BJ$98),0)","v":0},{"$f":"IFERROR(DGET(Præsentation!$F$11:$T$89,\"\"&'Diagrammer-orig'!$BF108&\"\",'Diagrammer-orig'!BK$97:BK$98),0)","v":0},{"$f":"IFERROR(DGET(Præsentation!$F$11:$T$89,\"\"&'Diagrammer-orig'!$BF108&\"\",'Diagrammer-orig'!BL$97:BL$98),0)","v":0},{"$f":"IFERROR(DGET(Præsentation!$F$11:$T$89,\"\"&'Diagrammer-orig'!$BF108&\"\",'Diagrammer-orig'!BM$97:BM$98),0)","v":0},{"$f":"IFERROR(BX109/IFERROR(VLOOKUP($BB$106,Præsentation!$F$11:$T$80,$BD108,FALSE),0),\"\")","v":""},{"$f":"IFERROR(DGET(Præsentation!$F$11:$T$89,\"\"&'Diagrammer-orig'!$BF108&\"\",'Diagrammer-orig'!BO$97:BO$98),0)","v":0}]
[null,null,null,null,null,null,null,null,null,null,null,null,null,null,null,null,null,null,null,null,null,null,null,null,null,null,null,null,null,null,null,null,null,null,null,null,null,null,null,null,null,null,null,null,null,null,null,null,null,null,null,null,null,null,null,6,{"$f":"BE108","v":"Ingen valgt"},null,null,"Opnået DB",null,null,null,null,null,{"$f":"IFERROR(DGET(Præsentation!$F$11:$T$89,\"\"&'Diagrammer-orig'!$BF108&\"\",'Diagrammer-orig'!BN$97:BN$98),0)","v":0},null,null,null,null,{"$f":"-IFERROR((IFERROR(VLOOKUP(BS$94,Præsentation!$F$11:$T$80,$BD109,FALSE),0)-IFERROR(VLOOKUP(BS$95,Præsentation!$F$11:$T$80,$BD109,FALSE),0)-IFERROR(VLOOKUP(BS$96,Præsentation!$F$11:$T$80,$BD109,FALSE),0)),\"\")","v":-426.72641610450796},{"$f":"IFERROR((IFERROR(VLOOKUP(BT$94,Præsentation!$F$11:$T$80,$BD109,FALSE),0)-IFERROR(VLOOKUP(BT$95,Præsentation!$F$11:$T$80,$BD109,FALSE),0)-IFERROR(VLOOKUP(BT$96,Præsentation!$F$11:$T$80,$BD109,FALSE),0)),\"\")","v":""},{"$f":"IFERROR((IFERROR(-VLOOKUP(BU$94,Præsentation!$F$11:$T$80,$BD108,FALSE),0)-IFERROR(VLOOKUP(BU$95,Præsentation!$F$11:$T$80,$BD108,FALSE),0)-IFERROR(VLOOKUP(BU$96,Præsentation!$F$11:$T$80,$BD108,FALSE),0)),\"\")","v":14.342649105899989},{"$f":"IFERROR((IFERROR(VLOOKUP(BV$94,Præsentation!$F$11:$T$80,$BD108,FALSE),0)-IFERROR(VLOOKUP(BV$95,Præsentation!$F$11:$T$80,$BD108,FALSE),0)-IFERROR(VLOOKUP(BV$96,Præsentation!$F$11:$T$80,$BD108,FALSE),0)),\"\")","v":""},{"$f":"IFERROR((IFERROR(-VLOOKUP(BW$94,Præsentation!$F$11:$T$80,$BD108,FALSE),0)-IFERROR(VLOOKUP(BW$95,Præsentation!$F$11:$T$80,$BD108,FALSE),0)-IFERROR(VLOOKUP(BW$96,Præsentation!$F$11:$T$80,$BD108,FALSE),0)-IFERROR(VLOOKUP(BW$97,Præsentation!$F$11:$T$80,$BD108,FALSE),0)),\"\")","v":0},{"$f":"IFERROR(-(IFERROR(VLOOKUP(BX$48,Præsentation!$F$11:$T$80,$BD108,FALSE),0)-IFERROR(VLOOKUP(BX$49,Præsentation!$F$11:$T$80,$BD108,FALSE),0)-IFERROR(VLOOKUP(BX$50,Præsentation!$F$11:$T$80,$BD108,FALSE),0)),\"\")","v":""},{"$f":"SUM(BS109:BX109)","v":-412.383766998608}]
[null,null,null,null,null,null,null,null,null,null,null,null,null,null,null,null,null,null,null,null,null,null,null,null,null,null,null,null,null,null,null,null,null,null,null,null,null,null,null,null,null,null,null,null,null,null,null,null,null,null,null,null,null,null,null,7,{"$f":"BF110","v":"Ingen valgt"},{"$f":"BF64","v":"Ingen valgt"},{"$f":"IFERROR(\"Grise pr årsso: \"&ROUND(VLOOKUP($BB$106,Præsentation!$F$11:$T$80,$BD110,FALSE),1),\"\")","v":""},"Krav til DB",{"$f":"IFERROR(DGET(Præsentation!$F$11:$T$89,\"\"&'Diagrammer-orig'!$BF110&\"\",'Diagrammer-orig'!BI$97:BI$98),0)","v":0},{"$f":"IFERROR(DGET(Præsentation!$F$11:$T$89,\"\"&'Diagrammer-orig'!$BF110&\"\",'Diagrammer-orig'!BJ$97:BJ$98),0)","v":0},{"$f":"IFERROR(DGET(Præsentation!$F$11:$T$89,\"\"&'Diagrammer-orig'!$BF110&\"\",'Diagrammer-orig'!BK$97:BK$98),0)","v":0},{"$f":"IFERROR(DGET(Præsentation!$F$11:$T$89,\"\"&'Diagrammer-orig'!$BF110&\"\",'Diagrammer-orig'!BL$97:BL$98),0)","v":0},{"$f":"IFERROR(DGET(Præsentation!$F$11:$T$89,\"\"&'Diagrammer-orig'!$BF110&\"\",'Diagrammer-orig'!BM$97:BM$98),0)","v":0},{"$f":"IFERROR(BX111/IFERROR(VLOOKUP($BB$106,Præsentation!$F$11:$T$80,$BD110,FALSE),0),\"\")","v":""},{"$f":"IFERROR(DGET(Præsentation!$F$11:$T$89,\"\"&'Diagrammer-orig'!$BF110&\"\",'Diagrammer-orig'!BO$97:BO$98),0)","v":0}]
[null,null,null,null,null,null,null,null,null,null,null,null,null,null,null,null,null,null,null,null,null,null,null,null,null,null,null,null,null,null,null,null,null,null,null,null,null,null,null,null,null,null,null,null,null,null,null,null,null,null,null,null,null,null,null,7,{"$f":"BE110","v":"Ingen valgt"},null,null,"Opnået DB",null,null,null,null,null,{"$f":"IFERROR(DGET(Præsentation!$F$11:$T$89,\"\"&'Diagrammer-orig'!$BF110&\"\",'Diagrammer-orig'!BN$97:BN$98),0)","v":0},null,null,null,null,{"$f":"-IFERROR((IFERROR(VLOOKUP(BS$94,Præsentation!$F$11:$T$80,$BD111,FALSE),0)-IFERROR(VLOOKUP(BS$95,Præsentation!$F$11:$T$80,$BD111,FALSE),0)-IFERROR(VLOOKUP(BS$96,Præsentation!$F$11:$T$80,$BD111,FALSE),0)),\"\")","v":-444.91391884951207},{"$f":"IFERROR((IFERROR(VLOOKUP(BT$94,Præsentation!$F$11:$T$80,$BD111,FALSE),0)-IFERROR(VLOOKUP(BT$95,Præsentation!$F$11:$T$80,$BD111,FALSE),0)-IFERROR(VLOOKUP(BT$96,Præsentation!$F$11:$T$80,$BD111,FALSE),0)),\"\")","v":""},{"$f":"IFERROR((IFERROR(-VLOOKUP(BU$94,Præsentation!$F$11:$T$80,$BD110,FALSE),0)-IFERROR(VLOOKUP(BU$95,Præsentation!$F$11:$T$80,$BD110,FALSE),0)-IFERROR(VLOOKUP(BU$96,Præsentation!$F$11:$T$80,$BD110,FALSE),0)),\"\")","v":17.923061119671289},{"$f":"IFERROR((IFERROR(VLOOKUP(BV$94,Præsentation!$F$11:$T$80,$BD110,FALSE),0)-IFERROR(VLOOKUP(BV$95,Præsentation!$F$11:$T$80,$BD110,FALSE),0)-IFERROR(VLOOKUP(BV$96,Præsentation!$F$11:$T$80,$BD110,FALSE),0)),\"\")","v":""},{"$f":"IFERROR((IFERROR(-VLOOKUP(BW$94,Præsentation!$F$11:$T$80,$BD110,FALSE),0)-IFERROR(VLOOKUP(BW$95,Præsentation!$F$11:$T$80,$BD110,FALSE),0)-IFERROR(VLOOKUP(BW$96,Præsentation!$F$11:$T$80,$BD110,FALSE),0)-IFERROR(VLOOKUP(BW$97,Præsentation!$F$11:$T$80,$BD110,FALSE),0)),\"\")","v":0},{"$f":"IFERROR(-(IFERROR(VLOOKUP(BX$48,Præsentation!$F$11:$T$80,$BD110,FALSE),0)-IFERROR(VLOOKUP(BX$49,Præsentation!$F$11:$T$80,$BD110,FALSE),0)-IFERROR(VLOOKUP(BX$50,Præsentation!$F$11:$T$80,$BD110,FALSE),0)),\"\")","v":""},{"$f":"SUM(BS111:BX111)","v":-426.9908577298408}]
[null,null,null,null,null,null,null,null,null,null,null,null,null,null,null,null,null,null,null,null,null,null,null,null,null,null,null,null,null,null,null,null,null,null,null,null,null,null,null,null,null,null,null,null,null,null,null,null,null,null,null,null,null,null,null,8,{"$f":"BF112","v":"Ingen valgt"},{"$f":"BF66","v":"Ingen valgt"},{"$f":"IFERROR(\"Grise pr årsso: \"&ROUND(VLOOKUP($BB$106,Præsentation!$F$11:$T$80,$BD112,FALSE),1),\"\")","v":""},"Krav til DB",{"$f":"IFERROR(DGET(Præsentation!$F$11:$T$89,\"\"&'Diagrammer-orig'!$BF112&\"\",'Diagrammer-orig'!BI$97:BI$98),0)","v":0},{"$f":"IFERROR(DGET(Præsentation!$F$11:$T$89,\"\"&'Diagrammer-orig'!$BF112&\"\",'Diagrammer-orig'!BJ$97:BJ$98),0)","v":0},{"$f":"IFERROR(DGET(Præsentation!$F$11:$T$89,\"\"&'Diagrammer-orig'!$BF112&\"\",'Diagrammer-orig'!BK$97:BK$98),0)","v":0},{"$f":"IFERROR(DGET(Præsentation!$F$11:$T$89,\"\"&'Diagrammer-orig'!$BF112&\"\",'Diagrammer-orig'!BL$97:BL$98),0)","v":0},{"$f":"IFERROR(DGET(Præsentation!$F$11:$T$89,\"\"&'Diagrammer-orig'!$BF112&\"\",'Diagrammer-orig'!BM$97:BM$98),0)","v":0},{"$f":"IFERROR(BX113/IFERROR(VLOOKUP($BB$106,Præsentation!$F$11:$T$80,$BD112,FALSE),0),\"\")","v":""},{"$f":"IFERROR(DGET(Præsentation!$F$11:$T$89,\"\"&'Diagrammer-orig'!$BF112&\"\",'Diagrammer-orig'!BO$97:BO$98),0)","v":0}]
[null,null,null,null,null,null,null,null,null,null,null,null,null,null,null,null,null,null,null,null,null,null,null,null,null,null,null,null,null,null,null,null,null,null,null,null,null,null,null,null,null,null,null,null,null,null,null,null,null,null,null,null,null,null,null,8,{"$f":"BE112","v":"Ingen valgt"},null,null,"Opnået DB",null,null,null,null,null,{"$f":"IFERROR(DGET(Præsentation!$F$11:$T$89,\"\"&'Diagrammer-orig'!$BF112&\"\",'Diagrammer-orig'!BN$97:BN$98),0)","v":0},null,null,null,null,{"$f":"-IFERROR((IFERROR(VLOOKUP(BS$94,Præsentation!$F$11:$T$80,$BD113,FALSE),0)-IFERROR(VLOOKUP(BS$95,Præsentation!$F$11:$T$80,$BD113,FALSE),0)-IFERROR(VLOOKUP(BS$96,Præsentation!$F$11:$T$80,$BD113,FALSE),0)),\"\")","v":-468.15653945905893},{"$f":"IFERROR((IFERROR(VLOOKUP(BT$94,Præsentation!$F$11:$T$80,$BD113,FALSE),0)-IFERROR(VLOOKUP(BT$95,Præsentation!$F$11:$T$80,$BD113,FALSE),0)-IFERROR(VLOOKUP(BT$96,Præsentation!$F$11:$T$80,$BD113,FALSE),0)),\"\")","v":""},{"$f":"IFERROR((IFERROR(-VLOOKUP(BU$94,Præsentation!$F$11:$T$80,$BD112,FALSE),0)-IFERROR(VLOOKUP(BU$95,Præsentation!$F$11:$T$80,$BD112,FALSE),0)-IFERROR(VLOOKUP(BU$96,Præsentation!$F$11:$T$80,$BD112,FALSE),0)),\"\")","v":18.379955539088549},{"$f":"IFERROR((IFERROR(VLOOKUP(BV$94,Præsentation!$F$11:$T$80,$BD112,FALSE),0)-IFERROR(VLOOKUP(BV$95,Præsentation!$F$11:$T$80,$BD112,FALSE),0)-IFERROR(VLOOKUP(BV$96,Præsentation!$F$11:$T$80,$BD112,FALSE),0)),\"\")","v":""},{"$f":"IFERROR((IFERROR(-VLOOKUP(BW$94,Præsentation!$F$11:$T$80,$BD112,FALSE),0)-IFERROR(VLOOKUP(BW$95,Præsentation!$F$11:$T$80,$BD112,FALSE),0)-IFERROR(VLOOKUP(BW$96,Præsentation!$F$11:$T$80,$BD112,FALSE),0)-IFERROR(VLOOKUP(BW$97,Præsentation!$F$11:$T$80,$BD112,FALSE),0)),\"\")","v":0},{"$f":"IFERROR(-(IFERROR(VLOOKUP(BX$48,Præsentation!$F$11:$T$80,$BD112,FALSE),0)-IFERROR(VLOOKUP(BX$49,Præsentation!$F$11:$T$80,$BD112,FALSE),0)-IFERROR(VLOOKUP(BX$50,Præsentation!$F$11:$T$80,$BD112,FALSE),0)),\"\")","v":""},{"$f":"SUM(BS113:BX113)","v":-449.77658391997039}]
[null,null,null,null,null,null,null,null,null,null,null,null,null,null,null,null,null,null,null,null,null,null,null,null,null,null,null,null,null,null,null,null,null,null,null,null,null,null,null,null,null,null,null,null,null,null,null,null,null,null,null,null,null,null,null,9,{"$f":"BF114","v":"Ingen valgt"},{"$f":"BF68","v":"Ingen valgt"},{"$f":"IFERROR(\"Grise pr årsso: \"&ROUND(VLOOKUP($BB$106,Præsentation!$F$11:$T$80,$BD114,FALSE),1),\"\")","v":""},"Krav til DB",{"$f":"IFERROR(DGET(Præsentation!$F$11:$T$89,\"\"&'Diagrammer-orig'!$BF114&\"\",'Diagrammer-orig'!BI$97:BI$98),0)","v":0},{"$f":"IFERROR(DGET(Præsentation!$F$11:$T$89,\"\"&'Diagrammer-orig'!$BF114&\"\",'Diagrammer-orig'!BJ$97:BJ$98),0)","v":0},{"$f":"IFERROR(DGET(Præsentation!$F$11:$T$89,\"\"&'Diagrammer-orig'!$BF114&\"\",'Diagrammer-orig'!BK$97:BK$98),0)","v":0},{"$f":"IFERROR(DGET(Præsentation!$F$11:$T$89,\"\"&'Diagrammer-orig'!$BF114&\"\",'Diagrammer-orig'!BL$97:BL$98),0)","v":0},{"$f":"IFERROR(DGET(Præsentation!$F$11:$T$89,\"\"&'Diagrammer-orig'!$BF114&\"\",'Diagrammer-orig'!BM$97:BM$98),0)","v":0},{"$f":"IFERROR(BX115/IFERROR(VLOOKUP($BB$106,Præsentation!$F$11:$T$80,$BD114,FALSE),0),\"\")","v":""},{"$f":"IFERROR(DGET(Præsentation!$F$11:$T$89,\"\"&'Diagrammer-orig'!$BF114&\"\",'Diagrammer-orig'!BO$97:BO$98),0)","v":0}]
[null,null,null,null,null,null,null,null,null,null,null,null,null,null,null,null,null,null,null,null,null,null,null,null,null,null,null,null,null,null,null,null,null,null,null,null,null,null,null,null,null,null,null,null,null,null,null,null,null,null,null,null,null,null,null,9,{"$f":"BE114","v":"Ingen valgt"},null,null,"Opnået DB",null,null,null,null,null,{"$f":"IFERROR(DGET(Præsentation!$F$11:$T$89,\"\"&'Diagrammer-orig'!$BF114&\"\",'Diagrammer-orig'!BN$97:BN$98),0)","v":0},null,null,null,null,{"$f":"-IFERROR((IFERROR(VLOOKUP(BS$94,Præsentation!$F$11:$T$80,$BD115,FALSE),0)-IFERROR(VLOOKUP(BS$95,Præsentation!$F$11:$T$80,$BD115,FALSE),0)-IFERROR(VLOOKUP(BS$96,Præsentation!$F$11:$T$80,$BD115,FALSE),0)),\"\")","v":-397.45785714285716},{"$f":"IFERROR((IFERROR(VLOOKUP(BT$94,Præsentation!$F$11:$T$80,$BD115,FALSE),0)-IFERROR(VLOOKUP(BT$95,Præsentation!$F$11:$T$80,$BD115,FALSE),0)-IFERROR(VLOOKUP(BT$96,Præsentation!$F$11:$T$80,$BD115,FALSE),0)),\"\")","v":""},{"$f":"IFERROR((IFERROR(-VLOOKUP(BU$94,Præsentation!$F$11:$T$80,$BD114,FALSE),0)-IFERROR(VLOOKUP(BU$95,Præsentation!$F$11:$T$80,$BD114,FALSE),0)-IFERROR(VLOOKUP(BU$96,Præsentation!$F$11:$T$80,$BD114,FALSE),0)),\"\")","v":16.439615384615383},{"$f":"IFERROR((IFERROR(VLOOKUP(BV$94,Præsentation!$F$11:$T$80,$BD114,FALSE),0)-IFERROR(VLOOKUP(BV$95,Præsentation!$F$11:$T$80,$BD114,FALSE),0)-IFERROR(VLOOKUP(BV$96,Præsentation!$F$11:$T$80,$BD114,FALSE),0)),\"\")","v":""},{"$f":"IFERROR((IFERROR(-VLOOKUP(BW$94,Præsentation!$F$11:$T$80,$BD114,FALSE),0)-IFERROR(VLOOKUP(BW$95,Præsentation!$F$11:$T$80,$BD114,FALSE),0)-IFERROR(VLOOKUP(BW$96,Præsentation!$F$11:$T$80,$BD114,FALSE),0)-IFERROR(VLOOKUP(BW$97,Præsentation!$F$11:$T$80,$BD114,FALSE),0)),\"\")","v":0},{"$f":"IFERROR(-(IFERROR(VLOOKUP(BX$48,Præsentation!$F$11:$T$80,$BD114,FALSE),0)-IFERROR(VLOOKUP(BX$49,Præsentation!$F$11:$T$80,$BD114,FALSE),0)-IFERROR(VLOOKUP(BX$50,Præsentation!$F$11:$T$80,$BD114,FALSE),0)),\"\")","v":""},{"$f":"SUM(BS115:BX115)","v":-381.0182417582418}]
[null,null,null,null,null,null,null,null,null,null,null,null,null,null,null,null,null,null,null,null,null,null,null,null,null,null,null,null,null,null,null,null,null,null,null,null,null,null,null,null,null,null,null,null,null,null,null,null,null,null,null,null,null,null,null,10,{"$f":"BF116","v":"Ingen valgt"},{"$f":"BF70","v":"Ingen valgt"},{"$f":"IFERROR(\"Grise pr årsso: \"&ROUND(VLOOKUP($BB$106,Præsentation!$F$11:$T$80,$BD116,FALSE),1),\"\")","v":""},"Krav til DB",{"$f":"IFERROR(DGET(Præsentation!$F$11:$T$89,\"\"&'Diagrammer-orig'!$BF116&\"\",'Diagrammer-orig'!BI$97:BI$98),0)","v":0},{"$f":"IFERROR(DGET(Præsentation!$F$11:$T$89,\"\"&'Diagrammer-orig'!$BF116&\"\",'Diagrammer-orig'!BJ$97:BJ$98),0)","v":0},{"$f":"IFERROR(DGET(Præsentation!$F$11:$T$89,\"\"&'Diagrammer-orig'!$BF116&\"\",'Diagrammer-orig'!BK$97:BK$98),0)","v":0},{"$f":"IFERROR(DGET(Præsentation!$F$11:$T$89,\"\"&'Diagrammer-orig'!$BF116&\"\",'Diagrammer-orig'!BL$97:BL$98),0)","v":0},{"$f":"IFERROR(DGET(Præsentation!$F$11:$T$89,\"\"&'Diagrammer-orig'!$BF116&\"\",'Diagrammer-orig'!BM$97:BM$98),0)","v":0},{"$f":"IFERROR(BX117/IFERROR(VLOOKUP($BB$106,Præsentation!$F$11:$T$80,$BD116,FALSE),0),\"\")","v":""},{"$f":"IFERROR(DGET(Præsentation!$F$11:$T$89,\"\"&'Diagrammer-orig'!$BF116&\"\",'Diagrammer-orig'!BO$97:BO$98),0)","v":0}]
[null,null,null,null,null,null,null,null,null,null,null,null,null,null,null,null,null,null,null,null,null,null,null,null,null,null,null,null,null,null,null,null,null,null,null,null,null,null,null,null,null,null,null,null,null,null,null,null,null,null,null,null,null,null,null,10,{"$f":"BE116","v":"Ingen valgt"},null,null,"Opnået DB",null,null,null,null,null,{"$f":"IFERROR(DGET(Præsentation!$F$11:$T$89,\"\"&'Diagrammer-orig'!$BF116&\"\",'Diagrammer-orig'!BN$97:BN$98),0)","v":0},null,null,null,null,{"$f":"-IFERROR((IFERROR(VLOOKUP(BS$94,Præsentation!$F$11:$T$80,$BD117,FALSE),0)-IFERROR(VLOOKUP(BS$95,Præsentation!$F$11:$T$80,$BD117,FALSE),0)-IFERROR(VLOOKUP(BS$96,Præsentation!$F$11:$T$80,$BD117,FALSE),0)),\"\")","v":-448.11736136281263},{"$f":"IFERROR((IFERROR(VLOOKUP(BT$94,Præsentation!$F$11:$T$80,$BD117,FALSE),0)-IFERROR(VLOOKUP(BT$95,Præsentation!$F$11:$T$80,$BD117,FALSE),0)-IFERROR(VLOOKUP(BT$96,Præsentation!$F$11:$T$80,$BD117,FALSE),0)),\"\")","v":""},{"$f":"IFERROR((IFERROR(-VLOOKUP(BU$94,Præsentation!$F$11:$T$80,$BD116,FALSE),0)-IFERROR(VLOOKUP(BU$95,Præsentation!$F$11:$T$80,$BD116,FALSE),0)-IFERROR(VLOOKUP(BU$96,Præsentation!$F$11:$T$80,$BD116,FALSE),0)),\"\")","v":27.786806814063066},{"$f":"IFERROR((IFERROR(VLOOKUP(BV$94,Præsentation!$F$11:$T$80,$BD116,FALSE),0)-IFERROR(VLOOKUP(BV$95,Præsentation!$F$11:$T$80,$BD116,FALSE),0)-IFERROR(VLOOKUP(BV$96,Præsentation!$F$11:$T$80,$BD116,FALSE),0)),\"\")","v":""},{"$f":"IFERROR((IFERROR(-VLOOKUP(BW$94,Præsentation!$F$11:$T$80,$BD116,FALSE),0)-IFERROR(VLOOKUP(BW$95,Præsentation!$F$11:$T$80,$BD116,FALSE),0)-IFERROR(VLOOKUP(BW$96,Præsentation!$F$11:$T$80,$BD116,FALSE),0)-IFERROR(VLOOKUP(BW$97,Præsentation!$F$11:$T$80,$BD116,FALSE),0)),\"\")","v":0},{"$f":"IFERROR(-(IFERROR(VLOOKUP(BX$48,Præsentation!$F$11:$T$80,$BD116,FALSE),0)-IFERROR(VLOOKUP(BX$49,Præsentation!$F$11:$T$80,$BD116,FALSE),0)-IFERROR(VLOOKUP(BX$50,Præsentation!$F$11:$T$80,$BD116,FALSE),0)),\"\")","v":""},{"$f":"SUM(BS117:BX117)","v":-420.33055454874955}]
[null,null,null,null,null,null,null,null,null,null,null,null,null,null,null,null,null,null,null,null,null,null,null,null,null,null,null,null,null,null,null,null,null,null,null,null,null,null,null,null,null,null,null,null,null,null,null,null,null,null,null,null,null,null,null,11,{"$f":"BF118","v":"Ingen valgt"},{"$f":"BF72","v":"Ingen valgt"},{"$f":"IFERROR(\"Grise pr årsso: \"&ROUND(VLOOKUP($BB$106,Præsentation!$F$11:$T$80,$BD118,FALSE),1),\"\")","v":""},"Krav til DB",{"$f":"IFERROR(DGET(Præsentation!$F$11:$T$89,\"\"&'Diagrammer-orig'!$BF118&\"\",'Diagrammer-orig'!BI$97:BI$98),0)","v":0},{"$f":"IFERROR(DGET(Præsentation!$F$11:$T$89,\"\"&'Diagrammer-orig'!$BF118&\"\",'Diagrammer-orig'!BJ$97:BJ$98),0)","v":0},{"$f":"IFERROR(DGET(Præsentation!$F$11:$T$89,\"\"&'Diagrammer-orig'!$BF118&\"\",'Diagrammer-orig'!BK$97:BK$98),0)","v":0},{"$f":"IFERROR(DGET(Præsentation!$F$11:$T$89,\"\"&'Diagrammer-orig'!$BF118&\"\",'Diagrammer-orig'!BL$97:BL$98),0)","v":0},{"$f":"IFERROR(DGET(Præsentation!$F$11:$T$89,\"\"&'Diagrammer-orig'!$BF118&\"\",'Diagrammer-orig'!BM$97:BM$98),0)","v":0},{"$f":"IFERROR(BX119/IFERROR(VLOOKUP($BB$106,Præsentation!$F$11:$T$80,$BD118,FALSE),0),\"\")","v":""},{"$f":"IFERROR(DGET(Præsentation!$F$11:$T$89,\"\"&'Diagrammer-orig'!$BF118&\"\",'Diagrammer-orig'!BO$97:BO$98),0)","v":0}]
[null,null,null,null,null,null,null,null,null,null,null,null,null,null,null,null,null,null,null,null,null,null,null,null,null,null,null,null,null,null,null,null,null,null,null,null,null,null,null,null,null,null,null,null,null,null,null,null,null,null,null,null,null,null,null,11,{"$f":"BE118","v":"Ingen valgt"},null,null,"Opnået DB",null,null,null,null,null,{"$f":"IFERROR(DGET(Præsentation!$F$11:$T$89,\"\"&'Diagrammer-orig'!$BF118&\"\",'Diagrammer-orig'!BN$97:BN$98),0)","v":0},null,null,null,null,{"$f":"-IFERROR((IFERROR(VLOOKUP(BS$94,Præsentation!$F$11:$T$80,$BD119,FALSE),0)-IFERROR(VLOOKUP(BS$95,Præsentation!$F$11:$T$80,$BD119,FALSE),0)-IFERROR(VLOOKUP(BS$96,Præsentation!$F$11:$T$80,$BD119,FALSE),0)),\"\")","v":-436.73552631578946},{"$f":"IFERROR((IFERROR(VLOOKUP(BT$94,Præsentation!$F$11:$T$80,$BD119,FALSE),0)-IFERROR(VLOOKUP(BT$95,Præsentation!$F$11:$T$80,$BD119,FALSE),0)-IFERROR(VLOOKUP(BT$96,Præsentation!$F$11:$T$80,$BD119,FALSE),0)),\"\")","v":""},{"$f":"IFERROR((IFERROR(-VLOOKUP(BU$94,Præsentation!$F$11:$T$80,$BD118,FALSE),0)-IFERROR(VLOOKUP(BU$95,Præsentation!$F$11:$T$80,$BD118,FALSE),0)-IFERROR(VLOOKUP(BU$96,Præsentation!$F$11:$T$80,$BD118,FALSE),0)),\"\")","v":18.498968705547654},{"$f":"IFERROR((IFERROR(VLOOKUP(BV$94,Præsentation!$F$11:$T$80,$BD118,FALSE),0)-IFERROR(VLOOKUP(BV$95,Præsentation!$F$11:$T$80,$BD118,FALSE),0)-IFERROR(VLOOKUP(BV$96,Præsentation!$F$11:$T$80,$BD118,FALSE),0)),\"\")","v":""},{"$f":"IFERROR((IFERROR(-VLOOKUP(BW$94,Præsentation!$F$11:$T$80,$BD118,FALSE),0)-IFERROR(VLOOKUP(BW$95,Præsentation!$F$11:$T$80,$BD118,FALSE),0)-IFERROR(VLOOKUP(BW$96,Præsentation!$F$11:$T$80,$BD118,FALSE),0)-IFERROR(VLOOKUP(BW$97,Præsentation!$F$11:$T$80,$BD118,FALSE),0)),\"\")","v":0},{"$f":"IFERROR(-(IFERROR(VLOOKUP(BX$48,Præsentation!$F$11:$T$80,$BD118,FALSE),0)-IFERROR(VLOOKUP(BX$49,Præsentation!$F$11:$T$80,$BD118,FALSE),0)-IFERROR(VLOOKUP(BX$50,Præsentation!$F$11:$T$80,$BD118,FALSE),0)),\"\")","v":""},{"$f":"SUM(BS119:BX119)","v":-418.23655761024179}]
[null,null,null,null,null,null,null,null,null,null,null,null,null,null,null,null,null,null,null,null,null,null,null,null,null,null,null,null,null,null,null,null,null,null,null,null,null,null,null,null,null,null,null,null,null,null,null,null,null,null,null,null,null,null,null,12,{"$f":"BF120","v":"Ingen valgt"},{"$f":"BF74","v":"Ingen valgt"},{"$f":"IFERROR(\"Grise pr årsso: \"&ROUND(VLOOKUP($BB$106,Præsentation!$F$11:$T$80,$BD120,FALSE),1),\"\")","v":""},"Krav til DB",{"$f":"IFERROR(DGET(Præsentation!$F$11:$T$89,\"\"&'Diagrammer-orig'!$BF120&\"\",'Diagrammer-orig'!BI$97:BI$98),0)","v":0},{"$f":"IFERROR(DGET(Præsentation!$F$11:$T$89,\"\"&'Diagrammer-orig'!$BF120&\"\",'Diagrammer-orig'!BJ$97:BJ$98),0)","v":0},{"$f":"IFERROR(DGET(Præsentation!$F$11:$T$89,\"\"&'Diagrammer-orig'!$BF120&\"\",'Diagrammer-orig'!BK$97:BK$98),0)","v":0},{"$f":"IFERROR(DGET(Præsentation!$F$11:$T$89,\"\"&'Diagrammer-orig'!$BF120&\"\",'Diagrammer-orig'!BL$97:BL$98),0)","v":0},{"$f":"IFERROR(DGET(Præsentation!$F$11:$T$89,\"\"&'Diagrammer-orig'!$BF120&\"\",'Diagrammer-orig'!BM$97:BM$98),0)","v":0},{"$f":"IFERROR(BX121/IFERROR(VLOOKUP($BB$106,Præsentation!$F$11:$T$80,$BD120,FALSE),0),\"\")","v":""},{"$f":"IFERROR(DGET(Præsentation!$F$11:$T$89,\"\"&'Diagrammer-orig'!$BF120&\"\",'Diagrammer-orig'!BO$97:BO$98),0)","v":0}]
[null,null,null,null,null,null,null,null,null,null,null,null,null,null,null,null,null,null,null,null,null,null,null,null,null,null,null,null,null,null,null,null,null,null,null,null,null,null,null,null,null,null,null,null,null,null,null,null,null,null,null,null,null,null,null,12,{"$f":"BE120","v":"Ingen valgt"},null,null,"Opnået DB",null,null,null,null,null,{"$f":"IFERROR(DGET(Præsentation!$F$11:$T$89,\"\"&'Diagrammer-orig'!$BF120&\"\",'Diagrammer-orig'!BN$97:BN$98),0)","v":0},null,null,null,null,{"$f":"-IFERROR((IFERROR(VLOOKUP(BS$94,Præsentation!$F$11:$T$80,$BD121,FALSE),0)-IFERROR(VLOOKUP(BS$95,Præsentation!$F$11:$T$80,$BD121,FALSE),0)-IFERROR(VLOOKUP(BS$96,Præsentation!$F$11:$T$80,$BD121,FALSE),0)),\"\")","v":-387.40893619320332},{"$f":"IFERROR((IFERROR(VLOOKUP(BT$94,Præsentation!$F$11:$T$80,$BD121,FALSE),0)-IFERROR(VLOOKUP(BT$95,Præsentation!$F$11:$T$80,$BD121,FALSE),0)-IFERROR(VLOOKUP(BT$96,Præsentation!$F$11:$T$80,$BD121,FALSE),0)),\"\")","v":""},{"$f":"IFERROR((IFERROR(-VLOOKUP(BU$94,Præsentation!$F$11:$T$80,$BD120,FALSE),0)-IFERROR(VLOOKUP(BU$95,Præsentation!$F$11:$T$80,$BD120,FALSE),0)-IFERROR(VLOOKUP(BU$96,Præsentation!$F$11:$T$80,$BD120,FALSE),0)),\"\")","v":34.448430493273541},{"$f":"IFERROR((IFERROR(VLOOKUP(BV$94,Præsentation!$F$11:$T$80,$BD120,FALSE),0)-IFERROR(VLOOKUP(BV$95,Præsentation!$F$11:$T$80,$BD120,FALSE),0)-IFERROR(VLOOKUP(BV$96,Præsentation!$F$11:$T$80,$BD120,FALSE),0)),\"\")","v":""},{"$f":"IFERROR((IFERROR(-VLOOKUP(BW$94,Præsentation!$F$11:$T$80,$BD120,FALSE),0)-IFERROR(VLOOKUP(BW$95,Præsentation!$F$11:$T$80,$BD120,FALSE),0)-IFERROR(VLOOKUP(BW$96,Præsentation!$F$11:$T$80,$BD120,FALSE),0)-IFERROR(VLOOKUP(BW$97,Præsentation!$F$11:$T$80,$BD120,FALSE),0)),\"\")","v":0},{"$f":"IFERROR(-(IFERROR(VLOOKUP(BX$48,Præsentation!$F$11:$T$80,$BD120,FALSE),0)-IFERROR(VLOOKUP(BX$49,Præsentation!$F$11:$T$80,$BD120,FALSE),0)-IFERROR(VLOOKUP(BX$50,Præsentation!$F$11:$T$80,$BD120,FALSE),0)),\"\")","v":""},{"$f":"SUM(BS121:BX121)","v":-352.9605056999298}]
[null,null,null,null,null,null,null,null,null,null,null,null,null,null,null,null,null,null,null,null,null,null,null,null,null,null,null,null,null,null,null,null,null,null,null,null,null,null,null,null,null,null,null,null,null,null,null,null,null,null,null,null,null,null,null,13,{"$f":"BF122","v":"Ingen valgt"},{"$f":"BF76","v":"Ingen valgt"},{"$f":"IFERROR(\"Grise pr årsso: \"&ROUND(VLOOKUP($BB$106,Præsentation!$F$11:$T$80,$BD122,FALSE),1),\"\")","v":""},"Krav til DB",{"$f":"IFERROR(DGET(Præsentation!$F$11:$T$89,\"\"&'Diagrammer-orig'!$BF122&\"\",'Diagrammer-orig'!BI$97:BI$98),0)","v":0},{"$f":"IFERROR(DGET(Præsentation!$F$11:$T$89,\"\"&'Diagrammer-orig'!$BF122&\"\",'Diagrammer-orig'!BJ$97:BJ$98),0)","v":0},{"$f":"IFERROR(DGET(Præsentation!$F$11:$T$89,\"\"&'Diagrammer-orig'!$BF122&\"\",'Diagrammer-orig'!BK$97:BK$98),0)","v":0},{"$f":"IFERROR(DGET(Præsentation!$F$11:$T$89,\"\"&'Diagrammer-orig'!$BF122&\"\",'Diagrammer-orig'!BL$97:BL$98),0)","v":0},{"$f":"IFERROR(DGET(Præsentation!$F$11:$T$89,\"\"&'Diagrammer-orig'!$BF122&\"\",'Diagrammer-orig'!BM$97:BM$98),0)","v":0},{"$f":"IFERROR(BX123/IFERROR(VLOOKUP($BB$106,Præsentation!$F$11:$T$80,$BD122,FALSE),0),\"\")","v":""},{"$f":"IFERROR(DGET(Præsentation!$F$11:$T$89,\"\"&'Diagrammer-orig'!$BF122&\"\",'Diagrammer-orig'!BO$97:BO$98),0)","v":0}]
[null,null,null,null,null,null,null,null,null,null,null,null,null,null,null,null,null,null,null,null,null,null,null,null,null,null,null,null,null,null,null,null,null,null,null,null,null,null,null,null,null,null,null,null,null,null,null,null,null,null,null,null,null,null,null,13,{"$f":"BE122","v":"Ingen valgt"},null,null,"Opnået DB",null,null,null,null,null,{"$f":"IFERROR(DGET(Præsentation!$F$11:$T$89,\"\"&'Diagrammer-orig'!$BF122&\"\",'Diagrammer-orig'!BN$97:BN$98),0)","v":0},null,null,null,null,{"$f":"-IFERROR((IFERROR(VLOOKUP(BS$94,Præsentation!$F$11:$T$80,$BD123,FALSE),0)-IFERROR(VLOOKUP(BS$95,Præsentation!$F$11:$T$80,$BD123,FALSE),0)-IFERROR(VLOOKUP(BS$96,Præsentation!$F$11:$T$80,$BD123,FALSE),0)),\"\")","v":-370.84842402213422},{"$f":"IFERROR((IFERROR(VLOOKUP(BT$94,Præsentation!$F$11:$T$80,$BD123,FALSE),0)-IFERROR(VLOOKUP(BT$95,Præsentation!$F$11:$T$80,$BD123,FALSE),0)-IFERROR(VLOOKUP(BT$96,Præsentation!$F$11:$T$80,$BD123,FALSE),0)),\"\")","v":""},{"$f":"IFERROR((IFERROR(-VLOOKUP(BU$94,Præsentation!$F$11:$T$80,$BD122,FALSE),0)-IFERROR(VLOOKUP(BU$95,Præsentation!$F$11:$T$80,$BD122,FALSE),0)-IFERROR(VLOOKUP(BU$96,Præsentation!$F$11:$T$80,$BD122,FALSE),0)),\"\")","v":10.474095372429883},{"$f":"IFERROR((IFERROR(VLOOKUP(BV$94,Præsentation!$F$11:$T$80,$BD122,FALSE),0)-IFERROR(VLOOKUP(BV$95,Præsentation!$F$11:$T$80,$BD122,FALSE),0)-IFERROR(VLOOKUP(BV$96,Præsentation!$F$11:$T$80,$BD122,FALSE),0)),\"\")","v":""},{"$f":"IFERROR((IFERROR(-VLOOKUP(BW$94,Præsentation!$F$11:$T$80,$BD122,FALSE),0)-IFERROR(VLOOKUP(BW$95,Præsentation!$F$11:$T$80,$BD122,FALSE),0)-IFERROR(VLOOKUP(BW$96,Præsentation!$F$11:$T$80,$BD122,FALSE),0)-IFERROR(VLOOKUP(BW$97,Præsentation!$F$11:$T$80,$BD122,FALSE),0)),\"\")","v":0},{"$f":"IFERROR(-(IFERROR(VLOOKUP(BX$48,Præsentation!$F$11:$T$80,$BD122,FALSE),0)-IFERROR(VLOOKUP(BX$49,Præsentation!$F$11:$T$80,$BD122,FALSE),0)-IFERROR(VLOOKUP(BX$50,Præsentation!$F$11:$T$80,$BD122,FALSE),0)),\"\")","v":""},{"$f":"SUM(BS123:BX123)","v":-360.37432864970435}]
[null,null,null,null,null,null,null,null,null,null,null,null,null,null,null,null,null,null,null,null,null,null,null,null,null,null,null,null,null,null,null,null,null,null,null,null,null,null,null,null,null,null,null,null,null,null,null,null,null,null,null,null,null,null,null,14,{"$f":"BF124","v":"Ingen valgt"},{"$f":"BF78","v":"Ingen valgt"},{"$f":"IFERROR(\"Grise pr årsso: \"&ROUND(VLOOKUP($BB$106,Præsentation!$F$11:$T$80,$BD124,FALSE),1),\"\")","v":""},"Krav til DB",{"$f":"IFERROR(DGET(Præsentation!$F$11:$T$89,\"\"&'Diagrammer-orig'!$BF124&\"\",'Diagrammer-orig'!BI$97:BI$98),0)","v":0},{"$f":"IFERROR(DGET(Præsentation!$F$11:$T$89,\"\"&'Diagrammer-orig'!$BF124&\"\",'Diagrammer-orig'!BJ$97:BJ$98),0)","v":0},{"$f":"IFERROR(DGET(Præsentation!$F$11:$T$89,\"\"&'Diagrammer-orig'!$BF124&\"\",'Diagrammer-orig'!BK$97:BK$98),0)","v":0},{"$f":"IFERROR(DGET(Præsentation!$F$11:$T$89,\"\"&'Diagrammer-orig'!$BF124&\"\",'Diagrammer-orig'!BL$97:BL$98),0)","v":0},{"$f":"IFERROR(DGET(Præsentation!$F$11:$T$89,\"\"&'Diagrammer-orig'!$BF124&\"\",'Diagrammer-orig'!BM$97:BM$98),0)","v":0},{"$f":"IFERROR(BX125/IFERROR(VLOOKUP($BB$106,Præsentation!$F$11:$T$80,$BD124,FALSE),0),\"\")","v":""},{"$f":"IFERROR(DGET(Præsentation!$F$11:$T$89,\"\"&'Diagrammer-orig'!$BF124&\"\",'Diagrammer-orig'!BO$97:BO$98),0)","v":0}]
[null,null,null,null,null,null,null,null,null,null,null,null,null,null,null,null,null,null,null,null,null,null,null,null,null,null,null,null,null,null,null,null,null,null,null,null,null,null,null,null,null,null,null,null,null,null,null,null,null,null,null,null,null,null,null,14,{"$f":"BE124","v":"Ingen valgt"},null,null,"Opnået DB",null,null,null,null,null,{"$f":"IFERROR(DGET(Præsentation!$F$11:$T$89,\"\"&'Diagrammer-orig'!$BF124&\"\",'Diagrammer-orig'!BN$97:BN$98),0)","v":0},null,null,null,null,{"$f":"-IFERROR((IFERROR(VLOOKUP(BS$94,Præsentation!$F$11:$T$80,$BD125,FALSE),0)-IFERROR(VLOOKUP(BS$95,Præsentation!$F$11:$T$80,$BD125,FALSE),0)-IFERROR(VLOOKUP(BS$96,Præsentation!$F$11:$T$80,$BD125,FALSE),0)),\"\")","v":{"$error":"#VALUE!"}},{"$f":"IFERROR((IFERROR(VLOOKUP(BT$94,Præsentation!$F$11:$T$80,$BD125,FALSE),0)-IFERROR(VLOOKUP(BT$95,Præsentation!$F$11:$T$80,$BD125,FALSE),0)-IFERROR(VLOOKUP(BT$96,Præsentation!$F$11:$T$80,$BD125,FALSE),0)),\"\")","v":""},{"$f":"IFERROR((IFERROR(-VLOOKUP(BU$94,Præsentation!$F$11:$T$80,$BD124,FALSE),0)-IFERROR(VLOOKUP(BU$95,Præsentation!$F$11:$T$80,$BD124,FALSE),0)-IFERROR(VLOOKUP(BU$96,Præsentation!$F$11:$T$80,$BD124,FALSE),0)),\"\")","v":""},{"$f":"IFERROR((IFERROR(VLOOKUP(BV$94,Præsentation!$F$11:$T$80,$BD124,FALSE),0)-IFERROR(VLOOKUP(BV$95,Præsentation!$F$11:$T$80,$BD124,FALSE),0)-IFERROR(VLOOKUP(BV$96,Præsentation!$F$11:$T$80,$BD124,FALSE),0)),\"\")","v":""},{"$f":"IFERROR((IFERROR(-VLOOKUP(BW$94,Præsentation!$F$11:$T$80,$BD124,FALSE),0)-IFERROR(VLOOKUP(BW$95,Præsentation!$F$11:$T$80,$BD124,FALSE),0)-IFERROR(VLOOKUP(BW$96,Præsentation!$F$11:$T$80,$BD124,FALSE),0)-IFERROR(VLOOKUP(BW$97,Præsentation!$F$11:$T$80,$BD124,FALSE),0)),\"\")","v":0},{"$f":"IFERROR(-(IFERROR(VLOOKUP(BX$48,Præsentation!$F$11:$T$80,$BD124,FALSE),0)-IFERROR(VLOOKUP(BX$49,Præsentation!$F$11:$T$80,$BD124,FALSE),0)-IFERROR(VLOOKUP(BX$50,Præsentation!$F$11:$T$80,$BD124,FALSE),0)),\"\")","v":""},{"$f":"SUM(BS125:BX125)","v":{"$error":"#VALUE!"}}]
[null,null,null,null,null,null,null,null,null,null,null,null,null,null,null,null,null,null,null,null,null,null,null,null,null,null,null,null,null,null,null,null,null,null,null,null,null,null,null,null,null,null,null,null,null,null,null,null,null,null,null,null,null,null,null,null,null,null,null,"0=negative",{"$f":"IFERROR(ABS(IFERROR(VLOOKUP(BI$2,Præsentation!$F$11:$T$80,$BD126,FALSE),0)-IFERROR(VLOOKUP(BI$3,Præsentation!$F$11:$T$80,$BD126,FALSE),0)-IFERROR(VLOOKUP(BI$4,Præsentation!$F$11:$T$80,$BD126,FALSE),0))/IFERROR(VLOOKUP($BB$14,Præsentation!$F$11:$T$80,$BD126,FALSE),0),\"\")","v":""},{"$f":"IFERROR(ABS(IFERROR(VLOOKUP(BJ$2,Præsentation!$F$11:$T$80,$BD126,FALSE),0)-IFERROR(VLOOKUP(BJ$3,Præsentation!$F$11:$T$80,$BD126,FALSE),0)-IFERROR(VLOOKUP(BJ$4,Præsentation!$F$11:$T$80,$BD126,FALSE),0))/IFERROR(VLOOKUP($BB$14,Præsentation!$F$11:$T$80,$BD126,FALSE),0),\"\")","v":""},{"$f":"IFERROR(ABS(IFERROR(VLOOKUP(BK$2,Præsentation!$F$11:$T$80,$BD126,FALSE),0)-IFERROR(VLOOKUP(BK$3,Præsentation!$F$11:$T$80,$BD126,FALSE),0)-IFERROR(VLOOKUP(BK$4,Præsentation!$F$11:$T$80,$BD126,FALSE),0))/IFERROR(VLOOKUP($BB$14,Præsentation!$F$11:$T$80,$BD126,FALSE),0),\"\")","v":""},{"$f":"IFERROR(ABS(IFERROR(VLOOKUP(BL$2,Præsentation!$F$11:$T$80,$BD126,FALSE),0)-IFERROR(VLOOKUP(BL$3,Præsentation!$F$11:$T$80,$BD126,FALSE),0)-IFERROR(VLOOKUP(BL$4,Præsentation!$F$11:$T$80,$BD126,FALSE),0))/IFERROR(VLOOKUP($BB$14,Præsentation!$F$11:$T$80,$BD126,FALSE),0),\"\")","v":""},{"$f":"IFERROR(ABS(IFERROR(VLOOKUP(BM$2,Præsentation!$F$11:$T$80,$BD126,FALSE),0)-IFERROR(VLOOKUP(BM$3,Præsentation!$F$11:$T$80,$BD126,FALSE),0)-IFERROR(VLOOKUP(BM$4,Præsentation!$F$11:$T$80,$BD126,FALSE),0))/IFERROR(VLOOKUP($BB$14,Præsentation!$F$11:$T$80,$BD126,FALSE),0),\"\")","v":""},{"$f":"IFERROR(ABS(IFERROR(VLOOKUP(BN$2,Præsentation!$F$11:$T$80,$BD126,FALSE),0)-IFERROR(VLOOKUP(BN$3,Præsentation!$F$11:$T$80,$BD126,FALSE),0)-IFERROR(VLOOKUP(BN$4,Præsentation!$F$11:$T$80,$BD126,FALSE),0))/IFERROR(VLOOKUP($BB$14,Præsentation!$F$11:$T$80,$BD126,FALSE),0),\"\")","v":""},{"$f":"IFERROR(ABS(IFERROR(VLOOKUP(BO$2,Præsentation!$F$11:$T$80,$BD126,FALSE),0)-IFERROR(VLOOKUP(BO$3,Præsentation!$F$11:$T$80,$BD126,FALSE),0)-IFERROR(VLOOKUP(BO$5,Præsentation!$F$11:$T$80,$BD126,FALSE),0))/IFERROR(VLOOKUP($BB$14,Præsentation!$F$11:$T$80,$BD126,FALSE),0),\"\")","v":""},null,null,null,{"$f":"IF(BI126=0,1,0)","v":0},{"$f":"IF(BJ126=0,1,0)","v":0},null,{"$f":"IF(BL126=0,1,0)","v":0},{"$f":"IF(BM126=0,1,0)","v":0},{"$f":"IF(BN126=0,1,0)","v":0},{"$f":"IF(BO126=0,1,0)","v":0},{"$f":"IF(BP126=0,1,0)","v":1},{"$f":"IF(BQ126=0,1,0)","v":1}]